{"text_format":"1","workbook":"xlsx","n_sheets":29,"sheets":["Start Here","Application","Notes","Flow","Dashboard","City Factsheet","Survey","SurveySub","SurveyAreas","IncomeLevelComposition","Households","HouseholdSummary","HHdashboard","NonHouseholds","NHHsummary","DisposalFacilities","DFsummary","DFcomposition","CompositionChart","Facilities","Sources","Outlets","Source Cities","RF_inputs","RF_outputs","RF_wastes","LookUps","ProxyData","World Bank WaW"],"not_rendered":{"charts":15,"images":26,"macros":1,"external_links":0,"defined_names":0,"comments":0,"pivot_tables":0},"unopened":[],"bounds":{"document_bytes":16777216,"sheet_cells":100000,"rows_first":2000,"rows_last":500,"rows_between":2000,"halvings":0,"cell_chars":16384,"cell_head_chars":4096},"cells_cut":0,"cells_raw":0,"read":"whole","date_system":"1900"}

{"sheet":"Start Here","index":0,"n_rows":20,"n_cols":3,"rows_kept":20,"cut":false,"hidden":false,"merged":[[17,1,18,1]]}
[]
[]
[]
[]
[]
[]
[]
[]
[]
[]
[]
[]
[]
[]
[]
[null,"This Microsoft Excel application has been developed by David Newby Associates (DNA) to simplify data collection supporting the UN Habitat SDG 11.6.1 data collection programme."]
[]
[null,"To use this tool, macros and access to the integrated VBA application must be allowed. ","Recommended Excel Trust Centre macro settings are:"]
[null,null,"        Disable all macros except digitally signed macros"]
[null,"The macros and VBA code have been digitally signed by DNA. On first running this tool the certificate needs to be saved in the user's certificate store.","        Trust access to the VBA project object model"]

{"sheet":"Application","index":1,"n_rows":21,"n_cols":14,"rows_kept":21,"cut":false,"hidden":false,"merged":[[1,2,1,3],[8,2,8,3],[20,10,20,14],[1,10,1,14],[13,2,14,3],[20,2,20,3]]}
[]
[null,null,"CONFIGURATION",null,null,null,null,"MSW DISPOSAL",null,null,{"$f":"UPPER(Survey!C4) & \" RESULTS\"","v":"SURVEY CITY RESULTS"}]
[]
[null,null,null,null,null,null,null,null,null,null,null,"MSW Generation",{"$f":"HouseholdSummary!B5","v":0},"  kg daily per capita"]
[]
[null,null,null,null,null,null,null,null,null,null,null,"Total MSW",{"$f":"ROUND(HouseholdSummary!D5+NonHouseholds!U13,0)","v":0},"  Te/day"]
[null,null,null,null,null,null,null,"MSW RECOVERY"]
[null,null,null,null,null,null,null,null,null,null,null,"MSW collected",{"$f":"DFsummary!B5","v":0},"  %"]
[null,null,"HOUSEHOLD WASTE"]
[null,null,null,null,null,null,null,null,null,null,null,"Collected & Controlled",{"$f":"DFsummary!B6","v":0},"  %"]
[]
[null,null,null,null,null,null,null,null,null,null,null,"Food waste in MSW",{"$f":"HouseholdSummary!F5*100","v":0},"  %"]
[]
[null,null,"NON-HOUSEHOLD WASTE",null,null,null,null,null,null,null,null,"Food Waste Index (HH)",{"$f":"IF(Survey!B24 = \"\", \"N/A\", M12/Survey!B24*100)","v":"N/A"},"  %"]
[]
[null,null,null,null,null,null,null,null,null,null,null,"City recycling rate",{"$f":"DFsummary!B27","v":0},"  %"]
[null,null,null,null,null,null,null,"WaCT Data Collection"]
[null,null,null,null,null,null,null,"Application Version 1.31"]
[]
[]
[null,null,"DOCUMENTS",null,null,null,null,"SUPPORT",null,null,"DATA MANAGEMENT"]

{"sheet":"Notes","index":2,"n_rows":25,"n_cols":3,"rows_kept":25,"cut":false,"hidden":false,"merged":[]}
[null,"SURVEY CONFIGURATION"]
[null,"(1)","Click on the Survey Configuration button and complete the details requested, crucially enter survey year and city."]
[null,null,"Once year and city are entered this spreadsheet tool you can click on the \"register survey\" button "]
[null,"(2)","Next, click on the Survey Configuration button and complete the details requested"]
[]
[null,"HOUSEHOLD WASTE DATA"]
[null,"(1)","Click on the \"Household Waste Generation\" button to enter details of households to be surveyed in each area."]
[null,"(2)","Click on the \"Household Waste Composition\" button to enter details on household waste composition for each area."]
[null,"(3)","Click on the \"Quantities\" tab to enter details of daily household waste quantities for the selected household"]
[]
[null,"NON-HOUSEHOLD MSW DATA"]
[null,"(1)","Clicking the  Non-Household MSW Survey  button and create records for estabilishments etc. surveyed."]
[null,"(2)","Enter data for MSW type wastes those establishments etc. generate."]
[]
[null,"DISPOSAL FACILITIES DATA"]
[null,"(1)","Click on the \"Manage Disposal Facilities Data\" button to enter details of disposal facilities surveyed; ADD MAIN (LARGEST) CITY LANDFILL FIRST."]
[null,"(2)","Enter the MSW quantities data and composition data for each disposal facility."]
[]
[null,"RESOURCE RECOVERY DATA"]
[null,"(1)","Get details of RF (Name, contact etc) and enter in sheet \"Facilities\""]
[null,"(2)","Get list of sources supplying RMs and enter in sheet \"Sources\" (if source already exists do not add another with same name)"]
[null,"(3)","For each source get source cities (add to cities list if city is not already in the list)"]
[null,"(4)","Get list of outlets that recovered materials are supplied to (add to list if the outlet is not already listed)"]
[null,"(6)","For each RM received, get quantity by source and city"]
[null,null,"For each RM supplied, get quantity by outlet"]

{"sheet":"Flow","index":3,"n_rows":21,"n_cols":15,"rows_kept":21,"cut":false,"hidden":true,"merged":[[20,9,20,11],[4,14,5,14],[13,14,14,14],[0,1,0,14],[7,1,8,1],[8,7,9,7],[13,3,14,3],[8,8,9,9],[8,11,9,12]]}
[null,"WASTE FLOW DIAGRAM"]
[]
[]
[]
[null,null,null,null,null,{"$f":"ROUND(DFsummary!B29,0)","v":0},null,null,null,null,null,null,null,null,{"$f":"F5+I9-L9","v":0}]
[null,null,null,null,null,null,null,null,null,{"$f":"Facilities!W2","v":0}]
[]
[null,{"$f":"ROUND(HouseholdSummary!D5,0)","v":0}]
[null,null,null,null,null,null,null,null,{"$f":"ROUND(DFsummary!B2,0)","v":0},null,null,{"$f":"ROUND(J6/10,0)","v":0}]
[]
[]
[]
[]
[null,null,null,{"$f":"B8+B21","v":0},null,{"$f":"ROUND(DFsummary!B28,0)","v":0},null,null,null,null,null,null,null,null,{"$f":"F14+L9-I9","v":0}]
[]
[]
[]
[]
[]
[]
[null,{"$f":"ROUND(NHHsummary!N13,0)","v":0},null,null,null,null,null,null,null,{"$f":"D14-(F5+F14)","v":0}]

{"sheet":"Dashboard","index":4,"n_rows":21,"n_cols":27,"rows_kept":21,"cut":false,"hidden":true,"merged":[[19,19,19,20],[1,1,1,8],[9,3,9,6],[19,3,19,6],[20,1,20,8],[10,1,10,8],[19,25,19,26],[1,10,1,26],[10,10,10,17],[10,19,10,26],[20,10,20,17],[20,19,20,26],[9,12,9,15],[19,12,19,15],[19,21,19,24],[9,21,9,24],[9,19,9,20],[9,25,9,26],[9,10,9,11],[9,16,9,17],[19,10,19,11],[19,16,19,17]]}
[]
[null,"MSW COLLECTED",null,null,null,null,null,null,null,null,"MSW GENERATED"]
[null,null,null,null,null,null,null,null,{"$f":"IF(D10=0,0,D10-1)","v":0},null,null,null,null,null,null,null,null,{"$f":"IF(M10=0,0,((M10-K10)/(Q10-K10)*100)-1)","v":0},null,null,null,null,null,null,null,null,{"$f":"IF(V10=0,0,((V10-T10)/(Z10-T10)*100)-1)","v":0}]
[null,null,null,null,null,null,null,null,2,null,null,null,null,null,null,null,null,2,null,null,null,null,null,null,null,null,2]
[null,null,null,null,null,null,null,null,{"$f":"200-(I3+I4)","v":198},null,null,null,null,null,null,null,null,{"$f":"200-(R3+R4)","v":198},null,null,null,null,null,null,null,null,{"$f":"200-(AA3+AA4)","v":198}]
[]
[]
[]
[]
[null,"  0",null,{"$f":"Application!M8","v":0},null,null,null,null,100,null,{"$f":"'World Bank WaW'!BQ6","v":6.1035485E-2},null,{"$f":"HHdashboard!O20","v":0},null,null,null,{"$f":"'World Bank WaW'!BR6","v":0.36794344899999998},null,null,{"$f":"'World Bank WaW'!BQ5","v":3.7370107E-2},null,{"$f":"HHdashboard!J20","v":0},null,null,null,{"$f":"'World Bank WaW'!BR5","v":1.120168549}]
[null,"TOTAL COLLECTED (%)",null,null,null,null,null,null,null,null,"LOWER INCOME (KG/PERSON/DAY)",null,null,null,null,null,null,null,null,"MIDDLE INCOME (KG/PERSON/DAY)"]
[]
[]
[null,null,null,null,null,null,null,null,{"$f":"IF(D20=0,0,D20-1)","v":0},null,null,null,null,null,null,null,null,{"$f":"IF(M20=0,0,((M20-K20)/(Q20-K20)*100)-1)","v":0},null,null,null,null,null,null,null,null,{"$f":"IF(V20=0,0,((V20-T20)/(Z20-T20)*100)-1)","v":0}]
[null,null,null,null,null,null,null,null,2,null,null,null,null,null,null,null,null,2,null,null,null,null,null,null,null,null,2]
[null,null,null,null,null,null,null,null,{"$f":"200-(I14+I15)","v":198},null,null,null,null,null,null,null,null,{"$f":"200-(R14+R15)","v":198},null,null,null,null,null,null,null,null,{"$f":"200-(AA14+AA15)","v":198}]
[]
[]
[]
[null,"  0",null,{"$f":"Application!M10","v":0},null,null,null,null,100,null,{"$f":"'World Bank WaW'!BQ4","v":0.16059999999999999},null,{"$f":"HHdashboard!E20","v":0},null,null,null,{"$f":"'World Bank WaW'!BR4","v":1.5869897070000001},null,null,{"$f":"'World Bank WaW'!BQ7","v":8.6335197333333336E-2},null,{"$f":"HouseholdSummary!B5","v":0},null,null,null,{"$f":"'World Bank WaW'!BR7","v":1.0250339016666665}]
[null,"COLLECTED CONTROLLED (%)",null,null,null,null,null,null,null,null,"HIGHER INCOME (KG/PERSON/DAY)",null,null,null,null,null,null,null,null,"AVERAGE (KG/PERSON/DAY)"]

{"sheet":"City Factsheet","index":5,"n_rows":170,"n_cols":11,"rows_kept":170,"cut":false,"hidden":true,"merged":[[0,0,0,3],[0,4,0,7],[0,8,0,11],[159,1,166,4],[169,1,171,4],[1,1,1,3],[1,9,3,11],[4,0,7,3],[4,5,4,10],[7,5,7,8],[9,1,11,1],[15,1,15,4],[27,10,29,10],[27,6,28,6],[35,3,35,4],[34,6,34,7],[140,4,140,5],[15,5,15,10],[38,3,38,4],[38,6,38,7],[38,8,38,10],[36,3,36,4],[37,3,37,4],[35,6,35,7],[35,8,35,10],[36,6,36,7],[37,6,37,7],[36,8,36,10],[37,8,37,10]]}
[]
[null,"FACTSHEET"]
[null,"Wastewise Cities Tool"]
[null,{"$f":"\"in \" & Survey!C4 & \", \" & Survey!E4","v":"in Survey City, Kenya"}]
[null,null,null,null,null,{"$f":"IF(Survey!G6=\"\",\"\",Survey!G6)","v":""}]
[]
[null,null,null,null,null,{"$f":"TEXT(Survey!G7,\"\")","v":""}]
[null,null,null,null,null,{"$f":"TEXT(Survey!G8,\"\")","v":""}]
[null,"Overview"]
[]
[null,null,"City:",{"$f":"Survey!C4","v":"Survey City"},null,null,"Population:",null,null,"World Bank Income Category:"]
[null,null,"Country:",{"$f":"Survey!E4","v":"Kenya"},null,null,{"$f":"Survey!B9","v":0},{"$f":"\"(\" & TEXT(Survey!B5,\"0\") & \")\"","v":"(0)"},null,{"$f":"Survey!C27","v":"Lower Middle Income Country"}]
[]
[]
[null,null,"Year of WaCT Survey:",null,{"$f":"Survey!B5","v":0},"…................................................................................................"]
[null,{"$f":"IF(Survey!G10=\"\",\"\",Survey!G10)","v":""}]
[]
[]
[]
[]
[]
[null,{"$f":"\"Factsheet - wastewise Cities Tool in \" & Survey!C4 & \", \" & Survey!E4","v":"Factsheet - wastewise Cities Tool in Survey City, Kenya"}]
[null,"The United Nations Human Settlements Programme © 2020"]
[]
[]
[null,"Key Waste Data"]
[]
[null,"Total municipal solid waste",null,null,"      Total MSW Collcted:",null,{"$f":"TEXT(ROUND(DFsummary!B5,0),\"0\") & \"%\"","v":"0%"},"      Total MSW Collcted and",null,null,{"$f":"TEXT(ROUND(DFsummary!B6,0),\"0\") & \"%\"","v":"0%"}]
[null,"(MSW) generated by the city:",null,null,{"$f":"\"      \" & TEXT(DisposalFacilities!AA2,\"0\") & \" t/day\"","v":"      0 t/day"},null,null,"      managed in controlled facilities:"]
[null,{"$f":"TEXT(HouseholdSummary!B10,\"0\") & \" t/day\"","v":"0 t/day"},null,null,null,null,null,{"$f":"\"      \" & TEXT(DFsummary!B4+DFsummary!B23,\"0\") & \" t/day\"","v":"      0 t/day"}]
[]
[]
[null,"Household Waste Generation and Composition"]
[]
[null,null,"Average household MSW generation (kg/capita/day)",null,null,null,"Total Population",null,null,null,"Total MSW generated by households (t/day)"]
[null,"High Income",null,{"$f":"HouseholdSummary!B2","v":0},null,null,{"$f":"HouseholdSummary!C2","v":0},null,{"$f":"HouseholdSummary!D2","v":0}]
[null,"Middle Income",null,{"$f":"HouseholdSummary!B3","v":0},null,null,{"$f":"HouseholdSummary!C3","v":0},null,{"$f":"HouseholdSummary!D3","v":0}]
[null,"Low Income",null,{"$f":"HouseholdSummary!B4","v":0},null,null,{"$f":"HouseholdSummary!C4","v":0},null,{"$f":"HouseholdSummary!D4","v":0}]
[null,"TOTAL",null,{"$f":"IF(G39=0,\"\",I39/G39*1000)","v":""},null,null,{"$f":"SUM(G36:H38)","v":0},null,{"$f":"SUM(I36:K38)","v":0}]
[]
[]
[null,"High Income Household MSW Composition",null,null,null,null,null,null,null,null,"Middle Income Household MSW Composition"]
[]
[]
[]
[]
[]
[]
[]
[]
[]
[]
[]
[]
[]
[]
[]
[]
[]
[]
[]
[]
[]
[]
[]
[]
[]
[]
[]
[]
[]
[]
[]
[]
[]
[]
[null,{"$f":"\"Factsheet - wastewise Cities Tool in \" & Survey!C4 & \", \" & Survey!E4","v":"Factsheet - wastewise Cities Tool in Survey City, Kenya"}]
[null,"The United Nations Human Settlements Programme © 2020"]
[]
[]
[null,"Low Income Household MSW Composition",null,null,null,null,null,null,null,null,"MSW Composition at Disposal Sites"]
[]
[]
[]
[]
[]
[]
[]
[]
[]
[]
[]
[]
[]
[]
[]
[]
[]
[]
[]
[]
[]
[]
[]
[]
[]
[null,"Recyclables from Households"]
[]
[null,"Types",null,null,null,null,null,null,null,null,"Recyclable waste generation from HH (t/day)"]
[null,"Food Waste",null,null,null,null,null,null,null,null,{"$f":"ROUND(HouseholdSummary!H5,0)","v":0}]
[null,"Plastic Film",null,null,null,null,null,null,null,null,{"$f":"ROUND(HouseholdSummary!K5,0)","v":0}]
[null,"Plastic Dense",null,null,null,null,null,null,null,null,{"$f":"ROUND(HouseholdSummary!L5,0)","v":0}]
[null,"Paper and Cardboard",null,null,null,null,null,null,null,null,{"$f":"ROUND(HouseholdSummary!J5,0)","v":0}]
[null,"Glass",null,null,null,null,null,null,null,null,{"$f":"ROUND(HouseholdSummary!N5,0)","v":0}]
[null,"Metal",null,null,null,null,null,null,null,null,{"$f":"ROUND(HouseholdSummary!M5,0)","v":0}]
[null,"Total",null,null,null,null,null,null,null,null,{"$f":"SUM(K110:K115)","v":0}]
[]
[]
[]
[]
[]
[]
[]
[]
[]
[]
[]
[]
[]
[null,{"$f":"\"Factsheet - wastewise Cities Tool in \" & Survey!C4 & \", \" & Survey!E4","v":"Factsheet - wastewise Cities Tool in Survey City, Kenya"}]
[null,"The United Nations Human Settlements Programme © 2020"]
[]
[null,"Waste generation from Non-Households"]
[]
[null,"Total MSW generated from non-household sources (using proxy of 30%)",null,null,null,null,null,null,null,{"$f":"TEXT(HouseholdSummary!B19,\"0\") & \" t/day\"","v":"0 t/day"}]
[]
[null,"Waste Flow"]
[]
[]
[]
[null,null,null,null,{"$f":"TEXT(Flow!F14+Flow!L9,\"0\") & \" t/day\"","v":"0 t/day"}]
[]
[null,null,null,null,null,null,null,{"$f":"DisposalFacilities!C2","v":0},null,"Others"]
[null,null,null,null,null,null,null,{"$f":"TEXT(DisposalFacilities!I2,\"0\") & \" t/day\"","v":"0 t/day"},null,{"$f":"TEXT(Flow!F14+Flow!L9-DisposalFacilities!I2,\"0\") & \" t/day\"","v":"0 t/day"},{"$f":"G28","v":"0%"}]
[null,null,null,null,null,null,null,{"$f":"ROUND(Flow!I9,0)","v":0},"t/day"]
[null,null,null,{"$f":"ROUND(DFsummary!B22,0)","v":0},"t/day",null,null,null,null,{"$f":"K28","v":"0%"}]
[]
[]
[]
[null,{"$f":"ROUND(Flow!D14,0)","v":0}]
[null,"t/day"]
[]
[]
[]
[null,null,null,null,null,null,{"$f":"TEXT(Flow!J21,\"0\") & \" t/day\"","v":"0 t/day"}]
[]
[]
[null,"Background Waste Wise Cities Tool"]
[]
[null,"UN-Habitat’s Waste Wise Cities Tool\n(WaCT) assesses the parameters for\nSustainable Development Goal indicator\n11.6.1 Proportion of municipal solid waste\ncollected and managed in controlled\nfacilities out of total municipal solid waste\ngenerated, by the city. It consists of seven\nsteps and provides the necessary data\nto support evidence-based decision\nmaking by city managers"]
[]
[]
[]
[]
[]
[]
[]
[]
[]
[null,"For more info and if interested in WaCT\napplication contact the Waste Wise\nCities Team at WasteWiseCities@un.org"]

{"sheet":"Survey","index":6,"n_rows":35,"n_cols":9,"rows_kept":35,"cut":false,"hidden":true,"merged":[]}
["RWM.Global Configuration"]
["Programme",1,"UN Habitat SDG 11.6.1"]
["SurveyID",null,"Token"]
["CityID",null,{"$f":"'Source Cities'!B2","v":"Survey City"},null,"Kenya"]
["Year"]
["Population High Income",null,null,null,null,"City quote"]
["Population Middle Income",null,null,null,null,"Quote by"]
["Population Low Income",null,null,null,null,"Quote job"]
["Population (total)",{"$f":"SUM(B6:B8)","v":0}]
["SurveyAreas",3,null,null,null,"City desc"]
["Households per area",10]
["HH generation proxy",false]
["NHH generation proxy",true,30,null,null,null,"Completeness check"]
["HH composition proxy",false,null,null,null,null,"Areas high income",{"$f":"COUNTIF(SurveyAreas!B2:B999,1)","v":0},{"$f":"IF(H14>=$B$10,1,0)","v":0}]
["Restaurant chairs",null,null,null,null,null,"Areas middle income",{"$f":"COUNTIF(SurveyAreas!B2:B999,2)","v":0},{"$f":"IF(H15>=$B$10,1,0)","v":0}]
["Hotel rooms",null,null,null,null,null,"Areas low income",{"$f":"COUNTIF(SurveyAreas!B2:B999,3)","v":0},0]
["Students",null,null,null,null,null,"Areas complete",null,{"$f":"IF(SUM(I14:I16)=3,\"Yes\",\"No\")","v":"No"}]
["Office sq.m.",null,null,null,null,null,"Households high income",{"$f":"COUNTIF(Households!C2:C999,1)","v":0},{"$f":"IF(H18>=($B$10*$B$11),1,0)","v":0}]
["Shopping mall sq.m.",null,null,null,null,null,"Households middle income",{"$f":"COUNTIF(Households!C2:C999,2)","v":0},{"$f":"IF(H19>=($B$10*$B$11),1,0)","v":0}]
["Market stalls",null,null,null,null,null,"Households low income",{"$f":"COUNTIF(Households!C2:C999,3)","v":0},0]
["Hospital beds",null,null,null,null,null,"Households complete",null,{"$f":"IF(SUM(I18:I20)=3,\"Yes\",\"No\")","v":"No"}]
["Public spaces sq.m."]
["% rejects from recovery",true,10]
["FWI-baseline"]
["DF Received"]
["DF Received Net"]
["WBIC",null,"Lower Middle Income Country",null,null,"(World Bank Income Category)"]
["City quote"]
["Quote by"]
["Quote job"]
[]
["City desc"]
[]
["Disposal sites required",1]
["Recovery facilities required",1]

{"sheet":"SurveySub","index":7,"n_rows":4,"n_cols":54,"rows_kept":4,"cut":false,"hidden":true,"merged":[]}
["ID","ProgrammeID","CityID","Year","SurveyToken","CityName","CountryName","Quote","QuoteName","QuoteJob","QuoteImage","CityDescription","CityImage","SAPIL","HPSA","WBIC","PopHighIncome","PopMidIncome","PopLowIncome","FWIbaseline","UseHhwProxy","HhwProxyValue","UseNhhwProxy","NhhwProxyValue","WawProxyHigh","WawProxyMiddle","WawProxyLow","UseRecoveryWasteProxy","RecoveryWasteProxyValue","HotelMultiplier","RestaurantMultiplier","EducationMultiplier","OfficesMultiplier","ShoppingMultiplier","MarketsMultiplier","HealthcareMultiplier","PublicSpacesMultiplier","HhwRateHigh","HhwRateMiddle","HhwRateLow","HotelUnitRate","RestaurantUnitRate","EducationUnitRate","OfficeUnitRate","ShoppingUnitRate","MarketsUnitRate","HealthcareUnitRate","PublicSpaceUnitRate","MswFoodPct","MswCollectionPct","MswCollectionControlledPct","CityRecyclingRate","MainDIsposalSiteQty","PickedQty"]
[{"$f":"Survey!B4","v":0},{"$f":"Survey!B2","v":1},{"$f":"Survey!B5","v":0},{"$f":"Survey!B5","v":0},{"$f":"Survey!D3","v":0},{"$f":"Survey!C4","v":"Survey City"},{"$f":"Survey!D4","v":0},{"$f":"Survey!G6","v":0},{"$f":"Survey!G7","v":0},{"$f":"Survey!G8","v":0},null,{"$f":"Survey!G10","v":0},null,{"$f":"Survey!B10","v":3},{"$f":"Survey!B11","v":10},{"$f":"Survey!B27","v":0},{"$f":"Survey!B6","v":0},{"$f":"Survey!B7","v":0},{"$f":"Survey!B8","v":0},{"$f":"Survey!B24","v":0},{"$f":"Survey!B12","v":false},{"$f":"Survey!C12","v":0},{"$f":"Survey!B13","v":true},{"$f":"Survey!C13","v":30},{"$f":"ProxyData!C4","v":0.61717541060759518},{"$f":"ProxyData!C5","v":0.26319793157281557},{"$f":"ProxyData!C6","v":0.1629351713333333},{"$f":"Survey!B23","v":true},{"$f":"Survey!C23","v":10},{"$f":"Survey!B16","v":0},{"$f":"Survey!B15","v":0},{"$f":"Survey!B17","v":0},{"$f":"Survey!B18","v":0},{"$f":"Survey!B19","v":0},{"$f":"Survey!B20","v":0},{"$f":"Survey!B21","v":0},{"$f":"Survey!B22","v":0},{"$f":"HouseholdSummary!B2","v":0},{"$f":"HouseholdSummary!B3","v":0},{"$f":"HouseholdSummary!B4","v":0},{"$f":"NonHouseholds!S2","v":0},{"$f":"NonHouseholds!S3","v":0},{"$f":"NonHouseholds!S4","v":0},{"$f":"NonHouseholds!S5","v":0},{"$f":"NonHouseholds!S6","v":0},{"$f":"NonHouseholds!S7","v":0},{"$f":"NonHouseholds!S8","v":0},{"$f":"NonHouseholds!S9","v":0},{"$f":"Application!M14","v":"N/A"},{"$f":"DFsummary!B5","v":0},{"$f":"DFsummary!B6","v":0},{"$f":"DFsummary!B27","v":0},{"$f":"DisposalFacilities!I2","v":0},{"$f":"DisposalFacilities!J2*DisposalFacilities!K2/1000","v":0}]
[]
[null,null,null,null,null,null,null,null,null,null,null,null,null,null,null,null,null,null,null,null,null,null,null,null,null,null,null,null,null,null,null,null,null,null,null,null,null,null,null,null,null,null,null,null,null,null,null,null,"B17"]

{"sheet":"SurveyAreas","index":8,"n_rows":100,"n_cols":16,"rows_kept":100,"cut":false,"hidden":true,"merged":[]}
["ID","IncomeClassID","Name","GenerationRate",1,2,3,4,5,6,7,8,9,10,11,99]
[null,null,null,{"$f":"IF(A2=\"\",\"\",(SUMIF(Households!$B$2:$B$999,A2,Households!$P$2:$P$999)/SUMIF(Households!$B$2:$B$999,A2,Households!$G$2:$G$999))/7)","v":""}]
[null,null,null,{"$f":"IF(A3=\"\",\"\",(SUMIF(Households!$B$2:$B$999,A3,Households!$P$2:$P$999)/SUMIF(Households!$B$2:$B$999,A3,Households!$G$2:$G$999))/7)","v":""}]
[null,null,null,{"$f":"IF(A4=\"\",\"\",(SUMIF(Households!$B$2:$B$999,A4,Households!$P$2:$P$999)/SUMIF(Households!$B$2:$B$999,A4,Households!$G$2:$G$999))/7)","v":""}]
[null,null,null,{"$f":"IF(A5=\"\",\"\",(SUMIF(Households!$B$2:$B$999,A5,Households!$P$2:$P$999)/SUMIF(Households!$B$2:$B$999,A5,Households!$G$2:$G$999))/7)","v":""}]
[null,null,null,{"$f":"IF(A6=\"\",\"\",(SUMIF(Households!$B$2:$B$999,A6,Households!$P$2:$P$999)/SUMIF(Households!$B$2:$B$999,A6,Households!$G$2:$G$999))/7)","v":""}]
[null,null,null,{"$f":"IF(A7=\"\",\"\",(SUMIF(Households!$B$2:$B$999,A7,Households!$P$2:$P$999)/SUMIF(Households!$B$2:$B$999,A7,Households!$G$2:$G$999))/7)","v":""}]
[null,null,null,{"$f":"IF(A8=\"\",\"\",(SUMIF(Households!$B$2:$B$999,A8,Households!$P$2:$P$999)/SUMIF(Households!$B$2:$B$999,A8,Households!$G$2:$G$999))/7)","v":""}]
[null,null,null,{"$f":"IF(A9=\"\",\"\",(SUMIF(Households!$B$2:$B$999,A9,Households!$P$2:$P$999)/SUMIF(Households!$B$2:$B$999,A9,Households!$G$2:$G$999))/7)","v":""}]
[null,null,null,{"$f":"IF(A10=\"\",\"\",(SUMIF(Households!$B$2:$B$999,A10,Households!$P$2:$P$999)/SUMIF(Households!$B$2:$B$999,A10,Households!$G$2:$G$999))/7)","v":""}]
[null,null,null,{"$f":"IF(A11=\"\",\"\",(SUMIF(Households!$B$2:$B$999,A11,Households!$P$2:$P$999)/SUMIF(Households!$B$2:$B$999,A11,Households!$G$2:$G$999))/7)","v":""}]
[null,null,null,{"$f":"IF(A12=\"\",\"\",(SUMIF(Households!$B$2:$B$999,A12,Households!$P$2:$P$999)/SUMIF(Households!$B$2:$B$999,A12,Households!$G$2:$G$999))/7)","v":""}]
[null,null,null,{"$f":"IF(A13=\"\",\"\",(SUMIF(Households!$B$2:$B$999,A13,Households!$P$2:$P$999)/SUMIF(Households!$B$2:$B$999,A13,Households!$G$2:$G$999))/7)","v":""}]
[null,null,null,{"$f":"IF(A14=\"\",\"\",(SUMIF(Households!$B$2:$B$999,A14,Households!$P$2:$P$999)/SUMIF(Households!$B$2:$B$999,A14,Households!$G$2:$G$999))/7)","v":""}]
[null,null,null,{"$f":"IF(A15=\"\",\"\",(SUMIF(Households!$B$2:$B$999,A15,Households!$P$2:$P$999)/SUMIF(Households!$B$2:$B$999,A15,Households!$G$2:$G$999))/7)","v":""}]
[null,null,null,{"$f":"IF(A16=\"\",\"\",(SUMIF(Households!$B$2:$B$999,A16,Households!$P$2:$P$999)/SUMIF(Households!$B$2:$B$999,A16,Households!$G$2:$G$999))/7)","v":""}]
[null,null,null,{"$f":"IF(A17=\"\",\"\",(SUMIF(Households!$B$2:$B$999,A17,Households!$P$2:$P$999)/SUMIF(Households!$B$2:$B$999,A17,Households!$G$2:$G$999))/7)","v":""}]
[null,null,null,{"$f":"IF(A18=\"\",\"\",(SUMIF(Households!$B$2:$B$999,A18,Households!$P$2:$P$999)/SUMIF(Households!$B$2:$B$999,A18,Households!$G$2:$G$999))/7)","v":""}]
[null,null,null,{"$f":"IF(A19=\"\",\"\",(SUMIF(Households!$B$2:$B$999,A19,Households!$P$2:$P$999)/SUMIF(Households!$B$2:$B$999,A19,Households!$G$2:$G$999))/7)","v":""}]
[null,null,null,{"$f":"IF(A20=\"\",\"\",(SUMIF(Households!$B$2:$B$999,A20,Households!$P$2:$P$999)/SUMIF(Households!$B$2:$B$999,A20,Households!$G$2:$G$999))/7)","v":""}]
[null,null,null,{"$f":"IF(A21=\"\",\"\",(SUMIF(Households!$B$2:$B$999,A21,Households!$P$2:$P$999)/SUMIF(Households!$B$2:$B$999,A21,Households!$G$2:$G$999))/7)","v":""}]
[null,null,null,{"$f":"IF(A22=\"\",\"\",(SUMIF(Households!$B$2:$B$999,A22,Households!$P$2:$P$999)/SUMIF(Households!$B$2:$B$999,A22,Households!$G$2:$G$999))/7)","v":""}]
[null,null,null,{"$f":"IF(A23=\"\",\"\",(SUMIF(Households!$B$2:$B$999,A23,Households!$P$2:$P$999)/SUMIF(Households!$B$2:$B$999,A23,Households!$G$2:$G$999))/7)","v":""}]
[null,null,null,{"$f":"IF(A24=\"\",\"\",(SUMIF(Households!$B$2:$B$999,A24,Households!$P$2:$P$999)/SUMIF(Households!$B$2:$B$999,A24,Households!$G$2:$G$999))/7)","v":""}]
[null,null,null,{"$f":"IF(A25=\"\",\"\",(SUMIF(Households!$B$2:$B$999,A25,Households!$P$2:$P$999)/SUMIF(Households!$B$2:$B$999,A25,Households!$G$2:$G$999))/7)","v":""}]
[null,null,null,{"$f":"IF(A26=\"\",\"\",(SUMIF(Households!$B$2:$B$999,A26,Households!$P$2:$P$999)/SUMIF(Households!$B$2:$B$999,A26,Households!$G$2:$G$999))/7)","v":""}]
[null,null,null,{"$f":"IF(A27=\"\",\"\",(SUMIF(Households!$B$2:$B$999,A27,Households!$P$2:$P$999)/SUMIF(Households!$B$2:$B$999,A27,Households!$G$2:$G$999))/7)","v":""}]
[null,null,null,{"$f":"IF(A28=\"\",\"\",(SUMIF(Households!$B$2:$B$999,A28,Households!$P$2:$P$999)/SUMIF(Households!$B$2:$B$999,A28,Households!$G$2:$G$999))/7)","v":""}]
[null,null,null,{"$f":"IF(A29=\"\",\"\",(SUMIF(Households!$B$2:$B$999,A29,Households!$P$2:$P$999)/SUMIF(Households!$B$2:$B$999,A29,Households!$G$2:$G$999))/7)","v":""}]
[null,null,null,{"$f":"IF(A30=\"\",\"\",(SUMIF(Households!$B$2:$B$999,A30,Households!$P$2:$P$999)/SUMIF(Households!$B$2:$B$999,A30,Households!$G$2:$G$999))/7)","v":""}]
[null,null,null,{"$f":"IF(A31=\"\",\"\",(SUMIF(Households!$B$2:$B$999,A31,Households!$P$2:$P$999)/SUMIF(Households!$B$2:$B$999,A31,Households!$G$2:$G$999))/7)","v":""}]
[null,null,null,{"$f":"IF(A32=\"\",\"\",(SUMIF(Households!$B$2:$B$999,A32,Households!$P$2:$P$999)/SUMIF(Households!$B$2:$B$999,A32,Households!$G$2:$G$999))/7)","v":""}]
[null,null,null,{"$f":"IF(A33=\"\",\"\",(SUMIF(Households!$B$2:$B$999,A33,Households!$P$2:$P$999)/SUMIF(Households!$B$2:$B$999,A33,Households!$G$2:$G$999))/7)","v":""}]
[null,null,null,{"$f":"IF(A34=\"\",\"\",(SUMIF(Households!$B$2:$B$999,A34,Households!$P$2:$P$999)/SUMIF(Households!$B$2:$B$999,A34,Households!$G$2:$G$999))/7)","v":""}]
[null,null,null,{"$f":"IF(A35=\"\",\"\",(SUMIF(Households!$B$2:$B$999,A35,Households!$P$2:$P$999)/SUMIF(Households!$B$2:$B$999,A35,Households!$G$2:$G$999))/7)","v":""}]
[null,null,null,{"$f":"IF(A36=\"\",\"\",(SUMIF(Households!$B$2:$B$999,A36,Households!$P$2:$P$999)/SUMIF(Households!$B$2:$B$999,A36,Households!$G$2:$G$999))/7)","v":""}]
[null,null,null,{"$f":"IF(A37=\"\",\"\",(SUMIF(Households!$B$2:$B$999,A37,Households!$P$2:$P$999)/SUMIF(Households!$B$2:$B$999,A37,Households!$G$2:$G$999))/7)","v":""}]
[null,null,null,{"$f":"IF(A38=\"\",\"\",(SUMIF(Households!$B$2:$B$999,A38,Households!$P$2:$P$999)/SUMIF(Households!$B$2:$B$999,A38,Households!$G$2:$G$999))/7)","v":""}]
[null,null,null,{"$f":"IF(A39=\"\",\"\",(SUMIF(Households!$B$2:$B$999,A39,Households!$P$2:$P$999)/SUMIF(Households!$B$2:$B$999,A39,Households!$G$2:$G$999))/7)","v":""}]
[null,null,null,{"$f":"IF(A40=\"\",\"\",(SUMIF(Households!$B$2:$B$999,A40,Households!$P$2:$P$999)/SUMIF(Households!$B$2:$B$999,A40,Households!$G$2:$G$999))/7)","v":""}]
[null,null,null,{"$f":"IF(A41=\"\",\"\",(SUMIF(Households!$B$2:$B$999,A41,Households!$P$2:$P$999)/SUMIF(Households!$B$2:$B$999,A41,Households!$G$2:$G$999))/7)","v":""}]
[null,null,null,{"$f":"IF(A42=\"\",\"\",(SUMIF(Households!$B$2:$B$999,A42,Households!$P$2:$P$999)/SUMIF(Households!$B$2:$B$999,A42,Households!$G$2:$G$999))/7)","v":""}]
[null,null,null,{"$f":"IF(A43=\"\",\"\",(SUMIF(Households!$B$2:$B$999,A43,Households!$P$2:$P$999)/SUMIF(Households!$B$2:$B$999,A43,Households!$G$2:$G$999))/7)","v":""}]
[null,null,null,{"$f":"IF(A44=\"\",\"\",(SUMIF(Households!$B$2:$B$999,A44,Households!$P$2:$P$999)/SUMIF(Households!$B$2:$B$999,A44,Households!$G$2:$G$999))/7)","v":""}]
[null,null,null,{"$f":"IF(A45=\"\",\"\",(SUMIF(Households!$B$2:$B$999,A45,Households!$P$2:$P$999)/SUMIF(Households!$B$2:$B$999,A45,Households!$G$2:$G$999))/7)","v":""}]
[null,null,null,{"$f":"IF(A46=\"\",\"\",(SUMIF(Households!$B$2:$B$999,A46,Households!$P$2:$P$999)/SUMIF(Households!$B$2:$B$999,A46,Households!$G$2:$G$999))/7)","v":""}]
[null,null,null,{"$f":"IF(A47=\"\",\"\",(SUMIF(Households!$B$2:$B$999,A47,Households!$P$2:$P$999)/SUMIF(Households!$B$2:$B$999,A47,Households!$G$2:$G$999))/7)","v":""}]
[null,null,null,{"$f":"IF(A48=\"\",\"\",(SUMIF(Households!$B$2:$B$999,A48,Households!$P$2:$P$999)/SUMIF(Households!$B$2:$B$999,A48,Households!$G$2:$G$999))/7)","v":""}]
[null,null,null,{"$f":"IF(A49=\"\",\"\",(SUMIF(Households!$B$2:$B$999,A49,Households!$P$2:$P$999)/SUMIF(Households!$B$2:$B$999,A49,Households!$G$2:$G$999))/7)","v":""}]
[null,null,null,{"$f":"IF(A50=\"\",\"\",(SUMIF(Households!$B$2:$B$999,A50,Households!$P$2:$P$999)/SUMIF(Households!$B$2:$B$999,A50,Households!$G$2:$G$999))/7)","v":""}]
[null,null,null,{"$f":"IF(A51=\"\",\"\",(SUMIF(Households!$B$2:$B$999,A51,Households!$P$2:$P$999)/SUMIF(Households!$B$2:$B$999,A51,Households!$G$2:$G$999))/7)","v":""}]
[null,null,null,{"$f":"IF(A52=\"\",\"\",(SUMIF(Households!$B$2:$B$999,A52,Households!$P$2:$P$999)/SUMIF(Households!$B$2:$B$999,A52,Households!$G$2:$G$999))/7)","v":""}]
[null,null,null,{"$f":"IF(A53=\"\",\"\",(SUMIF(Households!$B$2:$B$999,A53,Households!$P$2:$P$999)/SUMIF(Households!$B$2:$B$999,A53,Households!$G$2:$G$999))/7)","v":""}]
[null,null,null,{"$f":"IF(A54=\"\",\"\",(SUMIF(Households!$B$2:$B$999,A54,Households!$P$2:$P$999)/SUMIF(Households!$B$2:$B$999,A54,Households!$G$2:$G$999))/7)","v":""}]
[null,null,null,{"$f":"IF(A55=\"\",\"\",(SUMIF(Households!$B$2:$B$999,A55,Households!$P$2:$P$999)/SUMIF(Households!$B$2:$B$999,A55,Households!$G$2:$G$999))/7)","v":""}]
[null,null,null,{"$f":"IF(A56=\"\",\"\",(SUMIF(Households!$B$2:$B$999,A56,Households!$P$2:$P$999)/SUMIF(Households!$B$2:$B$999,A56,Households!$G$2:$G$999))/7)","v":""}]
[null,null,null,{"$f":"IF(A57=\"\",\"\",(SUMIF(Households!$B$2:$B$999,A57,Households!$P$2:$P$999)/SUMIF(Households!$B$2:$B$999,A57,Households!$G$2:$G$999))/7)","v":""}]
[null,null,null,{"$f":"IF(A58=\"\",\"\",(SUMIF(Households!$B$2:$B$999,A58,Households!$P$2:$P$999)/SUMIF(Households!$B$2:$B$999,A58,Households!$G$2:$G$999))/7)","v":""}]
[null,null,null,{"$f":"IF(A59=\"\",\"\",(SUMIF(Households!$B$2:$B$999,A59,Households!$P$2:$P$999)/SUMIF(Households!$B$2:$B$999,A59,Households!$G$2:$G$999))/7)","v":""}]
[null,null,null,{"$f":"IF(A60=\"\",\"\",(SUMIF(Households!$B$2:$B$999,A60,Households!$P$2:$P$999)/SUMIF(Households!$B$2:$B$999,A60,Households!$G$2:$G$999))/7)","v":""}]
[null,null,null,{"$f":"IF(A61=\"\",\"\",(SUMIF(Households!$B$2:$B$999,A61,Households!$P$2:$P$999)/SUMIF(Households!$B$2:$B$999,A61,Households!$G$2:$G$999))/7)","v":""}]
[null,null,null,{"$f":"IF(A62=\"\",\"\",(SUMIF(Households!$B$2:$B$999,A62,Households!$P$2:$P$999)/SUMIF(Households!$B$2:$B$999,A62,Households!$G$2:$G$999))/7)","v":""}]
[null,null,null,{"$f":"IF(A63=\"\",\"\",(SUMIF(Households!$B$2:$B$999,A63,Households!$P$2:$P$999)/SUMIF(Households!$B$2:$B$999,A63,Households!$G$2:$G$999))/7)","v":""}]
[null,null,null,{"$f":"IF(A64=\"\",\"\",(SUMIF(Households!$B$2:$B$999,A64,Households!$P$2:$P$999)/SUMIF(Households!$B$2:$B$999,A64,Households!$G$2:$G$999))/7)","v":""}]
[null,null,null,{"$f":"IF(A65=\"\",\"\",(SUMIF(Households!$B$2:$B$999,A65,Households!$P$2:$P$999)/SUMIF(Households!$B$2:$B$999,A65,Households!$G$2:$G$999))/7)","v":""}]
[null,null,null,{"$f":"IF(A66=\"\",\"\",(SUMIF(Households!$B$2:$B$999,A66,Households!$P$2:$P$999)/SUMIF(Households!$B$2:$B$999,A66,Households!$G$2:$G$999))/7)","v":""}]
[null,null,null,{"$f":"IF(A67=\"\",\"\",(SUMIF(Households!$B$2:$B$999,A67,Households!$P$2:$P$999)/SUMIF(Households!$B$2:$B$999,A67,Households!$G$2:$G$999))/7)","v":""}]
[null,null,null,{"$f":"IF(A68=\"\",\"\",(SUMIF(Households!$B$2:$B$999,A68,Households!$P$2:$P$999)/SUMIF(Households!$B$2:$B$999,A68,Households!$G$2:$G$999))/7)","v":""}]
[null,null,null,{"$f":"IF(A69=\"\",\"\",(SUMIF(Households!$B$2:$B$999,A69,Households!$P$2:$P$999)/SUMIF(Households!$B$2:$B$999,A69,Households!$G$2:$G$999))/7)","v":""}]
[null,null,null,{"$f":"IF(A70=\"\",\"\",(SUMIF(Households!$B$2:$B$999,A70,Households!$P$2:$P$999)/SUMIF(Households!$B$2:$B$999,A70,Households!$G$2:$G$999))/7)","v":""}]
[null,null,null,{"$f":"IF(A71=\"\",\"\",(SUMIF(Households!$B$2:$B$999,A71,Households!$P$2:$P$999)/SUMIF(Households!$B$2:$B$999,A71,Households!$G$2:$G$999))/7)","v":""}]
[null,null,null,{"$f":"IF(A72=\"\",\"\",(SUMIF(Households!$B$2:$B$999,A72,Households!$P$2:$P$999)/SUMIF(Households!$B$2:$B$999,A72,Households!$G$2:$G$999))/7)","v":""}]
[null,null,null,{"$f":"IF(A73=\"\",\"\",(SUMIF(Households!$B$2:$B$999,A73,Households!$P$2:$P$999)/SUMIF(Households!$B$2:$B$999,A73,Households!$G$2:$G$999))/7)","v":""}]
[null,null,null,{"$f":"IF(A74=\"\",\"\",(SUMIF(Households!$B$2:$B$999,A74,Households!$P$2:$P$999)/SUMIF(Households!$B$2:$B$999,A74,Households!$G$2:$G$999))/7)","v":""}]
[null,null,null,{"$f":"IF(A75=\"\",\"\",(SUMIF(Households!$B$2:$B$999,A75,Households!$P$2:$P$999)/SUMIF(Households!$B$2:$B$999,A75,Households!$G$2:$G$999))/7)","v":""}]
[null,null,null,{"$f":"IF(A76=\"\",\"\",(SUMIF(Households!$B$2:$B$999,A76,Households!$P$2:$P$999)/SUMIF(Households!$B$2:$B$999,A76,Households!$G$2:$G$999))/7)","v":""}]
[null,null,null,{"$f":"IF(A77=\"\",\"\",(SUMIF(Households!$B$2:$B$999,A77,Households!$P$2:$P$999)/SUMIF(Households!$B$2:$B$999,A77,Households!$G$2:$G$999))/7)","v":""}]
[null,null,null,{"$f":"IF(A78=\"\",\"\",(SUMIF(Households!$B$2:$B$999,A78,Households!$P$2:$P$999)/SUMIF(Households!$B$2:$B$999,A78,Households!$G$2:$G$999))/7)","v":""}]
[null,null,null,{"$f":"IF(A79=\"\",\"\",(SUMIF(Households!$B$2:$B$999,A79,Households!$P$2:$P$999)/SUMIF(Households!$B$2:$B$999,A79,Households!$G$2:$G$999))/7)","v":""}]
[null,null,null,{"$f":"IF(A80=\"\",\"\",(SUMIF(Households!$B$2:$B$999,A80,Households!$P$2:$P$999)/SUMIF(Households!$B$2:$B$999,A80,Households!$G$2:$G$999))/7)","v":""}]
[null,null,null,{"$f":"IF(A81=\"\",\"\",(SUMIF(Households!$B$2:$B$999,A81,Households!$P$2:$P$999)/SUMIF(Households!$B$2:$B$999,A81,Households!$G$2:$G$999))/7)","v":""}]
[null,null,null,{"$f":"IF(A82=\"\",\"\",(SUMIF(Households!$B$2:$B$999,A82,Households!$P$2:$P$999)/SUMIF(Households!$B$2:$B$999,A82,Households!$G$2:$G$999))/7)","v":""}]
[null,null,null,{"$f":"IF(A83=\"\",\"\",(SUMIF(Households!$B$2:$B$999,A83,Households!$P$2:$P$999)/SUMIF(Households!$B$2:$B$999,A83,Households!$G$2:$G$999))/7)","v":""}]
[null,null,null,{"$f":"IF(A84=\"\",\"\",(SUMIF(Households!$B$2:$B$999,A84,Households!$P$2:$P$999)/SUMIF(Households!$B$2:$B$999,A84,Households!$G$2:$G$999))/7)","v":""}]
[null,null,null,{"$f":"IF(A85=\"\",\"\",(SUMIF(Households!$B$2:$B$999,A85,Households!$P$2:$P$999)/SUMIF(Households!$B$2:$B$999,A85,Households!$G$2:$G$999))/7)","v":""}]
[null,null,null,{"$f":"IF(A86=\"\",\"\",(SUMIF(Households!$B$2:$B$999,A86,Households!$P$2:$P$999)/SUMIF(Households!$B$2:$B$999,A86,Households!$G$2:$G$999))/7)","v":""}]
[null,null,null,{"$f":"IF(A87=\"\",\"\",(SUMIF(Households!$B$2:$B$999,A87,Households!$P$2:$P$999)/SUMIF(Households!$B$2:$B$999,A87,Households!$G$2:$G$999))/7)","v":""}]
[null,null,null,{"$f":"IF(A88=\"\",\"\",(SUMIF(Households!$B$2:$B$999,A88,Households!$P$2:$P$999)/SUMIF(Households!$B$2:$B$999,A88,Households!$G$2:$G$999))/7)","v":""}]
[null,null,null,{"$f":"IF(A89=\"\",\"\",(SUMIF(Households!$B$2:$B$999,A89,Households!$P$2:$P$999)/SUMIF(Households!$B$2:$B$999,A89,Households!$G$2:$G$999))/7)","v":""}]
[null,null,null,{"$f":"IF(A90=\"\",\"\",(SUMIF(Households!$B$2:$B$999,A90,Households!$P$2:$P$999)/SUMIF(Households!$B$2:$B$999,A90,Households!$G$2:$G$999))/7)","v":""}]
[null,null,null,{"$f":"IF(A91=\"\",\"\",(SUMIF(Households!$B$2:$B$999,A91,Households!$P$2:$P$999)/SUMIF(Households!$B$2:$B$999,A91,Households!$G$2:$G$999))/7)","v":""}]
[null,null,null,{"$f":"IF(A92=\"\",\"\",(SUMIF(Households!$B$2:$B$999,A92,Households!$P$2:$P$999)/SUMIF(Households!$B$2:$B$999,A92,Households!$G$2:$G$999))/7)","v":""}]
[null,null,null,{"$f":"IF(A93=\"\",\"\",(SUMIF(Households!$B$2:$B$999,A93,Households!$P$2:$P$999)/SUMIF(Households!$B$2:$B$999,A93,Households!$G$2:$G$999))/7)","v":""}]
[null,null,null,{"$f":"IF(A94=\"\",\"\",(SUMIF(Households!$B$2:$B$999,A94,Households!$P$2:$P$999)/SUMIF(Households!$B$2:$B$999,A94,Households!$G$2:$G$999))/7)","v":""}]
[null,null,null,{"$f":"IF(A95=\"\",\"\",(SUMIF(Households!$B$2:$B$999,A95,Households!$P$2:$P$999)/SUMIF(Households!$B$2:$B$999,A95,Households!$G$2:$G$999))/7)","v":""}]
[null,null,null,{"$f":"IF(A96=\"\",\"\",(SUMIF(Households!$B$2:$B$999,A96,Households!$P$2:$P$999)/SUMIF(Households!$B$2:$B$999,A96,Households!$G$2:$G$999))/7)","v":""}]
[null,null,null,{"$f":"IF(A97=\"\",\"\",(SUMIF(Households!$B$2:$B$999,A97,Households!$P$2:$P$999)/SUMIF(Households!$B$2:$B$999,A97,Households!$G$2:$G$999))/7)","v":""}]
[null,null,null,{"$f":"IF(A98=\"\",\"\",(SUMIF(Households!$B$2:$B$999,A98,Households!$P$2:$P$999)/SUMIF(Households!$B$2:$B$999,A98,Households!$G$2:$G$999))/7)","v":""}]
[null,null,null,{"$f":"IF(A99=\"\",\"\",(SUMIF(Households!$B$2:$B$999,A99,Households!$P$2:$P$999)/SUMIF(Households!$B$2:$B$999,A99,Households!$G$2:$G$999))/7)","v":""}]
[null,null,null,{"$f":"IF(A100=\"\",\"\",(SUMIF(Households!$B$2:$B$999,A100,Households!$P$2:$P$999)/SUMIF(Households!$B$2:$B$999,A100,Households!$G$2:$G$999))/7)","v":""}]

{"sheet":"IncomeLevelComposition","index":9,"n_rows":9,"n_cols":29,"rows_kept":9,"cut":false,"hidden":true,"merged":[]}
["IncomeClassID","1qty","2qty","3qty","4qty","5qty","6qty","7qty","8qty","9qty","10qty","11qty","12qty",null,"1pct","2pct","3pct","4pct","5pct","6pct","7pct","8pct","9pct","10pct","11pct","12pct",null,null,"GenerationRate"]
[1,{"$f":"IF(COUNTIF(SurveyAreas!$B2:$B100,1)=0,0,SUMIF(SurveyAreas!$B2:$B100,1,SurveyAreas!E2:E100)/COUNTIF(SurveyAreas!$B2:$B100,1))","v":0},{"$f":"IF(COUNTIF(SurveyAreas!$B2:$B100,1)=0,0,SUMIF(SurveyAreas!$B2:$B100,1,SurveyAreas!F2:F100)/COUNTIF(SurveyAreas!$B2:$B100,1))","v":0},{"$f":"IF(COUNTIF(SurveyAreas!$B2:$B100,1)=0,0,SUMIF(SurveyAreas!$B2:$B100,1,SurveyAreas!G2:G100)/COUNTIF(SurveyAreas!$B2:$B100,1))","v":0},{"$f":"IF(COUNTIF(SurveyAreas!$B2:$B100,1)=0,0,SUMIF(SurveyAreas!$B2:$B100,1,SurveyAreas!H2:H100)/COUNTIF(SurveyAreas!$B2:$B100,1))","v":0},{"$f":"IF(COUNTIF(SurveyAreas!$B2:$B100,1)=0,0,SUMIF(SurveyAreas!$B2:$B100,1,SurveyAreas!I2:I100)/COUNTIF(SurveyAreas!$B2:$B100,1))","v":0},{"$f":"IF(COUNTIF(SurveyAreas!$B2:$B100,1)=0,0,SUMIF(SurveyAreas!$B2:$B100,1,SurveyAreas!J2:J100)/COUNTIF(SurveyAreas!$B2:$B100,1))","v":0},{"$f":"IF(COUNTIF(SurveyAreas!$B2:$B100,1)=0,0,SUMIF(SurveyAreas!$B2:$B100,1,SurveyAreas!K2:K100)/COUNTIF(SurveyAreas!$B2:$B100,1))","v":0},{"$f":"IF(COUNTIF(SurveyAreas!$B2:$B100,1)=0,0,SUMIF(SurveyAreas!$B2:$B100,1,SurveyAreas!L2:L100)/COUNTIF(SurveyAreas!$B2:$B100,1))","v":0},{"$f":"IF(COUNTIF(SurveyAreas!$B2:$B100,1)=0,0,SUMIF(SurveyAreas!$B2:$B100,1,SurveyAreas!M2:M100)/COUNTIF(SurveyAreas!$B2:$B100,1))","v":0},{"$f":"IF(COUNTIF(SurveyAreas!$B2:$B100,1)=0,0,SUMIF(SurveyAreas!$B2:$B100,1,SurveyAreas!N2:N100)/COUNTIF(SurveyAreas!$B2:$B100,1))","v":0},{"$f":"IF(COUNTIF(SurveyAreas!$B2:$B100,1)=0,0,SUMIF(SurveyAreas!$B2:$B100,1,SurveyAreas!O2:O100)/COUNTIF(SurveyAreas!$B2:$B100,1))","v":0},{"$f":"IF(COUNTIF(SurveyAreas!$B2:$B100,1)=0,0,SUMIF(SurveyAreas!$B2:$B100,1,SurveyAreas!P2:P100)/COUNTIF(SurveyAreas!$B2:$B100,1))","v":0},{"$f":"SUM(B2:M2)","v":0},{"$f":"IF($N2=0,0,B2/$N2*100)","v":0},{"$f":"IF($N2=0,0,C2/$N2*100)","v":0},0,0,0,0,0,0,0,0,0,0,{"$f":"SUM(O2:Z2)","v":0},"higher",{"$f":"IF(SUM(Households!$G$2:$G$999)=0,0,(SUMIF(Households!$C$2:$C$999,A2,Households!$P$2:$P$999)/SUMIF(Households!$C$2:$C$999,A2,Households!$G$2:$G$999))/7)","v":0}]
[2,{"$f":"IF(COUNTIF(SurveyAreas!$B2:$B100,2)=0,0,SUMIF(SurveyAreas!$B2:$B100,2,SurveyAreas!E2:E100)/COUNTIF(SurveyAreas!$B2:$B100,2))","v":0},{"$f":"IF(COUNTIF(SurveyAreas!$B2:$B100,2)=0,0,SUMIF(SurveyAreas!$B2:$B100,2,SurveyAreas!F2:F100)/COUNTIF(SurveyAreas!$B2:$B100,2))","v":0},{"$f":"IF(COUNTIF(SurveyAreas!$B2:$B100,2)=0,0,SUMIF(SurveyAreas!$B2:$B100,2,SurveyAreas!G2:G100)/COUNTIF(SurveyAreas!$B2:$B100,2))","v":0},{"$f":"IF(COUNTIF(SurveyAreas!$B2:$B100,2)=0,0,SUMIF(SurveyAreas!$B2:$B100,2,SurveyAreas!H2:H100)/COUNTIF(SurveyAreas!$B2:$B100,2))","v":0},{"$f":"IF(COUNTIF(SurveyAreas!$B2:$B100,2)=0,0,SUMIF(SurveyAreas!$B2:$B100,2,SurveyAreas!I2:I100)/COUNTIF(SurveyAreas!$B2:$B100,2))","v":0},{"$f":"IF(COUNTIF(SurveyAreas!$B2:$B100,2)=0,0,SUMIF(SurveyAreas!$B2:$B100,2,SurveyAreas!J2:J100)/COUNTIF(SurveyAreas!$B2:$B100,2))","v":0},{"$f":"IF(COUNTIF(SurveyAreas!$B2:$B100,2)=0,0,SUMIF(SurveyAreas!$B2:$B100,2,SurveyAreas!K2:K100)/COUNTIF(SurveyAreas!$B2:$B100,2))","v":0},{"$f":"IF(COUNTIF(SurveyAreas!$B2:$B100,2)=0,0,SUMIF(SurveyAreas!$B2:$B100,2,SurveyAreas!L2:L100)/COUNTIF(SurveyAreas!$B2:$B100,2))","v":0},{"$f":"IF(COUNTIF(SurveyAreas!$B2:$B100,2)=0,0,SUMIF(SurveyAreas!$B2:$B100,2,SurveyAreas!M2:M100)/COUNTIF(SurveyAreas!$B2:$B100,2))","v":0},{"$f":"IF(COUNTIF(SurveyAreas!$B2:$B100,2)=0,0,SUMIF(SurveyAreas!$B2:$B100,2,SurveyAreas!N2:N100)/COUNTIF(SurveyAreas!$B2:$B100,2))","v":0},{"$f":"IF(COUNTIF(SurveyAreas!$B2:$B100,2)=0,0,SUMIF(SurveyAreas!$B2:$B100,2,SurveyAreas!O2:O100)/COUNTIF(SurveyAreas!$B2:$B100,2))","v":0},{"$f":"IF(COUNTIF(SurveyAreas!$B2:$B100,2)=0,0,SUMIF(SurveyAreas!$B2:$B100,2,SurveyAreas!P2:P100)/COUNTIF(SurveyAreas!$B2:$B100,2))","v":0},{"$f":"SUM(B3:M3)","v":0},{"$f":"IF($N3=0,0,B3/$N3*100)","v":0},0,0,0,0,0,0,0,0,0,0,0,{"$f":"SUM(O3:Z3)","v":0},"middle",{"$f":"IF(SUM(Households!$G$2:$G$999)=0,0,(SUMIF(Households!$C$2:$C$999,A3,Households!$P$2:$P$999)/SUMIF(Households!$C$2:$C$999,A3,Households!$G$2:$G$999))/7)","v":0}]
[3,{"$f":"IF(COUNTIF(SurveyAreas!$B2:$B100,3)=0,0,SUMIF(SurveyAreas!$B2:$B100,3,SurveyAreas!E2:E100)/COUNTIF(SurveyAreas!$B2:$B100,3))","v":0},{"$f":"IF(COUNTIF(SurveyAreas!$B2:$B100,3)=0,0,SUMIF(SurveyAreas!$B2:$B100,3,SurveyAreas!F2:F100)/COUNTIF(SurveyAreas!$B2:$B100,3))","v":0},{"$f":"IF(COUNTIF(SurveyAreas!$B2:$B100,3)=0,0,SUMIF(SurveyAreas!$B2:$B100,3,SurveyAreas!G2:G100)/COUNTIF(SurveyAreas!$B2:$B100,3))","v":0},{"$f":"IF(COUNTIF(SurveyAreas!$B2:$B100,3)=0,0,SUMIF(SurveyAreas!$B2:$B100,3,SurveyAreas!H2:H100)/COUNTIF(SurveyAreas!$B2:$B100,3))","v":0},{"$f":"IF(COUNTIF(SurveyAreas!$B2:$B100,3)=0,0,SUMIF(SurveyAreas!$B2:$B100,3,SurveyAreas!I2:I100)/COUNTIF(SurveyAreas!$B2:$B100,3))","v":0},{"$f":"IF(COUNTIF(SurveyAreas!$B2:$B100,3)=0,0,SUMIF(SurveyAreas!$B2:$B100,3,SurveyAreas!J2:J100)/COUNTIF(SurveyAreas!$B2:$B100,3))","v":0},{"$f":"IF(COUNTIF(SurveyAreas!$B2:$B100,3)=0,0,SUMIF(SurveyAreas!$B2:$B100,3,SurveyAreas!K2:K100)/COUNTIF(SurveyAreas!$B2:$B100,3))","v":0},{"$f":"IF(COUNTIF(SurveyAreas!$B2:$B100,3)=0,0,SUMIF(SurveyAreas!$B2:$B100,3,SurveyAreas!L2:L100)/COUNTIF(SurveyAreas!$B2:$B100,3))","v":0},{"$f":"IF(COUNTIF(SurveyAreas!$B2:$B100,3)=0,0,SUMIF(SurveyAreas!$B2:$B100,3,SurveyAreas!M2:M100)/COUNTIF(SurveyAreas!$B2:$B100,3))","v":0},{"$f":"IF(COUNTIF(SurveyAreas!$B2:$B100,3)=0,0,SUMIF(SurveyAreas!$B2:$B100,3,SurveyAreas!N2:N100)/COUNTIF(SurveyAreas!$B2:$B100,3))","v":0},{"$f":"IF(COUNTIF(SurveyAreas!$B2:$B100,3)=0,0,SUMIF(SurveyAreas!$B2:$B100,3,SurveyAreas!O2:O100)/COUNTIF(SurveyAreas!$B2:$B100,3))","v":0},{"$f":"IF(COUNTIF(SurveyAreas!$B2:$B100,3)=0,0,SUMIF(SurveyAreas!$B2:$B100,3,SurveyAreas!P2:P100)/COUNTIF(SurveyAreas!$B2:$B100,3))","v":0},0,0,0,0,0,0,0,0,0,0,0,0,0,0,"lower",{"$f":"IF(SUM(Households!$G$2:$G$999)=0,0,(SUMIF(Households!$C$2:$C$999,A4,Households!$P$2:$P$999)/SUMIF(Households!$C$2:$C$999,A4,Households!$G$2:$G$999))/7)","v":0}]
[]
[null,null,null,null,null,null,null,null,null,null,null,null,null,null,{"$f":"LookUps!B17","v":"Kitchen/canteen"},{"$f":"LookUps!B18","v":"Garden/park"},{"$f":"LookUps!B19","v":"Paper/cardboard"},{"$f":"LookUps!B20","v":"Plastic film"},{"$f":"LookUps!B21","v":"Plastics (dense)"},{"$f":"LookUps!B22","v":"Metals"},{"$f":"LookUps!B23","v":"Glass"},{"$f":"LookUps!B24","v":"Textiles/shoes"},{"$f":"LookUps!B25","v":"Wood (processed)"},{"$f":"LookUps!B26","v":"Special wastes"},{"$f":"LookUps!B27","v":"Composite products"},{"$f":"LookUps!B28","v":"Other"}]
[null,null,null,null,null,null,null,null,null,null,null,null,null,null,{"$f":"O$6 & \" (\" & TEXT(O2,\"0\") & \"%)\"","v":"Kitchen/canteen (0%)"},"Garden/park (0%)","Paper/cardboard (0%)","Plastic film (0%)","Plastics (dense) (0%)","Metals (0%)",{"$f":"U$6 & \" (\" & TEXT(U2,\"0\") & \"%)\"","v":"Glass (0%)"},"Textiles/shoes (0%)","Wood (processed) (0%)","Special wastes (0%)","Composite products (0%)","Other (0%)"]
[null,null,null,null,null,null,null,null,null,null,null,null,null,null,{"$f":"O$6 & \" (\" & TEXT(O3,\"0\") & \"%)\"","v":"Kitchen/canteen (0%)"},"Garden/park (0%)","Paper/cardboard (0%)","Plastic film (0%)","Plastics (dense) (0%)","Metals (0%)","Glass (0%)","Textiles/shoes (0%)","Wood (processed) (0%)","Special wastes (0%)","Composite products (0%)","Other (0%)"]
[null,null,null,null,null,null,null,null,null,null,null,null,null,null,"Kitchen/canteen (0%)","Garden/park (0%)","Paper/cardboard (0%)","Plastic film (0%)","Plastics (dense) (0%)","Metals (0%)","Glass (0%)","Textiles/shoes (0%)","Wood (processed) (0%)","Special wastes (0%)","Composite products (0%)","Other (0%)"]

{"sheet":"Households","index":10,"n_rows":999,"n_cols":26,"rows_kept":999,"cut":false,"hidden":true,"merged":[]}
["ID","Area ID","IncomeClassID","Household Number","Address","Contact","Residents","Day1","Day2","Day3","Day4","Day5","Day6","Day7","Day8","Total","GenerationRate","Valid",null,null,"Count 1","Gen 1","Count 2","Gen 2","Count 3","Gen 3"]
[null,null,null,null,null,null,null,null,null,null,null,null,null,null,null,null,null,null,null,null,{"$f":"IF(C2=1,IF(R2=TRUE,1,0),0)","v":0},{"$f":"IF(C2=1,IF(R2=TRUE,Q2,0),0)","v":0},{"$f":"IF(C2=2,IF(R2=TRUE,1,0),0)","v":0},{"$f":"IF(C2=2,IF(R2=TRUE,Q2,0),0)","v":0},{"$f":"IF(C2=3,IF(R2=TRUE,1,0),0)","v":0},{"$f":"IF(C2=3,IF(R2=TRUE,Q2,0),0)","v":0}]
[null,null,null,null,null,null,null,null,null,null,null,null,null,null,null,null,null,null,null,null,{"$f":"IF(C3=1,IF(R3=TRUE,1,0),0)","v":0},{"$f":"IF(C3=1,IF(R3=TRUE,Q3,0),0)","v":0},{"$f":"IF(C3=2,IF(R3=TRUE,1,0),0)","v":0},{"$f":"IF(C3=2,IF(R3=TRUE,Q3,0),0)","v":0},{"$f":"IF(C3=3,IF(R3=TRUE,1,0),0)","v":0},{"$f":"IF(C3=3,IF(R3=TRUE,Q3,0),0)","v":0}]
[null,null,null,null,null,null,null,null,null,null,null,null,null,null,null,null,null,null,null,null,0,0,0,0,0,0]
[null,null,null,null,null,null,null,null,null,null,null,null,null,null,null,null,null,null,null,null,0,0,0,0,0,0]
[null,null,null,null,null,null,null,null,null,null,null,null,null,null,null,null,null,null,null,null,0,0,0,0,0,0]
[null,null,null,null,null,null,null,null,null,null,null,null,null,null,null,null,null,null,null,null,0,0,0,0,0,0]
[null,null,null,null,null,null,null,null,null,null,null,null,null,null,null,null,null,null,null,null,0,0,0,0,0,0]
[null,null,null,null,null,null,null,null,null,null,null,null,null,null,null,null,null,null,null,null,0,0,0,0,0,0]
[null,null,null,null,null,null,null,null,null,null,null,null,null,null,null,null,null,null,null,null,0,0,0,0,0,0]
[null,null,null,null,null,null,null,null,null,null,null,null,null,null,null,null,null,null,null,null,0,0,0,0,0,0]
[null,null,null,null,null,null,null,null,null,null,null,null,null,null,null,null,null,null,null,null,0,0,0,0,0,0]
[null,null,null,null,null,null,null,null,null,null,null,null,null,null,null,null,null,null,null,null,0,0,0,0,0,0]
[null,null,null,null,null,null,null,null,null,null,null,null,null,null,null,null,null,null,null,null,0,0,0,0,0,0]
[null,null,null,null,null,null,null,null,null,null,null,null,null,null,null,null,null,null,null,null,0,0,0,0,0,0]
[null,null,null,null,null,null,null,null,null,null,null,null,null,null,null,null,null,null,null,null,0,0,0,0,0,0]
[null,null,null,null,null,null,null,null,null,null,null,null,null,null,null,null,null,null,null,null,0,0,0,0,0,0]
[null,null,null,null,null,null,null,null,null,null,null,null,null,null,null,null,null,null,null,null,0,0,0,0,0,0]
[null,null,null,null,null,null,null,null,null,null,null,null,null,null,null,null,null,null,null,null,0,0,0,0,0,0]
[null,null,null,null,null,null,null,null,null,null,null,null,null,null,null,null,null,null,null,null,0,0,0,0,0,0]
[null,null,null,null,null,null,null,null,null,null,null,null,null,null,null,null,null,null,null,null,0,0,0,0,0,0]
[null,null,null,null,null,null,null,null,null,null,null,null,null,null,null,null,null,null,null,null,0,0,0,0,0,0]
[null,null,null,null,null,null,null,null,null,null,null,null,null,null,null,null,null,null,null,null,0,0,0,0,0,0]
[null,null,null,null,null,null,null,null,null,null,null,null,null,null,null,null,null,null,null,null,0,0,0,0,0,0]
[null,null,null,null,null,null,null,null,null,null,null,null,null,null,null,null,null,null,null,null,0,0,0,0,0,0]
[null,null,null,null,null,null,null,null,null,null,null,null,null,null,null,null,null,null,null,null,0,0,0,0,0,0]
[null,null,null,null,null,null,null,null,null,null,null,null,null,null,null,null,null,null,null,null,0,0,0,0,0,0]
[null,null,null,null,null,null,null,null,null,null,null,null,null,null,null,null,null,null,null,null,0,0,0,0,0,0]
[null,null,null,null,null,null,null,null,null,null,null,null,null,null,null,null,null,null,null,null,0,0,0,0,0,0]
[null,null,null,null,null,null,null,null,null,null,null,null,null,null,null,null,null,null,null,null,0,0,0,0,0,0]
[null,null,null,null,null,null,null,null,null,null,null,null,null,null,null,null,null,null,null,null,0,0,0,0,0,0]
[null,null,null,null,null,null,null,null,null,null,null,null,null,null,null,null,null,null,null,null,0,0,0,0,0,0]
[null,null,null,null,null,null,null,null,null,null,null,null,null,null,null,null,null,null,null,null,0,0,0,0,0,0]
[null,null,null,null,null,null,null,null,null,null,null,null,null,null,null,null,null,null,null,null,0,0,0,0,0,0]
[null,null,null,null,null,null,null,null,null,null,null,null,null,null,null,null,null,null,null,null,0,0,0,0,0,0]
[null,null,null,null,null,null,null,null,null,null,null,null,null,null,null,null,null,null,null,null,0,0,0,0,0,0]
[null,null,null,null,null,null,null,null,null,null,null,null,null,null,null,null,null,null,null,null,0,0,0,0,0,0]
[null,null,null,null,null,null,null,null,null,null,null,null,null,null,null,null,null,null,null,null,0,0,0,0,0,0]
[null,null,null,null,null,null,null,null,null,null,null,null,null,null,null,null,null,null,null,null,0,0,0,0,0,0]
[null,null,null,null,null,null,null,null,null,null,null,null,null,null,null,null,null,null,null,null,0,0,0,0,0,0]
[null,null,null,null,null,null,null,null,null,null,null,null,null,null,null,null,null,null,null,null,0,0,0,0,0,0]
[null,null,null,null,null,null,null,null,null,null,null,null,null,null,null,null,null,null,null,null,0,0,0,0,0,0]
[null,null,null,null,null,null,null,null,null,null,null,null,null,null,null,null,null,null,null,null,0,0,0,0,0,0]
[null,null,null,null,null,null,null,null,null,null,null,null,null,null,null,null,null,null,null,null,0,0,0,0,0,0]
[null,null,null,null,null,null,null,null,null,null,null,null,null,null,null,null,null,null,null,null,0,0,0,0,0,0]
[null,null,null,null,null,null,null,null,null,null,null,null,null,null,null,null,null,null,null,null,0,0,0,0,0,0]
[null,null,null,null,null,null,null,null,null,null,null,null,null,null,null,null,null,null,null,null,0,0,0,0,0,0]
[null,null,null,null,null,null,null,null,null,null,null,null,null,null,null,null,null,null,null,null,0,0,0,0,0,0]
[null,null,null,null,null,null,null,null,null,null,null,null,null,null,null,null,null,null,null,null,0,0,0,0,0,0]
[null,null,null,null,null,null,null,null,null,null,null,null,null,null,null,null,null,null,null,null,0,0,0,0,0,0]
[null,null,null,null,null,null,null,null,null,null,null,null,null,null,null,null,null,null,null,null,0,0,0,0,0,0]
[null,null,null,null,null,null,null,null,null,null,null,null,null,null,null,null,null,null,null,null,0,0,0,0,0,0]
[null,null,null,null,null,null,null,null,null,null,null,null,null,null,null,null,null,null,null,null,0,0,0,0,0,0]
[null,null,null,null,null,null,null,null,null,null,null,null,null,null,null,null,null,null,null,null,0,0,0,0,0,0]
[null,null,null,null,null,null,null,null,null,null,null,null,null,null,null,null,null,null,null,null,0,0,0,0,0,0]
[null,null,null,null,null,null,null,null,null,null,null,null,null,null,null,null,null,null,null,null,0,0,0,0,0,0]
[null,null,null,null,null,null,null,null,null,null,null,null,null,null,null,null,null,null,null,null,0,0,0,0,0,0]
[null,null,null,null,null,null,null,null,null,null,null,null,null,null,null,null,null,null,null,null,0,0,0,0,0,0]
[null,null,null,null,null,null,null,null,null,null,null,null,null,null,null,null,null,null,null,null,0,0,0,0,0,0]
[null,null,null,null,null,null,null,null,null,null,null,null,null,null,null,null,null,null,null,null,0,0,0,0,0,0]
[null,null,null,null,null,null,null,null,null,null,null,null,null,null,null,null,null,null,null,null,0,0,0,0,0,0]
[null,null,null,null,null,null,null,null,null,null,null,null,null,null,null,null,null,null,null,null,0,0,0,0,0,0]
[null,null,null,null,null,null,null,null,null,null,null,null,null,null,null,null,null,null,null,null,0,0,0,0,0,0]
[null,null,null,null,null,null,null,null,null,null,null,null,null,null,null,null,null,null,null,null,0,0,0,0,0,0]
[null,null,null,null,null,null,null,null,null,null,null,null,null,null,null,null,null,null,null,null,0,0,0,0,0,0]
[null,null,null,null,null,null,null,null,null,null,null,null,null,null,null,null,null,null,null,null,0,0,0,0,0,0]
[null,null,null,null,null,null,null,null,null,null,null,null,null,null,null,null,null,null,null,null,{"$f":"IF(C67=1,IF(R67=TRUE,1,0),0)","v":0},{"$f":"IF(C67=1,IF(R67=TRUE,Q67,0),0)","v":0},{"$f":"IF(C67=2,IF(R67=TRUE,1,0),0)","v":0},{"$f":"IF(C67=2,IF(R67=TRUE,Q67,0),0)","v":0},{"$f":"IF(C67=3,IF(R67=TRUE,1,0),0)","v":0},{"$f":"IF(C67=3,IF(R67=TRUE,Q67,0),0)","v":0}]
[null,null,null,null,null,null,null,null,null,null,null,null,null,null,null,null,null,null,null,null,0,0,0,0,0,0]
[null,null,null,null,null,null,null,null,null,null,null,null,null,null,null,null,null,null,null,null,0,0,0,0,0,0]
[null,null,null,null,null,null,null,null,null,null,null,null,null,null,null,null,null,null,null,null,0,0,0,0,0,0]
[null,null,null,null,null,null,null,null,null,null,null,null,null,null,null,null,null,null,null,null,0,0,0,0,0,0]
[null,null,null,null,null,null,null,null,null,null,null,null,null,null,null,null,null,null,null,null,0,0,0,0,0,0]
[null,null,null,null,null,null,null,null,null,null,null,null,null,null,null,null,null,null,null,null,0,0,0,0,0,0]
[null,null,null,null,null,null,null,null,null,null,null,null,null,null,null,null,null,null,null,null,0,0,0,0,0,0]
[null,null,null,null,null,null,null,null,null,null,null,null,null,null,null,null,null,null,null,null,0,0,0,0,0,0]
[null,null,null,null,null,null,null,null,null,null,null,null,null,null,null,null,null,null,null,null,0,0,0,0,0,0]
[null,null,null,null,null,null,null,null,null,null,null,null,null,null,null,null,null,null,null,null,0,0,0,0,0,0]
[null,null,null,null,null,null,null,null,null,null,null,null,null,null,null,null,null,null,null,null,0,0,0,0,0,0]
[null,null,null,null,null,null,null,null,null,null,null,null,null,null,null,null,null,null,null,null,0,0,0,0,0,0]
[null,null,null,null,null,null,null,null,null,null,null,null,null,null,null,null,null,null,null,null,0,0,0,0,0,0]
[null,null,null,null,null,null,null,null,null,null,null,null,null,null,null,null,null,null,null,null,0,0,0,0,0,0]
[null,null,null,null,null,null,null,null,null,null,null,null,null,null,null,null,null,null,null,null,0,0,0,0,0,0]
[null,null,null,null,null,null,null,null,null,null,null,null,null,null,null,null,null,null,null,null,0,0,0,0,0,0]
[null,null,null,null,null,null,null,null,null,null,null,null,null,null,null,null,null,null,null,null,0,0,0,0,0,0]
[null,null,null,null,null,null,null,null,null,null,null,null,null,null,null,null,null,null,null,null,0,0,0,0,0,0]
[null,null,null,null,null,null,null,null,null,null,null,null,null,null,null,null,null,null,null,null,0,0,0,0,0,0]
[null,null,null,null,null,null,null,null,null,null,null,null,null,null,null,null,null,null,null,null,0,0,0,0,0,0]
[null,null,null,null,null,null,null,null,null,null,null,null,null,null,null,null,null,null,null,null,0,0,0,0,0,0]
[null,null,null,null,null,null,null,null,null,null,null,null,null,null,null,null,null,null,null,null,0,0,0,0,0,0]
[null,null,null,null,null,null,null,null,null,null,null,null,null,null,null,null,null,null,null,null,0,0,0,0,0,0]
[null,null,null,null,null,null,null,null,null,null,null,null,null,null,null,null,null,null,null,null,0,0,0,0,0,0]
[null,null,null,null,null,null,null,null,null,null,null,null,null,null,null,null,null,null,null,null,0,0,0,0,0,0]
[null,null,null,null,null,null,null,null,null,null,null,null,null,null,null,null,null,null,null,null,0,0,0,0,0,0]
[null,null,null,null,null,null,null,null,null,null,null,null,null,null,null,null,null,null,null,null,0,0,0,0,0,0]
[null,null,null,null,null,null,null,null,null,null,null,null,null,null,null,null,null,null,null,null,0,0,0,0,0,0]
[null,null,null,null,null,null,null,null,null,null,null,null,null,null,null,null,null,null,null,null,0,0,0,0,0,0]
[null,null,null,null,null,null,null,null,null,null,null,null,null,null,null,null,null,null,null,null,0,0,0,0,0,0]
[null,null,null,null,null,null,null,null,null,null,null,null,null,null,null,null,null,null,null,null,0,0,0,0,0,0]
[null,null,null,null,null,null,null,null,null,null,null,null,null,null,null,null,null,null,null,null,0,0,0,0,0,0]
[null,null,null,null,null,null,null,null,null,null,null,null,null,null,null,null,null,null,null,null,0,0,0,0,0,0]
[null,null,null,null,null,null,null,null,null,null,null,null,null,null,null,null,null,null,null,null,0,0,0,0,0,0]
[null,null,null,null,null,null,null,null,null,null,null,null,null,null,null,null,null,null,null,null,0,0,0,0,0,0]
[null,null,null,null,null,null,null,null,null,null,null,null,null,null,null,null,null,null,null,null,0,0,0,0,0,0]
[null,null,null,null,null,null,null,null,null,null,null,null,null,null,null,null,null,null,null,null,0,0,0,0,0,0]
[null,null,null,null,null,null,null,null,null,null,null,null,null,null,null,null,null,null,null,null,0,0,0,0,0,0]
[null,null,null,null,null,null,null,null,null,null,null,null,null,null,null,null,null,null,null,null,0,0,0,0,0,0]
[null,null,null,null,null,null,null,null,null,null,null,null,null,null,null,null,null,null,null,null,0,0,0,0,0,0]
[null,null,null,null,null,null,null,null,null,null,null,null,null,null,null,null,null,null,null,null,0,0,0,0,0,0]
[null,null,null,null,null,null,null,null,null,null,null,null,null,null,null,null,null,null,null,null,0,0,0,0,0,0]
[null,null,null,null,null,null,null,null,null,null,null,null,null,null,null,null,null,null,null,null,0,0,0,0,0,0]
[null,null,null,null,null,null,null,null,null,null,null,null,null,null,null,null,null,null,null,null,0,0,0,0,0,0]
[null,null,null,null,null,null,null,null,null,null,null,null,null,null,null,null,null,null,null,null,0,0,0,0,0,0]
[null,null,null,null,null,null,null,null,null,null,null,null,null,null,null,null,null,null,null,null,0,0,0,0,0,0]
[null,null,null,null,null,null,null,null,null,null,null,null,null,null,null,null,null,null,null,null,0,0,0,0,0,0]
[null,null,null,null,null,null,null,null,null,null,null,null,null,null,null,null,null,null,null,null,0,0,0,0,0,0]
[null,null,null,null,null,null,null,null,null,null,null,null,null,null,null,null,null,null,null,null,0,0,0,0,0,0]
[null,null,null,null,null,null,null,null,null,null,null,null,null,null,null,null,null,null,null,null,0,0,0,0,0,0]
[null,null,null,null,null,null,null,null,null,null,null,null,null,null,null,null,null,null,null,null,0,0,0,0,0,0]
[null,null,null,null,null,null,null,null,null,null,null,null,null,null,null,null,null,null,null,null,0,0,0,0,0,0]
[null,null,null,null,null,null,null,null,null,null,null,null,null,null,null,null,null,null,null,null,0,0,0,0,0,0]
[null,null,null,null,null,null,null,null,null,null,null,null,null,null,null,null,null,null,null,null,0,0,0,0,0,0]
[null,null,null,null,null,null,null,null,null,null,null,null,null,null,null,null,null,null,null,null,0,0,0,0,0,0]
[null,null,null,null,null,null,null,null,null,null,null,null,null,null,null,null,null,null,null,null,0,0,0,0,0,0]
[null,null,null,null,null,null,null,null,null,null,null,null,null,null,null,null,null,null,null,null,0,0,0,0,0,0]
[null,null,null,null,null,null,null,null,null,null,null,null,null,null,null,null,null,null,null,null,0,0,0,0,0,0]
[null,null,null,null,null,null,null,null,null,null,null,null,null,null,null,null,null,null,null,null,0,0,0,0,0,0]
[null,null,null,null,null,null,null,null,null,null,null,null,null,null,null,null,null,null,null,null,0,0,0,0,0,0]
[null,null,null,null,null,null,null,null,null,null,null,null,null,null,null,null,null,null,null,null,0,0,0,0,0,0]
[null,null,null,null,null,null,null,null,null,null,null,null,null,null,null,null,null,null,null,null,0,0,0,0,0,0]
[null,null,null,null,null,null,null,null,null,null,null,null,null,null,null,null,null,null,null,null,0,0,0,0,0,0]
[null,null,null,null,null,null,null,null,null,null,null,null,null,null,null,null,null,null,null,null,{"$f":"IF(C131=1,IF(R131=TRUE,1,0),0)","v":0},{"$f":"IF(C131=1,IF(R131=TRUE,Q131,0),0)","v":0},{"$f":"IF(C131=2,IF(R131=TRUE,1,0),0)","v":0},{"$f":"IF(C131=2,IF(R131=TRUE,Q131,0),0)","v":0},{"$f":"IF(C131=3,IF(R131=TRUE,1,0),0)","v":0},{"$f":"IF(C131=3,IF(R131=TRUE,Q131,0),0)","v":0}]
[null,null,null,null,null,null,null,null,null,null,null,null,null,null,null,null,null,null,null,null,0,0,0,0,0,0]
[null,null,null,null,null,null,null,null,null,null,null,null,null,null,null,null,null,null,null,null,0,0,0,0,0,0]
[null,null,null,null,null,null,null,null,null,null,null,null,null,null,null,null,null,null,null,null,0,0,0,0,0,0]
[null,null,null,null,null,null,null,null,null,null,null,null,null,null,null,null,null,null,null,null,0,0,0,0,0,0]
[null,null,null,null,null,null,null,null,null,null,null,null,null,null,null,null,null,null,null,null,0,0,0,0,0,0]
[null,null,null,null,null,null,null,null,null,null,null,null,null,null,null,null,null,null,null,null,0,0,0,0,0,0]
[null,null,null,null,null,null,null,null,null,null,null,null,null,null,null,null,null,null,null,null,0,0,0,0,0,0]
[null,null,null,null,null,null,null,null,null,null,null,null,null,null,null,null,null,null,null,null,0,0,0,0,0,0]
[null,null,null,null,null,null,null,null,null,null,null,null,null,null,null,null,null,null,null,null,0,0,0,0,0,0]
[null,null,null,null,null,null,null,null,null,null,null,null,null,null,null,null,null,null,null,null,0,0,0,0,0,0]
[null,null,null,null,null,null,null,null,null,null,null,null,null,null,null,null,null,null,null,null,0,0,0,0,0,0]
[null,null,null,null,null,null,null,null,null,null,null,null,null,null,null,null,null,null,null,null,0,0,0,0,0,0]
[null,null,null,null,null,null,null,null,null,null,null,null,null,null,null,null,null,null,null,null,0,0,0,0,0,0]
[null,null,null,null,null,null,null,null,null,null,null,null,null,null,null,null,null,null,null,null,0,0,0,0,0,0]
[null,null,null,null,null,null,null,null,null,null,null,null,null,null,null,null,null,null,null,null,0,0,0,0,0,0]
[null,null,null,null,null,null,null,null,null,null,null,null,null,null,null,null,null,null,null,null,0,0,0,0,0,0]
[null,null,null,null,null,null,null,null,null,null,null,null,null,null,null,null,null,null,null,null,0,0,0,0,0,0]
[null,null,null,null,null,null,null,null,null,null,null,null,null,null,null,null,null,null,null,null,0,0,0,0,0,0]
[null,null,null,null,null,null,null,null,null,null,null,null,null,null,null,null,null,null,null,null,0,0,0,0,0,0]
[null,null,null,null,null,null,null,null,null,null,null,null,null,null,null,null,null,null,null,null,0,0,0,0,0,0]
[null,null,null,null,null,null,null,null,null,null,null,null,null,null,null,null,null,null,null,null,0,0,0,0,0,0]
[null,null,null,null,null,null,null,null,null,null,null,null,null,null,null,null,null,null,null,null,0,0,0,0,0,0]
[null,null,null,null,null,null,null,null,null,null,null,null,null,null,null,null,null,null,null,null,0,0,0,0,0,0]
[null,null,null,null,null,null,null,null,null,null,null,null,null,null,null,null,null,null,null,null,0,0,0,0,0,0]
[null,null,null,null,null,null,null,null,null,null,null,null,null,null,null,null,null,null,null,null,0,0,0,0,0,0]
[null,null,null,null,null,null,null,null,null,null,null,null,null,null,null,null,null,null,null,null,0,0,0,0,0,0]
[null,null,null,null,null,null,null,null,null,null,null,null,null,null,null,null,null,null,null,null,0,0,0,0,0,0]
[null,null,null,null,null,null,null,null,null,null,null,null,null,null,null,null,null,null,null,null,0,0,0,0,0,0]
[null,null,null,null,null,null,null,null,null,null,null,null,null,null,null,null,null,null,null,null,0,0,0,0,0,0]
[null,null,null,null,null,null,null,null,null,null,null,null,null,null,null,null,null,null,null,null,0,0,0,0,0,0]
[null,null,null,null,null,null,null,null,null,null,null,null,null,null,null,null,null,null,null,null,0,0,0,0,0,0]
[null,null,null,null,null,null,null,null,null,null,null,null,null,null,null,null,null,null,null,null,0,0,0,0,0,0]
[null,null,null,null,null,null,null,null,null,null,null,null,null,null,null,null,null,null,null,null,0,0,0,0,0,0]
[null,null,null,null,null,null,null,null,null,null,null,null,null,null,null,null,null,null,null,null,0,0,0,0,0,0]
[null,null,null,null,null,null,null,null,null,null,null,null,null,null,null,null,null,null,null,null,0,0,0,0,0,0]
[null,null,null,null,null,null,null,null,null,null,null,null,null,null,null,null,null,null,null,null,0,0,0,0,0,0]
[null,null,null,null,null,null,null,null,null,null,null,null,null,null,null,null,null,null,null,null,0,0,0,0,0,0]
[null,null,null,null,null,null,null,null,null,null,null,null,null,null,null,null,null,null,null,null,0,0,0,0,0,0]
[null,null,null,null,null,null,null,null,null,null,null,null,null,null,null,null,null,null,null,null,0,0,0,0,0,0]
[null,null,null,null,null,null,null,null,null,null,null,null,null,null,null,null,null,null,null,null,0,0,0,0,0,0]
[null,null,null,null,null,null,null,null,null,null,null,null,null,null,null,null,null,null,null,null,0,0,0,0,0,0]
[null,null,null,null,null,null,null,null,null,null,null,null,null,null,null,null,null,null,null,null,0,0,0,0,0,0]
[null,null,null,null,null,null,null,null,null,null,null,null,null,null,null,null,null,null,null,null,0,0,0,0,0,0]
[null,null,null,null,null,null,null,null,null,null,null,null,null,null,null,null,null,null,null,null,0,0,0,0,0,0]
[null,null,null,null,null,null,null,null,null,null,null,null,null,null,null,null,null,null,null,null,0,0,0,0,0,0]
[null,null,null,null,null,null,null,null,null,null,null,null,null,null,null,null,null,null,null,null,0,0,0,0,0,0]
[null,null,null,null,null,null,null,null,null,null,null,null,null,null,null,null,null,null,null,null,0,0,0,0,0,0]
[null,null,null,null,null,null,null,null,null,null,null,null,null,null,null,null,null,null,null,null,0,0,0,0,0,0]
[null,null,null,null,null,null,null,null,null,null,null,null,null,null,null,null,null,null,null,null,0,0,0,0,0,0]
[null,null,null,null,null,null,null,null,null,null,null,null,null,null,null,null,null,null,null,null,0,0,0,0,0,0]
[null,null,null,null,null,null,null,null,null,null,null,null,null,null,null,null,null,null,null,null,0,0,0,0,0,0]
[null,null,null,null,null,null,null,null,null,null,null,null,null,null,null,null,null,null,null,null,0,0,0,0,0,0]
[null,null,null,null,null,null,null,null,null,null,null,null,null,null,null,null,null,null,null,null,0,0,0,0,0,0]
[null,null,null,null,null,null,null,null,null,null,null,null,null,null,null,null,null,null,null,null,0,0,0,0,0,0]
[null,null,null,null,null,null,null,null,null,null,null,null,null,null,null,null,null,null,null,null,0,0,0,0,0,0]
[null,null,null,null,null,null,null,null,null,null,null,null,null,null,null,null,null,null,null,null,0,0,0,0,0,0]
[null,null,null,null,null,null,null,null,null,null,null,null,null,null,null,null,null,null,null,null,0,0,0,0,0,0]
[null,null,null,null,null,null,null,null,null,null,null,null,null,null,null,null,null,null,null,null,0,0,0,0,0,0]
[null,null,null,null,null,null,null,null,null,null,null,null,null,null,null,null,null,null,null,null,0,0,0,0,0,0]
[null,null,null,null,null,null,null,null,null,null,null,null,null,null,null,null,null,null,null,null,0,0,0,0,0,0]
[null,null,null,null,null,null,null,null,null,null,null,null,null,null,null,null,null,null,null,null,0,0,0,0,0,0]
[null,null,null,null,null,null,null,null,null,null,null,null,null,null,null,null,null,null,null,null,0,0,0,0,0,0]
[null,null,null,null,null,null,null,null,null,null,null,null,null,null,null,null,null,null,null,null,0,0,0,0,0,0]
[null,null,null,null,null,null,null,null,null,null,null,null,null,null,null,null,null,null,null,null,{"$f":"IF(C195=1,IF(R195=TRUE,1,0),0)","v":0},{"$f":"IF(C195=1,IF(R195=TRUE,Q195,0),0)","v":0},{"$f":"IF(C195=2,IF(R195=TRUE,1,0),0)","v":0},{"$f":"IF(C195=2,IF(R195=TRUE,Q195,0),0)","v":0},{"$f":"IF(C195=3,IF(R195=TRUE,1,0),0)","v":0},{"$f":"IF(C195=3,IF(R195=TRUE,Q195,0),0)","v":0}]
[null,null,null,null,null,null,null,null,null,null,null,null,null,null,null,null,null,null,null,null,0,0,0,0,0,0]
[null,null,null,null,null,null,null,null,null,null,null,null,null,null,null,null,null,null,null,null,0,0,0,0,0,0]
[null,null,null,null,null,null,null,null,null,null,null,null,null,null,null,null,null,null,null,null,0,0,0,0,0,0]
[null,null,null,null,null,null,null,null,null,null,null,null,null,null,null,null,null,null,null,null,0,0,0,0,0,0]
[null,null,null,null,null,null,null,null,null,null,null,null,null,null,null,null,null,null,null,null,0,0,0,0,0,0]
[null,null,null,null,null,null,null,null,null,null,null,null,null,null,null,null,null,null,null,null,0,0,0,0,0,0]
[null,null,null,null,null,null,null,null,null,null,null,null,null,null,null,null,null,null,null,null,0,0,0,0,0,0]
[null,null,null,null,null,null,null,null,null,null,null,null,null,null,null,null,null,null,null,null,0,0,0,0,0,0]
[null,null,null,null,null,null,null,null,null,null,null,null,null,null,null,null,null,null,null,null,0,0,0,0,0,0]
[null,null,null,null,null,null,null,null,null,null,null,null,null,null,null,null,null,null,null,null,0,0,0,0,0,0]
[null,null,null,null,null,null,null,null,null,null,null,null,null,null,null,null,null,null,null,null,0,0,0,0,0,0]
[null,null,null,null,null,null,null,null,null,null,null,null,null,null,null,null,null,null,null,null,0,0,0,0,0,0]
[null,null,null,null,null,null,null,null,null,null,null,null,null,null,null,null,null,null,null,null,0,0,0,0,0,0]
[null,null,null,null,null,null,null,null,null,null,null,null,null,null,null,null,null,null,null,null,0,0,0,0,0,0]
[null,null,null,null,null,null,null,null,null,null,null,null,null,null,null,null,null,null,null,null,0,0,0,0,0,0]
[null,null,null,null,null,null,null,null,null,null,null,null,null,null,null,null,null,null,null,null,0,0,0,0,0,0]
[null,null,null,null,null,null,null,null,null,null,null,null,null,null,null,null,null,null,null,null,0,0,0,0,0,0]
[null,null,null,null,null,null,null,null,null,null,null,null,null,null,null,null,null,null,null,null,0,0,0,0,0,0]
[null,null,null,null,null,null,null,null,null,null,null,null,null,null,null,null,null,null,null,null,0,0,0,0,0,0]
[null,null,null,null,null,null,null,null,null,null,null,null,null,null,null,null,null,null,null,null,0,0,0,0,0,0]
[null,null,null,null,null,null,null,null,null,null,null,null,null,null,null,null,null,null,null,null,0,0,0,0,0,0]
[null,null,null,null,null,null,null,null,null,null,null,null,null,null,null,null,null,null,null,null,0,0,0,0,0,0]
[null,null,null,null,null,null,null,null,null,null,null,null,null,null,null,null,null,null,null,null,0,0,0,0,0,0]
[null,null,null,null,null,null,null,null,null,null,null,null,null,null,null,null,null,null,null,null,0,0,0,0,0,0]
[null,null,null,null,null,null,null,null,null,null,null,null,null,null,null,null,null,null,null,null,0,0,0,0,0,0]
[null,null,null,null,null,null,null,null,null,null,null,null,null,null,null,null,null,null,null,null,0,0,0,0,0,0]
[null,null,null,null,null,null,null,null,null,null,null,null,null,null,null,null,null,null,null,null,0,0,0,0,0,0]
[null,null,null,null,null,null,null,null,null,null,null,null,null,null,null,null,null,null,null,null,0,0,0,0,0,0]
[null,null,null,null,null,null,null,null,null,null,null,null,null,null,null,null,null,null,null,null,0,0,0,0,0,0]
[null,null,null,null,null,null,null,null,null,null,null,null,null,null,null,null,null,null,null,null,0,0,0,0,0,0]
[null,null,null,null,null,null,null,null,null,null,null,null,null,null,null,null,null,null,null,null,0,0,0,0,0,0]
[null,null,null,null,null,null,null,null,null,null,null,null,null,null,null,null,null,null,null,null,0,0,0,0,0,0]
[null,null,null,null,null,null,null,null,null,null,null,null,null,null,null,null,null,null,null,null,0,0,0,0,0,0]
[null,null,null,null,null,null,null,null,null,null,null,null,null,null,null,null,null,null,null,null,0,0,0,0,0,0]
[null,null,null,null,null,null,null,null,null,null,null,null,null,null,null,null,null,null,null,null,0,0,0,0,0,0]
[null,null,null,null,null,null,null,null,null,null,null,null,null,null,null,null,null,null,null,null,0,0,0,0,0,0]
[null,null,null,null,null,null,null,null,null,null,null,null,null,null,null,null,null,null,null,null,0,0,0,0,0,0]
[null,null,null,null,null,null,null,null,null,null,null,null,null,null,null,null,null,null,null,null,0,0,0,0,0,0]
[null,null,null,null,null,null,null,null,null,null,null,null,null,null,null,null,null,null,null,null,0,0,0,0,0,0]
[null,null,null,null,null,null,null,null,null,null,null,null,null,null,null,null,null,null,null,null,0,0,0,0,0,0]
[null,null,null,null,null,null,null,null,null,null,null,null,null,null,null,null,null,null,null,null,0,0,0,0,0,0]
[null,null,null,null,null,null,null,null,null,null,null,null,null,null,null,null,null,null,null,null,0,0,0,0,0,0]
[null,null,null,null,null,null,null,null,null,null,null,null,null,null,null,null,null,null,null,null,0,0,0,0,0,0]
[null,null,null,null,null,null,null,null,null,null,null,null,null,null,null,null,null,null,null,null,0,0,0,0,0,0]
[null,null,null,null,null,null,null,null,null,null,null,null,null,null,null,null,null,null,null,null,0,0,0,0,0,0]
[null,null,null,null,null,null,null,null,null,null,null,null,null,null,null,null,null,null,null,null,0,0,0,0,0,0]
[null,null,null,null,null,null,null,null,null,null,null,null,null,null,null,null,null,null,null,null,0,0,0,0,0,0]
[null,null,null,null,null,null,null,null,null,null,null,null,null,null,null,null,null,null,null,null,0,0,0,0,0,0]
[null,null,null,null,null,null,null,null,null,null,null,null,null,null,null,null,null,null,null,null,0,0,0,0,0,0]
[null,null,null,null,null,null,null,null,null,null,null,null,null,null,null,null,null,null,null,null,0,0,0,0,0,0]
[null,null,null,null,null,null,null,null,null,null,null,null,null,null,null,null,null,null,null,null,0,0,0,0,0,0]
[null,null,null,null,null,null,null,null,null,null,null,null,null,null,null,null,null,null,null,null,0,0,0,0,0,0]
[null,null,null,null,null,null,null,null,null,null,null,null,null,null,null,null,null,null,null,null,0,0,0,0,0,0]
[null,null,null,null,null,null,null,null,null,null,null,null,null,null,null,null,null,null,null,null,0,0,0,0,0,0]
[null,null,null,null,null,null,null,null,null,null,null,null,null,null,null,null,null,null,null,null,0,0,0,0,0,0]
[null,null,null,null,null,null,null,null,null,null,null,null,null,null,null,null,null,null,null,null,0,0,0,0,0,0]
[null,null,null,null,null,null,null,null,null,null,null,null,null,null,null,null,null,null,null,null,0,0,0,0,0,0]
[null,null,null,null,null,null,null,null,null,null,null,null,null,null,null,null,null,null,null,null,0,0,0,0,0,0]
[null,null,null,null,null,null,null,null,null,null,null,null,null,null,null,null,null,null,null,null,0,0,0,0,0,0]
[null,null,null,null,null,null,null,null,null,null,null,null,null,null,null,null,null,null,null,null,0,0,0,0,0,0]
[null,null,null,null,null,null,null,null,null,null,null,null,null,null,null,null,null,null,null,null,0,0,0,0,0,0]
[null,null,null,null,null,null,null,null,null,null,null,null,null,null,null,null,null,null,null,null,0,0,0,0,0,0]
[null,null,null,null,null,null,null,null,null,null,null,null,null,null,null,null,null,null,null,null,0,0,0,0,0,0]
[null,null,null,null,null,null,null,null,null,null,null,null,null,null,null,null,null,null,null,null,{"$f":"IF(C259=1,IF(R259=TRUE,1,0),0)","v":0},{"$f":"IF(C259=1,IF(R259=TRUE,Q259,0),0)","v":0},{"$f":"IF(C259=2,IF(R259=TRUE,1,0),0)","v":0},{"$f":"IF(C259=2,IF(R259=TRUE,Q259,0),0)","v":0},{"$f":"IF(C259=3,IF(R259=TRUE,1,0),0)","v":0},{"$f":"IF(C259=3,IF(R259=TRUE,Q259,0),0)","v":0}]
[null,null,null,null,null,null,null,null,null,null,null,null,null,null,null,null,null,null,null,null,0,0,0,0,0,0]
[null,null,null,null,null,null,null,null,null,null,null,null,null,null,null,null,null,null,null,null,0,0,0,0,0,0]
[null,null,null,null,null,null,null,null,null,null,null,null,null,null,null,null,null,null,null,null,0,0,0,0,0,0]
[null,null,null,null,null,null,null,null,null,null,null,null,null,null,null,null,null,null,null,null,0,0,0,0,0,0]
[null,null,null,null,null,null,null,null,null,null,null,null,null,null,null,null,null,null,null,null,0,0,0,0,0,0]
[null,null,null,null,null,null,null,null,null,null,null,null,null,null,null,null,null,null,null,null,0,0,0,0,0,0]
[null,null,null,null,null,null,null,null,null,null,null,null,null,null,null,null,null,null,null,null,0,0,0,0,0,0]
[null,null,null,null,null,null,null,null,null,null,null,null,null,null,null,null,null,null,null,null,0,0,0,0,0,0]
[null,null,null,null,null,null,null,null,null,null,null,null,null,null,null,null,null,null,null,null,0,0,0,0,0,0]
[null,null,null,null,null,null,null,null,null,null,null,null,null,null,null,null,null,null,null,null,0,0,0,0,0,0]
[null,null,null,null,null,null,null,null,null,null,null,null,null,null,null,null,null,null,null,null,0,0,0,0,0,0]
[null,null,null,null,null,null,null,null,null,null,null,null,null,null,null,null,null,null,null,null,0,0,0,0,0,0]
[null,null,null,null,null,null,null,null,null,null,null,null,null,null,null,null,null,null,null,null,0,0,0,0,0,0]
[null,null,null,null,null,null,null,null,null,null,null,null,null,null,null,null,null,null,null,null,0,0,0,0,0,0]
[null,null,null,null,null,null,null,null,null,null,null,null,null,null,null,null,null,null,null,null,0,0,0,0,0,0]
[null,null,null,null,null,null,null,null,null,null,null,null,null,null,null,null,null,null,null,null,0,0,0,0,0,0]
[null,null,null,null,null,null,null,null,null,null,null,null,null,null,null,null,null,null,null,null,0,0,0,0,0,0]
[null,null,null,null,null,null,null,null,null,null,null,null,null,null,null,null,null,null,null,null,0,0,0,0,0,0]
[null,null,null,null,null,null,null,null,null,null,null,null,null,null,null,null,null,null,null,null,0,0,0,0,0,0]
[null,null,null,null,null,null,null,null,null,null,null,null,null,null,null,null,null,null,null,null,0,0,0,0,0,0]
[null,null,null,null,null,null,null,null,null,null,null,null,null,null,null,null,null,null,null,null,0,0,0,0,0,0]
[null,null,null,null,null,null,null,null,null,null,null,null,null,null,null,null,null,null,null,null,0,0,0,0,0,0]
[null,null,null,null,null,null,null,null,null,null,null,null,null,null,null,null,null,null,null,null,0,0,0,0,0,0]
[null,null,null,null,null,null,null,null,null,null,null,null,null,null,null,null,null,null,null,null,0,0,0,0,0,0]
[null,null,null,null,null,null,null,null,null,null,null,null,null,null,null,null,null,null,null,null,0,0,0,0,0,0]
[null,null,null,null,null,null,null,null,null,null,null,null,null,null,null,null,null,null,null,null,0,0,0,0,0,0]
[null,null,null,null,null,null,null,null,null,null,null,null,null,null,null,null,null,null,null,null,0,0,0,0,0,0]
[null,null,null,null,null,null,null,null,null,null,null,null,null,null,null,null,null,null,null,null,0,0,0,0,0,0]
[null,null,null,null,null,null,null,null,null,null,null,null,null,null,null,null,null,null,null,null,0,0,0,0,0,0]
[null,null,null,null,null,null,null,null,null,null,null,null,null,null,null,null,null,null,null,null,0,0,0,0,0,0]
[null,null,null,null,null,null,null,null,null,null,null,null,null,null,null,null,null,null,null,null,0,0,0,0,0,0]
[null,null,null,null,null,null,null,null,null,null,null,null,null,null,null,null,null,null,null,null,0,0,0,0,0,0]
[null,null,null,null,null,null,null,null,null,null,null,null,null,null,null,null,null,null,null,null,0,0,0,0,0,0]
[null,null,null,null,null,null,null,null,null,null,null,null,null,null,null,null,null,null,null,null,0,0,0,0,0,0]
[null,null,null,null,null,null,null,null,null,null,null,null,null,null,null,null,null,null,null,null,0,0,0,0,0,0]
[null,null,null,null,null,null,null,null,null,null,null,null,null,null,null,null,null,null,null,null,0,0,0,0,0,0]
[null,null,null,null,null,null,null,null,null,null,null,null,null,null,null,null,null,null,null,null,0,0,0,0,0,0]
[null,null,null,null,null,null,null,null,null,null,null,null,null,null,null,null,null,null,null,null,0,0,0,0,0,0]
[null,null,null,null,null,null,null,null,null,null,null,null,null,null,null,null,null,null,null,null,0,0,0,0,0,0]
[null,null,null,null,null,null,null,null,null,null,null,null,null,null,null,null,null,null,null,null,0,0,0,0,0,0]
[null,null,null,null,null,null,null,null,null,null,null,null,null,null,null,null,null,null,null,null,0,0,0,0,0,0]
[null,null,null,null,null,null,null,null,null,null,null,null,null,null,null,null,null,null,null,null,0,0,0,0,0,0]
[null,null,null,null,null,null,null,null,null,null,null,null,null,null,null,null,null,null,null,null,0,0,0,0,0,0]
[null,null,null,null,null,null,null,null,null,null,null,null,null,null,null,null,null,null,null,null,0,0,0,0,0,0]
[null,null,null,null,null,null,null,null,null,null,null,null,null,null,null,null,null,null,null,null,0,0,0,0,0,0]
[null,null,null,null,null,null,null,null,null,null,null,null,null,null,null,null,null,null,null,null,0,0,0,0,0,0]
[null,null,null,null,null,null,null,null,null,null,null,null,null,null,null,null,null,null,null,null,0,0,0,0,0,0]
[null,null,null,null,null,null,null,null,null,null,null,null,null,null,null,null,null,null,null,null,0,0,0,0,0,0]
[null,null,null,null,null,null,null,null,null,null,null,null,null,null,null,null,null,null,null,null,0,0,0,0,0,0]
[null,null,null,null,null,null,null,null,null,null,null,null,null,null,null,null,null,null,null,null,0,0,0,0,0,0]
[null,null,null,null,null,null,null,null,null,null,null,null,null,null,null,null,null,null,null,null,0,0,0,0,0,0]
[null,null,null,null,null,null,null,null,null,null,null,null,null,null,null,null,null,null,null,null,0,0,0,0,0,0]
[null,null,null,null,null,null,null,null,null,null,null,null,null,null,null,null,null,null,null,null,0,0,0,0,0,0]
[null,null,null,null,null,null,null,null,null,null,null,null,null,null,null,null,null,null,null,null,0,0,0,0,0,0]
[null,null,null,null,null,null,null,null,null,null,null,null,null,null,null,null,null,null,null,null,0,0,0,0,0,0]
[null,null,null,null,null,null,null,null,null,null,null,null,null,null,null,null,null,null,null,null,0,0,0,0,0,0]
[null,null,null,null,null,null,null,null,null,null,null,null,null,null,null,null,null,null,null,null,0,0,0,0,0,0]
[null,null,null,null,null,null,null,null,null,null,null,null,null,null,null,null,null,null,null,null,0,0,0,0,0,0]
[null,null,null,null,null,null,null,null,null,null,null,null,null,null,null,null,null,null,null,null,0,0,0,0,0,0]
[null,null,null,null,null,null,null,null,null,null,null,null,null,null,null,null,null,null,null,null,0,0,0,0,0,0]
[null,null,null,null,null,null,null,null,null,null,null,null,null,null,null,null,null,null,null,null,0,0,0,0,0,0]
[null,null,null,null,null,null,null,null,null,null,null,null,null,null,null,null,null,null,null,null,0,0,0,0,0,0]
[null,null,null,null,null,null,null,null,null,null,null,null,null,null,null,null,null,null,null,null,0,0,0,0,0,0]
[null,null,null,null,null,null,null,null,null,null,null,null,null,null,null,null,null,null,null,null,{"$f":"IF(C323=1,IF(R323=TRUE,1,0),0)","v":0},{"$f":"IF(C323=1,IF(R323=TRUE,Q323,0),0)","v":0},{"$f":"IF(C323=2,IF(R323=TRUE,1,0),0)","v":0},{"$f":"IF(C323=2,IF(R323=TRUE,Q323,0),0)","v":0},{"$f":"IF(C323=3,IF(R323=TRUE,1,0),0)","v":0},{"$f":"IF(C323=3,IF(R323=TRUE,Q323,0),0)","v":0}]
[null,null,null,null,null,null,null,null,null,null,null,null,null,null,null,null,null,null,null,null,0,0,0,0,0,0]
[null,null,null,null,null,null,null,null,null,null,null,null,null,null,null,null,null,null,null,null,0,0,0,0,0,0]
[null,null,null,null,null,null,null,null,null,null,null,null,null,null,null,null,null,null,null,null,0,0,0,0,0,0]
[null,null,null,null,null,null,null,null,null,null,null,null,null,null,null,null,null,null,null,null,0,0,0,0,0,0]
[null,null,null,null,null,null,null,null,null,null,null,null,null,null,null,null,null,null,null,null,0,0,0,0,0,0]
[null,null,null,null,null,null,null,null,null,null,null,null,null,null,null,null,null,null,null,null,0,0,0,0,0,0]
[null,null,null,null,null,null,null,null,null,null,null,null,null,null,null,null,null,null,null,null,0,0,0,0,0,0]
[null,null,null,null,null,null,null,null,null,null,null,null,null,null,null,null,null,null,null,null,0,0,0,0,0,0]
[null,null,null,null,null,null,null,null,null,null,null,null,null,null,null,null,null,null,null,null,0,0,0,0,0,0]
[null,null,null,null,null,null,null,null,null,null,null,null,null,null,null,null,null,null,null,null,0,0,0,0,0,0]
[null,null,null,null,null,null,null,null,null,null,null,null,null,null,null,null,null,null,null,null,0,0,0,0,0,0]
[null,null,null,null,null,null,null,null,null,null,null,null,null,null,null,null,null,null,null,null,0,0,0,0,0,0]
[null,null,null,null,null,null,null,null,null,null,null,null,null,null,null,null,null,null,null,null,0,0,0,0,0,0]
[null,null,null,null,null,null,null,null,null,null,null,null,null,null,null,null,null,null,null,null,0,0,0,0,0,0]
[null,null,null,null,null,null,null,null,null,null,null,null,null,null,null,null,null,null,null,null,0,0,0,0,0,0]
[null,null,null,null,null,null,null,null,null,null,null,null,null,null,null,null,null,null,null,null,0,0,0,0,0,0]
[null,null,null,null,null,null,null,null,null,null,null,null,null,null,null,null,null,null,null,null,0,0,0,0,0,0]
[null,null,null,null,null,null,null,null,null,null,null,null,null,null,null,null,null,null,null,null,0,0,0,0,0,0]
[null,null,null,null,null,null,null,null,null,null,null,null,null,null,null,null,null,null,null,null,0,0,0,0,0,0]
[null,null,null,null,null,null,null,null,null,null,null,null,null,null,null,null,null,null,null,null,0,0,0,0,0,0]
[null,null,null,null,null,null,null,null,null,null,null,null,null,null,null,null,null,null,null,null,0,0,0,0,0,0]
[null,null,null,null,null,null,null,null,null,null,null,null,null,null,null,null,null,null,null,null,0,0,0,0,0,0]
[null,null,null,null,null,null,null,null,null,null,null,null,null,null,null,null,null,null,null,null,0,0,0,0,0,0]
[null,null,null,null,null,null,null,null,null,null,null,null,null,null,null,null,null,null,null,null,0,0,0,0,0,0]
[null,null,null,null,null,null,null,null,null,null,null,null,null,null,null,null,null,null,null,null,0,0,0,0,0,0]
[null,null,null,null,null,null,null,null,null,null,null,null,null,null,null,null,null,null,null,null,0,0,0,0,0,0]
[null,null,null,null,null,null,null,null,null,null,null,null,null,null,null,null,null,null,null,null,0,0,0,0,0,0]
[null,null,null,null,null,null,null,null,null,null,null,null,null,null,null,null,null,null,null,null,0,0,0,0,0,0]
[null,null,null,null,null,null,null,null,null,null,null,null,null,null,null,null,null,null,null,null,0,0,0,0,0,0]
[null,null,null,null,null,null,null,null,null,null,null,null,null,null,null,null,null,null,null,null,0,0,0,0,0,0]
[null,null,null,null,null,null,null,null,null,null,null,null,null,null,null,null,null,null,null,null,0,0,0,0,0,0]
[null,null,null,null,null,null,null,null,null,null,null,null,null,null,null,null,null,null,null,null,0,0,0,0,0,0]
[null,null,null,null,null,null,null,null,null,null,null,null,null,null,null,null,null,null,null,null,0,0,0,0,0,0]
[null,null,null,null,null,null,null,null,null,null,null,null,null,null,null,null,null,null,null,null,0,0,0,0,0,0]
[null,null,null,null,null,null,null,null,null,null,null,null,null,null,null,null,null,null,null,null,0,0,0,0,0,0]
[null,null,null,null,null,null,null,null,null,null,null,null,null,null,null,null,null,null,null,null,0,0,0,0,0,0]
[null,null,null,null,null,null,null,null,null,null,null,null,null,null,null,null,null,null,null,null,0,0,0,0,0,0]
[null,null,null,null,null,null,null,null,null,null,null,null,null,null,null,null,null,null,null,null,0,0,0,0,0,0]
[null,null,null,null,null,null,null,null,null,null,null,null,null,null,null,null,null,null,null,null,0,0,0,0,0,0]
[null,null,null,null,null,null,null,null,null,null,null,null,null,null,null,null,null,null,null,null,0,0,0,0,0,0]
[null,null,null,null,null,null,null,null,null,null,null,null,null,null,null,null,null,null,null,null,0,0,0,0,0,0]
[null,null,null,null,null,null,null,null,null,null,null,null,null,null,null,null,null,null,null,null,0,0,0,0,0,0]
[null,null,null,null,null,null,null,null,null,null,null,null,null,null,null,null,null,null,null,null,0,0,0,0,0,0]
[null,null,null,null,null,null,null,null,null,null,null,null,null,null,null,null,null,null,null,null,0,0,0,0,0,0]
[null,null,null,null,null,null,null,null,null,null,null,null,null,null,null,null,null,null,null,null,0,0,0,0,0,0]
[null,null,null,null,null,null,null,null,null,null,null,null,null,null,null,null,null,null,null,null,0,0,0,0,0,0]
[null,null,null,null,null,null,null,null,null,null,null,null,null,null,null,null,null,null,null,null,0,0,0,0,0,0]
[null,null,null,null,null,null,null,null,null,null,null,null,null,null,null,null,null,null,null,null,0,0,0,0,0,0]
[null,null,null,null,null,null,null,null,null,null,null,null,null,null,null,null,null,null,null,null,0,0,0,0,0,0]
[null,null,null,null,null,null,null,null,null,null,null,null,null,null,null,null,null,null,null,null,0,0,0,0,0,0]
[null,null,null,null,null,null,null,null,null,null,null,null,null,null,null,null,null,null,null,null,0,0,0,0,0,0]
[null,null,null,null,null,null,null,null,null,null,null,null,null,null,null,null,null,null,null,null,0,0,0,0,0,0]
[null,null,null,null,null,null,null,null,null,null,null,null,null,null,null,null,null,null,null,null,0,0,0,0,0,0]
[null,null,null,null,null,null,null,null,null,null,null,null,null,null,null,null,null,null,null,null,0,0,0,0,0,0]
[null,null,null,null,null,null,null,null,null,null,null,null,null,null,null,null,null,null,null,null,0,0,0,0,0,0]
[null,null,null,null,null,null,null,null,null,null,null,null,null,null,null,null,null,null,null,null,0,0,0,0,0,0]
[null,null,null,null,null,null,null,null,null,null,null,null,null,null,null,null,null,null,null,null,0,0,0,0,0,0]
[null,null,null,null,null,null,null,null,null,null,null,null,null,null,null,null,null,null,null,null,0,0,0,0,0,0]
[null,null,null,null,null,null,null,null,null,null,null,null,null,null,null,null,null,null,null,null,0,0,0,0,0,0]
[null,null,null,null,null,null,null,null,null,null,null,null,null,null,null,null,null,null,null,null,0,0,0,0,0,0]
[null,null,null,null,null,null,null,null,null,null,null,null,null,null,null,null,null,null,null,null,0,0,0,0,0,0]
[null,null,null,null,null,null,null,null,null,null,null,null,null,null,null,null,null,null,null,null,0,0,0,0,0,0]
[null,null,null,null,null,null,null,null,null,null,null,null,null,null,null,null,null,null,null,null,0,0,0,0,0,0]
[null,null,null,null,null,null,null,null,null,null,null,null,null,null,null,null,null,null,null,null,{"$f":"IF(C387=1,IF(R387=TRUE,1,0),0)","v":0},{"$f":"IF(C387=1,IF(R387=TRUE,Q387,0),0)","v":0},{"$f":"IF(C387=2,IF(R387=TRUE,1,0),0)","v":0},{"$f":"IF(C387=2,IF(R387=TRUE,Q387,0),0)","v":0},{"$f":"IF(C387=3,IF(R387=TRUE,1,0),0)","v":0},{"$f":"IF(C387=3,IF(R387=TRUE,Q387,0),0)","v":0}]
[null,null,null,null,null,null,null,null,null,null,null,null,null,null,null,null,null,null,null,null,0,0,0,0,0,0]
[null,null,null,null,null,null,null,null,null,null,null,null,null,null,null,null,null,null,null,null,0,0,0,0,0,0]
[null,null,null,null,null,null,null,null,null,null,null,null,null,null,null,null,null,null,null,null,0,0,0,0,0,0]
[null,null,null,null,null,null,null,null,null,null,null,null,null,null,null,null,null,null,null,null,0,0,0,0,0,0]
[null,null,null,null,null,null,null,null,null,null,null,null,null,null,null,null,null,null,null,null,0,0,0,0,0,0]
[null,null,null,null,null,null,null,null,null,null,null,null,null,null,null,null,null,null,null,null,0,0,0,0,0,0]
[null,null,null,null,null,null,null,null,null,null,null,null,null,null,null,null,null,null,null,null,0,0,0,0,0,0]
[null,null,null,null,null,null,null,null,null,null,null,null,null,null,null,null,null,null,null,null,0,0,0,0,0,0]
[null,null,null,null,null,null,null,null,null,null,null,null,null,null,null,null,null,null,null,null,0,0,0,0,0,0]
[null,null,null,null,null,null,null,null,null,null,null,null,null,null,null,null,null,null,null,null,0,0,0,0,0,0]
[null,null,null,null,null,null,null,null,null,null,null,null,null,null,null,null,null,null,null,null,0,0,0,0,0,0]
[null,null,null,null,null,null,null,null,null,null,null,null,null,null,null,null,null,null,null,null,0,0,0,0,0,0]
[null,null,null,null,null,null,null,null,null,null,null,null,null,null,null,null,null,null,null,null,0,0,0,0,0,0]
[null,null,null,null,null,null,null,null,null,null,null,null,null,null,null,null,null,null,null,null,0,0,0,0,0,0]
[null,null,null,null,null,null,null,null,null,null,null,null,null,null,null,null,null,null,null,null,0,0,0,0,0,0]
[null,null,null,null,null,null,null,null,null,null,null,null,null,null,null,null,null,null,null,null,0,0,0,0,0,0]
[null,null,null,null,null,null,null,null,null,null,null,null,null,null,null,null,null,null,null,null,0,0,0,0,0,0]
[null,null,null,null,null,null,null,null,null,null,null,null,null,null,null,null,null,null,null,null,0,0,0,0,0,0]
[null,null,null,null,null,null,null,null,null,null,null,null,null,null,null,null,null,null,null,null,0,0,0,0,0,0]
[null,null,null,null,null,null,null,null,null,null,null,null,null,null,null,null,null,null,null,null,0,0,0,0,0,0]
[null,null,null,null,null,null,null,null,null,null,null,null,null,null,null,null,null,null,null,null,0,0,0,0,0,0]
[null,null,null,null,null,null,null,null,null,null,null,null,null,null,null,null,null,null,null,null,0,0,0,0,0,0]
[null,null,null,null,null,null,null,null,null,null,null,null,null,null,null,null,null,null,null,null,0,0,0,0,0,0]
[null,null,null,null,null,null,null,null,null,null,null,null,null,null,null,null,null,null,null,null,0,0,0,0,0,0]
[null,null,null,null,null,null,null,null,null,null,null,null,null,null,null,null,null,null,null,null,0,0,0,0,0,0]
[null,null,null,null,null,null,null,null,null,null,null,null,null,null,null,null,null,null,null,null,0,0,0,0,0,0]
[null,null,null,null,null,null,null,null,null,null,null,null,null,null,null,null,null,null,null,null,0,0,0,0,0,0]
[null,null,null,null,null,null,null,null,null,null,null,null,null,null,null,null,null,null,null,null,0,0,0,0,0,0]
[null,null,null,null,null,null,null,null,null,null,null,null,null,null,null,null,null,null,null,null,0,0,0,0,0,0]
[null,null,null,null,null,null,null,null,null,null,null,null,null,null,null,null,null,null,null,null,0,0,0,0,0,0]
[null,null,null,null,null,null,null,null,null,null,null,null,null,null,null,null,null,null,null,null,0,0,0,0,0,0]
[null,null,null,null,null,null,null,null,null,null,null,null,null,null,null,null,null,null,null,null,0,0,0,0,0,0]
[null,null,null,null,null,null,null,null,null,null,null,null,null,null,null,null,null,null,null,null,0,0,0,0,0,0]
[null,null,null,null,null,null,null,null,null,null,null,null,null,null,null,null,null,null,null,null,0,0,0,0,0,0]
[null,null,null,null,null,null,null,null,null,null,null,null,null,null,null,null,null,null,null,null,0,0,0,0,0,0]
[null,null,null,null,null,null,null,null,null,null,null,null,null,null,null,null,null,null,null,null,0,0,0,0,0,0]
[null,null,null,null,null,null,null,null,null,null,null,null,null,null,null,null,null,null,null,null,0,0,0,0,0,0]
[null,null,null,null,null,null,null,null,null,null,null,null,null,null,null,null,null,null,null,null,0,0,0,0,0,0]
[null,null,null,null,null,null,null,null,null,null,null,null,null,null,null,null,null,null,null,null,0,0,0,0,0,0]
[null,null,null,null,null,null,null,null,null,null,null,null,null,null,null,null,null,null,null,null,0,0,0,0,0,0]
[null,null,null,null,null,null,null,null,null,null,null,null,null,null,null,null,null,null,null,null,0,0,0,0,0,0]
[null,null,null,null,null,null,null,null,null,null,null,null,null,null,null,null,null,null,null,null,0,0,0,0,0,0]
[null,null,null,null,null,null,null,null,null,null,null,null,null,null,null,null,null,null,null,null,0,0,0,0,0,0]
[null,null,null,null,null,null,null,null,null,null,null,null,null,null,null,null,null,null,null,null,0,0,0,0,0,0]
[null,null,null,null,null,null,null,null,null,null,null,null,null,null,null,null,null,null,null,null,0,0,0,0,0,0]
[null,null,null,null,null,null,null,null,null,null,null,null,null,null,null,null,null,null,null,null,0,0,0,0,0,0]
[null,null,null,null,null,null,null,null,null,null,null,null,null,null,null,null,null,null,null,null,0,0,0,0,0,0]
[null,null,null,null,null,null,null,null,null,null,null,null,null,null,null,null,null,null,null,null,0,0,0,0,0,0]
[null,null,null,null,null,null,null,null,null,null,null,null,null,null,null,null,null,null,null,null,0,0,0,0,0,0]
[null,null,null,null,null,null,null,null,null,null,null,null,null,null,null,null,null,null,null,null,0,0,0,0,0,0]
[null,null,null,null,null,null,null,null,null,null,null,null,null,null,null,null,null,null,null,null,0,0,0,0,0,0]
[null,null,null,null,null,null,null,null,null,null,null,null,null,null,null,null,null,null,null,null,0,0,0,0,0,0]
[null,null,null,null,null,null,null,null,null,null,null,null,null,null,null,null,null,null,null,null,0,0,0,0,0,0]
[null,null,null,null,null,null,null,null,null,null,null,null,null,null,null,null,null,null,null,null,0,0,0,0,0,0]
[null,null,null,null,null,null,null,null,null,null,null,null,null,null,null,null,null,null,null,null,0,0,0,0,0,0]
[null,null,null,null,null,null,null,null,null,null,null,null,null,null,null,null,null,null,null,null,0,0,0,0,0,0]
[null,null,null,null,null,null,null,null,null,null,null,null,null,null,null,null,null,null,null,null,0,0,0,0,0,0]
[null,null,null,null,null,null,null,null,null,null,null,null,null,null,null,null,null,null,null,null,0,0,0,0,0,0]
[null,null,null,null,null,null,null,null,null,null,null,null,null,null,null,null,null,null,null,null,0,0,0,0,0,0]
[null,null,null,null,null,null,null,null,null,null,null,null,null,null,null,null,null,null,null,null,0,0,0,0,0,0]
[null,null,null,null,null,null,null,null,null,null,null,null,null,null,null,null,null,null,null,null,0,0,0,0,0,0]
[null,null,null,null,null,null,null,null,null,null,null,null,null,null,null,null,null,null,null,null,0,0,0,0,0,0]
[null,null,null,null,null,null,null,null,null,null,null,null,null,null,null,null,null,null,null,null,0,0,0,0,0,0]
[null,null,null,null,null,null,null,null,null,null,null,null,null,null,null,null,null,null,null,null,{"$f":"IF(C451=1,IF(R451=TRUE,1,0),0)","v":0},{"$f":"IF(C451=1,IF(R451=TRUE,Q451,0),0)","v":0},{"$f":"IF(C451=2,IF(R451=TRUE,1,0),0)","v":0},{"$f":"IF(C451=2,IF(R451=TRUE,Q451,0),0)","v":0},{"$f":"IF(C451=3,IF(R451=TRUE,1,0),0)","v":0},{"$f":"IF(C451=3,IF(R451=TRUE,Q451,0),0)","v":0}]
[null,null,null,null,null,null,null,null,null,null,null,null,null,null,null,null,null,null,null,null,0,0,0,0,0,0]
[null,null,null,null,null,null,null,null,null,null,null,null,null,null,null,null,null,null,null,null,0,0,0,0,0,0]
[null,null,null,null,null,null,null,null,null,null,null,null,null,null,null,null,null,null,null,null,0,0,0,0,0,0]
[null,null,null,null,null,null,null,null,null,null,null,null,null,null,null,null,null,null,null,null,0,0,0,0,0,0]
[null,null,null,null,null,null,null,null,null,null,null,null,null,null,null,null,null,null,null,null,0,0,0,0,0,0]
[null,null,null,null,null,null,null,null,null,null,null,null,null,null,null,null,null,null,null,null,0,0,0,0,0,0]
[null,null,null,null,null,null,null,null,null,null,null,null,null,null,null,null,null,null,null,null,0,0,0,0,0,0]
[null,null,null,null,null,null,null,null,null,null,null,null,null,null,null,null,null,null,null,null,0,0,0,0,0,0]
[null,null,null,null,null,null,null,null,null,null,null,null,null,null,null,null,null,null,null,null,0,0,0,0,0,0]
[null,null,null,null,null,null,null,null,null,null,null,null,null,null,null,null,null,null,null,null,0,0,0,0,0,0]
[null,null,null,null,null,null,null,null,null,null,null,null,null,null,null,null,null,null,null,null,0,0,0,0,0,0]
[null,null,null,null,null,null,null,null,null,null,null,null,null,null,null,null,null,null,null,null,0,0,0,0,0,0]
[null,null,null,null,null,null,null,null,null,null,null,null,null,null,null,null,null,null,null,null,0,0,0,0,0,0]
[null,null,null,null,null,null,null,null,null,null,null,null,null,null,null,null,null,null,null,null,0,0,0,0,0,0]
[null,null,null,null,null,null,null,null,null,null,null,null,null,null,null,null,null,null,null,null,0,0,0,0,0,0]
[null,null,null,null,null,null,null,null,null,null,null,null,null,null,null,null,null,null,null,null,0,0,0,0,0,0]
[null,null,null,null,null,null,null,null,null,null,null,null,null,null,null,null,null,null,null,null,0,0,0,0,0,0]
[null,null,null,null,null,null,null,null,null,null,null,null,null,null,null,null,null,null,null,null,0,0,0,0,0,0]
[null,null,null,null,null,null,null,null,null,null,null,null,null,null,null,null,null,null,null,null,0,0,0,0,0,0]
[null,null,null,null,null,null,null,null,null,null,null,null,null,null,null,null,null,null,null,null,0,0,0,0,0,0]
[null,null,null,null,null,null,null,null,null,null,null,null,null,null,null,null,null,null,null,null,0,0,0,0,0,0]
[null,null,null,null,null,null,null,null,null,null,null,null,null,null,null,null,null,null,null,null,0,0,0,0,0,0]
[null,null,null,null,null,null,null,null,null,null,null,null,null,null,null,null,null,null,null,null,0,0,0,0,0,0]
[null,null,null,null,null,null,null,null,null,null,null,null,null,null,null,null,null,null,null,null,0,0,0,0,0,0]
[null,null,null,null,null,null,null,null,null,null,null,null,null,null,null,null,null,null,null,null,0,0,0,0,0,0]
[null,null,null,null,null,null,null,null,null,null,null,null,null,null,null,null,null,null,null,null,0,0,0,0,0,0]
[null,null,null,null,null,null,null,null,null,null,null,null,null,null,null,null,null,null,null,null,0,0,0,0,0,0]
[null,null,null,null,null,null,null,null,null,null,null,null,null,null,null,null,null,null,null,null,0,0,0,0,0,0]
[null,null,null,null,null,null,null,null,null,null,null,null,null,null,null,null,null,null,null,null,0,0,0,0,0,0]
[null,null,null,null,null,null,null,null,null,null,null,null,null,null,null,null,null,null,null,null,0,0,0,0,0,0]
[null,null,null,null,null,null,null,null,null,null,null,null,null,null,null,null,null,null,null,null,0,0,0,0,0,0]
[null,null,null,null,null,null,null,null,null,null,null,null,null,null,null,null,null,null,null,null,0,0,0,0,0,0]
[null,null,null,null,null,null,null,null,null,null,null,null,null,null,null,null,null,null,null,null,0,0,0,0,0,0]
[null,null,null,null,null,null,null,null,null,null,null,null,null,null,null,null,null,null,null,null,0,0,0,0,0,0]
[null,null,null,null,null,null,null,null,null,null,null,null,null,null,null,null,null,null,null,null,0,0,0,0,0,0]
[null,null,null,null,null,null,null,null,null,null,null,null,null,null,null,null,null,null,null,null,0,0,0,0,0,0]
[null,null,null,null,null,null,null,null,null,null,null,null,null,null,null,null,null,null,null,null,0,0,0,0,0,0]
[null,null,null,null,null,null,null,null,null,null,null,null,null,null,null,null,null,null,null,null,0,0,0,0,0,0]
[null,null,null,null,null,null,null,null,null,null,null,null,null,null,null,null,null,null,null,null,0,0,0,0,0,0]
[null,null,null,null,null,null,null,null,null,null,null,null,null,null,null,null,null,null,null,null,0,0,0,0,0,0]
[null,null,null,null,null,null,null,null,null,null,null,null,null,null,null,null,null,null,null,null,0,0,0,0,0,0]
[null,null,null,null,null,null,null,null,null,null,null,null,null,null,null,null,null,null,null,null,0,0,0,0,0,0]
[null,null,null,null,null,null,null,null,null,null,null,null,null,null,null,null,null,null,null,null,0,0,0,0,0,0]
[null,null,null,null,null,null,null,null,null,null,null,null,null,null,null,null,null,null,null,null,0,0,0,0,0,0]
[null,null,null,null,null,null,null,null,null,null,null,null,null,null,null,null,null,null,null,null,0,0,0,0,0,0]
[null,null,null,null,null,null,null,null,null,null,null,null,null,null,null,null,null,null,null,null,0,0,0,0,0,0]
[null,null,null,null,null,null,null,null,null,null,null,null,null,null,null,null,null,null,null,null,0,0,0,0,0,0]
[null,null,null,null,null,null,null,null,null,null,null,null,null,null,null,null,null,null,null,null,0,0,0,0,0,0]
[null,null,null,null,null,null,null,null,null,null,null,null,null,null,null,null,null,null,null,null,0,0,0,0,0,0]
[null,null,null,null,null,null,null,null,null,null,null,null,null,null,null,null,null,null,null,null,0,0,0,0,0,0]
[null,null,null,null,null,null,null,null,null,null,null,null,null,null,null,null,null,null,null,null,0,0,0,0,0,0]
[null,null,null,null,null,null,null,null,null,null,null,null,null,null,null,null,null,null,null,null,0,0,0,0,0,0]
[null,null,null,null,null,null,null,null,null,null,null,null,null,null,null,null,null,null,null,null,0,0,0,0,0,0]
[null,null,null,null,null,null,null,null,null,null,null,null,null,null,null,null,null,null,null,null,0,0,0,0,0,0]
[null,null,null,null,null,null,null,null,null,null,null,null,null,null,null,null,null,null,null,null,0,0,0,0,0,0]
[null,null,null,null,null,null,null,null,null,null,null,null,null,null,null,null,null,null,null,null,0,0,0,0,0,0]
[null,null,null,null,null,null,null,null,null,null,null,null,null,null,null,null,null,null,null,null,0,0,0,0,0,0]
[null,null,null,null,null,null,null,null,null,null,null,null,null,null,null,null,null,null,null,null,0,0,0,0,0,0]
[null,null,null,null,null,null,null,null,null,null,null,null,null,null,null,null,null,null,null,null,0,0,0,0,0,0]
[null,null,null,null,null,null,null,null,null,null,null,null,null,null,null,null,null,null,null,null,0,0,0,0,0,0]
[null,null,null,null,null,null,null,null,null,null,null,null,null,null,null,null,null,null,null,null,0,0,0,0,0,0]
[null,null,null,null,null,null,null,null,null,null,null,null,null,null,null,null,null,null,null,null,0,0,0,0,0,0]
[null,null,null,null,null,null,null,null,null,null,null,null,null,null,null,null,null,null,null,null,0,0,0,0,0,0]
[null,null,null,null,null,null,null,null,null,null,null,null,null,null,null,null,null,null,null,null,{"$f":"IF(C515=1,IF(R515=TRUE,1,0),0)","v":0},{"$f":"IF(C515=1,IF(R515=TRUE,Q515,0),0)","v":0},{"$f":"IF(C515=2,IF(R515=TRUE,1,0),0)","v":0},{"$f":"IF(C515=2,IF(R515=TRUE,Q515,0),0)","v":0},{"$f":"IF(C515=3,IF(R515=TRUE,1,0),0)","v":0},{"$f":"IF(C515=3,IF(R515=TRUE,Q515,0),0)","v":0}]
[null,null,null,null,null,null,null,null,null,null,null,null,null,null,null,null,null,null,null,null,0,0,0,0,0,0]
[null,null,null,null,null,null,null,null,null,null,null,null,null,null,null,null,null,null,null,null,0,0,0,0,0,0]
[null,null,null,null,null,null,null,null,null,null,null,null,null,null,null,null,null,null,null,null,0,0,0,0,0,0]
[null,null,null,null,null,null,null,null,null,null,null,null,null,null,null,null,null,null,null,null,0,0,0,0,0,0]
[null,null,null,null,null,null,null,null,null,null,null,null,null,null,null,null,null,null,null,null,0,0,0,0,0,0]
[null,null,null,null,null,null,null,null,null,null,null,null,null,null,null,null,null,null,null,null,0,0,0,0,0,0]
[null,null,null,null,null,null,null,null,null,null,null,null,null,null,null,null,null,null,null,null,0,0,0,0,0,0]
[null,null,null,null,null,null,null,null,null,null,null,null,null,null,null,null,null,null,null,null,0,0,0,0,0,0]
[null,null,null,null,null,null,null,null,null,null,null,null,null,null,null,null,null,null,null,null,0,0,0,0,0,0]
[null,null,null,null,null,null,null,null,null,null,null,null,null,null,null,null,null,null,null,null,0,0,0,0,0,0]
[null,null,null,null,null,null,null,null,null,null,null,null,null,null,null,null,null,null,null,null,0,0,0,0,0,0]
[null,null,null,null,null,null,null,null,null,null,null,null,null,null,null,null,null,null,null,null,0,0,0,0,0,0]
[null,null,null,null,null,null,null,null,null,null,null,null,null,null,null,null,null,null,null,null,0,0,0,0,0,0]
[null,null,null,null,null,null,null,null,null,null,null,null,null,null,null,null,null,null,null,null,0,0,0,0,0,0]
[null,null,null,null,null,null,null,null,null,null,null,null,null,null,null,null,null,null,null,null,0,0,0,0,0,0]
[null,null,null,null,null,null,null,null,null,null,null,null,null,null,null,null,null,null,null,null,0,0,0,0,0,0]
[null,null,null,null,null,null,null,null,null,null,null,null,null,null,null,null,null,null,null,null,0,0,0,0,0,0]
[null,null,null,null,null,null,null,null,null,null,null,null,null,null,null,null,null,null,null,null,0,0,0,0,0,0]
[null,null,null,null,null,null,null,null,null,null,null,null,null,null,null,null,null,null,null,null,0,0,0,0,0,0]
[null,null,null,null,null,null,null,null,null,null,null,null,null,null,null,null,null,null,null,null,0,0,0,0,0,0]
[null,null,null,null,null,null,null,null,null,null,null,null,null,null,null,null,null,null,null,null,0,0,0,0,0,0]
[null,null,null,null,null,null,null,null,null,null,null,null,null,null,null,null,null,null,null,null,0,0,0,0,0,0]
[null,null,null,null,null,null,null,null,null,null,null,null,null,null,null,null,null,null,null,null,0,0,0,0,0,0]
[null,null,null,null,null,null,null,null,null,null,null,null,null,null,null,null,null,null,null,null,0,0,0,0,0,0]
[null,null,null,null,null,null,null,null,null,null,null,null,null,null,null,null,null,null,null,null,0,0,0,0,0,0]
[null,null,null,null,null,null,null,null,null,null,null,null,null,null,null,null,null,null,null,null,0,0,0,0,0,0]
[null,null,null,null,null,null,null,null,null,null,null,null,null,null,null,null,null,null,null,null,0,0,0,0,0,0]
[null,null,null,null,null,null,null,null,null,null,null,null,null,null,null,null,null,null,null,null,0,0,0,0,0,0]
[null,null,null,null,null,null,null,null,null,null,null,null,null,null,null,null,null,null,null,null,0,0,0,0,0,0]
[null,null,null,null,null,null,null,null,null,null,null,null,null,null,null,null,null,null,null,null,0,0,0,0,0,0]
[null,null,null,null,null,null,null,null,null,null,null,null,null,null,null,null,null,null,null,null,0,0,0,0,0,0]
[null,null,null,null,null,null,null,null,null,null,null,null,null,null,null,null,null,null,null,null,0,0,0,0,0,0]
[null,null,null,null,null,null,null,null,null,null,null,null,null,null,null,null,null,null,null,null,0,0,0,0,0,0]
[null,null,null,null,null,null,null,null,null,null,null,null,null,null,null,null,null,null,null,null,0,0,0,0,0,0]
[null,null,null,null,null,null,null,null,null,null,null,null,null,null,null,null,null,null,null,null,0,0,0,0,0,0]
[null,null,null,null,null,null,null,null,null,null,null,null,null,null,null,null,null,null,null,null,0,0,0,0,0,0]
[null,null,null,null,null,null,null,null,null,null,null,null,null,null,null,null,null,null,null,null,0,0,0,0,0,0]
[null,null,null,null,null,null,null,null,null,null,null,null,null,null,null,null,null,null,null,null,0,0,0,0,0,0]
[null,null,null,null,null,null,null,null,null,null,null,null,null,null,null,null,null,null,null,null,0,0,0,0,0,0]
[null,null,null,null,null,null,null,null,null,null,null,null,null,null,null,null,null,null,null,null,0,0,0,0,0,0]
[null,null,null,null,null,null,null,null,null,null,null,null,null,null,null,null,null,null,null,null,0,0,0,0,0,0]
[null,null,null,null,null,null,null,null,null,null,null,null,null,null,null,null,null,null,null,null,0,0,0,0,0,0]
[null,null,null,null,null,null,null,null,null,null,null,null,null,null,null,null,null,null,null,null,0,0,0,0,0,0]
[null,null,null,null,null,null,null,null,null,null,null,null,null,null,null,null,null,null,null,null,0,0,0,0,0,0]
[null,null,null,null,null,null,null,null,null,null,null,null,null,null,null,null,null,null,null,null,0,0,0,0,0,0]
[null,null,null,null,null,null,null,null,null,null,null,null,null,null,null,null,null,null,null,null,0,0,0,0,0,0]
[null,null,null,null,null,null,null,null,null,null,null,null,null,null,null,null,null,null,null,null,0,0,0,0,0,0]
[null,null,null,null,null,null,null,null,null,null,null,null,null,null,null,null,null,null,null,null,0,0,0,0,0,0]
[null,null,null,null,null,null,null,null,null,null,null,null,null,null,null,null,null,null,null,null,0,0,0,0,0,0]
[null,null,null,null,null,null,null,null,null,null,null,null,null,null,null,null,null,null,null,null,0,0,0,0,0,0]
[null,null,null,null,null,null,null,null,null,null,null,null,null,null,null,null,null,null,null,null,0,0,0,0,0,0]
[null,null,null,null,null,null,null,null,null,null,null,null,null,null,null,null,null,null,null,null,0,0,0,0,0,0]
[null,null,null,null,null,null,null,null,null,null,null,null,null,null,null,null,null,null,null,null,0,0,0,0,0,0]
[null,null,null,null,null,null,null,null,null,null,null,null,null,null,null,null,null,null,null,null,0,0,0,0,0,0]
[null,null,null,null,null,null,null,null,null,null,null,null,null,null,null,null,null,null,null,null,0,0,0,0,0,0]
[null,null,null,null,null,null,null,null,null,null,null,null,null,null,null,null,null,null,null,null,0,0,0,0,0,0]
[null,null,null,null,null,null,null,null,null,null,null,null,null,null,null,null,null,null,null,null,0,0,0,0,0,0]
[null,null,null,null,null,null,null,null,null,null,null,null,null,null,null,null,null,null,null,null,0,0,0,0,0,0]
[null,null,null,null,null,null,null,null,null,null,null,null,null,null,null,null,null,null,null,null,0,0,0,0,0,0]
[null,null,null,null,null,null,null,null,null,null,null,null,null,null,null,null,null,null,null,null,0,0,0,0,0,0]
[null,null,null,null,null,null,null,null,null,null,null,null,null,null,null,null,null,null,null,null,0,0,0,0,0,0]
[null,null,null,null,null,null,null,null,null,null,null,null,null,null,null,null,null,null,null,null,0,0,0,0,0,0]
[null,null,null,null,null,null,null,null,null,null,null,null,null,null,null,null,null,null,null,null,0,0,0,0,0,0]
[null,null,null,null,null,null,null,null,null,null,null,null,null,null,null,null,null,null,null,null,{"$f":"IF(C579=1,IF(R579=TRUE,1,0),0)","v":0},{"$f":"IF(C579=1,IF(R579=TRUE,Q579,0),0)","v":0},{"$f":"IF(C579=2,IF(R579=TRUE,1,0),0)","v":0},{"$f":"IF(C579=2,IF(R579=TRUE,Q579,0),0)","v":0},{"$f":"IF(C579=3,IF(R579=TRUE,1,0),0)","v":0},{"$f":"IF(C579=3,IF(R579=TRUE,Q579,0),0)","v":0}]
[null,null,null,null,null,null,null,null,null,null,null,null,null,null,null,null,null,null,null,null,0,0,0,0,0,0]
[null,null,null,null,null,null,null,null,null,null,null,null,null,null,null,null,null,null,null,null,0,0,0,0,0,0]
[null,null,null,null,null,null,null,null,null,null,null,null,null,null,null,null,null,null,null,null,0,0,0,0,0,0]
[null,null,null,null,null,null,null,null,null,null,null,null,null,null,null,null,null,null,null,null,0,0,0,0,0,0]
[null,null,null,null,null,null,null,null,null,null,null,null,null,null,null,null,null,null,null,null,0,0,0,0,0,0]
[null,null,null,null,null,null,null,null,null,null,null,null,null,null,null,null,null,null,null,null,0,0,0,0,0,0]
[null,null,null,null,null,null,null,null,null,null,null,null,null,null,null,null,null,null,null,null,0,0,0,0,0,0]
[null,null,null,null,null,null,null,null,null,null,null,null,null,null,null,null,null,null,null,null,0,0,0,0,0,0]
[null,null,null,null,null,null,null,null,null,null,null,null,null,null,null,null,null,null,null,null,0,0,0,0,0,0]
[null,null,null,null,null,null,null,null,null,null,null,null,null,null,null,null,null,null,null,null,0,0,0,0,0,0]
[null,null,null,null,null,null,null,null,null,null,null,null,null,null,null,null,null,null,null,null,0,0,0,0,0,0]
[null,null,null,null,null,null,null,null,null,null,null,null,null,null,null,null,null,null,null,null,0,0,0,0,0,0]
[null,null,null,null,null,null,null,null,null,null,null,null,null,null,null,null,null,null,null,null,0,0,0,0,0,0]
[null,null,null,null,null,null,null,null,null,null,null,null,null,null,null,null,null,null,null,null,0,0,0,0,0,0]
[null,null,null,null,null,null,null,null,null,null,null,null,null,null,null,null,null,null,null,null,0,0,0,0,0,0]
[null,null,null,null,null,null,null,null,null,null,null,null,null,null,null,null,null,null,null,null,0,0,0,0,0,0]
[null,null,null,null,null,null,null,null,null,null,null,null,null,null,null,null,null,null,null,null,0,0,0,0,0,0]
[null,null,null,null,null,null,null,null,null,null,null,null,null,null,null,null,null,null,null,null,0,0,0,0,0,0]
[null,null,null,null,null,null,null,null,null,null,null,null,null,null,null,null,null,null,null,null,0,0,0,0,0,0]
[null,null,null,null,null,null,null,null,null,null,null,null,null,null,null,null,null,null,null,null,0,0,0,0,0,0]
[null,null,null,null,null,null,null,null,null,null,null,null,null,null,null,null,null,null,null,null,0,0,0,0,0,0]
[null,null,null,null,null,null,null,null,null,null,null,null,null,null,null,null,null,null,null,null,0,0,0,0,0,0]
[null,null,null,null,null,null,null,null,null,null,null,null,null,null,null,null,null,null,null,null,0,0,0,0,0,0]
[null,null,null,null,null,null,null,null,null,null,null,null,null,null,null,null,null,null,null,null,0,0,0,0,0,0]
[null,null,null,null,null,null,null,null,null,null,null,null,null,null,null,null,null,null,null,null,0,0,0,0,0,0]
[null,null,null,null,null,null,null,null,null,null,null,null,null,null,null,null,null,null,null,null,0,0,0,0,0,0]
[null,null,null,null,null,null,null,null,null,null,null,null,null,null,null,null,null,null,null,null,0,0,0,0,0,0]
[null,null,null,null,null,null,null,null,null,null,null,null,null,null,null,null,null,null,null,null,0,0,0,0,0,0]
[null,null,null,null,null,null,null,null,null,null,null,null,null,null,null,null,null,null,null,null,0,0,0,0,0,0]
[null,null,null,null,null,null,null,null,null,null,null,null,null,null,null,null,null,null,null,null,0,0,0,0,0,0]
[null,null,null,null,null,null,null,null,null,null,null,null,null,null,null,null,null,null,null,null,0,0,0,0,0,0]
[null,null,null,null,null,null,null,null,null,null,null,null,null,null,null,null,null,null,null,null,0,0,0,0,0,0]
[null,null,null,null,null,null,null,null,null,null,null,null,null,null,null,null,null,null,null,null,0,0,0,0,0,0]
[null,null,null,null,null,null,null,null,null,null,null,null,null,null,null,null,null,null,null,null,0,0,0,0,0,0]
[null,null,null,null,null,null,null,null,null,null,null,null,null,null,null,null,null,null,null,null,0,0,0,0,0,0]
[null,null,null,null,null,null,null,null,null,null,null,null,null,null,null,null,null,null,null,null,0,0,0,0,0,0]
[null,null,null,null,null,null,null,null,null,null,null,null,null,null,null,null,null,null,null,null,0,0,0,0,0,0]
[null,null,null,null,null,null,null,null,null,null,null,null,null,null,null,null,null,null,null,null,0,0,0,0,0,0]
[null,null,null,null,null,null,null,null,null,null,null,null,null,null,null,null,null,null,null,null,0,0,0,0,0,0]
[null,null,null,null,null,null,null,null,null,null,null,null,null,null,null,null,null,null,null,null,0,0,0,0,0,0]
[null,null,null,null,null,null,null,null,null,null,null,null,null,null,null,null,null,null,null,null,0,0,0,0,0,0]
[null,null,null,null,null,null,null,null,null,null,null,null,null,null,null,null,null,null,null,null,0,0,0,0,0,0]
[null,null,null,null,null,null,null,null,null,null,null,null,null,null,null,null,null,null,null,null,0,0,0,0,0,0]
[null,null,null,null,null,null,null,null,null,null,null,null,null,null,null,null,null,null,null,null,0,0,0,0,0,0]
[null,null,null,null,null,null,null,null,null,null,null,null,null,null,null,null,null,null,null,null,0,0,0,0,0,0]
[null,null,null,null,null,null,null,null,null,null,null,null,null,null,null,null,null,null,null,null,0,0,0,0,0,0]
[null,null,null,null,null,null,null,null,null,null,null,null,null,null,null,null,null,null,null,null,0,0,0,0,0,0]
[null,null,null,null,null,null,null,null,null,null,null,null,null,null,null,null,null,null,null,null,0,0,0,0,0,0]
[null,null,null,null,null,null,null,null,null,null,null,null,null,null,null,null,null,null,null,null,0,0,0,0,0,0]
[null,null,null,null,null,null,null,null,null,null,null,null,null,null,null,null,null,null,null,null,0,0,0,0,0,0]
[null,null,null,null,null,null,null,null,null,null,null,null,null,null,null,null,null,null,null,null,0,0,0,0,0,0]
[null,null,null,null,null,null,null,null,null,null,null,null,null,null,null,null,null,null,null,null,0,0,0,0,0,0]
[null,null,null,null,null,null,null,null,null,null,null,null,null,null,null,null,null,null,null,null,0,0,0,0,0,0]
[null,null,null,null,null,null,null,null,null,null,null,null,null,null,null,null,null,null,null,null,0,0,0,0,0,0]
[null,null,null,null,null,null,null,null,null,null,null,null,null,null,null,null,null,null,null,null,0,0,0,0,0,0]
[null,null,null,null,null,null,null,null,null,null,null,null,null,null,null,null,null,null,null,null,0,0,0,0,0,0]
[null,null,null,null,null,null,null,null,null,null,null,null,null,null,null,null,null,null,null,null,0,0,0,0,0,0]
[null,null,null,null,null,null,null,null,null,null,null,null,null,null,null,null,null,null,null,null,0,0,0,0,0,0]
[null,null,null,null,null,null,null,null,null,null,null,null,null,null,null,null,null,null,null,null,0,0,0,0,0,0]
[null,null,null,null,null,null,null,null,null,null,null,null,null,null,null,null,null,null,null,null,0,0,0,0,0,0]
[null,null,null,null,null,null,null,null,null,null,null,null,null,null,null,null,null,null,null,null,0,0,0,0,0,0]
[null,null,null,null,null,null,null,null,null,null,null,null,null,null,null,null,null,null,null,null,0,0,0,0,0,0]
[null,null,null,null,null,null,null,null,null,null,null,null,null,null,null,null,null,null,null,null,0,0,0,0,0,0]
[null,null,null,null,null,null,null,null,null,null,null,null,null,null,null,null,null,null,null,null,{"$f":"IF(C643=1,IF(R643=TRUE,1,0),0)","v":0},{"$f":"IF(C643=1,IF(R643=TRUE,Q643,0),0)","v":0},{"$f":"IF(C643=2,IF(R643=TRUE,1,0),0)","v":0},{"$f":"IF(C643=2,IF(R643=TRUE,Q643,0),0)","v":0},{"$f":"IF(C643=3,IF(R643=TRUE,1,0),0)","v":0},{"$f":"IF(C643=3,IF(R643=TRUE,Q643,0),0)","v":0}]
[null,null,null,null,null,null,null,null,null,null,null,null,null,null,null,null,null,null,null,null,0,0,0,0,0,0]
[null,null,null,null,null,null,null,null,null,null,null,null,null,null,null,null,null,null,null,null,0,0,0,0,0,0]
[null,null,null,null,null,null,null,null,null,null,null,null,null,null,null,null,null,null,null,null,0,0,0,0,0,0]
[null,null,null,null,null,null,null,null,null,null,null,null,null,null,null,null,null,null,null,null,0,0,0,0,0,0]
[null,null,null,null,null,null,null,null,null,null,null,null,null,null,null,null,null,null,null,null,0,0,0,0,0,0]
[null,null,null,null,null,null,null,null,null,null,null,null,null,null,null,null,null,null,null,null,0,0,0,0,0,0]
[null,null,null,null,null,null,null,null,null,null,null,null,null,null,null,null,null,null,null,null,0,0,0,0,0,0]
[null,null,null,null,null,null,null,null,null,null,null,null,null,null,null,null,null,null,null,null,0,0,0,0,0,0]
[null,null,null,null,null,null,null,null,null,null,null,null,null,null,null,null,null,null,null,null,0,0,0,0,0,0]
[null,null,null,null,null,null,null,null,null,null,null,null,null,null,null,null,null,null,null,null,0,0,0,0,0,0]
[null,null,null,null,null,null,null,null,null,null,null,null,null,null,null,null,null,null,null,null,0,0,0,0,0,0]
[null,null,null,null,null,null,null,null,null,null,null,null,null,null,null,null,null,null,null,null,0,0,0,0,0,0]
[null,null,null,null,null,null,null,null,null,null,null,null,null,null,null,null,null,null,null,null,0,0,0,0,0,0]
[null,null,null,null,null,null,null,null,null,null,null,null,null,null,null,null,null,null,null,null,0,0,0,0,0,0]
[null,null,null,null,null,null,null,null,null,null,null,null,null,null,null,null,null,null,null,null,0,0,0,0,0,0]
[null,null,null,null,null,null,null,null,null,null,null,null,null,null,null,null,null,null,null,null,0,0,0,0,0,0]
[null,null,null,null,null,null,null,null,null,null,null,null,null,null,null,null,null,null,null,null,0,0,0,0,0,0]
[null,null,null,null,null,null,null,null,null,null,null,null,null,null,null,null,null,null,null,null,0,0,0,0,0,0]
[null,null,null,null,null,null,null,null,null,null,null,null,null,null,null,null,null,null,null,null,0,0,0,0,0,0]
[null,null,null,null,null,null,null,null,null,null,null,null,null,null,null,null,null,null,null,null,0,0,0,0,0,0]
[null,null,null,null,null,null,null,null,null,null,null,null,null,null,null,null,null,null,null,null,0,0,0,0,0,0]
[null,null,null,null,null,null,null,null,null,null,null,null,null,null,null,null,null,null,null,null,0,0,0,0,0,0]
[null,null,null,null,null,null,null,null,null,null,null,null,null,null,null,null,null,null,null,null,0,0,0,0,0,0]
[null,null,null,null,null,null,null,null,null,null,null,null,null,null,null,null,null,null,null,null,0,0,0,0,0,0]
[null,null,null,null,null,null,null,null,null,null,null,null,null,null,null,null,null,null,null,null,0,0,0,0,0,0]
[null,null,null,null,null,null,null,null,null,null,null,null,null,null,null,null,null,null,null,null,0,0,0,0,0,0]
[null,null,null,null,null,null,null,null,null,null,null,null,null,null,null,null,null,null,null,null,0,0,0,0,0,0]
[null,null,null,null,null,null,null,null,null,null,null,null,null,null,null,null,null,null,null,null,0,0,0,0,0,0]
[null,null,null,null,null,null,null,null,null,null,null,null,null,null,null,null,null,null,null,null,0,0,0,0,0,0]
[null,null,null,null,null,null,null,null,null,null,null,null,null,null,null,null,null,null,null,null,0,0,0,0,0,0]
[null,null,null,null,null,null,null,null,null,null,null,null,null,null,null,null,null,null,null,null,0,0,0,0,0,0]
[null,null,null,null,null,null,null,null,null,null,null,null,null,null,null,null,null,null,null,null,0,0,0,0,0,0]
[null,null,null,null,null,null,null,null,null,null,null,null,null,null,null,null,null,null,null,null,0,0,0,0,0,0]
[null,null,null,null,null,null,null,null,null,null,null,null,null,null,null,null,null,null,null,null,0,0,0,0,0,0]
[null,null,null,null,null,null,null,null,null,null,null,null,null,null,null,null,null,null,null,null,0,0,0,0,0,0]
[null,null,null,null,null,null,null,null,null,null,null,null,null,null,null,null,null,null,null,null,0,0,0,0,0,0]
[null,null,null,null,null,null,null,null,null,null,null,null,null,null,null,null,null,null,null,null,0,0,0,0,0,0]
[null,null,null,null,null,null,null,null,null,null,null,null,null,null,null,null,null,null,null,null,0,0,0,0,0,0]
[null,null,null,null,null,null,null,null,null,null,null,null,null,null,null,null,null,null,null,null,0,0,0,0,0,0]
[null,null,null,null,null,null,null,null,null,null,null,null,null,null,null,null,null,null,null,null,0,0,0,0,0,0]
[null,null,null,null,null,null,null,null,null,null,null,null,null,null,null,null,null,null,null,null,0,0,0,0,0,0]
[null,null,null,null,null,null,null,null,null,null,null,null,null,null,null,null,null,null,null,null,0,0,0,0,0,0]
[null,null,null,null,null,null,null,null,null,null,null,null,null,null,null,null,null,null,null,null,0,0,0,0,0,0]
[null,null,null,null,null,null,null,null,null,null,null,null,null,null,null,null,null,null,null,null,0,0,0,0,0,0]
[null,null,null,null,null,null,null,null,null,null,null,null,null,null,null,null,null,null,null,null,0,0,0,0,0,0]
[null,null,null,null,null,null,null,null,null,null,null,null,null,null,null,null,null,null,null,null,0,0,0,0,0,0]
[null,null,null,null,null,null,null,null,null,null,null,null,null,null,null,null,null,null,null,null,0,0,0,0,0,0]
[null,null,null,null,null,null,null,null,null,null,null,null,null,null,null,null,null,null,null,null,0,0,0,0,0,0]
[null,null,null,null,null,null,null,null,null,null,null,null,null,null,null,null,null,null,null,null,0,0,0,0,0,0]
[null,null,null,null,null,null,null,null,null,null,null,null,null,null,null,null,null,null,null,null,0,0,0,0,0,0]
[null,null,null,null,null,null,null,null,null,null,null,null,null,null,null,null,null,null,null,null,0,0,0,0,0,0]
[null,null,null,null,null,null,null,null,null,null,null,null,null,null,null,null,null,null,null,null,0,0,0,0,0,0]
[null,null,null,null,null,null,null,null,null,null,null,null,null,null,null,null,null,null,null,null,0,0,0,0,0,0]
[null,null,null,null,null,null,null,null,null,null,null,null,null,null,null,null,null,null,null,null,0,0,0,0,0,0]
[null,null,null,null,null,null,null,null,null,null,null,null,null,null,null,null,null,null,null,null,0,0,0,0,0,0]
[null,null,null,null,null,null,null,null,null,null,null,null,null,null,null,null,null,null,null,null,0,0,0,0,0,0]
[null,null,null,null,null,null,null,null,null,null,null,null,null,null,null,null,null,null,null,null,0,0,0,0,0,0]
[null,null,null,null,null,null,null,null,null,null,null,null,null,null,null,null,null,null,null,null,0,0,0,0,0,0]
[null,null,null,null,null,null,null,null,null,null,null,null,null,null,null,null,null,null,null,null,0,0,0,0,0,0]
[null,null,null,null,null,null,null,null,null,null,null,null,null,null,null,null,null,null,null,null,0,0,0,0,0,0]
[null,null,null,null,null,null,null,null,null,null,null,null,null,null,null,null,null,null,null,null,0,0,0,0,0,0]
[null,null,null,null,null,null,null,null,null,null,null,null,null,null,null,null,null,null,null,null,0,0,0,0,0,0]
[null,null,null,null,null,null,null,null,null,null,null,null,null,null,null,null,null,null,null,null,0,0,0,0,0,0]
[null,null,null,null,null,null,null,null,null,null,null,null,null,null,null,null,null,null,null,null,{"$f":"IF(C707=1,IF(R707=TRUE,1,0),0)","v":0},{"$f":"IF(C707=1,IF(R707=TRUE,Q707,0),0)","v":0},{"$f":"IF(C707=2,IF(R707=TRUE,1,0),0)","v":0},{"$f":"IF(C707=2,IF(R707=TRUE,Q707,0),0)","v":0},{"$f":"IF(C707=3,IF(R707=TRUE,1,0),0)","v":0},{"$f":"IF(C707=3,IF(R707=TRUE,Q707,0),0)","v":0}]
[null,null,null,null,null,null,null,null,null,null,null,null,null,null,null,null,null,null,null,null,0,0,0,0,0,0]
[null,null,null,null,null,null,null,null,null,null,null,null,null,null,null,null,null,null,null,null,0,0,0,0,0,0]
[null,null,null,null,null,null,null,null,null,null,null,null,null,null,null,null,null,null,null,null,0,0,0,0,0,0]
[null,null,null,null,null,null,null,null,null,null,null,null,null,null,null,null,null,null,null,null,0,0,0,0,0,0]
[null,null,null,null,null,null,null,null,null,null,null,null,null,null,null,null,null,null,null,null,0,0,0,0,0,0]
[null,null,null,null,null,null,null,null,null,null,null,null,null,null,null,null,null,null,null,null,0,0,0,0,0,0]
[null,null,null,null,null,null,null,null,null,null,null,null,null,null,null,null,null,null,null,null,0,0,0,0,0,0]
[null,null,null,null,null,null,null,null,null,null,null,null,null,null,null,null,null,null,null,null,0,0,0,0,0,0]
[null,null,null,null,null,null,null,null,null,null,null,null,null,null,null,null,null,null,null,null,0,0,0,0,0,0]
[null,null,null,null,null,null,null,null,null,null,null,null,null,null,null,null,null,null,null,null,0,0,0,0,0,0]
[null,null,null,null,null,null,null,null,null,null,null,null,null,null,null,null,null,null,null,null,0,0,0,0,0,0]
[null,null,null,null,null,null,null,null,null,null,null,null,null,null,null,null,null,null,null,null,0,0,0,0,0,0]
[null,null,null,null,null,null,null,null,null,null,null,null,null,null,null,null,null,null,null,null,0,0,0,0,0,0]
[null,null,null,null,null,null,null,null,null,null,null,null,null,null,null,null,null,null,null,null,0,0,0,0,0,0]
[null,null,null,null,null,null,null,null,null,null,null,null,null,null,null,null,null,null,null,null,0,0,0,0,0,0]
[null,null,null,null,null,null,null,null,null,null,null,null,null,null,null,null,null,null,null,null,0,0,0,0,0,0]
[null,null,null,null,null,null,null,null,null,null,null,null,null,null,null,null,null,null,null,null,0,0,0,0,0,0]
[null,null,null,null,null,null,null,null,null,null,null,null,null,null,null,null,null,null,null,null,0,0,0,0,0,0]
[null,null,null,null,null,null,null,null,null,null,null,null,null,null,null,null,null,null,null,null,0,0,0,0,0,0]
[null,null,null,null,null,null,null,null,null,null,null,null,null,null,null,null,null,null,null,null,0,0,0,0,0,0]
[null,null,null,null,null,null,null,null,null,null,null,null,null,null,null,null,null,null,null,null,0,0,0,0,0,0]
[null,null,null,null,null,null,null,null,null,null,null,null,null,null,null,null,null,null,null,null,0,0,0,0,0,0]
[null,null,null,null,null,null,null,null,null,null,null,null,null,null,null,null,null,null,null,null,0,0,0,0,0,0]
[null,null,null,null,null,null,null,null,null,null,null,null,null,null,null,null,null,null,null,null,0,0,0,0,0,0]
[null,null,null,null,null,null,null,null,null,null,null,null,null,null,null,null,null,null,null,null,0,0,0,0,0,0]
[null,null,null,null,null,null,null,null,null,null,null,null,null,null,null,null,null,null,null,null,0,0,0,0,0,0]
[null,null,null,null,null,null,null,null,null,null,null,null,null,null,null,null,null,null,null,null,0,0,0,0,0,0]
[null,null,null,null,null,null,null,null,null,null,null,null,null,null,null,null,null,null,null,null,0,0,0,0,0,0]
[null,null,null,null,null,null,null,null,null,null,null,null,null,null,null,null,null,null,null,null,0,0,0,0,0,0]
[null,null,null,null,null,null,null,null,null,null,null,null,null,null,null,null,null,null,null,null,0,0,0,0,0,0]
[null,null,null,null,null,null,null,null,null,null,null,null,null,null,null,null,null,null,null,null,0,0,0,0,0,0]
[null,null,null,null,null,null,null,null,null,null,null,null,null,null,null,null,null,null,null,null,0,0,0,0,0,0]
[null,null,null,null,null,null,null,null,null,null,null,null,null,null,null,null,null,null,null,null,0,0,0,0,0,0]
[null,null,null,null,null,null,null,null,null,null,null,null,null,null,null,null,null,null,null,null,0,0,0,0,0,0]
[null,null,null,null,null,null,null,null,null,null,null,null,null,null,null,null,null,null,null,null,0,0,0,0,0,0]
[null,null,null,null,null,null,null,null,null,null,null,null,null,null,null,null,null,null,null,null,0,0,0,0,0,0]
[null,null,null,null,null,null,null,null,null,null,null,null,null,null,null,null,null,null,null,null,0,0,0,0,0,0]
[null,null,null,null,null,null,null,null,null,null,null,null,null,null,null,null,null,null,null,null,0,0,0,0,0,0]
[null,null,null,null,null,null,null,null,null,null,null,null,null,null,null,null,null,null,null,null,0,0,0,0,0,0]
[null,null,null,null,null,null,null,null,null,null,null,null,null,null,null,null,null,null,null,null,0,0,0,0,0,0]
[null,null,null,null,null,null,null,null,null,null,null,null,null,null,null,null,null,null,null,null,0,0,0,0,0,0]
[null,null,null,null,null,null,null,null,null,null,null,null,null,null,null,null,null,null,null,null,0,0,0,0,0,0]
[null,null,null,null,null,null,null,null,null,null,null,null,null,null,null,null,null,null,null,null,0,0,0,0,0,0]
[null,null,null,null,null,null,null,null,null,null,null,null,null,null,null,null,null,null,null,null,0,0,0,0,0,0]
[null,null,null,null,null,null,null,null,null,null,null,null,null,null,null,null,null,null,null,null,0,0,0,0,0,0]
[null,null,null,null,null,null,null,null,null,null,null,null,null,null,null,null,null,null,null,null,0,0,0,0,0,0]
[null,null,null,null,null,null,null,null,null,null,null,null,null,null,null,null,null,null,null,null,0,0,0,0,0,0]
[null,null,null,null,null,null,null,null,null,null,null,null,null,null,null,null,null,null,null,null,0,0,0,0,0,0]
[null,null,null,null,null,null,null,null,null,null,null,null,null,null,null,null,null,null,null,null,0,0,0,0,0,0]
[null,null,null,null,null,null,null,null,null,null,null,null,null,null,null,null,null,null,null,null,0,0,0,0,0,0]
[null,null,null,null,null,null,null,null,null,null,null,null,null,null,null,null,null,null,null,null,0,0,0,0,0,0]
[null,null,null,null,null,null,null,null,null,null,null,null,null,null,null,null,null,null,null,null,0,0,0,0,0,0]
[null,null,null,null,null,null,null,null,null,null,null,null,null,null,null,null,null,null,null,null,0,0,0,0,0,0]
[null,null,null,null,null,null,null,null,null,null,null,null,null,null,null,null,null,null,null,null,0,0,0,0,0,0]
[null,null,null,null,null,null,null,null,null,null,null,null,null,null,null,null,null,null,null,null,0,0,0,0,0,0]
[null,null,null,null,null,null,null,null,null,null,null,null,null,null,null,null,null,null,null,null,0,0,0,0,0,0]
[null,null,null,null,null,null,null,null,null,null,null,null,null,null,null,null,null,null,null,null,0,0,0,0,0,0]
[null,null,null,null,null,null,null,null,null,null,null,null,null,null,null,null,null,null,null,null,0,0,0,0,0,0]
[null,null,null,null,null,null,null,null,null,null,null,null,null,null,null,null,null,null,null,null,0,0,0,0,0,0]
[null,null,null,null,null,null,null,null,null,null,null,null,null,null,null,null,null,null,null,null,0,0,0,0,0,0]
[null,null,null,null,null,null,null,null,null,null,null,null,null,null,null,null,null,null,null,null,0,0,0,0,0,0]
[null,null,null,null,null,null,null,null,null,null,null,null,null,null,null,null,null,null,null,null,0,0,0,0,0,0]
[null,null,null,null,null,null,null,null,null,null,null,null,null,null,null,null,null,null,null,null,0,0,0,0,0,0]
[null,null,null,null,null,null,null,null,null,null,null,null,null,null,null,null,null,null,null,null,{"$f":"IF(C771=1,IF(R771=TRUE,1,0),0)","v":0},{"$f":"IF(C771=1,IF(R771=TRUE,Q771,0),0)","v":0},{"$f":"IF(C771=2,IF(R771=TRUE,1,0),0)","v":0},{"$f":"IF(C771=2,IF(R771=TRUE,Q771,0),0)","v":0},{"$f":"IF(C771=3,IF(R771=TRUE,1,0),0)","v":0},{"$f":"IF(C771=3,IF(R771=TRUE,Q771,0),0)","v":0}]
[null,null,null,null,null,null,null,null,null,null,null,null,null,null,null,null,null,null,null,null,0,0,0,0,0,0]
[null,null,null,null,null,null,null,null,null,null,null,null,null,null,null,null,null,null,null,null,0,0,0,0,0,0]
[null,null,null,null,null,null,null,null,null,null,null,null,null,null,null,null,null,null,null,null,0,0,0,0,0,0]
[null,null,null,null,null,null,null,null,null,null,null,null,null,null,null,null,null,null,null,null,0,0,0,0,0,0]
[null,null,null,null,null,null,null,null,null,null,null,null,null,null,null,null,null,null,null,null,0,0,0,0,0,0]
[null,null,null,null,null,null,null,null,null,null,null,null,null,null,null,null,null,null,null,null,0,0,0,0,0,0]
[null,null,null,null,null,null,null,null,null,null,null,null,null,null,null,null,null,null,null,null,0,0,0,0,0,0]
[null,null,null,null,null,null,null,null,null,null,null,null,null,null,null,null,null,null,null,null,0,0,0,0,0,0]
[null,null,null,null,null,null,null,null,null,null,null,null,null,null,null,null,null,null,null,null,0,0,0,0,0,0]
[null,null,null,null,null,null,null,null,null,null,null,null,null,null,null,null,null,null,null,null,0,0,0,0,0,0]
[null,null,null,null,null,null,null,null,null,null,null,null,null,null,null,null,null,null,null,null,0,0,0,0,0,0]
[null,null,null,null,null,null,null,null,null,null,null,null,null,null,null,null,null,null,null,null,0,0,0,0,0,0]
[null,null,null,null,null,null,null,null,null,null,null,null,null,null,null,null,null,null,null,null,0,0,0,0,0,0]
[null,null,null,null,null,null,null,null,null,null,null,null,null,null,null,null,null,null,null,null,0,0,0,0,0,0]
[null,null,null,null,null,null,null,null,null,null,null,null,null,null,null,null,null,null,null,null,0,0,0,0,0,0]
[null,null,null,null,null,null,null,null,null,null,null,null,null,null,null,null,null,null,null,null,0,0,0,0,0,0]
[null,null,null,null,null,null,null,null,null,null,null,null,null,null,null,null,null,null,null,null,0,0,0,0,0,0]
[null,null,null,null,null,null,null,null,null,null,null,null,null,null,null,null,null,null,null,null,0,0,0,0,0,0]
[null,null,null,null,null,null,null,null,null,null,null,null,null,null,null,null,null,null,null,null,0,0,0,0,0,0]
[null,null,null,null,null,null,null,null,null,null,null,null,null,null,null,null,null,null,null,null,0,0,0,0,0,0]
[null,null,null,null,null,null,null,null,null,null,null,null,null,null,null,null,null,null,null,null,0,0,0,0,0,0]
[null,null,null,null,null,null,null,null,null,null,null,null,null,null,null,null,null,null,null,null,0,0,0,0,0,0]
[null,null,null,null,null,null,null,null,null,null,null,null,null,null,null,null,null,null,null,null,0,0,0,0,0,0]
[null,null,null,null,null,null,null,null,null,null,null,null,null,null,null,null,null,null,null,null,0,0,0,0,0,0]
[null,null,null,null,null,null,null,null,null,null,null,null,null,null,null,null,null,null,null,null,0,0,0,0,0,0]
[null,null,null,null,null,null,null,null,null,null,null,null,null,null,null,null,null,null,null,null,0,0,0,0,0,0]
[null,null,null,null,null,null,null,null,null,null,null,null,null,null,null,null,null,null,null,null,0,0,0,0,0,0]
[null,null,null,null,null,null,null,null,null,null,null,null,null,null,null,null,null,null,null,null,0,0,0,0,0,0]
[null,null,null,null,null,null,null,null,null,null,null,null,null,null,null,null,null,null,null,null,0,0,0,0,0,0]
[null,null,null,null,null,null,null,null,null,null,null,null,null,null,null,null,null,null,null,null,0,0,0,0,0,0]
[null,null,null,null,null,null,null,null,null,null,null,null,null,null,null,null,null,null,null,null,0,0,0,0,0,0]
[null,null,null,null,null,null,null,null,null,null,null,null,null,null,null,null,null,null,null,null,0,0,0,0,0,0]
[null,null,null,null,null,null,null,null,null,null,null,null,null,null,null,null,null,null,null,null,0,0,0,0,0,0]
[null,null,null,null,null,null,null,null,null,null,null,null,null,null,null,null,null,null,null,null,0,0,0,0,0,0]
[null,null,null,null,null,null,null,null,null,null,null,null,null,null,null,null,null,null,null,null,0,0,0,0,0,0]
[null,null,null,null,null,null,null,null,null,null,null,null,null,null,null,null,null,null,null,null,0,0,0,0,0,0]
[null,null,null,null,null,null,null,null,null,null,null,null,null,null,null,null,null,null,null,null,0,0,0,0,0,0]
[null,null,null,null,null,null,null,null,null,null,null,null,null,null,null,null,null,null,null,null,0,0,0,0,0,0]
[null,null,null,null,null,null,null,null,null,null,null,null,null,null,null,null,null,null,null,null,0,0,0,0,0,0]
[null,null,null,null,null,null,null,null,null,null,null,null,null,null,null,null,null,null,null,null,0,0,0,0,0,0]
[null,null,null,null,null,null,null,null,null,null,null,null,null,null,null,null,null,null,null,null,0,0,0,0,0,0]
[null,null,null,null,null,null,null,null,null,null,null,null,null,null,null,null,null,null,null,null,0,0,0,0,0,0]
[null,null,null,null,null,null,null,null,null,null,null,null,null,null,null,null,null,null,null,null,0,0,0,0,0,0]
[null,null,null,null,null,null,null,null,null,null,null,null,null,null,null,null,null,null,null,null,0,0,0,0,0,0]
[null,null,null,null,null,null,null,null,null,null,null,null,null,null,null,null,null,null,null,null,0,0,0,0,0,0]
[null,null,null,null,null,null,null,null,null,null,null,null,null,null,null,null,null,null,null,null,0,0,0,0,0,0]
[null,null,null,null,null,null,null,null,null,null,null,null,null,null,null,null,null,null,null,null,0,0,0,0,0,0]
[null,null,null,null,null,null,null,null,null,null,null,null,null,null,null,null,null,null,null,null,0,0,0,0,0,0]
[null,null,null,null,null,null,null,null,null,null,null,null,null,null,null,null,null,null,null,null,0,0,0,0,0,0]
[null,null,null,null,null,null,null,null,null,null,null,null,null,null,null,null,null,null,null,null,0,0,0,0,0,0]
[null,null,null,null,null,null,null,null,null,null,null,null,null,null,null,null,null,null,null,null,0,0,0,0,0,0]
[null,null,null,null,null,null,null,null,null,null,null,null,null,null,null,null,null,null,null,null,0,0,0,0,0,0]
[null,null,null,null,null,null,null,null,null,null,null,null,null,null,null,null,null,null,null,null,0,0,0,0,0,0]
[null,null,null,null,null,null,null,null,null,null,null,null,null,null,null,null,null,null,null,null,0,0,0,0,0,0]
[null,null,null,null,null,null,null,null,null,null,null,null,null,null,null,null,null,null,null,null,0,0,0,0,0,0]
[null,null,null,null,null,null,null,null,null,null,null,null,null,null,null,null,null,null,null,null,0,0,0,0,0,0]
[null,null,null,null,null,null,null,null,null,null,null,null,null,null,null,null,null,null,null,null,0,0,0,0,0,0]
[null,null,null,null,null,null,null,null,null,null,null,null,null,null,null,null,null,null,null,null,0,0,0,0,0,0]
[null,null,null,null,null,null,null,null,null,null,null,null,null,null,null,null,null,null,null,null,0,0,0,0,0,0]
[null,null,null,null,null,null,null,null,null,null,null,null,null,null,null,null,null,null,null,null,0,0,0,0,0,0]
[null,null,null,null,null,null,null,null,null,null,null,null,null,null,null,null,null,null,null,null,0,0,0,0,0,0]
[null,null,null,null,null,null,null,null,null,null,null,null,null,null,null,null,null,null,null,null,0,0,0,0,0,0]
[null,null,null,null,null,null,null,null,null,null,null,null,null,null,null,null,null,null,null,null,0,0,0,0,0,0]
[null,null,null,null,null,null,null,null,null,null,null,null,null,null,null,null,null,null,null,null,{"$f":"IF(C835=1,IF(R835=TRUE,1,0),0)","v":0},{"$f":"IF(C835=1,IF(R835=TRUE,Q835,0),0)","v":0},{"$f":"IF(C835=2,IF(R835=TRUE,1,0),0)","v":0},{"$f":"IF(C835=2,IF(R835=TRUE,Q835,0),0)","v":0},{"$f":"IF(C835=3,IF(R835=TRUE,1,0),0)","v":0},{"$f":"IF(C835=3,IF(R835=TRUE,Q835,0),0)","v":0}]
[null,null,null,null,null,null,null,null,null,null,null,null,null,null,null,null,null,null,null,null,0,0,0,0,0,0]
[null,null,null,null,null,null,null,null,null,null,null,null,null,null,null,null,null,null,null,null,0,0,0,0,0,0]
[null,null,null,null,null,null,null,null,null,null,null,null,null,null,null,null,null,null,null,null,0,0,0,0,0,0]
[null,null,null,null,null,null,null,null,null,null,null,null,null,null,null,null,null,null,null,null,0,0,0,0,0,0]
[null,null,null,null,null,null,null,null,null,null,null,null,null,null,null,null,null,null,null,null,0,0,0,0,0,0]
[null,null,null,null,null,null,null,null,null,null,null,null,null,null,null,null,null,null,null,null,0,0,0,0,0,0]
[null,null,null,null,null,null,null,null,null,null,null,null,null,null,null,null,null,null,null,null,0,0,0,0,0,0]
[null,null,null,null,null,null,null,null,null,null,null,null,null,null,null,null,null,null,null,null,0,0,0,0,0,0]
[null,null,null,null,null,null,null,null,null,null,null,null,null,null,null,null,null,null,null,null,0,0,0,0,0,0]
[null,null,null,null,null,null,null,null,null,null,null,null,null,null,null,null,null,null,null,null,0,0,0,0,0,0]
[null,null,null,null,null,null,null,null,null,null,null,null,null,null,null,null,null,null,null,null,0,0,0,0,0,0]
[null,null,null,null,null,null,null,null,null,null,null,null,null,null,null,null,null,null,null,null,0,0,0,0,0,0]
[null,null,null,null,null,null,null,null,null,null,null,null,null,null,null,null,null,null,null,null,0,0,0,0,0,0]
[null,null,null,null,null,null,null,null,null,null,null,null,null,null,null,null,null,null,null,null,0,0,0,0,0,0]
[null,null,null,null,null,null,null,null,null,null,null,null,null,null,null,null,null,null,null,null,0,0,0,0,0,0]
[null,null,null,null,null,null,null,null,null,null,null,null,null,null,null,null,null,null,null,null,0,0,0,0,0,0]
[null,null,null,null,null,null,null,null,null,null,null,null,null,null,null,null,null,null,null,null,0,0,0,0,0,0]
[null,null,null,null,null,null,null,null,null,null,null,null,null,null,null,null,null,null,null,null,0,0,0,0,0,0]
[null,null,null,null,null,null,null,null,null,null,null,null,null,null,null,null,null,null,null,null,0,0,0,0,0,0]
[null,null,null,null,null,null,null,null,null,null,null,null,null,null,null,null,null,null,null,null,0,0,0,0,0,0]
[null,null,null,null,null,null,null,null,null,null,null,null,null,null,null,null,null,null,null,null,0,0,0,0,0,0]
[null,null,null,null,null,null,null,null,null,null,null,null,null,null,null,null,null,null,null,null,0,0,0,0,0,0]
[null,null,null,null,null,null,null,null,null,null,null,null,null,null,null,null,null,null,null,null,0,0,0,0,0,0]
[null,null,null,null,null,null,null,null,null,null,null,null,null,null,null,null,null,null,null,null,0,0,0,0,0,0]
[null,null,null,null,null,null,null,null,null,null,null,null,null,null,null,null,null,null,null,null,0,0,0,0,0,0]
[null,null,null,null,null,null,null,null,null,null,null,null,null,null,null,null,null,null,null,null,0,0,0,0,0,0]
[null,null,null,null,null,null,null,null,null,null,null,null,null,null,null,null,null,null,null,null,0,0,0,0,0,0]
[null,null,null,null,null,null,null,null,null,null,null,null,null,null,null,null,null,null,null,null,0,0,0,0,0,0]
[null,null,null,null,null,null,null,null,null,null,null,null,null,null,null,null,null,null,null,null,0,0,0,0,0,0]
[null,null,null,null,null,null,null,null,null,null,null,null,null,null,null,null,null,null,null,null,0,0,0,0,0,0]
[null,null,null,null,null,null,null,null,null,null,null,null,null,null,null,null,null,null,null,null,0,0,0,0,0,0]
[null,null,null,null,null,null,null,null,null,null,null,null,null,null,null,null,null,null,null,null,0,0,0,0,0,0]
[null,null,null,null,null,null,null,null,null,null,null,null,null,null,null,null,null,null,null,null,0,0,0,0,0,0]
[null,null,null,null,null,null,null,null,null,null,null,null,null,null,null,null,null,null,null,null,0,0,0,0,0,0]
[null,null,null,null,null,null,null,null,null,null,null,null,null,null,null,null,null,null,null,null,0,0,0,0,0,0]
[null,null,null,null,null,null,null,null,null,null,null,null,null,null,null,null,null,null,null,null,0,0,0,0,0,0]
[null,null,null,null,null,null,null,null,null,null,null,null,null,null,null,null,null,null,null,null,0,0,0,0,0,0]
[null,null,null,null,null,null,null,null,null,null,null,null,null,null,null,null,null,null,null,null,0,0,0,0,0,0]
[null,null,null,null,null,null,null,null,null,null,null,null,null,null,null,null,null,null,null,null,0,0,0,0,0,0]
[null,null,null,null,null,null,null,null,null,null,null,null,null,null,null,null,null,null,null,null,0,0,0,0,0,0]
[null,null,null,null,null,null,null,null,null,null,null,null,null,null,null,null,null,null,null,null,0,0,0,0,0,0]
[null,null,null,null,null,null,null,null,null,null,null,null,null,null,null,null,null,null,null,null,0,0,0,0,0,0]
[null,null,null,null,null,null,null,null,null,null,null,null,null,null,null,null,null,null,null,null,0,0,0,0,0,0]
[null,null,null,null,null,null,null,null,null,null,null,null,null,null,null,null,null,null,null,null,0,0,0,0,0,0]
[null,null,null,null,null,null,null,null,null,null,null,null,null,null,null,null,null,null,null,null,0,0,0,0,0,0]
[null,null,null,null,null,null,null,null,null,null,null,null,null,null,null,null,null,null,null,null,0,0,0,0,0,0]
[null,null,null,null,null,null,null,null,null,null,null,null,null,null,null,null,null,null,null,null,0,0,0,0,0,0]
[null,null,null,null,null,null,null,null,null,null,null,null,null,null,null,null,null,null,null,null,0,0,0,0,0,0]
[null,null,null,null,null,null,null,null,null,null,null,null,null,null,null,null,null,null,null,null,0,0,0,0,0,0]
[null,null,null,null,null,null,null,null,null,null,null,null,null,null,null,null,null,null,null,null,0,0,0,0,0,0]
[null,null,null,null,null,null,null,null,null,null,null,null,null,null,null,null,null,null,null,null,0,0,0,0,0,0]
[null,null,null,null,null,null,null,null,null,null,null,null,null,null,null,null,null,null,null,null,0,0,0,0,0,0]
[null,null,null,null,null,null,null,null,null,null,null,null,null,null,null,null,null,null,null,null,0,0,0,0,0,0]
[null,null,null,null,null,null,null,null,null,null,null,null,null,null,null,null,null,null,null,null,0,0,0,0,0,0]
[null,null,null,null,null,null,null,null,null,null,null,null,null,null,null,null,null,null,null,null,0,0,0,0,0,0]
[null,null,null,null,null,null,null,null,null,null,null,null,null,null,null,null,null,null,null,null,0,0,0,0,0,0]
[null,null,null,null,null,null,null,null,null,null,null,null,null,null,null,null,null,null,null,null,0,0,0,0,0,0]
[null,null,null,null,null,null,null,null,null,null,null,null,null,null,null,null,null,null,null,null,0,0,0,0,0,0]
[null,null,null,null,null,null,null,null,null,null,null,null,null,null,null,null,null,null,null,null,0,0,0,0,0,0]
[null,null,null,null,null,null,null,null,null,null,null,null,null,null,null,null,null,null,null,null,0,0,0,0,0,0]
[null,null,null,null,null,null,null,null,null,null,null,null,null,null,null,null,null,null,null,null,0,0,0,0,0,0]
[null,null,null,null,null,null,null,null,null,null,null,null,null,null,null,null,null,null,null,null,0,0,0,0,0,0]
[null,null,null,null,null,null,null,null,null,null,null,null,null,null,null,null,null,null,null,null,0,0,0,0,0,0]
[null,null,null,null,null,null,null,null,null,null,null,null,null,null,null,null,null,null,null,null,{"$f":"IF(C899=1,IF(R899=TRUE,1,0),0)","v":0},{"$f":"IF(C899=1,IF(R899=TRUE,Q899,0),0)","v":0},{"$f":"IF(C899=2,IF(R899=TRUE,1,0),0)","v":0},{"$f":"IF(C899=2,IF(R899=TRUE,Q899,0),0)","v":0},{"$f":"IF(C899=3,IF(R899=TRUE,1,0),0)","v":0},{"$f":"IF(C899=3,IF(R899=TRUE,Q899,0),0)","v":0}]
[null,null,null,null,null,null,null,null,null,null,null,null,null,null,null,null,null,null,null,null,0,0,0,0,0,0]
[null,null,null,null,null,null,null,null,null,null,null,null,null,null,null,null,null,null,null,null,0,0,0,0,0,0]
[null,null,null,null,null,null,null,null,null,null,null,null,null,null,null,null,null,null,null,null,0,0,0,0,0,0]
[null,null,null,null,null,null,null,null,null,null,null,null,null,null,null,null,null,null,null,null,0,0,0,0,0,0]
[null,null,null,null,null,null,null,null,null,null,null,null,null,null,null,null,null,null,null,null,0,0,0,0,0,0]
[null,null,null,null,null,null,null,null,null,null,null,null,null,null,null,null,null,null,null,null,0,0,0,0,0,0]
[null,null,null,null,null,null,null,null,null,null,null,null,null,null,null,null,null,null,null,null,0,0,0,0,0,0]
[null,null,null,null,null,null,null,null,null,null,null,null,null,null,null,null,null,null,null,null,0,0,0,0,0,0]
[null,null,null,null,null,null,null,null,null,null,null,null,null,null,null,null,null,null,null,null,0,0,0,0,0,0]
[null,null,null,null,null,null,null,null,null,null,null,null,null,null,null,null,null,null,null,null,0,0,0,0,0,0]
[null,null,null,null,null,null,null,null,null,null,null,null,null,null,null,null,null,null,null,null,0,0,0,0,0,0]
[null,null,null,null,null,null,null,null,null,null,null,null,null,null,null,null,null,null,null,null,0,0,0,0,0,0]
[null,null,null,null,null,null,null,null,null,null,null,null,null,null,null,null,null,null,null,null,0,0,0,0,0,0]
[null,null,null,null,null,null,null,null,null,null,null,null,null,null,null,null,null,null,null,null,0,0,0,0,0,0]
[null,null,null,null,null,null,null,null,null,null,null,null,null,null,null,null,null,null,null,null,0,0,0,0,0,0]
[null,null,null,null,null,null,null,null,null,null,null,null,null,null,null,null,null,null,null,null,0,0,0,0,0,0]
[null,null,null,null,null,null,null,null,null,null,null,null,null,null,null,null,null,null,null,null,0,0,0,0,0,0]
[null,null,null,null,null,null,null,null,null,null,null,null,null,null,null,null,null,null,null,null,0,0,0,0,0,0]
[null,null,null,null,null,null,null,null,null,null,null,null,null,null,null,null,null,null,null,null,0,0,0,0,0,0]
[null,null,null,null,null,null,null,null,null,null,null,null,null,null,null,null,null,null,null,null,0,0,0,0,0,0]
[null,null,null,null,null,null,null,null,null,null,null,null,null,null,null,null,null,null,null,null,0,0,0,0,0,0]
[null,null,null,null,null,null,null,null,null,null,null,null,null,null,null,null,null,null,null,null,0,0,0,0,0,0]
[null,null,null,null,null,null,null,null,null,null,null,null,null,null,null,null,null,null,null,null,0,0,0,0,0,0]
[null,null,null,null,null,null,null,null,null,null,null,null,null,null,null,null,null,null,null,null,0,0,0,0,0,0]
[null,null,null,null,null,null,null,null,null,null,null,null,null,null,null,null,null,null,null,null,0,0,0,0,0,0]
[null,null,null,null,null,null,null,null,null,null,null,null,null,null,null,null,null,null,null,null,0,0,0,0,0,0]
[null,null,null,null,null,null,null,null,null,null,null,null,null,null,null,null,null,null,null,null,0,0,0,0,0,0]
[null,null,null,null,null,null,null,null,null,null,null,null,null,null,null,null,null,null,null,null,0,0,0,0,0,0]
[null,null,null,null,null,null,null,null,null,null,null,null,null,null,null,null,null,null,null,null,0,0,0,0,0,0]
[null,null,null,null,null,null,null,null,null,null,null,null,null,null,null,null,null,null,null,null,0,0,0,0,0,0]
[null,null,null,null,null,null,null,null,null,null,null,null,null,null,null,null,null,null,null,null,0,0,0,0,0,0]
[null,null,null,null,null,null,null,null,null,null,null,null,null,null,null,null,null,null,null,null,0,0,0,0,0,0]
[null,null,null,null,null,null,null,null,null,null,null,null,null,null,null,null,null,null,null,null,0,0,0,0,0,0]
[null,null,null,null,null,null,null,null,null,null,null,null,null,null,null,null,null,null,null,null,0,0,0,0,0,0]
[null,null,null,null,null,null,null,null,null,null,null,null,null,null,null,null,null,null,null,null,0,0,0,0,0,0]
[null,null,null,null,null,null,null,null,null,null,null,null,null,null,null,null,null,null,null,null,0,0,0,0,0,0]
[null,null,null,null,null,null,null,null,null,null,null,null,null,null,null,null,null,null,null,null,0,0,0,0,0,0]
[null,null,null,null,null,null,null,null,null,null,null,null,null,null,null,null,null,null,null,null,0,0,0,0,0,0]
[null,null,null,null,null,null,null,null,null,null,null,null,null,null,null,null,null,null,null,null,0,0,0,0,0,0]
[null,null,null,null,null,null,null,null,null,null,null,null,null,null,null,null,null,null,null,null,0,0,0,0,0,0]
[null,null,null,null,null,null,null,null,null,null,null,null,null,null,null,null,null,null,null,null,0,0,0,0,0,0]
[null,null,null,null,null,null,null,null,null,null,null,null,null,null,null,null,null,null,null,null,0,0,0,0,0,0]
[null,null,null,null,null,null,null,null,null,null,null,null,null,null,null,null,null,null,null,null,0,0,0,0,0,0]
[null,null,null,null,null,null,null,null,null,null,null,null,null,null,null,null,null,null,null,null,0,0,0,0,0,0]
[null,null,null,null,null,null,null,null,null,null,null,null,null,null,null,null,null,null,null,null,0,0,0,0,0,0]
[null,null,null,null,null,null,null,null,null,null,null,null,null,null,null,null,null,null,null,null,0,0,0,0,0,0]
[null,null,null,null,null,null,null,null,null,null,null,null,null,null,null,null,null,null,null,null,0,0,0,0,0,0]
[null,null,null,null,null,null,null,null,null,null,null,null,null,null,null,null,null,null,null,null,0,0,0,0,0,0]
[null,null,null,null,null,null,null,null,null,null,null,null,null,null,null,null,null,null,null,null,0,0,0,0,0,0]
[null,null,null,null,null,null,null,null,null,null,null,null,null,null,null,null,null,null,null,null,0,0,0,0,0,0]
[null,null,null,null,null,null,null,null,null,null,null,null,null,null,null,null,null,null,null,null,0,0,0,0,0,0]
[null,null,null,null,null,null,null,null,null,null,null,null,null,null,null,null,null,null,null,null,0,0,0,0,0,0]
[null,null,null,null,null,null,null,null,null,null,null,null,null,null,null,null,null,null,null,null,0,0,0,0,0,0]
[null,null,null,null,null,null,null,null,null,null,null,null,null,null,null,null,null,null,null,null,0,0,0,0,0,0]
[null,null,null,null,null,null,null,null,null,null,null,null,null,null,null,null,null,null,null,null,0,0,0,0,0,0]
[null,null,null,null,null,null,null,null,null,null,null,null,null,null,null,null,null,null,null,null,0,0,0,0,0,0]
[null,null,null,null,null,null,null,null,null,null,null,null,null,null,null,null,null,null,null,null,0,0,0,0,0,0]
[null,null,null,null,null,null,null,null,null,null,null,null,null,null,null,null,null,null,null,null,0,0,0,0,0,0]
[null,null,null,null,null,null,null,null,null,null,null,null,null,null,null,null,null,null,null,null,0,0,0,0,0,0]
[null,null,null,null,null,null,null,null,null,null,null,null,null,null,null,null,null,null,null,null,0,0,0,0,0,0]
[null,null,null,null,null,null,null,null,null,null,null,null,null,null,null,null,null,null,null,null,0,0,0,0,0,0]
[null,null,null,null,null,null,null,null,null,null,null,null,null,null,null,null,null,null,null,null,0,0,0,0,0,0]
[null,null,null,null,null,null,null,null,null,null,null,null,null,null,null,null,null,null,null,null,0,0,0,0,0,0]
[null,null,null,null,null,null,null,null,null,null,null,null,null,null,null,null,null,null,null,null,{"$f":"IF(C963=1,IF(R963=TRUE,1,0),0)","v":0},{"$f":"IF(C963=1,IF(R963=TRUE,Q963,0),0)","v":0},{"$f":"IF(C963=2,IF(R963=TRUE,1,0),0)","v":0},{"$f":"IF(C963=2,IF(R963=TRUE,Q963,0),0)","v":0},{"$f":"IF(C963=3,IF(R963=TRUE,1,0),0)","v":0},{"$f":"IF(C963=3,IF(R963=TRUE,Q963,0),0)","v":0}]
[null,null,null,null,null,null,null,null,null,null,null,null,null,null,null,null,null,null,null,null,0,0,0,0,0,0]
[null,null,null,null,null,null,null,null,null,null,null,null,null,null,null,null,null,null,null,null,0,0,0,0,0,0]
[null,null,null,null,null,null,null,null,null,null,null,null,null,null,null,null,null,null,null,null,0,0,0,0,0,0]
[null,null,null,null,null,null,null,null,null,null,null,null,null,null,null,null,null,null,null,null,0,0,0,0,0,0]
[null,null,null,null,null,null,null,null,null,null,null,null,null,null,null,null,null,null,null,null,0,0,0,0,0,0]
[null,null,null,null,null,null,null,null,null,null,null,null,null,null,null,null,null,null,null,null,0,0,0,0,0,0]
[null,null,null,null,null,null,null,null,null,null,null,null,null,null,null,null,null,null,null,null,0,0,0,0,0,0]
[null,null,null,null,null,null,null,null,null,null,null,null,null,null,null,null,null,null,null,null,0,0,0,0,0,0]
[null,null,null,null,null,null,null,null,null,null,null,null,null,null,null,null,null,null,null,null,0,0,0,0,0,0]
[null,null,null,null,null,null,null,null,null,null,null,null,null,null,null,null,null,null,null,null,0,0,0,0,0,0]
[null,null,null,null,null,null,null,null,null,null,null,null,null,null,null,null,null,null,null,null,0,0,0,0,0,0]
[null,null,null,null,null,null,null,null,null,null,null,null,null,null,null,null,null,null,null,null,0,0,0,0,0,0]
[null,null,null,null,null,null,null,null,null,null,null,null,null,null,null,null,null,null,null,null,0,0,0,0,0,0]
[null,null,null,null,null,null,null,null,null,null,null,null,null,null,null,null,null,null,null,null,0,0,0,0,0,0]
[null,null,null,null,null,null,null,null,null,null,null,null,null,null,null,null,null,null,null,null,0,0,0,0,0,0]
[null,null,null,null,null,null,null,null,null,null,null,null,null,null,null,null,null,null,null,null,0,0,0,0,0,0]
[null,null,null,null,null,null,null,null,null,null,null,null,null,null,null,null,null,null,null,null,0,0,0,0,0,0]
[null,null,null,null,null,null,null,null,null,null,null,null,null,null,null,null,null,null,null,null,0,0,0,0,0,0]
[null,null,null,null,null,null,null,null,null,null,null,null,null,null,null,null,null,null,null,null,0,0,0,0,0,0]
[null,null,null,null,null,null,null,null,null,null,null,null,null,null,null,null,null,null,null,null,0,0,0,0,0,0]
[null,null,null,null,null,null,null,null,null,null,null,null,null,null,null,null,null,null,null,null,0,0,0,0,0,0]
[null,null,null,null,null,null,null,null,null,null,null,null,null,null,null,null,null,null,null,null,0,0,0,0,0,0]
[null,null,null,null,null,null,null,null,null,null,null,null,null,null,null,null,null,null,null,null,0,0,0,0,0,0]
[null,null,null,null,null,null,null,null,null,null,null,null,null,null,null,null,null,null,null,null,0,0,0,0,0,0]
[null,null,null,null,null,null,null,null,null,null,null,null,null,null,null,null,null,null,null,null,0,0,0,0,0,0]
[null,null,null,null,null,null,null,null,null,null,null,null,null,null,null,null,null,null,null,null,0,0,0,0,0,0]
[null,null,null,null,null,null,null,null,null,null,null,null,null,null,null,null,null,null,null,null,0,0,0,0,0,0]
[null,null,null,null,null,null,null,null,null,null,null,null,null,null,null,null,null,null,null,null,0,0,0,0,0,0]
[null,null,null,null,null,null,null,null,null,null,null,null,null,null,null,null,null,null,null,null,0,0,0,0,0,0]
[null,null,null,null,null,null,null,null,null,null,null,null,null,null,null,null,null,null,null,null,0,0,0,0,0,0]
[null,null,null,null,null,null,null,null,null,null,null,null,null,null,null,null,null,null,null,null,0,0,0,0,0,0]
[null,null,null,null,null,null,null,null,null,null,null,null,null,null,null,null,null,null,null,null,0,0,0,0,0,0]
[null,null,null,null,null,null,null,null,null,null,null,null,null,null,null,null,null,null,null,null,0,0,0,0,0,0]
[null,null,null,null,null,null,null,null,null,null,null,null,null,null,null,null,null,null,null,null,0,0,0,0,0,0]
[null,null,null,null,null,null,null,null,null,null,null,null,null,null,null,null,null,null,null,null,0,0,0,0,0,0]
[null,null,null,null,null,null,null,null,null,null,null,null,null,null,null,null,null,null,null,null,0,0,0,0,0,0]

{"sheet":"HouseholdSummary","index":11,"n_rows":19,"n_cols":20,"rows_kept":19,"cut":false,"hidden":true,"merged":[]}
["Income Level","Generation Rate","Population","Total MSW",null,"% food",null,"QTY1","QTY2","QTY3","QTY4","QTY5","QTY6","QTY7","QTY8","QTY9","QTY10","QTY11","QTY12"]
["High",{"$f":"IncomeLevelComposition!AC2","v":0},{"$f":"Survey!B6","v":0},{"$f":"B2*C2/1000","v":0},null,{"$f":"IF(T2=0,0,H2/T2)","v":0},null,{"$f":"$D2*IncomeLevelComposition!O2/100","v":0},{"$f":"$D2*IncomeLevelComposition!P2/100","v":0},{"$f":"$D2*IncomeLevelComposition!Q2/100","v":0},{"$f":"$D2*IncomeLevelComposition!R2/100","v":0},{"$f":"$D2*IncomeLevelComposition!S2/100","v":0},{"$f":"$D2*IncomeLevelComposition!T2/100","v":0},{"$f":"$D2*IncomeLevelComposition!U2/100","v":0},{"$f":"$D2*IncomeLevelComposition!V2/100","v":0},{"$f":"$D2*IncomeLevelComposition!W2/100","v":0},{"$f":"$D2*IncomeLevelComposition!X2/100","v":0},{"$f":"$D2*IncomeLevelComposition!Y2/100","v":0},{"$f":"$D2*IncomeLevelComposition!Z2/100","v":0},{"$f":"SUM(H2:S2)","v":0}]
["Middle",{"$f":"IncomeLevelComposition!AC3","v":0},{"$f":"Survey!B7","v":0},{"$f":"B3*C3/1000","v":0},null,{"$f":"IF(T3=0,0,H3/T3)","v":0},null,{"$f":"$D3*IncomeLevelComposition!O3/100","v":0},{"$f":"$D3*IncomeLevelComposition!P3/100","v":0},{"$f":"$D3*IncomeLevelComposition!Q3/100","v":0},{"$f":"$D3*IncomeLevelComposition!R3/100","v":0},{"$f":"$D3*IncomeLevelComposition!S3/100","v":0},{"$f":"$D3*IncomeLevelComposition!T3/100","v":0},{"$f":"$D3*IncomeLevelComposition!U3/100","v":0},{"$f":"$D3*IncomeLevelComposition!V3/100","v":0},{"$f":"$D3*IncomeLevelComposition!W3/100","v":0},{"$f":"$D3*IncomeLevelComposition!X3/100","v":0},{"$f":"$D3*IncomeLevelComposition!Y3/100","v":0},{"$f":"$D3*IncomeLevelComposition!Z3/100","v":0},{"$f":"SUM(H3:S3)","v":0}]
["Low",{"$f":"IncomeLevelComposition!AC4","v":0},{"$f":"Survey!B8","v":0},0,null,0,null,{"$f":"$D4*IncomeLevelComposition!O4/100","v":0},{"$f":"$D4*IncomeLevelComposition!P4/100","v":0},{"$f":"$D4*IncomeLevelComposition!Q4/100","v":0},{"$f":"$D4*IncomeLevelComposition!R4/100","v":0},{"$f":"$D4*IncomeLevelComposition!S4/100","v":0},{"$f":"$D4*IncomeLevelComposition!T4/100","v":0},{"$f":"$D4*IncomeLevelComposition!U4/100","v":0},{"$f":"$D4*IncomeLevelComposition!V4/100","v":0},{"$f":"$D4*IncomeLevelComposition!W4/100","v":0},{"$f":"$D4*IncomeLevelComposition!X4/100","v":0},{"$f":"$D4*IncomeLevelComposition!Y4/100","v":0},{"$f":"$D4*IncomeLevelComposition!Z4/100","v":0},0]
["Total",{"$f":"IF(C5=0,0,D5/C5*1000)","v":0},{"$f":"SUM(C2:C4)","v":0},{"$f":"SUM(D2:D4)","v":0},"Average",{"$f":"IF(SUM(F2:F4)>0, AVERAGE(F2:F4), 0)","v":0},null,{"$f":"SUM(H2:H4)","v":0},0,0,0,0,0,0,0,0,0,0,0,{"$f":"SUM(T2:T4)","v":0}]
["Incomplete",{"$f":"SUM(B2:B4)/B8","v":{"$error":"#DIV/0!"}},{"$f":"SUM(C2:C4)","v":0},{"$error":"#DIV/0!"}]
[]
["Dividend",{"$f":"(IF(B2<>0,1,0) +IF(B3<>0,1,0)+IF(B4<>0,1,0))","v":0}]
[]
["Collection",{"$f":"Application!M6","v":0}]
["Net received at disposal facilities",7,{"$f":"IF(B10=0,\"\",(B11+B14)/B10*100)","v":""},"percent"]
["Net received at controlled disposal facilities",7,{"$f":"IF(B10=0,\"\",(B12+B15)/B10*100)","v":""},"percent"]
[]
["Net received into recovery system",{"$f":"Facilities!W2","v":0}]
["Net received into controlled recovery system",{"$f":"Facilities!W3","v":0}]
[]
["Recycling rate",{"$f":"IF(B10=0, 0, B14/B10*100)","v":0}]
[]
["NHH MSW",{"$f":"NonHouseholds!U13","v":0}]

{"sheet":"HHdashboard","index":12,"n_rows":23,"n_cols":15,"rows_kept":23,"cut":false,"hidden":true,"merged":[]}
[]
[]
[]
[]
[]
[]
[]
[]
[]
[]
[]
[]
[]
[]
[]
[]
[]
[]
[]
[null,null,null,"Generation rate kg/p/day",{"$f":"HouseholdSummary!B2","v":0},null,null,null,"Generation rate kg/p/day",{"$f":"HouseholdSummary!B3","v":0},null,null,null,"Generation rate kg/p/day",{"$f":"HouseholdSummary!B4","v":0}]
[null,null,null,"Population",{"$f":"HouseholdSummary!C2","v":0},null,null,null,"Population",{"$f":"HouseholdSummary!C3","v":0},null,null,null,"Population",{"$f":"HouseholdSummary!C4","v":0}]
[null,null,null,"Total MSW Generation (t/day)",{"$f":"HouseholdSummary!D2","v":0},null,null,null,"Total MSW Generation (t/day)",{"$f":"HouseholdSummary!D3","v":0},null,null,null,"Total MSW Generation (t/day)",{"$f":"HouseholdSummary!D4","v":0}]
[null,null,null,null,null,null,null,null,"City MSW Generation",{"$f":"E22+J22+O22","v":0}]

{"sheet":"NonHouseholds","index":13,"n_rows":13,"n_cols":21,"rows_kept":13,"cut":false,"hidden":true,"merged":[[9,15,9,19],[10,15,10,19],[12,15,12,19]]}
["ID","AreaID","IncomeClassID","GeneratorTypeID","Name","Address","Contact","email","Telephone","Units","Quantity","Qty/Unit","Valid",null,null,"Type ID","Type","Units","Rate","NoUnits","Total"]
[null,null,null,null,null,null,null,null,null,null,null,null,null,null,null,1,"Hotels","Rooms",{"$f":"IF(SUMIF($D$2:$D$999,P2,$J$2:$J$999)=0,0,(SUMIF($D$2:$D$999,P2,$K$2:$K$999)/SUMIF($D$2:$D$999,2,$J$2:$J$999)))","v":0},{"$f":"IF(Survey!B16=\"\",0,Survey!B16)","v":0},{"$f":"ROUND(S2*T2,0)","v":0}]
[null,null,null,null,null,null,null,null,null,null,null,null,null,null,null,2,"Restaurants","Chairs",{"$f":"IF(SUMIF($D$2:$D$999,P3,$J$2:$J$999)=0,0,(SUMIF($D$2:$D$999,P3,$K$2:$K$999)/SUMIF($D$2:$D$999,2,$J$2:$J$999)))","v":0},{"$f":"IF(Survey!B15=\"\",0,Survey!B15)","v":0},{"$f":"ROUND(S3*T3,0)","v":0}]
[null,null,null,null,null,null,null,null,null,null,null,null,null,null,null,3,"Shools","Students",0,{"$f":"IF(Survey!B17=\"\",0,Survey!B17)","v":0},0]
[null,null,null,null,null,null,null,null,null,null,null,null,null,null,null,4,"Offices","sq.m.",0,{"$f":"IF(Survey!B18=\"\",0,Survey!B18)","v":0},0]
[null,null,null,null,null,null,null,null,null,null,null,null,null,null,null,5,"Supermarkets / Malls","sq.m.",0,{"$f":"IF(Survey!B19=\"\",0,Survey!B19)","v":0},0]
[null,null,null,null,null,null,null,null,null,null,null,null,null,null,null,6,"Markets","Stalls",0,{"$f":"IF(Survey!B20=\"\",0,Survey!B20)","v":0},0]
[null,null,null,null,null,null,null,null,null,null,null,null,null,null,null,7,"Hospitals","Beds",0,{"$f":"IF(Survey!B21=\"\",0,Survey!B21)","v":0},{"$f":"ROUND(S8*T8,0)","v":0}]
[null,null,null,null,null,null,null,null,null,null,null,null,null,null,null,8,"Public spaces","sq.m.",0,{"$f":"IF(Survey!B22=\"\",0,Survey!B22)","v":0},0]
[null,null,null,null,null,null,null,null,null,null,null,null,null,null,null,"Total non-household =",null,null,null,null,{"$f":"SUM(U2:U9)","v":0}]
[null,null,null,null,null,null,null,null,null,null,null,null,null,null,null,"Total non-household using proxy percentage =",null,null,null,null,{"$f":"ROUND((HouseholdSummary!D5*100/(100-Survey!C13))*(Survey!C13/100),0)","v":0}]
[]
[null,null,null,null,null,null,null,null,null,null,null,null,null,null,null,"Modelled non-household MSW = ",null,null,null,null,{"$f":"IF(Survey!B13=TRUE,NonHouseholds!U11,NonHouseholds!U10)","v":0}]

{"sheet":"NHHsummary","index":14,"n_rows":13,"n_cols":14,"rows_kept":13,"cut":false,"hidden":true,"merged":[[11,9,11,12],[12,9,12,12],[13,9,13,12],[0,9,0,13]]}
[null,null,null,null,null,null,null,null,null,"SUMMARY"]
[null,null,null,null,null,null,null,null,null,"Non Household Type","Units","Qty/Unit","# units","Total"]
[null,null,null,null,null,null,null,null,null,"Hotels","Rooms",{"$f":"NonHouseholds!S2","v":0},{"$f":"NonHouseholds!T2","v":0},{"$f":"NonHouseholds!U2","v":0}]
[null,null,null,null,null,null,null,null,null,"Restaurants","Chairs",{"$f":"NonHouseholds!S3","v":0},{"$f":"NonHouseholds!T3","v":0},{"$f":"NonHouseholds!U3","v":0}]
[null,null,null,null,null,null,null,null,null,"Shools","Students",{"$f":"NonHouseholds!S4","v":0},{"$f":"NonHouseholds!T4","v":0},{"$f":"NonHouseholds!U4","v":0}]
[null,null,null,null,null,null,null,null,null,"Offices","sq.m.",{"$f":"NonHouseholds!S5","v":0},{"$f":"NonHouseholds!T5","v":0},{"$f":"NonHouseholds!U5","v":0}]
[null,null,null,null,null,null,null,null,null,"Supermarkets / Malls","sq.m.",{"$f":"NonHouseholds!S6","v":0},{"$f":"NonHouseholds!T6","v":0},{"$f":"NonHouseholds!U6","v":0}]
[null,null,null,null,null,null,null,null,null,"Markets","Stalls",{"$f":"NonHouseholds!S7","v":0},{"$f":"NonHouseholds!T7","v":0},{"$f":"NonHouseholds!U7","v":0}]
[null,null,null,null,null,null,null,null,null,"Hospitals","Beds",{"$f":"NonHouseholds!S8","v":0},{"$f":"NonHouseholds!T8","v":0},{"$f":"NonHouseholds!U8","v":0}]
[null,null,null,null,null,null,null,null,null,"Public spaces","sq.m.",{"$f":"NonHouseholds!S9","v":0},{"$f":"NonHouseholds!T9","v":0},{"$f":"NonHouseholds!U9","v":0}]
[]
[null,null,null,null,null,null,null,null,null,"Total non-household MSW Generation (surveyed)",null,null,null,{"$f":"NonHouseholds!U10","v":0}]
[null,null,null,null,null,null,null,null,null,"Total non-household MSW Generation (using proxy)",null,null,null,{"$f":"NonHouseholds!U11","v":0}]

{"sheet":"DisposalFacilities","index":15,"n_rows":999,"n_cols":36,"rows_kept":999,"cut":false,"hidden":true,"merged":[]}
["ID","DFclassID","Name","Address","Contact","email","Telephone","ControlClassID","Quantity","Pickers","QtyPerPicker","DaysPerYear","NetQty","NetControlled","Qty1","Qty2","Qty3","Qty4","Qty5","Qty6","Qty7","Qty8","Qty9","Qty10","Qty11","Qty12","MSW Total","MSW Net","MSW Controlled",null,"% Collected",null,"% Collected Controlled",null,null,"PickedQty"]
[null,null,null,null,null,null,null,null,null,null,null,null,{"$f":"IF(A2=\"\",\"\",I2-(J2*K2/1000))","v":""},{"$f":"IF(A2=\"\",\"\",IF(H2>3,0,M2))","v":""},{"$f":"IF(COUNTIF(DFcomposition!$A2:$A100,1)=0,0,SUMIF(DFcomposition!$A2:$A100,1,DFcomposition!C2:C100)/COUNTIF(DFcomposition!$A2:$A100,1))","v":0},{"$f":"IF(COUNTIF(DFcomposition!$A2:$A100,1)=0,0,SUMIF(DFcomposition!$A2:$A100,1,DFcomposition!D2:D100)/COUNTIF(DFcomposition!$A2:$A100,1))","v":0},{"$f":"IF(COUNTIF(DFcomposition!$A2:$A100,1)=0,0,SUMIF(DFcomposition!$A2:$A100,1,DFcomposition!E2:E100)/COUNTIF(DFcomposition!$A2:$A100,1))","v":0},{"$f":"IF(COUNTIF(DFcomposition!$A2:$A100,1)=0,0,SUMIF(DFcomposition!$A2:$A100,1,DFcomposition!F2:F100)/COUNTIF(DFcomposition!$A2:$A100,1))","v":0},{"$f":"IF(COUNTIF(DFcomposition!$A2:$A100,1)=0,0,SUMIF(DFcomposition!$A2:$A100,1,DFcomposition!G2:G100)/COUNTIF(DFcomposition!$A2:$A100,1))","v":0},{"$f":"IF(COUNTIF(DFcomposition!$A2:$A100,1)=0,0,SUMIF(DFcomposition!$A2:$A100,1,DFcomposition!H2:H100)/COUNTIF(DFcomposition!$A2:$A100,1))","v":0},{"$f":"IF(COUNTIF(DFcomposition!$A2:$A100,1)=0,0,SUMIF(DFcomposition!$A2:$A100,1,DFcomposition!I2:I100)/COUNTIF(DFcomposition!$A2:$A100,1))","v":0},{"$f":"IF(COUNTIF(DFcomposition!$A2:$A100,1)=0,0,SUMIF(DFcomposition!$A2:$A100,1,DFcomposition!J2:J100)/COUNTIF(DFcomposition!$A2:$A100,1))","v":0},{"$f":"IF(COUNTIF(DFcomposition!$A2:$A100,1)=0,0,SUMIF(DFcomposition!$A2:$A100,1,DFcomposition!K2:K100)/COUNTIF(DFcomposition!$A2:$A100,1))","v":0},{"$f":"IF(COUNTIF(DFcomposition!$A2:$A100,1)=0,0,SUMIF(DFcomposition!$A2:$A100,1,DFcomposition!L2:L100)/COUNTIF(DFcomposition!$A2:$A100,1))","v":0},{"$f":"IF(COUNTIF(DFcomposition!$A2:$A100,1)=0,0,SUMIF(DFcomposition!$A2:$A100,1,DFcomposition!M2:M100)/COUNTIF(DFcomposition!$A2:$A100,1))","v":0},{"$f":"IF(COUNTIF(DFcomposition!$A2:$A100,1)=0,0,SUMIF(DFcomposition!$A2:$A100,1,DFcomposition!N2:N100)/COUNTIF(DFcomposition!$A2:$A100,1))","v":0},{"$f":"SUM(I2:I999)","v":0},{"$f":"SUM(M2:M999)","v":0},{"$f":"SUM(N2:N999)","v":0},null,{"$f":"AA2/(HouseholdSummary!D5+NHHsummary!N13)*100","v":{"$error":"#DIV/0!"}},null,{"$f":"AE2*AC2/AA2","v":{"$error":"#DIV/0!"}},null,null,{"$f":"J2*K2/1000","v":0}]
[null,null,null,null,null,null,null,null,null,null,null,null,"",{"$f":"IF(A3=\"\",\"\",IF(H3>3,0,M3))","v":""},{"$f":"IF($A3=\"\",\"\",IF(COUNTIF(DFcomposition!$A$1:$A$999,$A3)=0,0,AVERAGEIF(DFcomposition!$A3:$A1000,DisposalFacilities!$A3,DFcomposition!C3:C1000)))","v":""},{"$f":"IF($A3=\"\",\"\",IF(COUNTIF(DFcomposition!$A$1:$A$999,$A3)=0,0,AVERAGEIF(DFcomposition!$A3:$A1000,DisposalFacilities!$A3,DFcomposition!D3:D1000)))","v":""},{"$f":"IF($A3=\"\",\"\",IF(COUNTIF(DFcomposition!$A$1:$A$999,$A3)=0,0,AVERAGEIF(DFcomposition!$A3:$A1000,DisposalFacilities!$A3,DFcomposition!E3:E1000)))","v":""},{"$f":"IF($A3=\"\",\"\",IF(COUNTIF(DFcomposition!$A$1:$A$999,$A3)=0,0,AVERAGEIF(DFcomposition!$A3:$A1000,DisposalFacilities!$A3,DFcomposition!F3:F1000)))","v":""},{"$f":"IF($A3=\"\",\"\",IF(COUNTIF(DFcomposition!$A$1:$A$999,$A3)=0,0,AVERAGEIF(DFcomposition!$A3:$A1000,DisposalFacilities!$A3,DFcomposition!G3:G1000)))","v":""},{"$f":"IF($A3=\"\",\"\",IF(COUNTIF(DFcomposition!$A$1:$A$999,$A3)=0,0,AVERAGEIF(DFcomposition!$A3:$A1000,DisposalFacilities!$A3,DFcomposition!H3:H1000)))","v":""},{"$f":"IF($A3=\"\",\"\",IF(COUNTIF(DFcomposition!$A$1:$A$999,$A3)=0,0,AVERAGEIF(DFcomposition!$A3:$A1000,DisposalFacilities!$A3,DFcomposition!I3:I1000)))","v":""},{"$f":"IF($A3=\"\",\"\",IF(COUNTIF(DFcomposition!$A$1:$A$999,$A3)=0,0,AVERAGEIF(DFcomposition!$A3:$A1000,DisposalFacilities!$A3,DFcomposition!J3:J1000)))","v":""},{"$f":"IF($A3=\"\",\"\",IF(COUNTIF(DFcomposition!$A$1:$A$999,$A3)=0,0,AVERAGEIF(DFcomposition!$A3:$A1000,DisposalFacilities!$A3,DFcomposition!K3:K1000)))","v":""},{"$f":"IF($A3=\"\",\"\",IF(COUNTIF(DFcomposition!$A$1:$A$999,$A3)=0,0,AVERAGEIF(DFcomposition!$A3:$A1000,DisposalFacilities!$A3,DFcomposition!L3:L1000)))","v":""},{"$f":"IF($A3=\"\",\"\",IF(COUNTIF(DFcomposition!$A$1:$A$999,$A3)=0,0,AVERAGEIF(DFcomposition!$A3:$A1000,DisposalFacilities!$A3,DFcomposition!M3:M1000)))","v":""},{"$f":"IF($A3=\"\",\"\",IF(COUNTIF(DFcomposition!$A$1:$A$999,$A3)=0,0,AVERAGEIF(DFcomposition!$A3:$A1000,DisposalFacilities!$A3,DFcomposition!N3:N1000)))","v":""}]
[null,null,null,null,null,null,null,null,null,null,null,null,"","",{"$f":"IF($A4=\"\",\"\",IF(COUNTIF(DFcomposition!$A$1:$A$999,$A4)=0,0,AVERAGEIF(DFcomposition!$A4:$A1001,DisposalFacilities!$A4,DFcomposition!C4:C1001)))","v":""},{"$f":"IF($A4=\"\",\"\",IF(COUNTIF(DFcomposition!$A$1:$A$999,$A4)=0,0,AVERAGEIF(DFcomposition!$A4:$A1001,DisposalFacilities!$A4,DFcomposition!D4:D1001)))","v":""},{"$f":"IF($A4=\"\",\"\",IF(COUNTIF(DFcomposition!$A$1:$A$999,$A4)=0,0,AVERAGEIF(DFcomposition!$A4:$A1001,DisposalFacilities!$A4,DFcomposition!E4:E1001)))","v":""},{"$f":"IF($A4=\"\",\"\",IF(COUNTIF(DFcomposition!$A$1:$A$999,$A4)=0,0,AVERAGEIF(DFcomposition!$A4:$A1001,DisposalFacilities!$A4,DFcomposition!F4:F1001)))","v":""},{"$f":"IF($A4=\"\",\"\",IF(COUNTIF(DFcomposition!$A$1:$A$999,$A4)=0,0,AVERAGEIF(DFcomposition!$A4:$A1001,DisposalFacilities!$A4,DFcomposition!G4:G1001)))","v":""},{"$f":"IF($A4=\"\",\"\",IF(COUNTIF(DFcomposition!$A$1:$A$999,$A4)=0,0,AVERAGEIF(DFcomposition!$A4:$A1001,DisposalFacilities!$A4,DFcomposition!H4:H1001)))","v":""},{"$f":"IF($A4=\"\",\"\",IF(COUNTIF(DFcomposition!$A$1:$A$999,$A4)=0,0,AVERAGEIF(DFcomposition!$A4:$A1001,DisposalFacilities!$A4,DFcomposition!I4:I1001)))","v":""},{"$f":"IF($A4=\"\",\"\",IF(COUNTIF(DFcomposition!$A$1:$A$999,$A4)=0,0,AVERAGEIF(DFcomposition!$A4:$A1001,DisposalFacilities!$A4,DFcomposition!J4:J1001)))","v":""},{"$f":"IF($A4=\"\",\"\",IF(COUNTIF(DFcomposition!$A$1:$A$999,$A4)=0,0,AVERAGEIF(DFcomposition!$A4:$A1001,DisposalFacilities!$A4,DFcomposition!K4:K1001)))","v":""},{"$f":"IF($A4=\"\",\"\",IF(COUNTIF(DFcomposition!$A$1:$A$999,$A4)=0,0,AVERAGEIF(DFcomposition!$A4:$A1001,DisposalFacilities!$A4,DFcomposition!L4:L1001)))","v":""},{"$f":"IF($A4=\"\",\"\",IF(COUNTIF(DFcomposition!$A$1:$A$999,$A4)=0,0,AVERAGEIF(DFcomposition!$A4:$A1001,DisposalFacilities!$A4,DFcomposition!M4:M1001)))","v":""},{"$f":"IF($A4=\"\",\"\",IF(COUNTIF(DFcomposition!$A$1:$A$999,$A4)=0,0,AVERAGEIF(DFcomposition!$A4:$A1001,DisposalFacilities!$A4,DFcomposition!N4:N1001)))","v":""}]
[null,null,null,null,null,null,null,null,null,null,null,null,"","",{"$f":"IF($A5=\"\",\"\",IF(COUNTIF(DFcomposition!$A$1:$A$999,$A5)=0,0,AVERAGEIF(DFcomposition!$A5:$A1002,DisposalFacilities!$A5,DFcomposition!C5:C1002)))","v":""},{"$f":"IF($A5=\"\",\"\",IF(COUNTIF(DFcomposition!$A$1:$A$999,$A5)=0,0,AVERAGEIF(DFcomposition!$A5:$A1002,DisposalFacilities!$A5,DFcomposition!D5:D1002)))","v":""},{"$f":"IF($A5=\"\",\"\",IF(COUNTIF(DFcomposition!$A$1:$A$999,$A5)=0,0,AVERAGEIF(DFcomposition!$A5:$A1002,DisposalFacilities!$A5,DFcomposition!E5:E1002)))","v":""},{"$f":"IF($A5=\"\",\"\",IF(COUNTIF(DFcomposition!$A$1:$A$999,$A5)=0,0,AVERAGEIF(DFcomposition!$A5:$A1002,DisposalFacilities!$A5,DFcomposition!F5:F1002)))","v":""},{"$f":"IF($A5=\"\",\"\",IF(COUNTIF(DFcomposition!$A$1:$A$999,$A5)=0,0,AVERAGEIF(DFcomposition!$A5:$A1002,DisposalFacilities!$A5,DFcomposition!G5:G1002)))","v":""},{"$f":"IF($A5=\"\",\"\",IF(COUNTIF(DFcomposition!$A$1:$A$999,$A5)=0,0,AVERAGEIF(DFcomposition!$A5:$A1002,DisposalFacilities!$A5,DFcomposition!H5:H1002)))","v":""},{"$f":"IF($A5=\"\",\"\",IF(COUNTIF(DFcomposition!$A$1:$A$999,$A5)=0,0,AVERAGEIF(DFcomposition!$A5:$A1002,DisposalFacilities!$A5,DFcomposition!I5:I1002)))","v":""},{"$f":"IF($A5=\"\",\"\",IF(COUNTIF(DFcomposition!$A$1:$A$999,$A5)=0,0,AVERAGEIF(DFcomposition!$A5:$A1002,DisposalFacilities!$A5,DFcomposition!J5:J1002)))","v":""},{"$f":"IF($A5=\"\",\"\",IF(COUNTIF(DFcomposition!$A$1:$A$999,$A5)=0,0,AVERAGEIF(DFcomposition!$A5:$A1002,DisposalFacilities!$A5,DFcomposition!K5:K1002)))","v":""},{"$f":"IF($A5=\"\",\"\",IF(COUNTIF(DFcomposition!$A$1:$A$999,$A5)=0,0,AVERAGEIF(DFcomposition!$A5:$A1002,DisposalFacilities!$A5,DFcomposition!L5:L1002)))","v":""},{"$f":"IF($A5=\"\",\"\",IF(COUNTIF(DFcomposition!$A$1:$A$999,$A5)=0,0,AVERAGEIF(DFcomposition!$A5:$A1002,DisposalFacilities!$A5,DFcomposition!M5:M1002)))","v":""},{"$f":"IF($A5=\"\",\"\",IF(COUNTIF(DFcomposition!$A$1:$A$999,$A5)=0,0,AVERAGEIF(DFcomposition!$A5:$A1002,DisposalFacilities!$A5,DFcomposition!N5:N1002)))","v":""}]
[null,null,null,null,null,null,null,null,null,null,null,null,"","",{"$f":"IF($A6=\"\",\"\",IF(COUNTIF(DFcomposition!$A$1:$A$999,$A6)=0,0,AVERAGEIF(DFcomposition!$A6:$A1003,DisposalFacilities!$A6,DFcomposition!C6:C1003)))","v":""},{"$f":"IF($A6=\"\",\"\",IF(COUNTIF(DFcomposition!$A$1:$A$999,$A6)=0,0,AVERAGEIF(DFcomposition!$A6:$A1003,DisposalFacilities!$A6,DFcomposition!D6:D1003)))","v":""},{"$f":"IF($A6=\"\",\"\",IF(COUNTIF(DFcomposition!$A$1:$A$999,$A6)=0,0,AVERAGEIF(DFcomposition!$A6:$A1003,DisposalFacilities!$A6,DFcomposition!E6:E1003)))","v":""},{"$f":"IF($A6=\"\",\"\",IF(COUNTIF(DFcomposition!$A$1:$A$999,$A6)=0,0,AVERAGEIF(DFcomposition!$A6:$A1003,DisposalFacilities!$A6,DFcomposition!F6:F1003)))","v":""},{"$f":"IF($A6=\"\",\"\",IF(COUNTIF(DFcomposition!$A$1:$A$999,$A6)=0,0,AVERAGEIF(DFcomposition!$A6:$A1003,DisposalFacilities!$A6,DFcomposition!G6:G1003)))","v":""},{"$f":"IF($A6=\"\",\"\",IF(COUNTIF(DFcomposition!$A$1:$A$999,$A6)=0,0,AVERAGEIF(DFcomposition!$A6:$A1003,DisposalFacilities!$A6,DFcomposition!H6:H1003)))","v":""},{"$f":"IF($A6=\"\",\"\",IF(COUNTIF(DFcomposition!$A$1:$A$999,$A6)=0,0,AVERAGEIF(DFcomposition!$A6:$A1003,DisposalFacilities!$A6,DFcomposition!I6:I1003)))","v":""},{"$f":"IF($A6=\"\",\"\",IF(COUNTIF(DFcomposition!$A$1:$A$999,$A6)=0,0,AVERAGEIF(DFcomposition!$A6:$A1003,DisposalFacilities!$A6,DFcomposition!J6:J1003)))","v":""},{"$f":"IF($A6=\"\",\"\",IF(COUNTIF(DFcomposition!$A$1:$A$999,$A6)=0,0,AVERAGEIF(DFcomposition!$A6:$A1003,DisposalFacilities!$A6,DFcomposition!K6:K1003)))","v":""},{"$f":"IF($A6=\"\",\"\",IF(COUNTIF(DFcomposition!$A$1:$A$999,$A6)=0,0,AVERAGEIF(DFcomposition!$A6:$A1003,DisposalFacilities!$A6,DFcomposition!L6:L1003)))","v":""},{"$f":"IF($A6=\"\",\"\",IF(COUNTIF(DFcomposition!$A$1:$A$999,$A6)=0,0,AVERAGEIF(DFcomposition!$A6:$A1003,DisposalFacilities!$A6,DFcomposition!M6:M1003)))","v":""},{"$f":"IF($A6=\"\",\"\",IF(COUNTIF(DFcomposition!$A$1:$A$999,$A6)=0,0,AVERAGEIF(DFcomposition!$A6:$A1003,DisposalFacilities!$A6,DFcomposition!N6:N1003)))","v":""}]
[null,null,null,null,null,null,null,null,null,null,null,null,"","",{"$f":"IF($A7=\"\",\"\",IF(COUNTIF(DFcomposition!$A$1:$A$999,$A7)=0,0,AVERAGEIF(DFcomposition!$A7:$A1004,DisposalFacilities!$A7,DFcomposition!C7:C1004)))","v":""},{"$f":"IF($A7=\"\",\"\",IF(COUNTIF(DFcomposition!$A$1:$A$999,$A7)=0,0,AVERAGEIF(DFcomposition!$A7:$A1004,DisposalFacilities!$A7,DFcomposition!D7:D1004)))","v":""},{"$f":"IF($A7=\"\",\"\",IF(COUNTIF(DFcomposition!$A$1:$A$999,$A7)=0,0,AVERAGEIF(DFcomposition!$A7:$A1004,DisposalFacilities!$A7,DFcomposition!E7:E1004)))","v":""},{"$f":"IF($A7=\"\",\"\",IF(COUNTIF(DFcomposition!$A$1:$A$999,$A7)=0,0,AVERAGEIF(DFcomposition!$A7:$A1004,DisposalFacilities!$A7,DFcomposition!F7:F1004)))","v":""},{"$f":"IF($A7=\"\",\"\",IF(COUNTIF(DFcomposition!$A$1:$A$999,$A7)=0,0,AVERAGEIF(DFcomposition!$A7:$A1004,DisposalFacilities!$A7,DFcomposition!G7:G1004)))","v":""},{"$f":"IF($A7=\"\",\"\",IF(COUNTIF(DFcomposition!$A$1:$A$999,$A7)=0,0,AVERAGEIF(DFcomposition!$A7:$A1004,DisposalFacilities!$A7,DFcomposition!H7:H1004)))","v":""},{"$f":"IF($A7=\"\",\"\",IF(COUNTIF(DFcomposition!$A$1:$A$999,$A7)=0,0,AVERAGEIF(DFcomposition!$A7:$A1004,DisposalFacilities!$A7,DFcomposition!I7:I1004)))","v":""},{"$f":"IF($A7=\"\",\"\",IF(COUNTIF(DFcomposition!$A$1:$A$999,$A7)=0,0,AVERAGEIF(DFcomposition!$A7:$A1004,DisposalFacilities!$A7,DFcomposition!J7:J1004)))","v":""},{"$f":"IF($A7=\"\",\"\",IF(COUNTIF(DFcomposition!$A$1:$A$999,$A7)=0,0,AVERAGEIF(DFcomposition!$A7:$A1004,DisposalFacilities!$A7,DFcomposition!K7:K1004)))","v":""},{"$f":"IF($A7=\"\",\"\",IF(COUNTIF(DFcomposition!$A$1:$A$999,$A7)=0,0,AVERAGEIF(DFcomposition!$A7:$A1004,DisposalFacilities!$A7,DFcomposition!L7:L1004)))","v":""},{"$f":"IF($A7=\"\",\"\",IF(COUNTIF(DFcomposition!$A$1:$A$999,$A7)=0,0,AVERAGEIF(DFcomposition!$A7:$A1004,DisposalFacilities!$A7,DFcomposition!M7:M1004)))","v":""},{"$f":"IF($A7=\"\",\"\",IF(COUNTIF(DFcomposition!$A$1:$A$999,$A7)=0,0,AVERAGEIF(DFcomposition!$A7:$A1004,DisposalFacilities!$A7,DFcomposition!N7:N1004)))","v":""}]
[null,null,null,null,null,null,null,null,null,null,null,null,"","",{"$f":"IF($A8=\"\",\"\",IF(COUNTIF(DFcomposition!$A$1:$A$999,$A8)=0,0,AVERAGEIF(DFcomposition!$A8:$A1005,DisposalFacilities!$A8,DFcomposition!C8:C1005)))","v":""},{"$f":"IF($A8=\"\",\"\",IF(COUNTIF(DFcomposition!$A$1:$A$999,$A8)=0,0,AVERAGEIF(DFcomposition!$A8:$A1005,DisposalFacilities!$A8,DFcomposition!D8:D1005)))","v":""},{"$f":"IF($A8=\"\",\"\",IF(COUNTIF(DFcomposition!$A$1:$A$999,$A8)=0,0,AVERAGEIF(DFcomposition!$A8:$A1005,DisposalFacilities!$A8,DFcomposition!E8:E1005)))","v":""},{"$f":"IF($A8=\"\",\"\",IF(COUNTIF(DFcomposition!$A$1:$A$999,$A8)=0,0,AVERAGEIF(DFcomposition!$A8:$A1005,DisposalFacilities!$A8,DFcomposition!F8:F1005)))","v":""},{"$f":"IF($A8=\"\",\"\",IF(COUNTIF(DFcomposition!$A$1:$A$999,$A8)=0,0,AVERAGEIF(DFcomposition!$A8:$A1005,DisposalFacilities!$A8,DFcomposition!G8:G1005)))","v":""},{"$f":"IF($A8=\"\",\"\",IF(COUNTIF(DFcomposition!$A$1:$A$999,$A8)=0,0,AVERAGEIF(DFcomposition!$A8:$A1005,DisposalFacilities!$A8,DFcomposition!H8:H1005)))","v":""},{"$f":"IF($A8=\"\",\"\",IF(COUNTIF(DFcomposition!$A$1:$A$999,$A8)=0,0,AVERAGEIF(DFcomposition!$A8:$A1005,DisposalFacilities!$A8,DFcomposition!I8:I1005)))","v":""},{"$f":"IF($A8=\"\",\"\",IF(COUNTIF(DFcomposition!$A$1:$A$999,$A8)=0,0,AVERAGEIF(DFcomposition!$A8:$A1005,DisposalFacilities!$A8,DFcomposition!J8:J1005)))","v":""},{"$f":"IF($A8=\"\",\"\",IF(COUNTIF(DFcomposition!$A$1:$A$999,$A8)=0,0,AVERAGEIF(DFcomposition!$A8:$A1005,DisposalFacilities!$A8,DFcomposition!K8:K1005)))","v":""},{"$f":"IF($A8=\"\",\"\",IF(COUNTIF(DFcomposition!$A$1:$A$999,$A8)=0,0,AVERAGEIF(DFcomposition!$A8:$A1005,DisposalFacilities!$A8,DFcomposition!L8:L1005)))","v":""},{"$f":"IF($A8=\"\",\"\",IF(COUNTIF(DFcomposition!$A$1:$A$999,$A8)=0,0,AVERAGEIF(DFcomposition!$A8:$A1005,DisposalFacilities!$A8,DFcomposition!M8:M1005)))","v":""},{"$f":"IF($A8=\"\",\"\",IF(COUNTIF(DFcomposition!$A$1:$A$999,$A8)=0,0,AVERAGEIF(DFcomposition!$A8:$A1005,DisposalFacilities!$A8,DFcomposition!N8:N1005)))","v":""}]
[null,null,null,null,null,null,null,null,null,null,null,null,"","",{"$f":"IF($A9=\"\",\"\",IF(COUNTIF(DFcomposition!$A$1:$A$999,$A9)=0,0,AVERAGEIF(DFcomposition!$A9:$A1006,DisposalFacilities!$A9,DFcomposition!C9:C1006)))","v":""},{"$f":"IF($A9=\"\",\"\",IF(COUNTIF(DFcomposition!$A$1:$A$999,$A9)=0,0,AVERAGEIF(DFcomposition!$A9:$A1006,DisposalFacilities!$A9,DFcomposition!D9:D1006)))","v":""},{"$f":"IF($A9=\"\",\"\",IF(COUNTIF(DFcomposition!$A$1:$A$999,$A9)=0,0,AVERAGEIF(DFcomposition!$A9:$A1006,DisposalFacilities!$A9,DFcomposition!E9:E1006)))","v":""},{"$f":"IF($A9=\"\",\"\",IF(COUNTIF(DFcomposition!$A$1:$A$999,$A9)=0,0,AVERAGEIF(DFcomposition!$A9:$A1006,DisposalFacilities!$A9,DFcomposition!F9:F1006)))","v":""},{"$f":"IF($A9=\"\",\"\",IF(COUNTIF(DFcomposition!$A$1:$A$999,$A9)=0,0,AVERAGEIF(DFcomposition!$A9:$A1006,DisposalFacilities!$A9,DFcomposition!G9:G1006)))","v":""},{"$f":"IF($A9=\"\",\"\",IF(COUNTIF(DFcomposition!$A$1:$A$999,$A9)=0,0,AVERAGEIF(DFcomposition!$A9:$A1006,DisposalFacilities!$A9,DFcomposition!H9:H1006)))","v":""},{"$f":"IF($A9=\"\",\"\",IF(COUNTIF(DFcomposition!$A$1:$A$999,$A9)=0,0,AVERAGEIF(DFcomposition!$A9:$A1006,DisposalFacilities!$A9,DFcomposition!I9:I1006)))","v":""},{"$f":"IF($A9=\"\",\"\",IF(COUNTIF(DFcomposition!$A$1:$A$999,$A9)=0,0,AVERAGEIF(DFcomposition!$A9:$A1006,DisposalFacilities!$A9,DFcomposition!J9:J1006)))","v":""},{"$f":"IF($A9=\"\",\"\",IF(COUNTIF(DFcomposition!$A$1:$A$999,$A9)=0,0,AVERAGEIF(DFcomposition!$A9:$A1006,DisposalFacilities!$A9,DFcomposition!K9:K1006)))","v":""},{"$f":"IF($A9=\"\",\"\",IF(COUNTIF(DFcomposition!$A$1:$A$999,$A9)=0,0,AVERAGEIF(DFcomposition!$A9:$A1006,DisposalFacilities!$A9,DFcomposition!L9:L1006)))","v":""},{"$f":"IF($A9=\"\",\"\",IF(COUNTIF(DFcomposition!$A$1:$A$999,$A9)=0,0,AVERAGEIF(DFcomposition!$A9:$A1006,DisposalFacilities!$A9,DFcomposition!M9:M1006)))","v":""},{"$f":"IF($A9=\"\",\"\",IF(COUNTIF(DFcomposition!$A$1:$A$999,$A9)=0,0,AVERAGEIF(DFcomposition!$A9:$A1006,DisposalFacilities!$A9,DFcomposition!N9:N1006)))","v":""}]
[null,null,null,null,null,null,null,null,null,null,null,null,"","",{"$f":"IF($A10=\"\",\"\",IF(COUNTIF(DFcomposition!$A$1:$A$999,$A10)=0,0,AVERAGEIF(DFcomposition!$A10:$A1007,DisposalFacilities!$A10,DFcomposition!C10:C1007)))","v":""},{"$f":"IF($A10=\"\",\"\",IF(COUNTIF(DFcomposition!$A$1:$A$999,$A10)=0,0,AVERAGEIF(DFcomposition!$A10:$A1007,DisposalFacilities!$A10,DFcomposition!D10:D1007)))","v":""},{"$f":"IF($A10=\"\",\"\",IF(COUNTIF(DFcomposition!$A$1:$A$999,$A10)=0,0,AVERAGEIF(DFcomposition!$A10:$A1007,DisposalFacilities!$A10,DFcomposition!E10:E1007)))","v":""},{"$f":"IF($A10=\"\",\"\",IF(COUNTIF(DFcomposition!$A$1:$A$999,$A10)=0,0,AVERAGEIF(DFcomposition!$A10:$A1007,DisposalFacilities!$A10,DFcomposition!F10:F1007)))","v":""},{"$f":"IF($A10=\"\",\"\",IF(COUNTIF(DFcomposition!$A$1:$A$999,$A10)=0,0,AVERAGEIF(DFcomposition!$A10:$A1007,DisposalFacilities!$A10,DFcomposition!G10:G1007)))","v":""},{"$f":"IF($A10=\"\",\"\",IF(COUNTIF(DFcomposition!$A$1:$A$999,$A10)=0,0,AVERAGEIF(DFcomposition!$A10:$A1007,DisposalFacilities!$A10,DFcomposition!H10:H1007)))","v":""},{"$f":"IF($A10=\"\",\"\",IF(COUNTIF(DFcomposition!$A$1:$A$999,$A10)=0,0,AVERAGEIF(DFcomposition!$A10:$A1007,DisposalFacilities!$A10,DFcomposition!I10:I1007)))","v":""},{"$f":"IF($A10=\"\",\"\",IF(COUNTIF(DFcomposition!$A$1:$A$999,$A10)=0,0,AVERAGEIF(DFcomposition!$A10:$A1007,DisposalFacilities!$A10,DFcomposition!J10:J1007)))","v":""},{"$f":"IF($A10=\"\",\"\",IF(COUNTIF(DFcomposition!$A$1:$A$999,$A10)=0,0,AVERAGEIF(DFcomposition!$A10:$A1007,DisposalFacilities!$A10,DFcomposition!K10:K1007)))","v":""},{"$f":"IF($A10=\"\",\"\",IF(COUNTIF(DFcomposition!$A$1:$A$999,$A10)=0,0,AVERAGEIF(DFcomposition!$A10:$A1007,DisposalFacilities!$A10,DFcomposition!L10:L1007)))","v":""},{"$f":"IF($A10=\"\",\"\",IF(COUNTIF(DFcomposition!$A$1:$A$999,$A10)=0,0,AVERAGEIF(DFcomposition!$A10:$A1007,DisposalFacilities!$A10,DFcomposition!M10:M1007)))","v":""},{"$f":"IF($A10=\"\",\"\",IF(COUNTIF(DFcomposition!$A$1:$A$999,$A10)=0,0,AVERAGEIF(DFcomposition!$A10:$A1007,DisposalFacilities!$A10,DFcomposition!N10:N1007)))","v":""}]
[null,null,null,null,null,null,null,null,null,null,null,null,"","",{"$f":"IF($A11=\"\",\"\",IF(COUNTIF(DFcomposition!$A$1:$A$999,$A11)=0,0,AVERAGEIF(DFcomposition!$A11:$A1008,DisposalFacilities!$A11,DFcomposition!C11:C1008)))","v":""},{"$f":"IF($A11=\"\",\"\",IF(COUNTIF(DFcomposition!$A$1:$A$999,$A11)=0,0,AVERAGEIF(DFcomposition!$A11:$A1008,DisposalFacilities!$A11,DFcomposition!D11:D1008)))","v":""},{"$f":"IF($A11=\"\",\"\",IF(COUNTIF(DFcomposition!$A$1:$A$999,$A11)=0,0,AVERAGEIF(DFcomposition!$A11:$A1008,DisposalFacilities!$A11,DFcomposition!E11:E1008)))","v":""},{"$f":"IF($A11=\"\",\"\",IF(COUNTIF(DFcomposition!$A$1:$A$999,$A11)=0,0,AVERAGEIF(DFcomposition!$A11:$A1008,DisposalFacilities!$A11,DFcomposition!F11:F1008)))","v":""},{"$f":"IF($A11=\"\",\"\",IF(COUNTIF(DFcomposition!$A$1:$A$999,$A11)=0,0,AVERAGEIF(DFcomposition!$A11:$A1008,DisposalFacilities!$A11,DFcomposition!G11:G1008)))","v":""},{"$f":"IF($A11=\"\",\"\",IF(COUNTIF(DFcomposition!$A$1:$A$999,$A11)=0,0,AVERAGEIF(DFcomposition!$A11:$A1008,DisposalFacilities!$A11,DFcomposition!H11:H1008)))","v":""},{"$f":"IF($A11=\"\",\"\",IF(COUNTIF(DFcomposition!$A$1:$A$999,$A11)=0,0,AVERAGEIF(DFcomposition!$A11:$A1008,DisposalFacilities!$A11,DFcomposition!I11:I1008)))","v":""},{"$f":"IF($A11=\"\",\"\",IF(COUNTIF(DFcomposition!$A$1:$A$999,$A11)=0,0,AVERAGEIF(DFcomposition!$A11:$A1008,DisposalFacilities!$A11,DFcomposition!J11:J1008)))","v":""},{"$f":"IF($A11=\"\",\"\",IF(COUNTIF(DFcomposition!$A$1:$A$999,$A11)=0,0,AVERAGEIF(DFcomposition!$A11:$A1008,DisposalFacilities!$A11,DFcomposition!K11:K1008)))","v":""},{"$f":"IF($A11=\"\",\"\",IF(COUNTIF(DFcomposition!$A$1:$A$999,$A11)=0,0,AVERAGEIF(DFcomposition!$A11:$A1008,DisposalFacilities!$A11,DFcomposition!L11:L1008)))","v":""},{"$f":"IF($A11=\"\",\"\",IF(COUNTIF(DFcomposition!$A$1:$A$999,$A11)=0,0,AVERAGEIF(DFcomposition!$A11:$A1008,DisposalFacilities!$A11,DFcomposition!M11:M1008)))","v":""},{"$f":"IF($A11=\"\",\"\",IF(COUNTIF(DFcomposition!$A$1:$A$999,$A11)=0,0,AVERAGEIF(DFcomposition!$A11:$A1008,DisposalFacilities!$A11,DFcomposition!N11:N1008)))","v":""}]
[null,null,null,null,null,null,null,null,null,null,null,null,"","",{"$f":"IF($A12=\"\",\"\",IF(COUNTIF(DFcomposition!$A$1:$A$999,$A12)=0,0,AVERAGEIF(DFcomposition!$A12:$A1009,DisposalFacilities!$A12,DFcomposition!C12:C1009)))","v":""},{"$f":"IF($A12=\"\",\"\",IF(COUNTIF(DFcomposition!$A$1:$A$999,$A12)=0,0,AVERAGEIF(DFcomposition!$A12:$A1009,DisposalFacilities!$A12,DFcomposition!D12:D1009)))","v":""},{"$f":"IF($A12=\"\",\"\",IF(COUNTIF(DFcomposition!$A$1:$A$999,$A12)=0,0,AVERAGEIF(DFcomposition!$A12:$A1009,DisposalFacilities!$A12,DFcomposition!E12:E1009)))","v":""},{"$f":"IF($A12=\"\",\"\",IF(COUNTIF(DFcomposition!$A$1:$A$999,$A12)=0,0,AVERAGEIF(DFcomposition!$A12:$A1009,DisposalFacilities!$A12,DFcomposition!F12:F1009)))","v":""},{"$f":"IF($A12=\"\",\"\",IF(COUNTIF(DFcomposition!$A$1:$A$999,$A12)=0,0,AVERAGEIF(DFcomposition!$A12:$A1009,DisposalFacilities!$A12,DFcomposition!G12:G1009)))","v":""},{"$f":"IF($A12=\"\",\"\",IF(COUNTIF(DFcomposition!$A$1:$A$999,$A12)=0,0,AVERAGEIF(DFcomposition!$A12:$A1009,DisposalFacilities!$A12,DFcomposition!H12:H1009)))","v":""},{"$f":"IF($A12=\"\",\"\",IF(COUNTIF(DFcomposition!$A$1:$A$999,$A12)=0,0,AVERAGEIF(DFcomposition!$A12:$A1009,DisposalFacilities!$A12,DFcomposition!I12:I1009)))","v":""},{"$f":"IF($A12=\"\",\"\",IF(COUNTIF(DFcomposition!$A$1:$A$999,$A12)=0,0,AVERAGEIF(DFcomposition!$A12:$A1009,DisposalFacilities!$A12,DFcomposition!J12:J1009)))","v":""},{"$f":"IF($A12=\"\",\"\",IF(COUNTIF(DFcomposition!$A$1:$A$999,$A12)=0,0,AVERAGEIF(DFcomposition!$A12:$A1009,DisposalFacilities!$A12,DFcomposition!K12:K1009)))","v":""},{"$f":"IF($A12=\"\",\"\",IF(COUNTIF(DFcomposition!$A$1:$A$999,$A12)=0,0,AVERAGEIF(DFcomposition!$A12:$A1009,DisposalFacilities!$A12,DFcomposition!L12:L1009)))","v":""},{"$f":"IF($A12=\"\",\"\",IF(COUNTIF(DFcomposition!$A$1:$A$999,$A12)=0,0,AVERAGEIF(DFcomposition!$A12:$A1009,DisposalFacilities!$A12,DFcomposition!M12:M1009)))","v":""},{"$f":"IF($A12=\"\",\"\",IF(COUNTIF(DFcomposition!$A$1:$A$999,$A12)=0,0,AVERAGEIF(DFcomposition!$A12:$A1009,DisposalFacilities!$A12,DFcomposition!N12:N1009)))","v":""}]
[null,null,null,null,null,null,null,null,null,null,null,null,"","",{"$f":"IF($A13=\"\",\"\",IF(COUNTIF(DFcomposition!$A$1:$A$999,$A13)=0,0,AVERAGEIF(DFcomposition!$A13:$A1010,DisposalFacilities!$A13,DFcomposition!C13:C1010)))","v":""},{"$f":"IF($A13=\"\",\"\",IF(COUNTIF(DFcomposition!$A$1:$A$999,$A13)=0,0,AVERAGEIF(DFcomposition!$A13:$A1010,DisposalFacilities!$A13,DFcomposition!D13:D1010)))","v":""},{"$f":"IF($A13=\"\",\"\",IF(COUNTIF(DFcomposition!$A$1:$A$999,$A13)=0,0,AVERAGEIF(DFcomposition!$A13:$A1010,DisposalFacilities!$A13,DFcomposition!E13:E1010)))","v":""},{"$f":"IF($A13=\"\",\"\",IF(COUNTIF(DFcomposition!$A$1:$A$999,$A13)=0,0,AVERAGEIF(DFcomposition!$A13:$A1010,DisposalFacilities!$A13,DFcomposition!F13:F1010)))","v":""},{"$f":"IF($A13=\"\",\"\",IF(COUNTIF(DFcomposition!$A$1:$A$999,$A13)=0,0,AVERAGEIF(DFcomposition!$A13:$A1010,DisposalFacilities!$A13,DFcomposition!G13:G1010)))","v":""},{"$f":"IF($A13=\"\",\"\",IF(COUNTIF(DFcomposition!$A$1:$A$999,$A13)=0,0,AVERAGEIF(DFcomposition!$A13:$A1010,DisposalFacilities!$A13,DFcomposition!H13:H1010)))","v":""},{"$f":"IF($A13=\"\",\"\",IF(COUNTIF(DFcomposition!$A$1:$A$999,$A13)=0,0,AVERAGEIF(DFcomposition!$A13:$A1010,DisposalFacilities!$A13,DFcomposition!I13:I1010)))","v":""},{"$f":"IF($A13=\"\",\"\",IF(COUNTIF(DFcomposition!$A$1:$A$999,$A13)=0,0,AVERAGEIF(DFcomposition!$A13:$A1010,DisposalFacilities!$A13,DFcomposition!J13:J1010)))","v":""},{"$f":"IF($A13=\"\",\"\",IF(COUNTIF(DFcomposition!$A$1:$A$999,$A13)=0,0,AVERAGEIF(DFcomposition!$A13:$A1010,DisposalFacilities!$A13,DFcomposition!K13:K1010)))","v":""},{"$f":"IF($A13=\"\",\"\",IF(COUNTIF(DFcomposition!$A$1:$A$999,$A13)=0,0,AVERAGEIF(DFcomposition!$A13:$A1010,DisposalFacilities!$A13,DFcomposition!L13:L1010)))","v":""},{"$f":"IF($A13=\"\",\"\",IF(COUNTIF(DFcomposition!$A$1:$A$999,$A13)=0,0,AVERAGEIF(DFcomposition!$A13:$A1010,DisposalFacilities!$A13,DFcomposition!M13:M1010)))","v":""},{"$f":"IF($A13=\"\",\"\",IF(COUNTIF(DFcomposition!$A$1:$A$999,$A13)=0,0,AVERAGEIF(DFcomposition!$A13:$A1010,DisposalFacilities!$A13,DFcomposition!N13:N1010)))","v":""}]
[null,null,null,null,null,null,null,null,null,null,null,null,"","",{"$f":"IF($A14=\"\",\"\",IF(COUNTIF(DFcomposition!$A$1:$A$999,$A14)=0,0,AVERAGEIF(DFcomposition!$A14:$A1011,DisposalFacilities!$A14,DFcomposition!C14:C1011)))","v":""},{"$f":"IF($A14=\"\",\"\",IF(COUNTIF(DFcomposition!$A$1:$A$999,$A14)=0,0,AVERAGEIF(DFcomposition!$A14:$A1011,DisposalFacilities!$A14,DFcomposition!D14:D1011)))","v":""},{"$f":"IF($A14=\"\",\"\",IF(COUNTIF(DFcomposition!$A$1:$A$999,$A14)=0,0,AVERAGEIF(DFcomposition!$A14:$A1011,DisposalFacilities!$A14,DFcomposition!E14:E1011)))","v":""},{"$f":"IF($A14=\"\",\"\",IF(COUNTIF(DFcomposition!$A$1:$A$999,$A14)=0,0,AVERAGEIF(DFcomposition!$A14:$A1011,DisposalFacilities!$A14,DFcomposition!F14:F1011)))","v":""},{"$f":"IF($A14=\"\",\"\",IF(COUNTIF(DFcomposition!$A$1:$A$999,$A14)=0,0,AVERAGEIF(DFcomposition!$A14:$A1011,DisposalFacilities!$A14,DFcomposition!G14:G1011)))","v":""},{"$f":"IF($A14=\"\",\"\",IF(COUNTIF(DFcomposition!$A$1:$A$999,$A14)=0,0,AVERAGEIF(DFcomposition!$A14:$A1011,DisposalFacilities!$A14,DFcomposition!H14:H1011)))","v":""},{"$f":"IF($A14=\"\",\"\",IF(COUNTIF(DFcomposition!$A$1:$A$999,$A14)=0,0,AVERAGEIF(DFcomposition!$A14:$A1011,DisposalFacilities!$A14,DFcomposition!I14:I1011)))","v":""},{"$f":"IF($A14=\"\",\"\",IF(COUNTIF(DFcomposition!$A$1:$A$999,$A14)=0,0,AVERAGEIF(DFcomposition!$A14:$A1011,DisposalFacilities!$A14,DFcomposition!J14:J1011)))","v":""},{"$f":"IF($A14=\"\",\"\",IF(COUNTIF(DFcomposition!$A$1:$A$999,$A14)=0,0,AVERAGEIF(DFcomposition!$A14:$A1011,DisposalFacilities!$A14,DFcomposition!K14:K1011)))","v":""},{"$f":"IF($A14=\"\",\"\",IF(COUNTIF(DFcomposition!$A$1:$A$999,$A14)=0,0,AVERAGEIF(DFcomposition!$A14:$A1011,DisposalFacilities!$A14,DFcomposition!L14:L1011)))","v":""},{"$f":"IF($A14=\"\",\"\",IF(COUNTIF(DFcomposition!$A$1:$A$999,$A14)=0,0,AVERAGEIF(DFcomposition!$A14:$A1011,DisposalFacilities!$A14,DFcomposition!M14:M1011)))","v":""},{"$f":"IF($A14=\"\",\"\",IF(COUNTIF(DFcomposition!$A$1:$A$999,$A14)=0,0,AVERAGEIF(DFcomposition!$A14:$A1011,DisposalFacilities!$A14,DFcomposition!N14:N1011)))","v":""}]
[null,null,null,null,null,null,null,null,null,null,null,null,{"$f":"IF(A15=\"\",\"\",I15-(J15*K15/1000))","v":""},{"$f":"IF(A15=\"\",\"\",IF(H15>3,0,M15))","v":""},{"$f":"IF($A15=\"\",\"\",IF(COUNTIF(DFcomposition!$A$1:$A$999,$A15)=0,0,AVERAGEIF(DFcomposition!$A15:$A1012,DisposalFacilities!$A15,DFcomposition!C15:C1012)))","v":""},{"$f":"IF($A15=\"\",\"\",IF(COUNTIF(DFcomposition!$A$1:$A$999,$A15)=0,0,AVERAGEIF(DFcomposition!$A15:$A1012,DisposalFacilities!$A15,DFcomposition!D15:D1012)))","v":""},{"$f":"IF($A15=\"\",\"\",IF(COUNTIF(DFcomposition!$A$1:$A$999,$A15)=0,0,AVERAGEIF(DFcomposition!$A15:$A1012,DisposalFacilities!$A15,DFcomposition!E15:E1012)))","v":""},{"$f":"IF($A15=\"\",\"\",IF(COUNTIF(DFcomposition!$A$1:$A$999,$A15)=0,0,AVERAGEIF(DFcomposition!$A15:$A1012,DisposalFacilities!$A15,DFcomposition!F15:F1012)))","v":""},{"$f":"IF($A15=\"\",\"\",IF(COUNTIF(DFcomposition!$A$1:$A$999,$A15)=0,0,AVERAGEIF(DFcomposition!$A15:$A1012,DisposalFacilities!$A15,DFcomposition!G15:G1012)))","v":""},{"$f":"IF($A15=\"\",\"\",IF(COUNTIF(DFcomposition!$A$1:$A$999,$A15)=0,0,AVERAGEIF(DFcomposition!$A15:$A1012,DisposalFacilities!$A15,DFcomposition!H15:H1012)))","v":""},{"$f":"IF($A15=\"\",\"\",IF(COUNTIF(DFcomposition!$A$1:$A$999,$A15)=0,0,AVERAGEIF(DFcomposition!$A15:$A1012,DisposalFacilities!$A15,DFcomposition!I15:I1012)))","v":""},{"$f":"IF($A15=\"\",\"\",IF(COUNTIF(DFcomposition!$A$1:$A$999,$A15)=0,0,AVERAGEIF(DFcomposition!$A15:$A1012,DisposalFacilities!$A15,DFcomposition!J15:J1012)))","v":""},{"$f":"IF($A15=\"\",\"\",IF(COUNTIF(DFcomposition!$A$1:$A$999,$A15)=0,0,AVERAGEIF(DFcomposition!$A15:$A1012,DisposalFacilities!$A15,DFcomposition!K15:K1012)))","v":""},{"$f":"IF($A15=\"\",\"\",IF(COUNTIF(DFcomposition!$A$1:$A$999,$A15)=0,0,AVERAGEIF(DFcomposition!$A15:$A1012,DisposalFacilities!$A15,DFcomposition!L15:L1012)))","v":""},{"$f":"IF($A15=\"\",\"\",IF(COUNTIF(DFcomposition!$A$1:$A$999,$A15)=0,0,AVERAGEIF(DFcomposition!$A15:$A1012,DisposalFacilities!$A15,DFcomposition!M15:M1012)))","v":""},{"$f":"IF($A15=\"\",\"\",IF(COUNTIF(DFcomposition!$A$1:$A$999,$A15)=0,0,AVERAGEIF(DFcomposition!$A15:$A1012,DisposalFacilities!$A15,DFcomposition!N15:N1012)))","v":""}]
[null,null,null,null,null,null,null,null,null,null,null,null,"","",{"$f":"IF($A16=\"\",\"\",IF(COUNTIF(DFcomposition!$A$1:$A$999,$A16)=0,0,AVERAGEIF(DFcomposition!$A16:$A1013,DisposalFacilities!$A16,DFcomposition!C16:C1013)))","v":""},{"$f":"IF($A16=\"\",\"\",IF(COUNTIF(DFcomposition!$A$1:$A$999,$A16)=0,0,AVERAGEIF(DFcomposition!$A16:$A1013,DisposalFacilities!$A16,DFcomposition!D16:D1013)))","v":""},{"$f":"IF($A16=\"\",\"\",IF(COUNTIF(DFcomposition!$A$1:$A$999,$A16)=0,0,AVERAGEIF(DFcomposition!$A16:$A1013,DisposalFacilities!$A16,DFcomposition!E16:E1013)))","v":""},{"$f":"IF($A16=\"\",\"\",IF(COUNTIF(DFcomposition!$A$1:$A$999,$A16)=0,0,AVERAGEIF(DFcomposition!$A16:$A1013,DisposalFacilities!$A16,DFcomposition!F16:F1013)))","v":""},{"$f":"IF($A16=\"\",\"\",IF(COUNTIF(DFcomposition!$A$1:$A$999,$A16)=0,0,AVERAGEIF(DFcomposition!$A16:$A1013,DisposalFacilities!$A16,DFcomposition!G16:G1013)))","v":""},{"$f":"IF($A16=\"\",\"\",IF(COUNTIF(DFcomposition!$A$1:$A$999,$A16)=0,0,AVERAGEIF(DFcomposition!$A16:$A1013,DisposalFacilities!$A16,DFcomposition!H16:H1013)))","v":""},{"$f":"IF($A16=\"\",\"\",IF(COUNTIF(DFcomposition!$A$1:$A$999,$A16)=0,0,AVERAGEIF(DFcomposition!$A16:$A1013,DisposalFacilities!$A16,DFcomposition!I16:I1013)))","v":""},{"$f":"IF($A16=\"\",\"\",IF(COUNTIF(DFcomposition!$A$1:$A$999,$A16)=0,0,AVERAGEIF(DFcomposition!$A16:$A1013,DisposalFacilities!$A16,DFcomposition!J16:J1013)))","v":""},{"$f":"IF($A16=\"\",\"\",IF(COUNTIF(DFcomposition!$A$1:$A$999,$A16)=0,0,AVERAGEIF(DFcomposition!$A16:$A1013,DisposalFacilities!$A16,DFcomposition!K16:K1013)))","v":""},{"$f":"IF($A16=\"\",\"\",IF(COUNTIF(DFcomposition!$A$1:$A$999,$A16)=0,0,AVERAGEIF(DFcomposition!$A16:$A1013,DisposalFacilities!$A16,DFcomposition!L16:L1013)))","v":""},{"$f":"IF($A16=\"\",\"\",IF(COUNTIF(DFcomposition!$A$1:$A$999,$A16)=0,0,AVERAGEIF(DFcomposition!$A16:$A1013,DisposalFacilities!$A16,DFcomposition!M16:M1013)))","v":""},{"$f":"IF($A16=\"\",\"\",IF(COUNTIF(DFcomposition!$A$1:$A$999,$A16)=0,0,AVERAGEIF(DFcomposition!$A16:$A1013,DisposalFacilities!$A16,DFcomposition!N16:N1013)))","v":""}]
[null,null,null,null,null,null,null,null,null,null,null,null,"","",{"$f":"IF($A17=\"\",\"\",IF(COUNTIF(DFcomposition!$A$1:$A$999,$A17)=0,0,AVERAGEIF(DFcomposition!$A17:$A1014,DisposalFacilities!$A17,DFcomposition!C17:C1014)))","v":""},{"$f":"IF($A17=\"\",\"\",IF(COUNTIF(DFcomposition!$A$1:$A$999,$A17)=0,0,AVERAGEIF(DFcomposition!$A17:$A1014,DisposalFacilities!$A17,DFcomposition!D17:D1014)))","v":""},{"$f":"IF($A17=\"\",\"\",IF(COUNTIF(DFcomposition!$A$1:$A$999,$A17)=0,0,AVERAGEIF(DFcomposition!$A17:$A1014,DisposalFacilities!$A17,DFcomposition!E17:E1014)))","v":""},{"$f":"IF($A17=\"\",\"\",IF(COUNTIF(DFcomposition!$A$1:$A$999,$A17)=0,0,AVERAGEIF(DFcomposition!$A17:$A1014,DisposalFacilities!$A17,DFcomposition!F17:F1014)))","v":""},{"$f":"IF($A17=\"\",\"\",IF(COUNTIF(DFcomposition!$A$1:$A$999,$A17)=0,0,AVERAGEIF(DFcomposition!$A17:$A1014,DisposalFacilities!$A17,DFcomposition!G17:G1014)))","v":""},{"$f":"IF($A17=\"\",\"\",IF(COUNTIF(DFcomposition!$A$1:$A$999,$A17)=0,0,AVERAGEIF(DFcomposition!$A17:$A1014,DisposalFacilities!$A17,DFcomposition!H17:H1014)))","v":""},{"$f":"IF($A17=\"\",\"\",IF(COUNTIF(DFcomposition!$A$1:$A$999,$A17)=0,0,AVERAGEIF(DFcomposition!$A17:$A1014,DisposalFacilities!$A17,DFcomposition!I17:I1014)))","v":""},{"$f":"IF($A17=\"\",\"\",IF(COUNTIF(DFcomposition!$A$1:$A$999,$A17)=0,0,AVERAGEIF(DFcomposition!$A17:$A1014,DisposalFacilities!$A17,DFcomposition!J17:J1014)))","v":""},{"$f":"IF($A17=\"\",\"\",IF(COUNTIF(DFcomposition!$A$1:$A$999,$A17)=0,0,AVERAGEIF(DFcomposition!$A17:$A1014,DisposalFacilities!$A17,DFcomposition!K17:K1014)))","v":""},{"$f":"IF($A17=\"\",\"\",IF(COUNTIF(DFcomposition!$A$1:$A$999,$A17)=0,0,AVERAGEIF(DFcomposition!$A17:$A1014,DisposalFacilities!$A17,DFcomposition!L17:L1014)))","v":""},{"$f":"IF($A17=\"\",\"\",IF(COUNTIF(DFcomposition!$A$1:$A$999,$A17)=0,0,AVERAGEIF(DFcomposition!$A17:$A1014,DisposalFacilities!$A17,DFcomposition!M17:M1014)))","v":""},{"$f":"IF($A17=\"\",\"\",IF(COUNTIF(DFcomposition!$A$1:$A$999,$A17)=0,0,AVERAGEIF(DFcomposition!$A17:$A1014,DisposalFacilities!$A17,DFcomposition!N17:N1014)))","v":""}]
[null,null,null,null,null,null,null,null,null,null,null,null,"","",{"$f":"IF($A18=\"\",\"\",IF(COUNTIF(DFcomposition!$A$1:$A$999,$A18)=0,0,AVERAGEIF(DFcomposition!$A18:$A1015,DisposalFacilities!$A18,DFcomposition!C18:C1015)))","v":""},{"$f":"IF($A18=\"\",\"\",IF(COUNTIF(DFcomposition!$A$1:$A$999,$A18)=0,0,AVERAGEIF(DFcomposition!$A18:$A1015,DisposalFacilities!$A18,DFcomposition!D18:D1015)))","v":""},{"$f":"IF($A18=\"\",\"\",IF(COUNTIF(DFcomposition!$A$1:$A$999,$A18)=0,0,AVERAGEIF(DFcomposition!$A18:$A1015,DisposalFacilities!$A18,DFcomposition!E18:E1015)))","v":""},{"$f":"IF($A18=\"\",\"\",IF(COUNTIF(DFcomposition!$A$1:$A$999,$A18)=0,0,AVERAGEIF(DFcomposition!$A18:$A1015,DisposalFacilities!$A18,DFcomposition!F18:F1015)))","v":""},{"$f":"IF($A18=\"\",\"\",IF(COUNTIF(DFcomposition!$A$1:$A$999,$A18)=0,0,AVERAGEIF(DFcomposition!$A18:$A1015,DisposalFacilities!$A18,DFcomposition!G18:G1015)))","v":""},{"$f":"IF($A18=\"\",\"\",IF(COUNTIF(DFcomposition!$A$1:$A$999,$A18)=0,0,AVERAGEIF(DFcomposition!$A18:$A1015,DisposalFacilities!$A18,DFcomposition!H18:H1015)))","v":""},{"$f":"IF($A18=\"\",\"\",IF(COUNTIF(DFcomposition!$A$1:$A$999,$A18)=0,0,AVERAGEIF(DFcomposition!$A18:$A1015,DisposalFacilities!$A18,DFcomposition!I18:I1015)))","v":""},{"$f":"IF($A18=\"\",\"\",IF(COUNTIF(DFcomposition!$A$1:$A$999,$A18)=0,0,AVERAGEIF(DFcomposition!$A18:$A1015,DisposalFacilities!$A18,DFcomposition!J18:J1015)))","v":""},{"$f":"IF($A18=\"\",\"\",IF(COUNTIF(DFcomposition!$A$1:$A$999,$A18)=0,0,AVERAGEIF(DFcomposition!$A18:$A1015,DisposalFacilities!$A18,DFcomposition!K18:K1015)))","v":""},{"$f":"IF($A18=\"\",\"\",IF(COUNTIF(DFcomposition!$A$1:$A$999,$A18)=0,0,AVERAGEIF(DFcomposition!$A18:$A1015,DisposalFacilities!$A18,DFcomposition!L18:L1015)))","v":""},{"$f":"IF($A18=\"\",\"\",IF(COUNTIF(DFcomposition!$A$1:$A$999,$A18)=0,0,AVERAGEIF(DFcomposition!$A18:$A1015,DisposalFacilities!$A18,DFcomposition!M18:M1015)))","v":""},{"$f":"IF($A18=\"\",\"\",IF(COUNTIF(DFcomposition!$A$1:$A$999,$A18)=0,0,AVERAGEIF(DFcomposition!$A18:$A1015,DisposalFacilities!$A18,DFcomposition!N18:N1015)))","v":""}]
[null,null,null,null,null,null,null,null,null,null,null,null,"","",{"$f":"IF($A19=\"\",\"\",IF(COUNTIF(DFcomposition!$A$1:$A$999,$A19)=0,0,AVERAGEIF(DFcomposition!$A19:$A1016,DisposalFacilities!$A19,DFcomposition!C19:C1016)))","v":""},{"$f":"IF($A19=\"\",\"\",IF(COUNTIF(DFcomposition!$A$1:$A$999,$A19)=0,0,AVERAGEIF(DFcomposition!$A19:$A1016,DisposalFacilities!$A19,DFcomposition!D19:D1016)))","v":""},{"$f":"IF($A19=\"\",\"\",IF(COUNTIF(DFcomposition!$A$1:$A$999,$A19)=0,0,AVERAGEIF(DFcomposition!$A19:$A1016,DisposalFacilities!$A19,DFcomposition!E19:E1016)))","v":""},{"$f":"IF($A19=\"\",\"\",IF(COUNTIF(DFcomposition!$A$1:$A$999,$A19)=0,0,AVERAGEIF(DFcomposition!$A19:$A1016,DisposalFacilities!$A19,DFcomposition!F19:F1016)))","v":""},{"$f":"IF($A19=\"\",\"\",IF(COUNTIF(DFcomposition!$A$1:$A$999,$A19)=0,0,AVERAGEIF(DFcomposition!$A19:$A1016,DisposalFacilities!$A19,DFcomposition!G19:G1016)))","v":""},{"$f":"IF($A19=\"\",\"\",IF(COUNTIF(DFcomposition!$A$1:$A$999,$A19)=0,0,AVERAGEIF(DFcomposition!$A19:$A1016,DisposalFacilities!$A19,DFcomposition!H19:H1016)))","v":""},{"$f":"IF($A19=\"\",\"\",IF(COUNTIF(DFcomposition!$A$1:$A$999,$A19)=0,0,AVERAGEIF(DFcomposition!$A19:$A1016,DisposalFacilities!$A19,DFcomposition!I19:I1016)))","v":""},{"$f":"IF($A19=\"\",\"\",IF(COUNTIF(DFcomposition!$A$1:$A$999,$A19)=0,0,AVERAGEIF(DFcomposition!$A19:$A1016,DisposalFacilities!$A19,DFcomposition!J19:J1016)))","v":""},{"$f":"IF($A19=\"\",\"\",IF(COUNTIF(DFcomposition!$A$1:$A$999,$A19)=0,0,AVERAGEIF(DFcomposition!$A19:$A1016,DisposalFacilities!$A19,DFcomposition!K19:K1016)))","v":""},{"$f":"IF($A19=\"\",\"\",IF(COUNTIF(DFcomposition!$A$1:$A$999,$A19)=0,0,AVERAGEIF(DFcomposition!$A19:$A1016,DisposalFacilities!$A19,DFcomposition!L19:L1016)))","v":""},{"$f":"IF($A19=\"\",\"\",IF(COUNTIF(DFcomposition!$A$1:$A$999,$A19)=0,0,AVERAGEIF(DFcomposition!$A19:$A1016,DisposalFacilities!$A19,DFcomposition!M19:M1016)))","v":""},{"$f":"IF($A19=\"\",\"\",IF(COUNTIF(DFcomposition!$A$1:$A$999,$A19)=0,0,AVERAGEIF(DFcomposition!$A19:$A1016,DisposalFacilities!$A19,DFcomposition!N19:N1016)))","v":""}]
[null,null,null,null,null,null,null,null,null,null,null,null,"","",{"$f":"IF($A20=\"\",\"\",IF(COUNTIF(DFcomposition!$A$1:$A$999,$A20)=0,0,AVERAGEIF(DFcomposition!$A20:$A1017,DisposalFacilities!$A20,DFcomposition!C20:C1017)))","v":""},{"$f":"IF($A20=\"\",\"\",IF(COUNTIF(DFcomposition!$A$1:$A$999,$A20)=0,0,AVERAGEIF(DFcomposition!$A20:$A1017,DisposalFacilities!$A20,DFcomposition!D20:D1017)))","v":""},{"$f":"IF($A20=\"\",\"\",IF(COUNTIF(DFcomposition!$A$1:$A$999,$A20)=0,0,AVERAGEIF(DFcomposition!$A20:$A1017,DisposalFacilities!$A20,DFcomposition!E20:E1017)))","v":""},{"$f":"IF($A20=\"\",\"\",IF(COUNTIF(DFcomposition!$A$1:$A$999,$A20)=0,0,AVERAGEIF(DFcomposition!$A20:$A1017,DisposalFacilities!$A20,DFcomposition!F20:F1017)))","v":""},{"$f":"IF($A20=\"\",\"\",IF(COUNTIF(DFcomposition!$A$1:$A$999,$A20)=0,0,AVERAGEIF(DFcomposition!$A20:$A1017,DisposalFacilities!$A20,DFcomposition!G20:G1017)))","v":""},{"$f":"IF($A20=\"\",\"\",IF(COUNTIF(DFcomposition!$A$1:$A$999,$A20)=0,0,AVERAGEIF(DFcomposition!$A20:$A1017,DisposalFacilities!$A20,DFcomposition!H20:H1017)))","v":""},{"$f":"IF($A20=\"\",\"\",IF(COUNTIF(DFcomposition!$A$1:$A$999,$A20)=0,0,AVERAGEIF(DFcomposition!$A20:$A1017,DisposalFacilities!$A20,DFcomposition!I20:I1017)))","v":""},{"$f":"IF($A20=\"\",\"\",IF(COUNTIF(DFcomposition!$A$1:$A$999,$A20)=0,0,AVERAGEIF(DFcomposition!$A20:$A1017,DisposalFacilities!$A20,DFcomposition!J20:J1017)))","v":""},{"$f":"IF($A20=\"\",\"\",IF(COUNTIF(DFcomposition!$A$1:$A$999,$A20)=0,0,AVERAGEIF(DFcomposition!$A20:$A1017,DisposalFacilities!$A20,DFcomposition!K20:K1017)))","v":""},{"$f":"IF($A20=\"\",\"\",IF(COUNTIF(DFcomposition!$A$1:$A$999,$A20)=0,0,AVERAGEIF(DFcomposition!$A20:$A1017,DisposalFacilities!$A20,DFcomposition!L20:L1017)))","v":""},{"$f":"IF($A20=\"\",\"\",IF(COUNTIF(DFcomposition!$A$1:$A$999,$A20)=0,0,AVERAGEIF(DFcomposition!$A20:$A1017,DisposalFacilities!$A20,DFcomposition!M20:M1017)))","v":""},{"$f":"IF($A20=\"\",\"\",IF(COUNTIF(DFcomposition!$A$1:$A$999,$A20)=0,0,AVERAGEIF(DFcomposition!$A20:$A1017,DisposalFacilities!$A20,DFcomposition!N20:N1017)))","v":""}]
[null,null,null,null,null,null,null,null,null,null,null,null,"","",{"$f":"IF($A21=\"\",\"\",IF(COUNTIF(DFcomposition!$A$1:$A$999,$A21)=0,0,AVERAGEIF(DFcomposition!$A21:$A1018,DisposalFacilities!$A21,DFcomposition!C21:C1018)))","v":""},{"$f":"IF($A21=\"\",\"\",IF(COUNTIF(DFcomposition!$A$1:$A$999,$A21)=0,0,AVERAGEIF(DFcomposition!$A21:$A1018,DisposalFacilities!$A21,DFcomposition!D21:D1018)))","v":""},{"$f":"IF($A21=\"\",\"\",IF(COUNTIF(DFcomposition!$A$1:$A$999,$A21)=0,0,AVERAGEIF(DFcomposition!$A21:$A1018,DisposalFacilities!$A21,DFcomposition!E21:E1018)))","v":""},{"$f":"IF($A21=\"\",\"\",IF(COUNTIF(DFcomposition!$A$1:$A$999,$A21)=0,0,AVERAGEIF(DFcomposition!$A21:$A1018,DisposalFacilities!$A21,DFcomposition!F21:F1018)))","v":""},{"$f":"IF($A21=\"\",\"\",IF(COUNTIF(DFcomposition!$A$1:$A$999,$A21)=0,0,AVERAGEIF(DFcomposition!$A21:$A1018,DisposalFacilities!$A21,DFcomposition!G21:G1018)))","v":""},{"$f":"IF($A21=\"\",\"\",IF(COUNTIF(DFcomposition!$A$1:$A$999,$A21)=0,0,AVERAGEIF(DFcomposition!$A21:$A1018,DisposalFacilities!$A21,DFcomposition!H21:H1018)))","v":""},{"$f":"IF($A21=\"\",\"\",IF(COUNTIF(DFcomposition!$A$1:$A$999,$A21)=0,0,AVERAGEIF(DFcomposition!$A21:$A1018,DisposalFacilities!$A21,DFcomposition!I21:I1018)))","v":""},{"$f":"IF($A21=\"\",\"\",IF(COUNTIF(DFcomposition!$A$1:$A$999,$A21)=0,0,AVERAGEIF(DFcomposition!$A21:$A1018,DisposalFacilities!$A21,DFcomposition!J21:J1018)))","v":""},{"$f":"IF($A21=\"\",\"\",IF(COUNTIF(DFcomposition!$A$1:$A$999,$A21)=0,0,AVERAGEIF(DFcomposition!$A21:$A1018,DisposalFacilities!$A21,DFcomposition!K21:K1018)))","v":""},{"$f":"IF($A21=\"\",\"\",IF(COUNTIF(DFcomposition!$A$1:$A$999,$A21)=0,0,AVERAGEIF(DFcomposition!$A21:$A1018,DisposalFacilities!$A21,DFcomposition!L21:L1018)))","v":""},{"$f":"IF($A21=\"\",\"\",IF(COUNTIF(DFcomposition!$A$1:$A$999,$A21)=0,0,AVERAGEIF(DFcomposition!$A21:$A1018,DisposalFacilities!$A21,DFcomposition!M21:M1018)))","v":""},{"$f":"IF($A21=\"\",\"\",IF(COUNTIF(DFcomposition!$A$1:$A$999,$A21)=0,0,AVERAGEIF(DFcomposition!$A21:$A1018,DisposalFacilities!$A21,DFcomposition!N21:N1018)))","v":""}]
[null,null,null,null,null,null,null,null,null,null,null,null,"","",{"$f":"IF($A22=\"\",\"\",IF(COUNTIF(DFcomposition!$A$1:$A$999,$A22)=0,0,AVERAGEIF(DFcomposition!$A22:$A1019,DisposalFacilities!$A22,DFcomposition!C22:C1019)))","v":""},{"$f":"IF($A22=\"\",\"\",IF(COUNTIF(DFcomposition!$A$1:$A$999,$A22)=0,0,AVERAGEIF(DFcomposition!$A22:$A1019,DisposalFacilities!$A22,DFcomposition!D22:D1019)))","v":""},{"$f":"IF($A22=\"\",\"\",IF(COUNTIF(DFcomposition!$A$1:$A$999,$A22)=0,0,AVERAGEIF(DFcomposition!$A22:$A1019,DisposalFacilities!$A22,DFcomposition!E22:E1019)))","v":""},{"$f":"IF($A22=\"\",\"\",IF(COUNTIF(DFcomposition!$A$1:$A$999,$A22)=0,0,AVERAGEIF(DFcomposition!$A22:$A1019,DisposalFacilities!$A22,DFcomposition!F22:F1019)))","v":""},{"$f":"IF($A22=\"\",\"\",IF(COUNTIF(DFcomposition!$A$1:$A$999,$A22)=0,0,AVERAGEIF(DFcomposition!$A22:$A1019,DisposalFacilities!$A22,DFcomposition!G22:G1019)))","v":""},{"$f":"IF($A22=\"\",\"\",IF(COUNTIF(DFcomposition!$A$1:$A$999,$A22)=0,0,AVERAGEIF(DFcomposition!$A22:$A1019,DisposalFacilities!$A22,DFcomposition!H22:H1019)))","v":""},{"$f":"IF($A22=\"\",\"\",IF(COUNTIF(DFcomposition!$A$1:$A$999,$A22)=0,0,AVERAGEIF(DFcomposition!$A22:$A1019,DisposalFacilities!$A22,DFcomposition!I22:I1019)))","v":""},{"$f":"IF($A22=\"\",\"\",IF(COUNTIF(DFcomposition!$A$1:$A$999,$A22)=0,0,AVERAGEIF(DFcomposition!$A22:$A1019,DisposalFacilities!$A22,DFcomposition!J22:J1019)))","v":""},{"$f":"IF($A22=\"\",\"\",IF(COUNTIF(DFcomposition!$A$1:$A$999,$A22)=0,0,AVERAGEIF(DFcomposition!$A22:$A1019,DisposalFacilities!$A22,DFcomposition!K22:K1019)))","v":""},{"$f":"IF($A22=\"\",\"\",IF(COUNTIF(DFcomposition!$A$1:$A$999,$A22)=0,0,AVERAGEIF(DFcomposition!$A22:$A1019,DisposalFacilities!$A22,DFcomposition!L22:L1019)))","v":""},{"$f":"IF($A22=\"\",\"\",IF(COUNTIF(DFcomposition!$A$1:$A$999,$A22)=0,0,AVERAGEIF(DFcomposition!$A22:$A1019,DisposalFacilities!$A22,DFcomposition!M22:M1019)))","v":""},{"$f":"IF($A22=\"\",\"\",IF(COUNTIF(DFcomposition!$A$1:$A$999,$A22)=0,0,AVERAGEIF(DFcomposition!$A22:$A1019,DisposalFacilities!$A22,DFcomposition!N22:N1019)))","v":""}]
[null,null,null,null,null,null,null,null,null,null,null,null,"","",{"$f":"IF($A23=\"\",\"\",IF(COUNTIF(DFcomposition!$A$1:$A$999,$A23)=0,0,AVERAGEIF(DFcomposition!$A23:$A1020,DisposalFacilities!$A23,DFcomposition!C23:C1020)))","v":""},{"$f":"IF($A23=\"\",\"\",IF(COUNTIF(DFcomposition!$A$1:$A$999,$A23)=0,0,AVERAGEIF(DFcomposition!$A23:$A1020,DisposalFacilities!$A23,DFcomposition!D23:D1020)))","v":""},{"$f":"IF($A23=\"\",\"\",IF(COUNTIF(DFcomposition!$A$1:$A$999,$A23)=0,0,AVERAGEIF(DFcomposition!$A23:$A1020,DisposalFacilities!$A23,DFcomposition!E23:E1020)))","v":""},{"$f":"IF($A23=\"\",\"\",IF(COUNTIF(DFcomposition!$A$1:$A$999,$A23)=0,0,AVERAGEIF(DFcomposition!$A23:$A1020,DisposalFacilities!$A23,DFcomposition!F23:F1020)))","v":""},{"$f":"IF($A23=\"\",\"\",IF(COUNTIF(DFcomposition!$A$1:$A$999,$A23)=0,0,AVERAGEIF(DFcomposition!$A23:$A1020,DisposalFacilities!$A23,DFcomposition!G23:G1020)))","v":""},{"$f":"IF($A23=\"\",\"\",IF(COUNTIF(DFcomposition!$A$1:$A$999,$A23)=0,0,AVERAGEIF(DFcomposition!$A23:$A1020,DisposalFacilities!$A23,DFcomposition!H23:H1020)))","v":""},{"$f":"IF($A23=\"\",\"\",IF(COUNTIF(DFcomposition!$A$1:$A$999,$A23)=0,0,AVERAGEIF(DFcomposition!$A23:$A1020,DisposalFacilities!$A23,DFcomposition!I23:I1020)))","v":""},{"$f":"IF($A23=\"\",\"\",IF(COUNTIF(DFcomposition!$A$1:$A$999,$A23)=0,0,AVERAGEIF(DFcomposition!$A23:$A1020,DisposalFacilities!$A23,DFcomposition!J23:J1020)))","v":""},{"$f":"IF($A23=\"\",\"\",IF(COUNTIF(DFcomposition!$A$1:$A$999,$A23)=0,0,AVERAGEIF(DFcomposition!$A23:$A1020,DisposalFacilities!$A23,DFcomposition!K23:K1020)))","v":""},{"$f":"IF($A23=\"\",\"\",IF(COUNTIF(DFcomposition!$A$1:$A$999,$A23)=0,0,AVERAGEIF(DFcomposition!$A23:$A1020,DisposalFacilities!$A23,DFcomposition!L23:L1020)))","v":""},{"$f":"IF($A23=\"\",\"\",IF(COUNTIF(DFcomposition!$A$1:$A$999,$A23)=0,0,AVERAGEIF(DFcomposition!$A23:$A1020,DisposalFacilities!$A23,DFcomposition!M23:M1020)))","v":""},{"$f":"IF($A23=\"\",\"\",IF(COUNTIF(DFcomposition!$A$1:$A$999,$A23)=0,0,AVERAGEIF(DFcomposition!$A23:$A1020,DisposalFacilities!$A23,DFcomposition!N23:N1020)))","v":""}]
[null,null,null,null,null,null,null,null,null,null,null,null,"","",{"$f":"IF($A24=\"\",\"\",IF(COUNTIF(DFcomposition!$A$1:$A$999,$A24)=0,0,AVERAGEIF(DFcomposition!$A24:$A1021,DisposalFacilities!$A24,DFcomposition!C24:C1021)))","v":""},{"$f":"IF($A24=\"\",\"\",IF(COUNTIF(DFcomposition!$A$1:$A$999,$A24)=0,0,AVERAGEIF(DFcomposition!$A24:$A1021,DisposalFacilities!$A24,DFcomposition!D24:D1021)))","v":""},{"$f":"IF($A24=\"\",\"\",IF(COUNTIF(DFcomposition!$A$1:$A$999,$A24)=0,0,AVERAGEIF(DFcomposition!$A24:$A1021,DisposalFacilities!$A24,DFcomposition!E24:E1021)))","v":""},{"$f":"IF($A24=\"\",\"\",IF(COUNTIF(DFcomposition!$A$1:$A$999,$A24)=0,0,AVERAGEIF(DFcomposition!$A24:$A1021,DisposalFacilities!$A24,DFcomposition!F24:F1021)))","v":""},{"$f":"IF($A24=\"\",\"\",IF(COUNTIF(DFcomposition!$A$1:$A$999,$A24)=0,0,AVERAGEIF(DFcomposition!$A24:$A1021,DisposalFacilities!$A24,DFcomposition!G24:G1021)))","v":""},{"$f":"IF($A24=\"\",\"\",IF(COUNTIF(DFcomposition!$A$1:$A$999,$A24)=0,0,AVERAGEIF(DFcomposition!$A24:$A1021,DisposalFacilities!$A24,DFcomposition!H24:H1021)))","v":""},{"$f":"IF($A24=\"\",\"\",IF(COUNTIF(DFcomposition!$A$1:$A$999,$A24)=0,0,AVERAGEIF(DFcomposition!$A24:$A1021,DisposalFacilities!$A24,DFcomposition!I24:I1021)))","v":""},{"$f":"IF($A24=\"\",\"\",IF(COUNTIF(DFcomposition!$A$1:$A$999,$A24)=0,0,AVERAGEIF(DFcomposition!$A24:$A1021,DisposalFacilities!$A24,DFcomposition!J24:J1021)))","v":""},{"$f":"IF($A24=\"\",\"\",IF(COUNTIF(DFcomposition!$A$1:$A$999,$A24)=0,0,AVERAGEIF(DFcomposition!$A24:$A1021,DisposalFacilities!$A24,DFcomposition!K24:K1021)))","v":""},{"$f":"IF($A24=\"\",\"\",IF(COUNTIF(DFcomposition!$A$1:$A$999,$A24)=0,0,AVERAGEIF(DFcomposition!$A24:$A1021,DisposalFacilities!$A24,DFcomposition!L24:L1021)))","v":""},{"$f":"IF($A24=\"\",\"\",IF(COUNTIF(DFcomposition!$A$1:$A$999,$A24)=0,0,AVERAGEIF(DFcomposition!$A24:$A1021,DisposalFacilities!$A24,DFcomposition!M24:M1021)))","v":""},{"$f":"IF($A24=\"\",\"\",IF(COUNTIF(DFcomposition!$A$1:$A$999,$A24)=0,0,AVERAGEIF(DFcomposition!$A24:$A1021,DisposalFacilities!$A24,DFcomposition!N24:N1021)))","v":""}]
[null,null,null,null,null,null,null,null,null,null,null,null,"","",{"$f":"IF($A25=\"\",\"\",IF(COUNTIF(DFcomposition!$A$1:$A$999,$A25)=0,0,AVERAGEIF(DFcomposition!$A25:$A1022,DisposalFacilities!$A25,DFcomposition!C25:C1022)))","v":""},{"$f":"IF($A25=\"\",\"\",IF(COUNTIF(DFcomposition!$A$1:$A$999,$A25)=0,0,AVERAGEIF(DFcomposition!$A25:$A1022,DisposalFacilities!$A25,DFcomposition!D25:D1022)))","v":""},{"$f":"IF($A25=\"\",\"\",IF(COUNTIF(DFcomposition!$A$1:$A$999,$A25)=0,0,AVERAGEIF(DFcomposition!$A25:$A1022,DisposalFacilities!$A25,DFcomposition!E25:E1022)))","v":""},{"$f":"IF($A25=\"\",\"\",IF(COUNTIF(DFcomposition!$A$1:$A$999,$A25)=0,0,AVERAGEIF(DFcomposition!$A25:$A1022,DisposalFacilities!$A25,DFcomposition!F25:F1022)))","v":""},{"$f":"IF($A25=\"\",\"\",IF(COUNTIF(DFcomposition!$A$1:$A$999,$A25)=0,0,AVERAGEIF(DFcomposition!$A25:$A1022,DisposalFacilities!$A25,DFcomposition!G25:G1022)))","v":""},{"$f":"IF($A25=\"\",\"\",IF(COUNTIF(DFcomposition!$A$1:$A$999,$A25)=0,0,AVERAGEIF(DFcomposition!$A25:$A1022,DisposalFacilities!$A25,DFcomposition!H25:H1022)))","v":""},{"$f":"IF($A25=\"\",\"\",IF(COUNTIF(DFcomposition!$A$1:$A$999,$A25)=0,0,AVERAGEIF(DFcomposition!$A25:$A1022,DisposalFacilities!$A25,DFcomposition!I25:I1022)))","v":""},{"$f":"IF($A25=\"\",\"\",IF(COUNTIF(DFcomposition!$A$1:$A$999,$A25)=0,0,AVERAGEIF(DFcomposition!$A25:$A1022,DisposalFacilities!$A25,DFcomposition!J25:J1022)))","v":""},{"$f":"IF($A25=\"\",\"\",IF(COUNTIF(DFcomposition!$A$1:$A$999,$A25)=0,0,AVERAGEIF(DFcomposition!$A25:$A1022,DisposalFacilities!$A25,DFcomposition!K25:K1022)))","v":""},{"$f":"IF($A25=\"\",\"\",IF(COUNTIF(DFcomposition!$A$1:$A$999,$A25)=0,0,AVERAGEIF(DFcomposition!$A25:$A1022,DisposalFacilities!$A25,DFcomposition!L25:L1022)))","v":""},{"$f":"IF($A25=\"\",\"\",IF(COUNTIF(DFcomposition!$A$1:$A$999,$A25)=0,0,AVERAGEIF(DFcomposition!$A25:$A1022,DisposalFacilities!$A25,DFcomposition!M25:M1022)))","v":""},{"$f":"IF($A25=\"\",\"\",IF(COUNTIF(DFcomposition!$A$1:$A$999,$A25)=0,0,AVERAGEIF(DFcomposition!$A25:$A1022,DisposalFacilities!$A25,DFcomposition!N25:N1022)))","v":""}]
[null,null,null,null,null,null,null,null,null,null,null,null,"","",{"$f":"IF($A26=\"\",\"\",IF(COUNTIF(DFcomposition!$A$1:$A$999,$A26)=0,0,AVERAGEIF(DFcomposition!$A26:$A1023,DisposalFacilities!$A26,DFcomposition!C26:C1023)))","v":""},{"$f":"IF($A26=\"\",\"\",IF(COUNTIF(DFcomposition!$A$1:$A$999,$A26)=0,0,AVERAGEIF(DFcomposition!$A26:$A1023,DisposalFacilities!$A26,DFcomposition!D26:D1023)))","v":""},{"$f":"IF($A26=\"\",\"\",IF(COUNTIF(DFcomposition!$A$1:$A$999,$A26)=0,0,AVERAGEIF(DFcomposition!$A26:$A1023,DisposalFacilities!$A26,DFcomposition!E26:E1023)))","v":""},{"$f":"IF($A26=\"\",\"\",IF(COUNTIF(DFcomposition!$A$1:$A$999,$A26)=0,0,AVERAGEIF(DFcomposition!$A26:$A1023,DisposalFacilities!$A26,DFcomposition!F26:F1023)))","v":""},{"$f":"IF($A26=\"\",\"\",IF(COUNTIF(DFcomposition!$A$1:$A$999,$A26)=0,0,AVERAGEIF(DFcomposition!$A26:$A1023,DisposalFacilities!$A26,DFcomposition!G26:G1023)))","v":""},{"$f":"IF($A26=\"\",\"\",IF(COUNTIF(DFcomposition!$A$1:$A$999,$A26)=0,0,AVERAGEIF(DFcomposition!$A26:$A1023,DisposalFacilities!$A26,DFcomposition!H26:H1023)))","v":""},{"$f":"IF($A26=\"\",\"\",IF(COUNTIF(DFcomposition!$A$1:$A$999,$A26)=0,0,AVERAGEIF(DFcomposition!$A26:$A1023,DisposalFacilities!$A26,DFcomposition!I26:I1023)))","v":""},{"$f":"IF($A26=\"\",\"\",IF(COUNTIF(DFcomposition!$A$1:$A$999,$A26)=0,0,AVERAGEIF(DFcomposition!$A26:$A1023,DisposalFacilities!$A26,DFcomposition!J26:J1023)))","v":""},{"$f":"IF($A26=\"\",\"\",IF(COUNTIF(DFcomposition!$A$1:$A$999,$A26)=0,0,AVERAGEIF(DFcomposition!$A26:$A1023,DisposalFacilities!$A26,DFcomposition!K26:K1023)))","v":""},{"$f":"IF($A26=\"\",\"\",IF(COUNTIF(DFcomposition!$A$1:$A$999,$A26)=0,0,AVERAGEIF(DFcomposition!$A26:$A1023,DisposalFacilities!$A26,DFcomposition!L26:L1023)))","v":""},{"$f":"IF($A26=\"\",\"\",IF(COUNTIF(DFcomposition!$A$1:$A$999,$A26)=0,0,AVERAGEIF(DFcomposition!$A26:$A1023,DisposalFacilities!$A26,DFcomposition!M26:M1023)))","v":""},{"$f":"IF($A26=\"\",\"\",IF(COUNTIF(DFcomposition!$A$1:$A$999,$A26)=0,0,AVERAGEIF(DFcomposition!$A26:$A1023,DisposalFacilities!$A26,DFcomposition!N26:N1023)))","v":""}]
[null,null,null,null,null,null,null,null,null,null,null,null,"","",{"$f":"IF($A27=\"\",\"\",IF(COUNTIF(DFcomposition!$A$1:$A$999,$A27)=0,0,AVERAGEIF(DFcomposition!$A27:$A1024,DisposalFacilities!$A27,DFcomposition!C27:C1024)))","v":""},{"$f":"IF($A27=\"\",\"\",IF(COUNTIF(DFcomposition!$A$1:$A$999,$A27)=0,0,AVERAGEIF(DFcomposition!$A27:$A1024,DisposalFacilities!$A27,DFcomposition!D27:D1024)))","v":""},{"$f":"IF($A27=\"\",\"\",IF(COUNTIF(DFcomposition!$A$1:$A$999,$A27)=0,0,AVERAGEIF(DFcomposition!$A27:$A1024,DisposalFacilities!$A27,DFcomposition!E27:E1024)))","v":""},{"$f":"IF($A27=\"\",\"\",IF(COUNTIF(DFcomposition!$A$1:$A$999,$A27)=0,0,AVERAGEIF(DFcomposition!$A27:$A1024,DisposalFacilities!$A27,DFcomposition!F27:F1024)))","v":""},{"$f":"IF($A27=\"\",\"\",IF(COUNTIF(DFcomposition!$A$1:$A$999,$A27)=0,0,AVERAGEIF(DFcomposition!$A27:$A1024,DisposalFacilities!$A27,DFcomposition!G27:G1024)))","v":""},{"$f":"IF($A27=\"\",\"\",IF(COUNTIF(DFcomposition!$A$1:$A$999,$A27)=0,0,AVERAGEIF(DFcomposition!$A27:$A1024,DisposalFacilities!$A27,DFcomposition!H27:H1024)))","v":""},{"$f":"IF($A27=\"\",\"\",IF(COUNTIF(DFcomposition!$A$1:$A$999,$A27)=0,0,AVERAGEIF(DFcomposition!$A27:$A1024,DisposalFacilities!$A27,DFcomposition!I27:I1024)))","v":""},{"$f":"IF($A27=\"\",\"\",IF(COUNTIF(DFcomposition!$A$1:$A$999,$A27)=0,0,AVERAGEIF(DFcomposition!$A27:$A1024,DisposalFacilities!$A27,DFcomposition!J27:J1024)))","v":""},{"$f":"IF($A27=\"\",\"\",IF(COUNTIF(DFcomposition!$A$1:$A$999,$A27)=0,0,AVERAGEIF(DFcomposition!$A27:$A1024,DisposalFacilities!$A27,DFcomposition!K27:K1024)))","v":""},{"$f":"IF($A27=\"\",\"\",IF(COUNTIF(DFcomposition!$A$1:$A$999,$A27)=0,0,AVERAGEIF(DFcomposition!$A27:$A1024,DisposalFacilities!$A27,DFcomposition!L27:L1024)))","v":""},{"$f":"IF($A27=\"\",\"\",IF(COUNTIF(DFcomposition!$A$1:$A$999,$A27)=0,0,AVERAGEIF(DFcomposition!$A27:$A1024,DisposalFacilities!$A27,DFcomposition!M27:M1024)))","v":""},{"$f":"IF($A27=\"\",\"\",IF(COUNTIF(DFcomposition!$A$1:$A$999,$A27)=0,0,AVERAGEIF(DFcomposition!$A27:$A1024,DisposalFacilities!$A27,DFcomposition!N27:N1024)))","v":""}]
[null,null,null,null,null,null,null,null,null,null,null,null,"","",{"$f":"IF($A28=\"\",\"\",IF(COUNTIF(DFcomposition!$A$1:$A$999,$A28)=0,0,AVERAGEIF(DFcomposition!$A28:$A1025,DisposalFacilities!$A28,DFcomposition!C28:C1025)))","v":""},{"$f":"IF($A28=\"\",\"\",IF(COUNTIF(DFcomposition!$A$1:$A$999,$A28)=0,0,AVERAGEIF(DFcomposition!$A28:$A1025,DisposalFacilities!$A28,DFcomposition!D28:D1025)))","v":""},{"$f":"IF($A28=\"\",\"\",IF(COUNTIF(DFcomposition!$A$1:$A$999,$A28)=0,0,AVERAGEIF(DFcomposition!$A28:$A1025,DisposalFacilities!$A28,DFcomposition!E28:E1025)))","v":""},{"$f":"IF($A28=\"\",\"\",IF(COUNTIF(DFcomposition!$A$1:$A$999,$A28)=0,0,AVERAGEIF(DFcomposition!$A28:$A1025,DisposalFacilities!$A28,DFcomposition!F28:F1025)))","v":""},{"$f":"IF($A28=\"\",\"\",IF(COUNTIF(DFcomposition!$A$1:$A$999,$A28)=0,0,AVERAGEIF(DFcomposition!$A28:$A1025,DisposalFacilities!$A28,DFcomposition!G28:G1025)))","v":""},{"$f":"IF($A28=\"\",\"\",IF(COUNTIF(DFcomposition!$A$1:$A$999,$A28)=0,0,AVERAGEIF(DFcomposition!$A28:$A1025,DisposalFacilities!$A28,DFcomposition!H28:H1025)))","v":""},{"$f":"IF($A28=\"\",\"\",IF(COUNTIF(DFcomposition!$A$1:$A$999,$A28)=0,0,AVERAGEIF(DFcomposition!$A28:$A1025,DisposalFacilities!$A28,DFcomposition!I28:I1025)))","v":""},{"$f":"IF($A28=\"\",\"\",IF(COUNTIF(DFcomposition!$A$1:$A$999,$A28)=0,0,AVERAGEIF(DFcomposition!$A28:$A1025,DisposalFacilities!$A28,DFcomposition!J28:J1025)))","v":""},{"$f":"IF($A28=\"\",\"\",IF(COUNTIF(DFcomposition!$A$1:$A$999,$A28)=0,0,AVERAGEIF(DFcomposition!$A28:$A1025,DisposalFacilities!$A28,DFcomposition!K28:K1025)))","v":""},{"$f":"IF($A28=\"\",\"\",IF(COUNTIF(DFcomposition!$A$1:$A$999,$A28)=0,0,AVERAGEIF(DFcomposition!$A28:$A1025,DisposalFacilities!$A28,DFcomposition!L28:L1025)))","v":""},{"$f":"IF($A28=\"\",\"\",IF(COUNTIF(DFcomposition!$A$1:$A$999,$A28)=0,0,AVERAGEIF(DFcomposition!$A28:$A1025,DisposalFacilities!$A28,DFcomposition!M28:M1025)))","v":""},{"$f":"IF($A28=\"\",\"\",IF(COUNTIF(DFcomposition!$A$1:$A$999,$A28)=0,0,AVERAGEIF(DFcomposition!$A28:$A1025,DisposalFacilities!$A28,DFcomposition!N28:N1025)))","v":""}]
[null,null,null,null,null,null,null,null,null,null,null,null,"","",{"$f":"IF($A29=\"\",\"\",IF(COUNTIF(DFcomposition!$A$1:$A$999,$A29)=0,0,AVERAGEIF(DFcomposition!$A29:$A1026,DisposalFacilities!$A29,DFcomposition!C29:C1026)))","v":""},{"$f":"IF($A29=\"\",\"\",IF(COUNTIF(DFcomposition!$A$1:$A$999,$A29)=0,0,AVERAGEIF(DFcomposition!$A29:$A1026,DisposalFacilities!$A29,DFcomposition!D29:D1026)))","v":""},{"$f":"IF($A29=\"\",\"\",IF(COUNTIF(DFcomposition!$A$1:$A$999,$A29)=0,0,AVERAGEIF(DFcomposition!$A29:$A1026,DisposalFacilities!$A29,DFcomposition!E29:E1026)))","v":""},{"$f":"IF($A29=\"\",\"\",IF(COUNTIF(DFcomposition!$A$1:$A$999,$A29)=0,0,AVERAGEIF(DFcomposition!$A29:$A1026,DisposalFacilities!$A29,DFcomposition!F29:F1026)))","v":""},{"$f":"IF($A29=\"\",\"\",IF(COUNTIF(DFcomposition!$A$1:$A$999,$A29)=0,0,AVERAGEIF(DFcomposition!$A29:$A1026,DisposalFacilities!$A29,DFcomposition!G29:G1026)))","v":""},{"$f":"IF($A29=\"\",\"\",IF(COUNTIF(DFcomposition!$A$1:$A$999,$A29)=0,0,AVERAGEIF(DFcomposition!$A29:$A1026,DisposalFacilities!$A29,DFcomposition!H29:H1026)))","v":""},{"$f":"IF($A29=\"\",\"\",IF(COUNTIF(DFcomposition!$A$1:$A$999,$A29)=0,0,AVERAGEIF(DFcomposition!$A29:$A1026,DisposalFacilities!$A29,DFcomposition!I29:I1026)))","v":""},{"$f":"IF($A29=\"\",\"\",IF(COUNTIF(DFcomposition!$A$1:$A$999,$A29)=0,0,AVERAGEIF(DFcomposition!$A29:$A1026,DisposalFacilities!$A29,DFcomposition!J29:J1026)))","v":""},{"$f":"IF($A29=\"\",\"\",IF(COUNTIF(DFcomposition!$A$1:$A$999,$A29)=0,0,AVERAGEIF(DFcomposition!$A29:$A1026,DisposalFacilities!$A29,DFcomposition!K29:K1026)))","v":""},{"$f":"IF($A29=\"\",\"\",IF(COUNTIF(DFcomposition!$A$1:$A$999,$A29)=0,0,AVERAGEIF(DFcomposition!$A29:$A1026,DisposalFacilities!$A29,DFcomposition!L29:L1026)))","v":""},{"$f":"IF($A29=\"\",\"\",IF(COUNTIF(DFcomposition!$A$1:$A$999,$A29)=0,0,AVERAGEIF(DFcomposition!$A29:$A1026,DisposalFacilities!$A29,DFcomposition!M29:M1026)))","v":""},{"$f":"IF($A29=\"\",\"\",IF(COUNTIF(DFcomposition!$A$1:$A$999,$A29)=0,0,AVERAGEIF(DFcomposition!$A29:$A1026,DisposalFacilities!$A29,DFcomposition!N29:N1026)))","v":""}]
[null,null,null,null,null,null,null,null,null,null,null,null,"","",{"$f":"IF($A30=\"\",\"\",IF(COUNTIF(DFcomposition!$A$1:$A$999,$A30)=0,0,AVERAGEIF(DFcomposition!$A30:$A1027,DisposalFacilities!$A30,DFcomposition!C30:C1027)))","v":""},{"$f":"IF($A30=\"\",\"\",IF(COUNTIF(DFcomposition!$A$1:$A$999,$A30)=0,0,AVERAGEIF(DFcomposition!$A30:$A1027,DisposalFacilities!$A30,DFcomposition!D30:D1027)))","v":""},{"$f":"IF($A30=\"\",\"\",IF(COUNTIF(DFcomposition!$A$1:$A$999,$A30)=0,0,AVERAGEIF(DFcomposition!$A30:$A1027,DisposalFacilities!$A30,DFcomposition!E30:E1027)))","v":""},{"$f":"IF($A30=\"\",\"\",IF(COUNTIF(DFcomposition!$A$1:$A$999,$A30)=0,0,AVERAGEIF(DFcomposition!$A30:$A1027,DisposalFacilities!$A30,DFcomposition!F30:F1027)))","v":""},{"$f":"IF($A30=\"\",\"\",IF(COUNTIF(DFcomposition!$A$1:$A$999,$A30)=0,0,AVERAGEIF(DFcomposition!$A30:$A1027,DisposalFacilities!$A30,DFcomposition!G30:G1027)))","v":""},{"$f":"IF($A30=\"\",\"\",IF(COUNTIF(DFcomposition!$A$1:$A$999,$A30)=0,0,AVERAGEIF(DFcomposition!$A30:$A1027,DisposalFacilities!$A30,DFcomposition!H30:H1027)))","v":""},{"$f":"IF($A30=\"\",\"\",IF(COUNTIF(DFcomposition!$A$1:$A$999,$A30)=0,0,AVERAGEIF(DFcomposition!$A30:$A1027,DisposalFacilities!$A30,DFcomposition!I30:I1027)))","v":""},{"$f":"IF($A30=\"\",\"\",IF(COUNTIF(DFcomposition!$A$1:$A$999,$A30)=0,0,AVERAGEIF(DFcomposition!$A30:$A1027,DisposalFacilities!$A30,DFcomposition!J30:J1027)))","v":""},{"$f":"IF($A30=\"\",\"\",IF(COUNTIF(DFcomposition!$A$1:$A$999,$A30)=0,0,AVERAGEIF(DFcomposition!$A30:$A1027,DisposalFacilities!$A30,DFcomposition!K30:K1027)))","v":""},{"$f":"IF($A30=\"\",\"\",IF(COUNTIF(DFcomposition!$A$1:$A$999,$A30)=0,0,AVERAGEIF(DFcomposition!$A30:$A1027,DisposalFacilities!$A30,DFcomposition!L30:L1027)))","v":""},{"$f":"IF($A30=\"\",\"\",IF(COUNTIF(DFcomposition!$A$1:$A$999,$A30)=0,0,AVERAGEIF(DFcomposition!$A30:$A1027,DisposalFacilities!$A30,DFcomposition!M30:M1027)))","v":""},{"$f":"IF($A30=\"\",\"\",IF(COUNTIF(DFcomposition!$A$1:$A$999,$A30)=0,0,AVERAGEIF(DFcomposition!$A30:$A1027,DisposalFacilities!$A30,DFcomposition!N30:N1027)))","v":""}]
[null,null,null,null,null,null,null,null,null,null,null,null,"","",{"$f":"IF($A31=\"\",\"\",IF(COUNTIF(DFcomposition!$A$1:$A$999,$A31)=0,0,AVERAGEIF(DFcomposition!$A31:$A1028,DisposalFacilities!$A31,DFcomposition!C31:C1028)))","v":""},{"$f":"IF($A31=\"\",\"\",IF(COUNTIF(DFcomposition!$A$1:$A$999,$A31)=0,0,AVERAGEIF(DFcomposition!$A31:$A1028,DisposalFacilities!$A31,DFcomposition!D31:D1028)))","v":""},{"$f":"IF($A31=\"\",\"\",IF(COUNTIF(DFcomposition!$A$1:$A$999,$A31)=0,0,AVERAGEIF(DFcomposition!$A31:$A1028,DisposalFacilities!$A31,DFcomposition!E31:E1028)))","v":""},{"$f":"IF($A31=\"\",\"\",IF(COUNTIF(DFcomposition!$A$1:$A$999,$A31)=0,0,AVERAGEIF(DFcomposition!$A31:$A1028,DisposalFacilities!$A31,DFcomposition!F31:F1028)))","v":""},{"$f":"IF($A31=\"\",\"\",IF(COUNTIF(DFcomposition!$A$1:$A$999,$A31)=0,0,AVERAGEIF(DFcomposition!$A31:$A1028,DisposalFacilities!$A31,DFcomposition!G31:G1028)))","v":""},{"$f":"IF($A31=\"\",\"\",IF(COUNTIF(DFcomposition!$A$1:$A$999,$A31)=0,0,AVERAGEIF(DFcomposition!$A31:$A1028,DisposalFacilities!$A31,DFcomposition!H31:H1028)))","v":""},{"$f":"IF($A31=\"\",\"\",IF(COUNTIF(DFcomposition!$A$1:$A$999,$A31)=0,0,AVERAGEIF(DFcomposition!$A31:$A1028,DisposalFacilities!$A31,DFcomposition!I31:I1028)))","v":""},{"$f":"IF($A31=\"\",\"\",IF(COUNTIF(DFcomposition!$A$1:$A$999,$A31)=0,0,AVERAGEIF(DFcomposition!$A31:$A1028,DisposalFacilities!$A31,DFcomposition!J31:J1028)))","v":""},{"$f":"IF($A31=\"\",\"\",IF(COUNTIF(DFcomposition!$A$1:$A$999,$A31)=0,0,AVERAGEIF(DFcomposition!$A31:$A1028,DisposalFacilities!$A31,DFcomposition!K31:K1028)))","v":""},{"$f":"IF($A31=\"\",\"\",IF(COUNTIF(DFcomposition!$A$1:$A$999,$A31)=0,0,AVERAGEIF(DFcomposition!$A31:$A1028,DisposalFacilities!$A31,DFcomposition!L31:L1028)))","v":""},{"$f":"IF($A31=\"\",\"\",IF(COUNTIF(DFcomposition!$A$1:$A$999,$A31)=0,0,AVERAGEIF(DFcomposition!$A31:$A1028,DisposalFacilities!$A31,DFcomposition!M31:M1028)))","v":""},{"$f":"IF($A31=\"\",\"\",IF(COUNTIF(DFcomposition!$A$1:$A$999,$A31)=0,0,AVERAGEIF(DFcomposition!$A31:$A1028,DisposalFacilities!$A31,DFcomposition!N31:N1028)))","v":""}]
[null,null,null,null,null,null,null,null,null,null,null,null,"","",{"$f":"IF($A32=\"\",\"\",IF(COUNTIF(DFcomposition!$A$1:$A$999,$A32)=0,0,AVERAGEIF(DFcomposition!$A32:$A1029,DisposalFacilities!$A32,DFcomposition!C32:C1029)))","v":""},{"$f":"IF($A32=\"\",\"\",IF(COUNTIF(DFcomposition!$A$1:$A$999,$A32)=0,0,AVERAGEIF(DFcomposition!$A32:$A1029,DisposalFacilities!$A32,DFcomposition!D32:D1029)))","v":""},{"$f":"IF($A32=\"\",\"\",IF(COUNTIF(DFcomposition!$A$1:$A$999,$A32)=0,0,AVERAGEIF(DFcomposition!$A32:$A1029,DisposalFacilities!$A32,DFcomposition!E32:E1029)))","v":""},{"$f":"IF($A32=\"\",\"\",IF(COUNTIF(DFcomposition!$A$1:$A$999,$A32)=0,0,AVERAGEIF(DFcomposition!$A32:$A1029,DisposalFacilities!$A32,DFcomposition!F32:F1029)))","v":""},{"$f":"IF($A32=\"\",\"\",IF(COUNTIF(DFcomposition!$A$1:$A$999,$A32)=0,0,AVERAGEIF(DFcomposition!$A32:$A1029,DisposalFacilities!$A32,DFcomposition!G32:G1029)))","v":""},{"$f":"IF($A32=\"\",\"\",IF(COUNTIF(DFcomposition!$A$1:$A$999,$A32)=0,0,AVERAGEIF(DFcomposition!$A32:$A1029,DisposalFacilities!$A32,DFcomposition!H32:H1029)))","v":""},{"$f":"IF($A32=\"\",\"\",IF(COUNTIF(DFcomposition!$A$1:$A$999,$A32)=0,0,AVERAGEIF(DFcomposition!$A32:$A1029,DisposalFacilities!$A32,DFcomposition!I32:I1029)))","v":""},{"$f":"IF($A32=\"\",\"\",IF(COUNTIF(DFcomposition!$A$1:$A$999,$A32)=0,0,AVERAGEIF(DFcomposition!$A32:$A1029,DisposalFacilities!$A32,DFcomposition!J32:J1029)))","v":""},{"$f":"IF($A32=\"\",\"\",IF(COUNTIF(DFcomposition!$A$1:$A$999,$A32)=0,0,AVERAGEIF(DFcomposition!$A32:$A1029,DisposalFacilities!$A32,DFcomposition!K32:K1029)))","v":""},{"$f":"IF($A32=\"\",\"\",IF(COUNTIF(DFcomposition!$A$1:$A$999,$A32)=0,0,AVERAGEIF(DFcomposition!$A32:$A1029,DisposalFacilities!$A32,DFcomposition!L32:L1029)))","v":""},{"$f":"IF($A32=\"\",\"\",IF(COUNTIF(DFcomposition!$A$1:$A$999,$A32)=0,0,AVERAGEIF(DFcomposition!$A32:$A1029,DisposalFacilities!$A32,DFcomposition!M32:M1029)))","v":""},{"$f":"IF($A32=\"\",\"\",IF(COUNTIF(DFcomposition!$A$1:$A$999,$A32)=0,0,AVERAGEIF(DFcomposition!$A32:$A1029,DisposalFacilities!$A32,DFcomposition!N32:N1029)))","v":""}]
[null,null,null,null,null,null,null,null,null,null,null,null,"","",{"$f":"IF($A33=\"\",\"\",IF(COUNTIF(DFcomposition!$A$1:$A$999,$A33)=0,0,AVERAGEIF(DFcomposition!$A33:$A1030,DisposalFacilities!$A33,DFcomposition!C33:C1030)))","v":""},{"$f":"IF($A33=\"\",\"\",IF(COUNTIF(DFcomposition!$A$1:$A$999,$A33)=0,0,AVERAGEIF(DFcomposition!$A33:$A1030,DisposalFacilities!$A33,DFcomposition!D33:D1030)))","v":""},{"$f":"IF($A33=\"\",\"\",IF(COUNTIF(DFcomposition!$A$1:$A$999,$A33)=0,0,AVERAGEIF(DFcomposition!$A33:$A1030,DisposalFacilities!$A33,DFcomposition!E33:E1030)))","v":""},{"$f":"IF($A33=\"\",\"\",IF(COUNTIF(DFcomposition!$A$1:$A$999,$A33)=0,0,AVERAGEIF(DFcomposition!$A33:$A1030,DisposalFacilities!$A33,DFcomposition!F33:F1030)))","v":""},{"$f":"IF($A33=\"\",\"\",IF(COUNTIF(DFcomposition!$A$1:$A$999,$A33)=0,0,AVERAGEIF(DFcomposition!$A33:$A1030,DisposalFacilities!$A33,DFcomposition!G33:G1030)))","v":""},{"$f":"IF($A33=\"\",\"\",IF(COUNTIF(DFcomposition!$A$1:$A$999,$A33)=0,0,AVERAGEIF(DFcomposition!$A33:$A1030,DisposalFacilities!$A33,DFcomposition!H33:H1030)))","v":""},{"$f":"IF($A33=\"\",\"\",IF(COUNTIF(DFcomposition!$A$1:$A$999,$A33)=0,0,AVERAGEIF(DFcomposition!$A33:$A1030,DisposalFacilities!$A33,DFcomposition!I33:I1030)))","v":""},{"$f":"IF($A33=\"\",\"\",IF(COUNTIF(DFcomposition!$A$1:$A$999,$A33)=0,0,AVERAGEIF(DFcomposition!$A33:$A1030,DisposalFacilities!$A33,DFcomposition!J33:J1030)))","v":""},{"$f":"IF($A33=\"\",\"\",IF(COUNTIF(DFcomposition!$A$1:$A$999,$A33)=0,0,AVERAGEIF(DFcomposition!$A33:$A1030,DisposalFacilities!$A33,DFcomposition!K33:K1030)))","v":""},{"$f":"IF($A33=\"\",\"\",IF(COUNTIF(DFcomposition!$A$1:$A$999,$A33)=0,0,AVERAGEIF(DFcomposition!$A33:$A1030,DisposalFacilities!$A33,DFcomposition!L33:L1030)))","v":""},{"$f":"IF($A33=\"\",\"\",IF(COUNTIF(DFcomposition!$A$1:$A$999,$A33)=0,0,AVERAGEIF(DFcomposition!$A33:$A1030,DisposalFacilities!$A33,DFcomposition!M33:M1030)))","v":""},{"$f":"IF($A33=\"\",\"\",IF(COUNTIF(DFcomposition!$A$1:$A$999,$A33)=0,0,AVERAGEIF(DFcomposition!$A33:$A1030,DisposalFacilities!$A33,DFcomposition!N33:N1030)))","v":""}]
[null,null,null,null,null,null,null,null,null,null,null,null,"","",{"$f":"IF($A34=\"\",\"\",IF(COUNTIF(DFcomposition!$A$1:$A$999,$A34)=0,0,AVERAGEIF(DFcomposition!$A34:$A1031,DisposalFacilities!$A34,DFcomposition!C34:C1031)))","v":""},{"$f":"IF($A34=\"\",\"\",IF(COUNTIF(DFcomposition!$A$1:$A$999,$A34)=0,0,AVERAGEIF(DFcomposition!$A34:$A1031,DisposalFacilities!$A34,DFcomposition!D34:D1031)))","v":""},{"$f":"IF($A34=\"\",\"\",IF(COUNTIF(DFcomposition!$A$1:$A$999,$A34)=0,0,AVERAGEIF(DFcomposition!$A34:$A1031,DisposalFacilities!$A34,DFcomposition!E34:E1031)))","v":""},{"$f":"IF($A34=\"\",\"\",IF(COUNTIF(DFcomposition!$A$1:$A$999,$A34)=0,0,AVERAGEIF(DFcomposition!$A34:$A1031,DisposalFacilities!$A34,DFcomposition!F34:F1031)))","v":""},{"$f":"IF($A34=\"\",\"\",IF(COUNTIF(DFcomposition!$A$1:$A$999,$A34)=0,0,AVERAGEIF(DFcomposition!$A34:$A1031,DisposalFacilities!$A34,DFcomposition!G34:G1031)))","v":""},{"$f":"IF($A34=\"\",\"\",IF(COUNTIF(DFcomposition!$A$1:$A$999,$A34)=0,0,AVERAGEIF(DFcomposition!$A34:$A1031,DisposalFacilities!$A34,DFcomposition!H34:H1031)))","v":""},{"$f":"IF($A34=\"\",\"\",IF(COUNTIF(DFcomposition!$A$1:$A$999,$A34)=0,0,AVERAGEIF(DFcomposition!$A34:$A1031,DisposalFacilities!$A34,DFcomposition!I34:I1031)))","v":""},{"$f":"IF($A34=\"\",\"\",IF(COUNTIF(DFcomposition!$A$1:$A$999,$A34)=0,0,AVERAGEIF(DFcomposition!$A34:$A1031,DisposalFacilities!$A34,DFcomposition!J34:J1031)))","v":""},{"$f":"IF($A34=\"\",\"\",IF(COUNTIF(DFcomposition!$A$1:$A$999,$A34)=0,0,AVERAGEIF(DFcomposition!$A34:$A1031,DisposalFacilities!$A34,DFcomposition!K34:K1031)))","v":""},{"$f":"IF($A34=\"\",\"\",IF(COUNTIF(DFcomposition!$A$1:$A$999,$A34)=0,0,AVERAGEIF(DFcomposition!$A34:$A1031,DisposalFacilities!$A34,DFcomposition!L34:L1031)))","v":""},{"$f":"IF($A34=\"\",\"\",IF(COUNTIF(DFcomposition!$A$1:$A$999,$A34)=0,0,AVERAGEIF(DFcomposition!$A34:$A1031,DisposalFacilities!$A34,DFcomposition!M34:M1031)))","v":""},{"$f":"IF($A34=\"\",\"\",IF(COUNTIF(DFcomposition!$A$1:$A$999,$A34)=0,0,AVERAGEIF(DFcomposition!$A34:$A1031,DisposalFacilities!$A34,DFcomposition!N34:N1031)))","v":""}]
[null,null,null,null,null,null,null,null,null,null,null,null,"","",{"$f":"IF($A35=\"\",\"\",IF(COUNTIF(DFcomposition!$A$1:$A$999,$A35)=0,0,AVERAGEIF(DFcomposition!$A35:$A1032,DisposalFacilities!$A35,DFcomposition!C35:C1032)))","v":""},{"$f":"IF($A35=\"\",\"\",IF(COUNTIF(DFcomposition!$A$1:$A$999,$A35)=0,0,AVERAGEIF(DFcomposition!$A35:$A1032,DisposalFacilities!$A35,DFcomposition!D35:D1032)))","v":""},{"$f":"IF($A35=\"\",\"\",IF(COUNTIF(DFcomposition!$A$1:$A$999,$A35)=0,0,AVERAGEIF(DFcomposition!$A35:$A1032,DisposalFacilities!$A35,DFcomposition!E35:E1032)))","v":""},{"$f":"IF($A35=\"\",\"\",IF(COUNTIF(DFcomposition!$A$1:$A$999,$A35)=0,0,AVERAGEIF(DFcomposition!$A35:$A1032,DisposalFacilities!$A35,DFcomposition!F35:F1032)))","v":""},{"$f":"IF($A35=\"\",\"\",IF(COUNTIF(DFcomposition!$A$1:$A$999,$A35)=0,0,AVERAGEIF(DFcomposition!$A35:$A1032,DisposalFacilities!$A35,DFcomposition!G35:G1032)))","v":""},{"$f":"IF($A35=\"\",\"\",IF(COUNTIF(DFcomposition!$A$1:$A$999,$A35)=0,0,AVERAGEIF(DFcomposition!$A35:$A1032,DisposalFacilities!$A35,DFcomposition!H35:H1032)))","v":""},{"$f":"IF($A35=\"\",\"\",IF(COUNTIF(DFcomposition!$A$1:$A$999,$A35)=0,0,AVERAGEIF(DFcomposition!$A35:$A1032,DisposalFacilities!$A35,DFcomposition!I35:I1032)))","v":""},{"$f":"IF($A35=\"\",\"\",IF(COUNTIF(DFcomposition!$A$1:$A$999,$A35)=0,0,AVERAGEIF(DFcomposition!$A35:$A1032,DisposalFacilities!$A35,DFcomposition!J35:J1032)))","v":""},{"$f":"IF($A35=\"\",\"\",IF(COUNTIF(DFcomposition!$A$1:$A$999,$A35)=0,0,AVERAGEIF(DFcomposition!$A35:$A1032,DisposalFacilities!$A35,DFcomposition!K35:K1032)))","v":""},{"$f":"IF($A35=\"\",\"\",IF(COUNTIF(DFcomposition!$A$1:$A$999,$A35)=0,0,AVERAGEIF(DFcomposition!$A35:$A1032,DisposalFacilities!$A35,DFcomposition!L35:L1032)))","v":""},{"$f":"IF($A35=\"\",\"\",IF(COUNTIF(DFcomposition!$A$1:$A$999,$A35)=0,0,AVERAGEIF(DFcomposition!$A35:$A1032,DisposalFacilities!$A35,DFcomposition!M35:M1032)))","v":""},{"$f":"IF($A35=\"\",\"\",IF(COUNTIF(DFcomposition!$A$1:$A$999,$A35)=0,0,AVERAGEIF(DFcomposition!$A35:$A1032,DisposalFacilities!$A35,DFcomposition!N35:N1032)))","v":""}]
[null,null,null,null,null,null,null,null,null,null,null,null,"","",{"$f":"IF($A36=\"\",\"\",IF(COUNTIF(DFcomposition!$A$1:$A$999,$A36)=0,0,AVERAGEIF(DFcomposition!$A36:$A1033,DisposalFacilities!$A36,DFcomposition!C36:C1033)))","v":""},{"$f":"IF($A36=\"\",\"\",IF(COUNTIF(DFcomposition!$A$1:$A$999,$A36)=0,0,AVERAGEIF(DFcomposition!$A36:$A1033,DisposalFacilities!$A36,DFcomposition!D36:D1033)))","v":""},{"$f":"IF($A36=\"\",\"\",IF(COUNTIF(DFcomposition!$A$1:$A$999,$A36)=0,0,AVERAGEIF(DFcomposition!$A36:$A1033,DisposalFacilities!$A36,DFcomposition!E36:E1033)))","v":""},{"$f":"IF($A36=\"\",\"\",IF(COUNTIF(DFcomposition!$A$1:$A$999,$A36)=0,0,AVERAGEIF(DFcomposition!$A36:$A1033,DisposalFacilities!$A36,DFcomposition!F36:F1033)))","v":""},{"$f":"IF($A36=\"\",\"\",IF(COUNTIF(DFcomposition!$A$1:$A$999,$A36)=0,0,AVERAGEIF(DFcomposition!$A36:$A1033,DisposalFacilities!$A36,DFcomposition!G36:G1033)))","v":""},{"$f":"IF($A36=\"\",\"\",IF(COUNTIF(DFcomposition!$A$1:$A$999,$A36)=0,0,AVERAGEIF(DFcomposition!$A36:$A1033,DisposalFacilities!$A36,DFcomposition!H36:H1033)))","v":""},{"$f":"IF($A36=\"\",\"\",IF(COUNTIF(DFcomposition!$A$1:$A$999,$A36)=0,0,AVERAGEIF(DFcomposition!$A36:$A1033,DisposalFacilities!$A36,DFcomposition!I36:I1033)))","v":""},{"$f":"IF($A36=\"\",\"\",IF(COUNTIF(DFcomposition!$A$1:$A$999,$A36)=0,0,AVERAGEIF(DFcomposition!$A36:$A1033,DisposalFacilities!$A36,DFcomposition!J36:J1033)))","v":""},{"$f":"IF($A36=\"\",\"\",IF(COUNTIF(DFcomposition!$A$1:$A$999,$A36)=0,0,AVERAGEIF(DFcomposition!$A36:$A1033,DisposalFacilities!$A36,DFcomposition!K36:K1033)))","v":""},{"$f":"IF($A36=\"\",\"\",IF(COUNTIF(DFcomposition!$A$1:$A$999,$A36)=0,0,AVERAGEIF(DFcomposition!$A36:$A1033,DisposalFacilities!$A36,DFcomposition!L36:L1033)))","v":""},{"$f":"IF($A36=\"\",\"\",IF(COUNTIF(DFcomposition!$A$1:$A$999,$A36)=0,0,AVERAGEIF(DFcomposition!$A36:$A1033,DisposalFacilities!$A36,DFcomposition!M36:M1033)))","v":""},{"$f":"IF($A36=\"\",\"\",IF(COUNTIF(DFcomposition!$A$1:$A$999,$A36)=0,0,AVERAGEIF(DFcomposition!$A36:$A1033,DisposalFacilities!$A36,DFcomposition!N36:N1033)))","v":""}]
[null,null,null,null,null,null,null,null,null,null,null,null,"","",{"$f":"IF($A37=\"\",\"\",IF(COUNTIF(DFcomposition!$A$1:$A$999,$A37)=0,0,AVERAGEIF(DFcomposition!$A37:$A1034,DisposalFacilities!$A37,DFcomposition!C37:C1034)))","v":""},{"$f":"IF($A37=\"\",\"\",IF(COUNTIF(DFcomposition!$A$1:$A$999,$A37)=0,0,AVERAGEIF(DFcomposition!$A37:$A1034,DisposalFacilities!$A37,DFcomposition!D37:D1034)))","v":""},{"$f":"IF($A37=\"\",\"\",IF(COUNTIF(DFcomposition!$A$1:$A$999,$A37)=0,0,AVERAGEIF(DFcomposition!$A37:$A1034,DisposalFacilities!$A37,DFcomposition!E37:E1034)))","v":""},{"$f":"IF($A37=\"\",\"\",IF(COUNTIF(DFcomposition!$A$1:$A$999,$A37)=0,0,AVERAGEIF(DFcomposition!$A37:$A1034,DisposalFacilities!$A37,DFcomposition!F37:F1034)))","v":""},{"$f":"IF($A37=\"\",\"\",IF(COUNTIF(DFcomposition!$A$1:$A$999,$A37)=0,0,AVERAGEIF(DFcomposition!$A37:$A1034,DisposalFacilities!$A37,DFcomposition!G37:G1034)))","v":""},{"$f":"IF($A37=\"\",\"\",IF(COUNTIF(DFcomposition!$A$1:$A$999,$A37)=0,0,AVERAGEIF(DFcomposition!$A37:$A1034,DisposalFacilities!$A37,DFcomposition!H37:H1034)))","v":""},{"$f":"IF($A37=\"\",\"\",IF(COUNTIF(DFcomposition!$A$1:$A$999,$A37)=0,0,AVERAGEIF(DFcomposition!$A37:$A1034,DisposalFacilities!$A37,DFcomposition!I37:I1034)))","v":""},{"$f":"IF($A37=\"\",\"\",IF(COUNTIF(DFcomposition!$A$1:$A$999,$A37)=0,0,AVERAGEIF(DFcomposition!$A37:$A1034,DisposalFacilities!$A37,DFcomposition!J37:J1034)))","v":""},{"$f":"IF($A37=\"\",\"\",IF(COUNTIF(DFcomposition!$A$1:$A$999,$A37)=0,0,AVERAGEIF(DFcomposition!$A37:$A1034,DisposalFacilities!$A37,DFcomposition!K37:K1034)))","v":""},{"$f":"IF($A37=\"\",\"\",IF(COUNTIF(DFcomposition!$A$1:$A$999,$A37)=0,0,AVERAGEIF(DFcomposition!$A37:$A1034,DisposalFacilities!$A37,DFcomposition!L37:L1034)))","v":""},{"$f":"IF($A37=\"\",\"\",IF(COUNTIF(DFcomposition!$A$1:$A$999,$A37)=0,0,AVERAGEIF(DFcomposition!$A37:$A1034,DisposalFacilities!$A37,DFcomposition!M37:M1034)))","v":""},{"$f":"IF($A37=\"\",\"\",IF(COUNTIF(DFcomposition!$A$1:$A$999,$A37)=0,0,AVERAGEIF(DFcomposition!$A37:$A1034,DisposalFacilities!$A37,DFcomposition!N37:N1034)))","v":""}]
[null,null,null,null,null,null,null,null,null,null,null,null,"","",{"$f":"IF($A38=\"\",\"\",IF(COUNTIF(DFcomposition!$A$1:$A$999,$A38)=0,0,AVERAGEIF(DFcomposition!$A38:$A1035,DisposalFacilities!$A38,DFcomposition!C38:C1035)))","v":""},{"$f":"IF($A38=\"\",\"\",IF(COUNTIF(DFcomposition!$A$1:$A$999,$A38)=0,0,AVERAGEIF(DFcomposition!$A38:$A1035,DisposalFacilities!$A38,DFcomposition!D38:D1035)))","v":""},{"$f":"IF($A38=\"\",\"\",IF(COUNTIF(DFcomposition!$A$1:$A$999,$A38)=0,0,AVERAGEIF(DFcomposition!$A38:$A1035,DisposalFacilities!$A38,DFcomposition!E38:E1035)))","v":""},{"$f":"IF($A38=\"\",\"\",IF(COUNTIF(DFcomposition!$A$1:$A$999,$A38)=0,0,AVERAGEIF(DFcomposition!$A38:$A1035,DisposalFacilities!$A38,DFcomposition!F38:F1035)))","v":""},{"$f":"IF($A38=\"\",\"\",IF(COUNTIF(DFcomposition!$A$1:$A$999,$A38)=0,0,AVERAGEIF(DFcomposition!$A38:$A1035,DisposalFacilities!$A38,DFcomposition!G38:G1035)))","v":""},{"$f":"IF($A38=\"\",\"\",IF(COUNTIF(DFcomposition!$A$1:$A$999,$A38)=0,0,AVERAGEIF(DFcomposition!$A38:$A1035,DisposalFacilities!$A38,DFcomposition!H38:H1035)))","v":""},{"$f":"IF($A38=\"\",\"\",IF(COUNTIF(DFcomposition!$A$1:$A$999,$A38)=0,0,AVERAGEIF(DFcomposition!$A38:$A1035,DisposalFacilities!$A38,DFcomposition!I38:I1035)))","v":""},{"$f":"IF($A38=\"\",\"\",IF(COUNTIF(DFcomposition!$A$1:$A$999,$A38)=0,0,AVERAGEIF(DFcomposition!$A38:$A1035,DisposalFacilities!$A38,DFcomposition!J38:J1035)))","v":""},{"$f":"IF($A38=\"\",\"\",IF(COUNTIF(DFcomposition!$A$1:$A$999,$A38)=0,0,AVERAGEIF(DFcomposition!$A38:$A1035,DisposalFacilities!$A38,DFcomposition!K38:K1035)))","v":""},{"$f":"IF($A38=\"\",\"\",IF(COUNTIF(DFcomposition!$A$1:$A$999,$A38)=0,0,AVERAGEIF(DFcomposition!$A38:$A1035,DisposalFacilities!$A38,DFcomposition!L38:L1035)))","v":""},{"$f":"IF($A38=\"\",\"\",IF(COUNTIF(DFcomposition!$A$1:$A$999,$A38)=0,0,AVERAGEIF(DFcomposition!$A38:$A1035,DisposalFacilities!$A38,DFcomposition!M38:M1035)))","v":""},{"$f":"IF($A38=\"\",\"\",IF(COUNTIF(DFcomposition!$A$1:$A$999,$A38)=0,0,AVERAGEIF(DFcomposition!$A38:$A1035,DisposalFacilities!$A38,DFcomposition!N38:N1035)))","v":""}]
[null,null,null,null,null,null,null,null,null,null,null,null,"","",{"$f":"IF($A39=\"\",\"\",IF(COUNTIF(DFcomposition!$A$1:$A$999,$A39)=0,0,AVERAGEIF(DFcomposition!$A39:$A1036,DisposalFacilities!$A39,DFcomposition!C39:C1036)))","v":""},{"$f":"IF($A39=\"\",\"\",IF(COUNTIF(DFcomposition!$A$1:$A$999,$A39)=0,0,AVERAGEIF(DFcomposition!$A39:$A1036,DisposalFacilities!$A39,DFcomposition!D39:D1036)))","v":""},{"$f":"IF($A39=\"\",\"\",IF(COUNTIF(DFcomposition!$A$1:$A$999,$A39)=0,0,AVERAGEIF(DFcomposition!$A39:$A1036,DisposalFacilities!$A39,DFcomposition!E39:E1036)))","v":""},{"$f":"IF($A39=\"\",\"\",IF(COUNTIF(DFcomposition!$A$1:$A$999,$A39)=0,0,AVERAGEIF(DFcomposition!$A39:$A1036,DisposalFacilities!$A39,DFcomposition!F39:F1036)))","v":""},{"$f":"IF($A39=\"\",\"\",IF(COUNTIF(DFcomposition!$A$1:$A$999,$A39)=0,0,AVERAGEIF(DFcomposition!$A39:$A1036,DisposalFacilities!$A39,DFcomposition!G39:G1036)))","v":""},{"$f":"IF($A39=\"\",\"\",IF(COUNTIF(DFcomposition!$A$1:$A$999,$A39)=0,0,AVERAGEIF(DFcomposition!$A39:$A1036,DisposalFacilities!$A39,DFcomposition!H39:H1036)))","v":""},{"$f":"IF($A39=\"\",\"\",IF(COUNTIF(DFcomposition!$A$1:$A$999,$A39)=0,0,AVERAGEIF(DFcomposition!$A39:$A1036,DisposalFacilities!$A39,DFcomposition!I39:I1036)))","v":""},{"$f":"IF($A39=\"\",\"\",IF(COUNTIF(DFcomposition!$A$1:$A$999,$A39)=0,0,AVERAGEIF(DFcomposition!$A39:$A1036,DisposalFacilities!$A39,DFcomposition!J39:J1036)))","v":""},{"$f":"IF($A39=\"\",\"\",IF(COUNTIF(DFcomposition!$A$1:$A$999,$A39)=0,0,AVERAGEIF(DFcomposition!$A39:$A1036,DisposalFacilities!$A39,DFcomposition!K39:K1036)))","v":""},{"$f":"IF($A39=\"\",\"\",IF(COUNTIF(DFcomposition!$A$1:$A$999,$A39)=0,0,AVERAGEIF(DFcomposition!$A39:$A1036,DisposalFacilities!$A39,DFcomposition!L39:L1036)))","v":""},{"$f":"IF($A39=\"\",\"\",IF(COUNTIF(DFcomposition!$A$1:$A$999,$A39)=0,0,AVERAGEIF(DFcomposition!$A39:$A1036,DisposalFacilities!$A39,DFcomposition!M39:M1036)))","v":""},{"$f":"IF($A39=\"\",\"\",IF(COUNTIF(DFcomposition!$A$1:$A$999,$A39)=0,0,AVERAGEIF(DFcomposition!$A39:$A1036,DisposalFacilities!$A39,DFcomposition!N39:N1036)))","v":""}]
[null,null,null,null,null,null,null,null,null,null,null,null,"","",{"$f":"IF($A40=\"\",\"\",IF(COUNTIF(DFcomposition!$A$1:$A$999,$A40)=0,0,AVERAGEIF(DFcomposition!$A40:$A1037,DisposalFacilities!$A40,DFcomposition!C40:C1037)))","v":""},{"$f":"IF($A40=\"\",\"\",IF(COUNTIF(DFcomposition!$A$1:$A$999,$A40)=0,0,AVERAGEIF(DFcomposition!$A40:$A1037,DisposalFacilities!$A40,DFcomposition!D40:D1037)))","v":""},{"$f":"IF($A40=\"\",\"\",IF(COUNTIF(DFcomposition!$A$1:$A$999,$A40)=0,0,AVERAGEIF(DFcomposition!$A40:$A1037,DisposalFacilities!$A40,DFcomposition!E40:E1037)))","v":""},{"$f":"IF($A40=\"\",\"\",IF(COUNTIF(DFcomposition!$A$1:$A$999,$A40)=0,0,AVERAGEIF(DFcomposition!$A40:$A1037,DisposalFacilities!$A40,DFcomposition!F40:F1037)))","v":""},{"$f":"IF($A40=\"\",\"\",IF(COUNTIF(DFcomposition!$A$1:$A$999,$A40)=0,0,AVERAGEIF(DFcomposition!$A40:$A1037,DisposalFacilities!$A40,DFcomposition!G40:G1037)))","v":""},{"$f":"IF($A40=\"\",\"\",IF(COUNTIF(DFcomposition!$A$1:$A$999,$A40)=0,0,AVERAGEIF(DFcomposition!$A40:$A1037,DisposalFacilities!$A40,DFcomposition!H40:H1037)))","v":""},{"$f":"IF($A40=\"\",\"\",IF(COUNTIF(DFcomposition!$A$1:$A$999,$A40)=0,0,AVERAGEIF(DFcomposition!$A40:$A1037,DisposalFacilities!$A40,DFcomposition!I40:I1037)))","v":""},{"$f":"IF($A40=\"\",\"\",IF(COUNTIF(DFcomposition!$A$1:$A$999,$A40)=0,0,AVERAGEIF(DFcomposition!$A40:$A1037,DisposalFacilities!$A40,DFcomposition!J40:J1037)))","v":""},{"$f":"IF($A40=\"\",\"\",IF(COUNTIF(DFcomposition!$A$1:$A$999,$A40)=0,0,AVERAGEIF(DFcomposition!$A40:$A1037,DisposalFacilities!$A40,DFcomposition!K40:K1037)))","v":""},{"$f":"IF($A40=\"\",\"\",IF(COUNTIF(DFcomposition!$A$1:$A$999,$A40)=0,0,AVERAGEIF(DFcomposition!$A40:$A1037,DisposalFacilities!$A40,DFcomposition!L40:L1037)))","v":""},{"$f":"IF($A40=\"\",\"\",IF(COUNTIF(DFcomposition!$A$1:$A$999,$A40)=0,0,AVERAGEIF(DFcomposition!$A40:$A1037,DisposalFacilities!$A40,DFcomposition!M40:M1037)))","v":""},{"$f":"IF($A40=\"\",\"\",IF(COUNTIF(DFcomposition!$A$1:$A$999,$A40)=0,0,AVERAGEIF(DFcomposition!$A40:$A1037,DisposalFacilities!$A40,DFcomposition!N40:N1037)))","v":""}]
[null,null,null,null,null,null,null,null,null,null,null,null,"","",{"$f":"IF($A41=\"\",\"\",IF(COUNTIF(DFcomposition!$A$1:$A$999,$A41)=0,0,AVERAGEIF(DFcomposition!$A41:$A1038,DisposalFacilities!$A41,DFcomposition!C41:C1038)))","v":""},{"$f":"IF($A41=\"\",\"\",IF(COUNTIF(DFcomposition!$A$1:$A$999,$A41)=0,0,AVERAGEIF(DFcomposition!$A41:$A1038,DisposalFacilities!$A41,DFcomposition!D41:D1038)))","v":""},{"$f":"IF($A41=\"\",\"\",IF(COUNTIF(DFcomposition!$A$1:$A$999,$A41)=0,0,AVERAGEIF(DFcomposition!$A41:$A1038,DisposalFacilities!$A41,DFcomposition!E41:E1038)))","v":""},{"$f":"IF($A41=\"\",\"\",IF(COUNTIF(DFcomposition!$A$1:$A$999,$A41)=0,0,AVERAGEIF(DFcomposition!$A41:$A1038,DisposalFacilities!$A41,DFcomposition!F41:F1038)))","v":""},{"$f":"IF($A41=\"\",\"\",IF(COUNTIF(DFcomposition!$A$1:$A$999,$A41)=0,0,AVERAGEIF(DFcomposition!$A41:$A1038,DisposalFacilities!$A41,DFcomposition!G41:G1038)))","v":""},{"$f":"IF($A41=\"\",\"\",IF(COUNTIF(DFcomposition!$A$1:$A$999,$A41)=0,0,AVERAGEIF(DFcomposition!$A41:$A1038,DisposalFacilities!$A41,DFcomposition!H41:H1038)))","v":""},{"$f":"IF($A41=\"\",\"\",IF(COUNTIF(DFcomposition!$A$1:$A$999,$A41)=0,0,AVERAGEIF(DFcomposition!$A41:$A1038,DisposalFacilities!$A41,DFcomposition!I41:I1038)))","v":""},{"$f":"IF($A41=\"\",\"\",IF(COUNTIF(DFcomposition!$A$1:$A$999,$A41)=0,0,AVERAGEIF(DFcomposition!$A41:$A1038,DisposalFacilities!$A41,DFcomposition!J41:J1038)))","v":""},{"$f":"IF($A41=\"\",\"\",IF(COUNTIF(DFcomposition!$A$1:$A$999,$A41)=0,0,AVERAGEIF(DFcomposition!$A41:$A1038,DisposalFacilities!$A41,DFcomposition!K41:K1038)))","v":""},{"$f":"IF($A41=\"\",\"\",IF(COUNTIF(DFcomposition!$A$1:$A$999,$A41)=0,0,AVERAGEIF(DFcomposition!$A41:$A1038,DisposalFacilities!$A41,DFcomposition!L41:L1038)))","v":""},{"$f":"IF($A41=\"\",\"\",IF(COUNTIF(DFcomposition!$A$1:$A$999,$A41)=0,0,AVERAGEIF(DFcomposition!$A41:$A1038,DisposalFacilities!$A41,DFcomposition!M41:M1038)))","v":""},{"$f":"IF($A41=\"\",\"\",IF(COUNTIF(DFcomposition!$A$1:$A$999,$A41)=0,0,AVERAGEIF(DFcomposition!$A41:$A1038,DisposalFacilities!$A41,DFcomposition!N41:N1038)))","v":""}]
[null,null,null,null,null,null,null,null,null,null,null,null,"","",{"$f":"IF($A42=\"\",\"\",IF(COUNTIF(DFcomposition!$A$1:$A$999,$A42)=0,0,AVERAGEIF(DFcomposition!$A42:$A1039,DisposalFacilities!$A42,DFcomposition!C42:C1039)))","v":""},{"$f":"IF($A42=\"\",\"\",IF(COUNTIF(DFcomposition!$A$1:$A$999,$A42)=0,0,AVERAGEIF(DFcomposition!$A42:$A1039,DisposalFacilities!$A42,DFcomposition!D42:D1039)))","v":""},{"$f":"IF($A42=\"\",\"\",IF(COUNTIF(DFcomposition!$A$1:$A$999,$A42)=0,0,AVERAGEIF(DFcomposition!$A42:$A1039,DisposalFacilities!$A42,DFcomposition!E42:E1039)))","v":""},{"$f":"IF($A42=\"\",\"\",IF(COUNTIF(DFcomposition!$A$1:$A$999,$A42)=0,0,AVERAGEIF(DFcomposition!$A42:$A1039,DisposalFacilities!$A42,DFcomposition!F42:F1039)))","v":""},{"$f":"IF($A42=\"\",\"\",IF(COUNTIF(DFcomposition!$A$1:$A$999,$A42)=0,0,AVERAGEIF(DFcomposition!$A42:$A1039,DisposalFacilities!$A42,DFcomposition!G42:G1039)))","v":""},{"$f":"IF($A42=\"\",\"\",IF(COUNTIF(DFcomposition!$A$1:$A$999,$A42)=0,0,AVERAGEIF(DFcomposition!$A42:$A1039,DisposalFacilities!$A42,DFcomposition!H42:H1039)))","v":""},{"$f":"IF($A42=\"\",\"\",IF(COUNTIF(DFcomposition!$A$1:$A$999,$A42)=0,0,AVERAGEIF(DFcomposition!$A42:$A1039,DisposalFacilities!$A42,DFcomposition!I42:I1039)))","v":""},{"$f":"IF($A42=\"\",\"\",IF(COUNTIF(DFcomposition!$A$1:$A$999,$A42)=0,0,AVERAGEIF(DFcomposition!$A42:$A1039,DisposalFacilities!$A42,DFcomposition!J42:J1039)))","v":""},{"$f":"IF($A42=\"\",\"\",IF(COUNTIF(DFcomposition!$A$1:$A$999,$A42)=0,0,AVERAGEIF(DFcomposition!$A42:$A1039,DisposalFacilities!$A42,DFcomposition!K42:K1039)))","v":""},{"$f":"IF($A42=\"\",\"\",IF(COUNTIF(DFcomposition!$A$1:$A$999,$A42)=0,0,AVERAGEIF(DFcomposition!$A42:$A1039,DisposalFacilities!$A42,DFcomposition!L42:L1039)))","v":""},{"$f":"IF($A42=\"\",\"\",IF(COUNTIF(DFcomposition!$A$1:$A$999,$A42)=0,0,AVERAGEIF(DFcomposition!$A42:$A1039,DisposalFacilities!$A42,DFcomposition!M42:M1039)))","v":""},{"$f":"IF($A42=\"\",\"\",IF(COUNTIF(DFcomposition!$A$1:$A$999,$A42)=0,0,AVERAGEIF(DFcomposition!$A42:$A1039,DisposalFacilities!$A42,DFcomposition!N42:N1039)))","v":""}]
[null,null,null,null,null,null,null,null,null,null,null,null,"","",{"$f":"IF($A43=\"\",\"\",IF(COUNTIF(DFcomposition!$A$1:$A$999,$A43)=0,0,AVERAGEIF(DFcomposition!$A43:$A1040,DisposalFacilities!$A43,DFcomposition!C43:C1040)))","v":""},{"$f":"IF($A43=\"\",\"\",IF(COUNTIF(DFcomposition!$A$1:$A$999,$A43)=0,0,AVERAGEIF(DFcomposition!$A43:$A1040,DisposalFacilities!$A43,DFcomposition!D43:D1040)))","v":""},{"$f":"IF($A43=\"\",\"\",IF(COUNTIF(DFcomposition!$A$1:$A$999,$A43)=0,0,AVERAGEIF(DFcomposition!$A43:$A1040,DisposalFacilities!$A43,DFcomposition!E43:E1040)))","v":""},{"$f":"IF($A43=\"\",\"\",IF(COUNTIF(DFcomposition!$A$1:$A$999,$A43)=0,0,AVERAGEIF(DFcomposition!$A43:$A1040,DisposalFacilities!$A43,DFcomposition!F43:F1040)))","v":""},{"$f":"IF($A43=\"\",\"\",IF(COUNTIF(DFcomposition!$A$1:$A$999,$A43)=0,0,AVERAGEIF(DFcomposition!$A43:$A1040,DisposalFacilities!$A43,DFcomposition!G43:G1040)))","v":""},{"$f":"IF($A43=\"\",\"\",IF(COUNTIF(DFcomposition!$A$1:$A$999,$A43)=0,0,AVERAGEIF(DFcomposition!$A43:$A1040,DisposalFacilities!$A43,DFcomposition!H43:H1040)))","v":""},{"$f":"IF($A43=\"\",\"\",IF(COUNTIF(DFcomposition!$A$1:$A$999,$A43)=0,0,AVERAGEIF(DFcomposition!$A43:$A1040,DisposalFacilities!$A43,DFcomposition!I43:I1040)))","v":""},{"$f":"IF($A43=\"\",\"\",IF(COUNTIF(DFcomposition!$A$1:$A$999,$A43)=0,0,AVERAGEIF(DFcomposition!$A43:$A1040,DisposalFacilities!$A43,DFcomposition!J43:J1040)))","v":""},{"$f":"IF($A43=\"\",\"\",IF(COUNTIF(DFcomposition!$A$1:$A$999,$A43)=0,0,AVERAGEIF(DFcomposition!$A43:$A1040,DisposalFacilities!$A43,DFcomposition!K43:K1040)))","v":""},{"$f":"IF($A43=\"\",\"\",IF(COUNTIF(DFcomposition!$A$1:$A$999,$A43)=0,0,AVERAGEIF(DFcomposition!$A43:$A1040,DisposalFacilities!$A43,DFcomposition!L43:L1040)))","v":""},{"$f":"IF($A43=\"\",\"\",IF(COUNTIF(DFcomposition!$A$1:$A$999,$A43)=0,0,AVERAGEIF(DFcomposition!$A43:$A1040,DisposalFacilities!$A43,DFcomposition!M43:M1040)))","v":""},{"$f":"IF($A43=\"\",\"\",IF(COUNTIF(DFcomposition!$A$1:$A$999,$A43)=0,0,AVERAGEIF(DFcomposition!$A43:$A1040,DisposalFacilities!$A43,DFcomposition!N43:N1040)))","v":""}]
[null,null,null,null,null,null,null,null,null,null,null,null,"","",{"$f":"IF($A44=\"\",\"\",IF(COUNTIF(DFcomposition!$A$1:$A$999,$A44)=0,0,AVERAGEIF(DFcomposition!$A44:$A1041,DisposalFacilities!$A44,DFcomposition!C44:C1041)))","v":""},{"$f":"IF($A44=\"\",\"\",IF(COUNTIF(DFcomposition!$A$1:$A$999,$A44)=0,0,AVERAGEIF(DFcomposition!$A44:$A1041,DisposalFacilities!$A44,DFcomposition!D44:D1041)))","v":""},{"$f":"IF($A44=\"\",\"\",IF(COUNTIF(DFcomposition!$A$1:$A$999,$A44)=0,0,AVERAGEIF(DFcomposition!$A44:$A1041,DisposalFacilities!$A44,DFcomposition!E44:E1041)))","v":""},{"$f":"IF($A44=\"\",\"\",IF(COUNTIF(DFcomposition!$A$1:$A$999,$A44)=0,0,AVERAGEIF(DFcomposition!$A44:$A1041,DisposalFacilities!$A44,DFcomposition!F44:F1041)))","v":""},{"$f":"IF($A44=\"\",\"\",IF(COUNTIF(DFcomposition!$A$1:$A$999,$A44)=0,0,AVERAGEIF(DFcomposition!$A44:$A1041,DisposalFacilities!$A44,DFcomposition!G44:G1041)))","v":""},{"$f":"IF($A44=\"\",\"\",IF(COUNTIF(DFcomposition!$A$1:$A$999,$A44)=0,0,AVERAGEIF(DFcomposition!$A44:$A1041,DisposalFacilities!$A44,DFcomposition!H44:H1041)))","v":""},{"$f":"IF($A44=\"\",\"\",IF(COUNTIF(DFcomposition!$A$1:$A$999,$A44)=0,0,AVERAGEIF(DFcomposition!$A44:$A1041,DisposalFacilities!$A44,DFcomposition!I44:I1041)))","v":""},{"$f":"IF($A44=\"\",\"\",IF(COUNTIF(DFcomposition!$A$1:$A$999,$A44)=0,0,AVERAGEIF(DFcomposition!$A44:$A1041,DisposalFacilities!$A44,DFcomposition!J44:J1041)))","v":""},{"$f":"IF($A44=\"\",\"\",IF(COUNTIF(DFcomposition!$A$1:$A$999,$A44)=0,0,AVERAGEIF(DFcomposition!$A44:$A1041,DisposalFacilities!$A44,DFcomposition!K44:K1041)))","v":""},{"$f":"IF($A44=\"\",\"\",IF(COUNTIF(DFcomposition!$A$1:$A$999,$A44)=0,0,AVERAGEIF(DFcomposition!$A44:$A1041,DisposalFacilities!$A44,DFcomposition!L44:L1041)))","v":""},{"$f":"IF($A44=\"\",\"\",IF(COUNTIF(DFcomposition!$A$1:$A$999,$A44)=0,0,AVERAGEIF(DFcomposition!$A44:$A1041,DisposalFacilities!$A44,DFcomposition!M44:M1041)))","v":""},{"$f":"IF($A44=\"\",\"\",IF(COUNTIF(DFcomposition!$A$1:$A$999,$A44)=0,0,AVERAGEIF(DFcomposition!$A44:$A1041,DisposalFacilities!$A44,DFcomposition!N44:N1041)))","v":""}]
[null,null,null,null,null,null,null,null,null,null,null,null,"","",{"$f":"IF($A45=\"\",\"\",IF(COUNTIF(DFcomposition!$A$1:$A$999,$A45)=0,0,AVERAGEIF(DFcomposition!$A45:$A1042,DisposalFacilities!$A45,DFcomposition!C45:C1042)))","v":""},{"$f":"IF($A45=\"\",\"\",IF(COUNTIF(DFcomposition!$A$1:$A$999,$A45)=0,0,AVERAGEIF(DFcomposition!$A45:$A1042,DisposalFacilities!$A45,DFcomposition!D45:D1042)))","v":""},{"$f":"IF($A45=\"\",\"\",IF(COUNTIF(DFcomposition!$A$1:$A$999,$A45)=0,0,AVERAGEIF(DFcomposition!$A45:$A1042,DisposalFacilities!$A45,DFcomposition!E45:E1042)))","v":""},{"$f":"IF($A45=\"\",\"\",IF(COUNTIF(DFcomposition!$A$1:$A$999,$A45)=0,0,AVERAGEIF(DFcomposition!$A45:$A1042,DisposalFacilities!$A45,DFcomposition!F45:F1042)))","v":""},{"$f":"IF($A45=\"\",\"\",IF(COUNTIF(DFcomposition!$A$1:$A$999,$A45)=0,0,AVERAGEIF(DFcomposition!$A45:$A1042,DisposalFacilities!$A45,DFcomposition!G45:G1042)))","v":""},{"$f":"IF($A45=\"\",\"\",IF(COUNTIF(DFcomposition!$A$1:$A$999,$A45)=0,0,AVERAGEIF(DFcomposition!$A45:$A1042,DisposalFacilities!$A45,DFcomposition!H45:H1042)))","v":""},{"$f":"IF($A45=\"\",\"\",IF(COUNTIF(DFcomposition!$A$1:$A$999,$A45)=0,0,AVERAGEIF(DFcomposition!$A45:$A1042,DisposalFacilities!$A45,DFcomposition!I45:I1042)))","v":""},{"$f":"IF($A45=\"\",\"\",IF(COUNTIF(DFcomposition!$A$1:$A$999,$A45)=0,0,AVERAGEIF(DFcomposition!$A45:$A1042,DisposalFacilities!$A45,DFcomposition!J45:J1042)))","v":""},{"$f":"IF($A45=\"\",\"\",IF(COUNTIF(DFcomposition!$A$1:$A$999,$A45)=0,0,AVERAGEIF(DFcomposition!$A45:$A1042,DisposalFacilities!$A45,DFcomposition!K45:K1042)))","v":""},{"$f":"IF($A45=\"\",\"\",IF(COUNTIF(DFcomposition!$A$1:$A$999,$A45)=0,0,AVERAGEIF(DFcomposition!$A45:$A1042,DisposalFacilities!$A45,DFcomposition!L45:L1042)))","v":""},{"$f":"IF($A45=\"\",\"\",IF(COUNTIF(DFcomposition!$A$1:$A$999,$A45)=0,0,AVERAGEIF(DFcomposition!$A45:$A1042,DisposalFacilities!$A45,DFcomposition!M45:M1042)))","v":""},{"$f":"IF($A45=\"\",\"\",IF(COUNTIF(DFcomposition!$A$1:$A$999,$A45)=0,0,AVERAGEIF(DFcomposition!$A45:$A1042,DisposalFacilities!$A45,DFcomposition!N45:N1042)))","v":""}]
[null,null,null,null,null,null,null,null,null,null,null,null,"","",{"$f":"IF($A46=\"\",\"\",IF(COUNTIF(DFcomposition!$A$1:$A$999,$A46)=0,0,AVERAGEIF(DFcomposition!$A46:$A1043,DisposalFacilities!$A46,DFcomposition!C46:C1043)))","v":""},{"$f":"IF($A46=\"\",\"\",IF(COUNTIF(DFcomposition!$A$1:$A$999,$A46)=0,0,AVERAGEIF(DFcomposition!$A46:$A1043,DisposalFacilities!$A46,DFcomposition!D46:D1043)))","v":""},{"$f":"IF($A46=\"\",\"\",IF(COUNTIF(DFcomposition!$A$1:$A$999,$A46)=0,0,AVERAGEIF(DFcomposition!$A46:$A1043,DisposalFacilities!$A46,DFcomposition!E46:E1043)))","v":""},{"$f":"IF($A46=\"\",\"\",IF(COUNTIF(DFcomposition!$A$1:$A$999,$A46)=0,0,AVERAGEIF(DFcomposition!$A46:$A1043,DisposalFacilities!$A46,DFcomposition!F46:F1043)))","v":""},{"$f":"IF($A46=\"\",\"\",IF(COUNTIF(DFcomposition!$A$1:$A$999,$A46)=0,0,AVERAGEIF(DFcomposition!$A46:$A1043,DisposalFacilities!$A46,DFcomposition!G46:G1043)))","v":""},{"$f":"IF($A46=\"\",\"\",IF(COUNTIF(DFcomposition!$A$1:$A$999,$A46)=0,0,AVERAGEIF(DFcomposition!$A46:$A1043,DisposalFacilities!$A46,DFcomposition!H46:H1043)))","v":""},{"$f":"IF($A46=\"\",\"\",IF(COUNTIF(DFcomposition!$A$1:$A$999,$A46)=0,0,AVERAGEIF(DFcomposition!$A46:$A1043,DisposalFacilities!$A46,DFcomposition!I46:I1043)))","v":""},{"$f":"IF($A46=\"\",\"\",IF(COUNTIF(DFcomposition!$A$1:$A$999,$A46)=0,0,AVERAGEIF(DFcomposition!$A46:$A1043,DisposalFacilities!$A46,DFcomposition!J46:J1043)))","v":""},{"$f":"IF($A46=\"\",\"\",IF(COUNTIF(DFcomposition!$A$1:$A$999,$A46)=0,0,AVERAGEIF(DFcomposition!$A46:$A1043,DisposalFacilities!$A46,DFcomposition!K46:K1043)))","v":""},{"$f":"IF($A46=\"\",\"\",IF(COUNTIF(DFcomposition!$A$1:$A$999,$A46)=0,0,AVERAGEIF(DFcomposition!$A46:$A1043,DisposalFacilities!$A46,DFcomposition!L46:L1043)))","v":""},{"$f":"IF($A46=\"\",\"\",IF(COUNTIF(DFcomposition!$A$1:$A$999,$A46)=0,0,AVERAGEIF(DFcomposition!$A46:$A1043,DisposalFacilities!$A46,DFcomposition!M46:M1043)))","v":""},{"$f":"IF($A46=\"\",\"\",IF(COUNTIF(DFcomposition!$A$1:$A$999,$A46)=0,0,AVERAGEIF(DFcomposition!$A46:$A1043,DisposalFacilities!$A46,DFcomposition!N46:N1043)))","v":""}]
[null,null,null,null,null,null,null,null,null,null,null,null,"","",{"$f":"IF($A47=\"\",\"\",IF(COUNTIF(DFcomposition!$A$1:$A$999,$A47)=0,0,AVERAGEIF(DFcomposition!$A47:$A1044,DisposalFacilities!$A47,DFcomposition!C47:C1044)))","v":""},{"$f":"IF($A47=\"\",\"\",IF(COUNTIF(DFcomposition!$A$1:$A$999,$A47)=0,0,AVERAGEIF(DFcomposition!$A47:$A1044,DisposalFacilities!$A47,DFcomposition!D47:D1044)))","v":""},{"$f":"IF($A47=\"\",\"\",IF(COUNTIF(DFcomposition!$A$1:$A$999,$A47)=0,0,AVERAGEIF(DFcomposition!$A47:$A1044,DisposalFacilities!$A47,DFcomposition!E47:E1044)))","v":""},{"$f":"IF($A47=\"\",\"\",IF(COUNTIF(DFcomposition!$A$1:$A$999,$A47)=0,0,AVERAGEIF(DFcomposition!$A47:$A1044,DisposalFacilities!$A47,DFcomposition!F47:F1044)))","v":""},{"$f":"IF($A47=\"\",\"\",IF(COUNTIF(DFcomposition!$A$1:$A$999,$A47)=0,0,AVERAGEIF(DFcomposition!$A47:$A1044,DisposalFacilities!$A47,DFcomposition!G47:G1044)))","v":""},{"$f":"IF($A47=\"\",\"\",IF(COUNTIF(DFcomposition!$A$1:$A$999,$A47)=0,0,AVERAGEIF(DFcomposition!$A47:$A1044,DisposalFacilities!$A47,DFcomposition!H47:H1044)))","v":""},{"$f":"IF($A47=\"\",\"\",IF(COUNTIF(DFcomposition!$A$1:$A$999,$A47)=0,0,AVERAGEIF(DFcomposition!$A47:$A1044,DisposalFacilities!$A47,DFcomposition!I47:I1044)))","v":""},{"$f":"IF($A47=\"\",\"\",IF(COUNTIF(DFcomposition!$A$1:$A$999,$A47)=0,0,AVERAGEIF(DFcomposition!$A47:$A1044,DisposalFacilities!$A47,DFcomposition!J47:J1044)))","v":""},{"$f":"IF($A47=\"\",\"\",IF(COUNTIF(DFcomposition!$A$1:$A$999,$A47)=0,0,AVERAGEIF(DFcomposition!$A47:$A1044,DisposalFacilities!$A47,DFcomposition!K47:K1044)))","v":""},{"$f":"IF($A47=\"\",\"\",IF(COUNTIF(DFcomposition!$A$1:$A$999,$A47)=0,0,AVERAGEIF(DFcomposition!$A47:$A1044,DisposalFacilities!$A47,DFcomposition!L47:L1044)))","v":""},{"$f":"IF($A47=\"\",\"\",IF(COUNTIF(DFcomposition!$A$1:$A$999,$A47)=0,0,AVERAGEIF(DFcomposition!$A47:$A1044,DisposalFacilities!$A47,DFcomposition!M47:M1044)))","v":""},{"$f":"IF($A47=\"\",\"\",IF(COUNTIF(DFcomposition!$A$1:$A$999,$A47)=0,0,AVERAGEIF(DFcomposition!$A47:$A1044,DisposalFacilities!$A47,DFcomposition!N47:N1044)))","v":""}]
[null,null,null,null,null,null,null,null,null,null,null,null,"","",{"$f":"IF($A48=\"\",\"\",IF(COUNTIF(DFcomposition!$A$1:$A$999,$A48)=0,0,AVERAGEIF(DFcomposition!$A48:$A1045,DisposalFacilities!$A48,DFcomposition!C48:C1045)))","v":""},{"$f":"IF($A48=\"\",\"\",IF(COUNTIF(DFcomposition!$A$1:$A$999,$A48)=0,0,AVERAGEIF(DFcomposition!$A48:$A1045,DisposalFacilities!$A48,DFcomposition!D48:D1045)))","v":""},{"$f":"IF($A48=\"\",\"\",IF(COUNTIF(DFcomposition!$A$1:$A$999,$A48)=0,0,AVERAGEIF(DFcomposition!$A48:$A1045,DisposalFacilities!$A48,DFcomposition!E48:E1045)))","v":""},{"$f":"IF($A48=\"\",\"\",IF(COUNTIF(DFcomposition!$A$1:$A$999,$A48)=0,0,AVERAGEIF(DFcomposition!$A48:$A1045,DisposalFacilities!$A48,DFcomposition!F48:F1045)))","v":""},{"$f":"IF($A48=\"\",\"\",IF(COUNTIF(DFcomposition!$A$1:$A$999,$A48)=0,0,AVERAGEIF(DFcomposition!$A48:$A1045,DisposalFacilities!$A48,DFcomposition!G48:G1045)))","v":""},{"$f":"IF($A48=\"\",\"\",IF(COUNTIF(DFcomposition!$A$1:$A$999,$A48)=0,0,AVERAGEIF(DFcomposition!$A48:$A1045,DisposalFacilities!$A48,DFcomposition!H48:H1045)))","v":""},{"$f":"IF($A48=\"\",\"\",IF(COUNTIF(DFcomposition!$A$1:$A$999,$A48)=0,0,AVERAGEIF(DFcomposition!$A48:$A1045,DisposalFacilities!$A48,DFcomposition!I48:I1045)))","v":""},{"$f":"IF($A48=\"\",\"\",IF(COUNTIF(DFcomposition!$A$1:$A$999,$A48)=0,0,AVERAGEIF(DFcomposition!$A48:$A1045,DisposalFacilities!$A48,DFcomposition!J48:J1045)))","v":""},{"$f":"IF($A48=\"\",\"\",IF(COUNTIF(DFcomposition!$A$1:$A$999,$A48)=0,0,AVERAGEIF(DFcomposition!$A48:$A1045,DisposalFacilities!$A48,DFcomposition!K48:K1045)))","v":""},{"$f":"IF($A48=\"\",\"\",IF(COUNTIF(DFcomposition!$A$1:$A$999,$A48)=0,0,AVERAGEIF(DFcomposition!$A48:$A1045,DisposalFacilities!$A48,DFcomposition!L48:L1045)))","v":""},{"$f":"IF($A48=\"\",\"\",IF(COUNTIF(DFcomposition!$A$1:$A$999,$A48)=0,0,AVERAGEIF(DFcomposition!$A48:$A1045,DisposalFacilities!$A48,DFcomposition!M48:M1045)))","v":""},{"$f":"IF($A48=\"\",\"\",IF(COUNTIF(DFcomposition!$A$1:$A$999,$A48)=0,0,AVERAGEIF(DFcomposition!$A48:$A1045,DisposalFacilities!$A48,DFcomposition!N48:N1045)))","v":""}]
[null,null,null,null,null,null,null,null,null,null,null,null,"","",{"$f":"IF($A49=\"\",\"\",IF(COUNTIF(DFcomposition!$A$1:$A$999,$A49)=0,0,AVERAGEIF(DFcomposition!$A49:$A1046,DisposalFacilities!$A49,DFcomposition!C49:C1046)))","v":""},{"$f":"IF($A49=\"\",\"\",IF(COUNTIF(DFcomposition!$A$1:$A$999,$A49)=0,0,AVERAGEIF(DFcomposition!$A49:$A1046,DisposalFacilities!$A49,DFcomposition!D49:D1046)))","v":""},{"$f":"IF($A49=\"\",\"\",IF(COUNTIF(DFcomposition!$A$1:$A$999,$A49)=0,0,AVERAGEIF(DFcomposition!$A49:$A1046,DisposalFacilities!$A49,DFcomposition!E49:E1046)))","v":""},{"$f":"IF($A49=\"\",\"\",IF(COUNTIF(DFcomposition!$A$1:$A$999,$A49)=0,0,AVERAGEIF(DFcomposition!$A49:$A1046,DisposalFacilities!$A49,DFcomposition!F49:F1046)))","v":""},{"$f":"IF($A49=\"\",\"\",IF(COUNTIF(DFcomposition!$A$1:$A$999,$A49)=0,0,AVERAGEIF(DFcomposition!$A49:$A1046,DisposalFacilities!$A49,DFcomposition!G49:G1046)))","v":""},{"$f":"IF($A49=\"\",\"\",IF(COUNTIF(DFcomposition!$A$1:$A$999,$A49)=0,0,AVERAGEIF(DFcomposition!$A49:$A1046,DisposalFacilities!$A49,DFcomposition!H49:H1046)))","v":""},{"$f":"IF($A49=\"\",\"\",IF(COUNTIF(DFcomposition!$A$1:$A$999,$A49)=0,0,AVERAGEIF(DFcomposition!$A49:$A1046,DisposalFacilities!$A49,DFcomposition!I49:I1046)))","v":""},{"$f":"IF($A49=\"\",\"\",IF(COUNTIF(DFcomposition!$A$1:$A$999,$A49)=0,0,AVERAGEIF(DFcomposition!$A49:$A1046,DisposalFacilities!$A49,DFcomposition!J49:J1046)))","v":""},{"$f":"IF($A49=\"\",\"\",IF(COUNTIF(DFcomposition!$A$1:$A$999,$A49)=0,0,AVERAGEIF(DFcomposition!$A49:$A1046,DisposalFacilities!$A49,DFcomposition!K49:K1046)))","v":""},{"$f":"IF($A49=\"\",\"\",IF(COUNTIF(DFcomposition!$A$1:$A$999,$A49)=0,0,AVERAGEIF(DFcomposition!$A49:$A1046,DisposalFacilities!$A49,DFcomposition!L49:L1046)))","v":""},{"$f":"IF($A49=\"\",\"\",IF(COUNTIF(DFcomposition!$A$1:$A$999,$A49)=0,0,AVERAGEIF(DFcomposition!$A49:$A1046,DisposalFacilities!$A49,DFcomposition!M49:M1046)))","v":""},{"$f":"IF($A49=\"\",\"\",IF(COUNTIF(DFcomposition!$A$1:$A$999,$A49)=0,0,AVERAGEIF(DFcomposition!$A49:$A1046,DisposalFacilities!$A49,DFcomposition!N49:N1046)))","v":""}]
[null,null,null,null,null,null,null,null,null,null,null,null,"","",{"$f":"IF($A50=\"\",\"\",IF(COUNTIF(DFcomposition!$A$1:$A$999,$A50)=0,0,AVERAGEIF(DFcomposition!$A50:$A1047,DisposalFacilities!$A50,DFcomposition!C50:C1047)))","v":""},{"$f":"IF($A50=\"\",\"\",IF(COUNTIF(DFcomposition!$A$1:$A$999,$A50)=0,0,AVERAGEIF(DFcomposition!$A50:$A1047,DisposalFacilities!$A50,DFcomposition!D50:D1047)))","v":""},{"$f":"IF($A50=\"\",\"\",IF(COUNTIF(DFcomposition!$A$1:$A$999,$A50)=0,0,AVERAGEIF(DFcomposition!$A50:$A1047,DisposalFacilities!$A50,DFcomposition!E50:E1047)))","v":""},{"$f":"IF($A50=\"\",\"\",IF(COUNTIF(DFcomposition!$A$1:$A$999,$A50)=0,0,AVERAGEIF(DFcomposition!$A50:$A1047,DisposalFacilities!$A50,DFcomposition!F50:F1047)))","v":""},{"$f":"IF($A50=\"\",\"\",IF(COUNTIF(DFcomposition!$A$1:$A$999,$A50)=0,0,AVERAGEIF(DFcomposition!$A50:$A1047,DisposalFacilities!$A50,DFcomposition!G50:G1047)))","v":""},{"$f":"IF($A50=\"\",\"\",IF(COUNTIF(DFcomposition!$A$1:$A$999,$A50)=0,0,AVERAGEIF(DFcomposition!$A50:$A1047,DisposalFacilities!$A50,DFcomposition!H50:H1047)))","v":""},{"$f":"IF($A50=\"\",\"\",IF(COUNTIF(DFcomposition!$A$1:$A$999,$A50)=0,0,AVERAGEIF(DFcomposition!$A50:$A1047,DisposalFacilities!$A50,DFcomposition!I50:I1047)))","v":""},{"$f":"IF($A50=\"\",\"\",IF(COUNTIF(DFcomposition!$A$1:$A$999,$A50)=0,0,AVERAGEIF(DFcomposition!$A50:$A1047,DisposalFacilities!$A50,DFcomposition!J50:J1047)))","v":""},{"$f":"IF($A50=\"\",\"\",IF(COUNTIF(DFcomposition!$A$1:$A$999,$A50)=0,0,AVERAGEIF(DFcomposition!$A50:$A1047,DisposalFacilities!$A50,DFcomposition!K50:K1047)))","v":""},{"$f":"IF($A50=\"\",\"\",IF(COUNTIF(DFcomposition!$A$1:$A$999,$A50)=0,0,AVERAGEIF(DFcomposition!$A50:$A1047,DisposalFacilities!$A50,DFcomposition!L50:L1047)))","v":""},{"$f":"IF($A50=\"\",\"\",IF(COUNTIF(DFcomposition!$A$1:$A$999,$A50)=0,0,AVERAGEIF(DFcomposition!$A50:$A1047,DisposalFacilities!$A50,DFcomposition!M50:M1047)))","v":""},{"$f":"IF($A50=\"\",\"\",IF(COUNTIF(DFcomposition!$A$1:$A$999,$A50)=0,0,AVERAGEIF(DFcomposition!$A50:$A1047,DisposalFacilities!$A50,DFcomposition!N50:N1047)))","v":""}]
[null,null,null,null,null,null,null,null,null,null,null,null,"","",{"$f":"IF($A51=\"\",\"\",IF(COUNTIF(DFcomposition!$A$1:$A$999,$A51)=0,0,AVERAGEIF(DFcomposition!$A51:$A1048,DisposalFacilities!$A51,DFcomposition!C51:C1048)))","v":""},{"$f":"IF($A51=\"\",\"\",IF(COUNTIF(DFcomposition!$A$1:$A$999,$A51)=0,0,AVERAGEIF(DFcomposition!$A51:$A1048,DisposalFacilities!$A51,DFcomposition!D51:D1048)))","v":""},{"$f":"IF($A51=\"\",\"\",IF(COUNTIF(DFcomposition!$A$1:$A$999,$A51)=0,0,AVERAGEIF(DFcomposition!$A51:$A1048,DisposalFacilities!$A51,DFcomposition!E51:E1048)))","v":""},{"$f":"IF($A51=\"\",\"\",IF(COUNTIF(DFcomposition!$A$1:$A$999,$A51)=0,0,AVERAGEIF(DFcomposition!$A51:$A1048,DisposalFacilities!$A51,DFcomposition!F51:F1048)))","v":""},{"$f":"IF($A51=\"\",\"\",IF(COUNTIF(DFcomposition!$A$1:$A$999,$A51)=0,0,AVERAGEIF(DFcomposition!$A51:$A1048,DisposalFacilities!$A51,DFcomposition!G51:G1048)))","v":""},{"$f":"IF($A51=\"\",\"\",IF(COUNTIF(DFcomposition!$A$1:$A$999,$A51)=0,0,AVERAGEIF(DFcomposition!$A51:$A1048,DisposalFacilities!$A51,DFcomposition!H51:H1048)))","v":""},{"$f":"IF($A51=\"\",\"\",IF(COUNTIF(DFcomposition!$A$1:$A$999,$A51)=0,0,AVERAGEIF(DFcomposition!$A51:$A1048,DisposalFacilities!$A51,DFcomposition!I51:I1048)))","v":""},{"$f":"IF($A51=\"\",\"\",IF(COUNTIF(DFcomposition!$A$1:$A$999,$A51)=0,0,AVERAGEIF(DFcomposition!$A51:$A1048,DisposalFacilities!$A51,DFcomposition!J51:J1048)))","v":""},{"$f":"IF($A51=\"\",\"\",IF(COUNTIF(DFcomposition!$A$1:$A$999,$A51)=0,0,AVERAGEIF(DFcomposition!$A51:$A1048,DisposalFacilities!$A51,DFcomposition!K51:K1048)))","v":""},{"$f":"IF($A51=\"\",\"\",IF(COUNTIF(DFcomposition!$A$1:$A$999,$A51)=0,0,AVERAGEIF(DFcomposition!$A51:$A1048,DisposalFacilities!$A51,DFcomposition!L51:L1048)))","v":""},{"$f":"IF($A51=\"\",\"\",IF(COUNTIF(DFcomposition!$A$1:$A$999,$A51)=0,0,AVERAGEIF(DFcomposition!$A51:$A1048,DisposalFacilities!$A51,DFcomposition!M51:M1048)))","v":""},{"$f":"IF($A51=\"\",\"\",IF(COUNTIF(DFcomposition!$A$1:$A$999,$A51)=0,0,AVERAGEIF(DFcomposition!$A51:$A1048,DisposalFacilities!$A51,DFcomposition!N51:N1048)))","v":""}]
[null,null,null,null,null,null,null,null,null,null,null,null,"","",{"$f":"IF($A52=\"\",\"\",IF(COUNTIF(DFcomposition!$A$1:$A$999,$A52)=0,0,AVERAGEIF(DFcomposition!$A52:$A1049,DisposalFacilities!$A52,DFcomposition!C52:C1049)))","v":""},{"$f":"IF($A52=\"\",\"\",IF(COUNTIF(DFcomposition!$A$1:$A$999,$A52)=0,0,AVERAGEIF(DFcomposition!$A52:$A1049,DisposalFacilities!$A52,DFcomposition!D52:D1049)))","v":""},{"$f":"IF($A52=\"\",\"\",IF(COUNTIF(DFcomposition!$A$1:$A$999,$A52)=0,0,AVERAGEIF(DFcomposition!$A52:$A1049,DisposalFacilities!$A52,DFcomposition!E52:E1049)))","v":""},{"$f":"IF($A52=\"\",\"\",IF(COUNTIF(DFcomposition!$A$1:$A$999,$A52)=0,0,AVERAGEIF(DFcomposition!$A52:$A1049,DisposalFacilities!$A52,DFcomposition!F52:F1049)))","v":""},{"$f":"IF($A52=\"\",\"\",IF(COUNTIF(DFcomposition!$A$1:$A$999,$A52)=0,0,AVERAGEIF(DFcomposition!$A52:$A1049,DisposalFacilities!$A52,DFcomposition!G52:G1049)))","v":""},{"$f":"IF($A52=\"\",\"\",IF(COUNTIF(DFcomposition!$A$1:$A$999,$A52)=0,0,AVERAGEIF(DFcomposition!$A52:$A1049,DisposalFacilities!$A52,DFcomposition!H52:H1049)))","v":""},{"$f":"IF($A52=\"\",\"\",IF(COUNTIF(DFcomposition!$A$1:$A$999,$A52)=0,0,AVERAGEIF(DFcomposition!$A52:$A1049,DisposalFacilities!$A52,DFcomposition!I52:I1049)))","v":""},{"$f":"IF($A52=\"\",\"\",IF(COUNTIF(DFcomposition!$A$1:$A$999,$A52)=0,0,AVERAGEIF(DFcomposition!$A52:$A1049,DisposalFacilities!$A52,DFcomposition!J52:J1049)))","v":""},{"$f":"IF($A52=\"\",\"\",IF(COUNTIF(DFcomposition!$A$1:$A$999,$A52)=0,0,AVERAGEIF(DFcomposition!$A52:$A1049,DisposalFacilities!$A52,DFcomposition!K52:K1049)))","v":""},{"$f":"IF($A52=\"\",\"\",IF(COUNTIF(DFcomposition!$A$1:$A$999,$A52)=0,0,AVERAGEIF(DFcomposition!$A52:$A1049,DisposalFacilities!$A52,DFcomposition!L52:L1049)))","v":""},{"$f":"IF($A52=\"\",\"\",IF(COUNTIF(DFcomposition!$A$1:$A$999,$A52)=0,0,AVERAGEIF(DFcomposition!$A52:$A1049,DisposalFacilities!$A52,DFcomposition!M52:M1049)))","v":""},{"$f":"IF($A52=\"\",\"\",IF(COUNTIF(DFcomposition!$A$1:$A$999,$A52)=0,0,AVERAGEIF(DFcomposition!$A52:$A1049,DisposalFacilities!$A52,DFcomposition!N52:N1049)))","v":""}]
[null,null,null,null,null,null,null,null,null,null,null,null,"","",{"$f":"IF($A53=\"\",\"\",IF(COUNTIF(DFcomposition!$A$1:$A$999,$A53)=0,0,AVERAGEIF(DFcomposition!$A53:$A1050,DisposalFacilities!$A53,DFcomposition!C53:C1050)))","v":""},{"$f":"IF($A53=\"\",\"\",IF(COUNTIF(DFcomposition!$A$1:$A$999,$A53)=0,0,AVERAGEIF(DFcomposition!$A53:$A1050,DisposalFacilities!$A53,DFcomposition!D53:D1050)))","v":""},{"$f":"IF($A53=\"\",\"\",IF(COUNTIF(DFcomposition!$A$1:$A$999,$A53)=0,0,AVERAGEIF(DFcomposition!$A53:$A1050,DisposalFacilities!$A53,DFcomposition!E53:E1050)))","v":""},{"$f":"IF($A53=\"\",\"\",IF(COUNTIF(DFcomposition!$A$1:$A$999,$A53)=0,0,AVERAGEIF(DFcomposition!$A53:$A1050,DisposalFacilities!$A53,DFcomposition!F53:F1050)))","v":""},{"$f":"IF($A53=\"\",\"\",IF(COUNTIF(DFcomposition!$A$1:$A$999,$A53)=0,0,AVERAGEIF(DFcomposition!$A53:$A1050,DisposalFacilities!$A53,DFcomposition!G53:G1050)))","v":""},{"$f":"IF($A53=\"\",\"\",IF(COUNTIF(DFcomposition!$A$1:$A$999,$A53)=0,0,AVERAGEIF(DFcomposition!$A53:$A1050,DisposalFacilities!$A53,DFcomposition!H53:H1050)))","v":""},{"$f":"IF($A53=\"\",\"\",IF(COUNTIF(DFcomposition!$A$1:$A$999,$A53)=0,0,AVERAGEIF(DFcomposition!$A53:$A1050,DisposalFacilities!$A53,DFcomposition!I53:I1050)))","v":""},{"$f":"IF($A53=\"\",\"\",IF(COUNTIF(DFcomposition!$A$1:$A$999,$A53)=0,0,AVERAGEIF(DFcomposition!$A53:$A1050,DisposalFacilities!$A53,DFcomposition!J53:J1050)))","v":""},{"$f":"IF($A53=\"\",\"\",IF(COUNTIF(DFcomposition!$A$1:$A$999,$A53)=0,0,AVERAGEIF(DFcomposition!$A53:$A1050,DisposalFacilities!$A53,DFcomposition!K53:K1050)))","v":""},{"$f":"IF($A53=\"\",\"\",IF(COUNTIF(DFcomposition!$A$1:$A$999,$A53)=0,0,AVERAGEIF(DFcomposition!$A53:$A1050,DisposalFacilities!$A53,DFcomposition!L53:L1050)))","v":""},{"$f":"IF($A53=\"\",\"\",IF(COUNTIF(DFcomposition!$A$1:$A$999,$A53)=0,0,AVERAGEIF(DFcomposition!$A53:$A1050,DisposalFacilities!$A53,DFcomposition!M53:M1050)))","v":""},{"$f":"IF($A53=\"\",\"\",IF(COUNTIF(DFcomposition!$A$1:$A$999,$A53)=0,0,AVERAGEIF(DFcomposition!$A53:$A1050,DisposalFacilities!$A53,DFcomposition!N53:N1050)))","v":""}]
[null,null,null,null,null,null,null,null,null,null,null,null,"","",{"$f":"IF($A54=\"\",\"\",IF(COUNTIF(DFcomposition!$A$1:$A$999,$A54)=0,0,AVERAGEIF(DFcomposition!$A54:$A1051,DisposalFacilities!$A54,DFcomposition!C54:C1051)))","v":""},{"$f":"IF($A54=\"\",\"\",IF(COUNTIF(DFcomposition!$A$1:$A$999,$A54)=0,0,AVERAGEIF(DFcomposition!$A54:$A1051,DisposalFacilities!$A54,DFcomposition!D54:D1051)))","v":""},{"$f":"IF($A54=\"\",\"\",IF(COUNTIF(DFcomposition!$A$1:$A$999,$A54)=0,0,AVERAGEIF(DFcomposition!$A54:$A1051,DisposalFacilities!$A54,DFcomposition!E54:E1051)))","v":""},{"$f":"IF($A54=\"\",\"\",IF(COUNTIF(DFcomposition!$A$1:$A$999,$A54)=0,0,AVERAGEIF(DFcomposition!$A54:$A1051,DisposalFacilities!$A54,DFcomposition!F54:F1051)))","v":""},{"$f":"IF($A54=\"\",\"\",IF(COUNTIF(DFcomposition!$A$1:$A$999,$A54)=0,0,AVERAGEIF(DFcomposition!$A54:$A1051,DisposalFacilities!$A54,DFcomposition!G54:G1051)))","v":""},{"$f":"IF($A54=\"\",\"\",IF(COUNTIF(DFcomposition!$A$1:$A$999,$A54)=0,0,AVERAGEIF(DFcomposition!$A54:$A1051,DisposalFacilities!$A54,DFcomposition!H54:H1051)))","v":""},{"$f":"IF($A54=\"\",\"\",IF(COUNTIF(DFcomposition!$A$1:$A$999,$A54)=0,0,AVERAGEIF(DFcomposition!$A54:$A1051,DisposalFacilities!$A54,DFcomposition!I54:I1051)))","v":""},{"$f":"IF($A54=\"\",\"\",IF(COUNTIF(DFcomposition!$A$1:$A$999,$A54)=0,0,AVERAGEIF(DFcomposition!$A54:$A1051,DisposalFacilities!$A54,DFcomposition!J54:J1051)))","v":""},{"$f":"IF($A54=\"\",\"\",IF(COUNTIF(DFcomposition!$A$1:$A$999,$A54)=0,0,AVERAGEIF(DFcomposition!$A54:$A1051,DisposalFacilities!$A54,DFcomposition!K54:K1051)))","v":""},{"$f":"IF($A54=\"\",\"\",IF(COUNTIF(DFcomposition!$A$1:$A$999,$A54)=0,0,AVERAGEIF(DFcomposition!$A54:$A1051,DisposalFacilities!$A54,DFcomposition!L54:L1051)))","v":""},{"$f":"IF($A54=\"\",\"\",IF(COUNTIF(DFcomposition!$A$1:$A$999,$A54)=0,0,AVERAGEIF(DFcomposition!$A54:$A1051,DisposalFacilities!$A54,DFcomposition!M54:M1051)))","v":""},{"$f":"IF($A54=\"\",\"\",IF(COUNTIF(DFcomposition!$A$1:$A$999,$A54)=0,0,AVERAGEIF(DFcomposition!$A54:$A1051,DisposalFacilities!$A54,DFcomposition!N54:N1051)))","v":""}]
[null,null,null,null,null,null,null,null,null,null,null,null,"","",{"$f":"IF($A55=\"\",\"\",IF(COUNTIF(DFcomposition!$A$1:$A$999,$A55)=0,0,AVERAGEIF(DFcomposition!$A55:$A1052,DisposalFacilities!$A55,DFcomposition!C55:C1052)))","v":""},{"$f":"IF($A55=\"\",\"\",IF(COUNTIF(DFcomposition!$A$1:$A$999,$A55)=0,0,AVERAGEIF(DFcomposition!$A55:$A1052,DisposalFacilities!$A55,DFcomposition!D55:D1052)))","v":""},{"$f":"IF($A55=\"\",\"\",IF(COUNTIF(DFcomposition!$A$1:$A$999,$A55)=0,0,AVERAGEIF(DFcomposition!$A55:$A1052,DisposalFacilities!$A55,DFcomposition!E55:E1052)))","v":""},{"$f":"IF($A55=\"\",\"\",IF(COUNTIF(DFcomposition!$A$1:$A$999,$A55)=0,0,AVERAGEIF(DFcomposition!$A55:$A1052,DisposalFacilities!$A55,DFcomposition!F55:F1052)))","v":""},{"$f":"IF($A55=\"\",\"\",IF(COUNTIF(DFcomposition!$A$1:$A$999,$A55)=0,0,AVERAGEIF(DFcomposition!$A55:$A1052,DisposalFacilities!$A55,DFcomposition!G55:G1052)))","v":""},{"$f":"IF($A55=\"\",\"\",IF(COUNTIF(DFcomposition!$A$1:$A$999,$A55)=0,0,AVERAGEIF(DFcomposition!$A55:$A1052,DisposalFacilities!$A55,DFcomposition!H55:H1052)))","v":""},{"$f":"IF($A55=\"\",\"\",IF(COUNTIF(DFcomposition!$A$1:$A$999,$A55)=0,0,AVERAGEIF(DFcomposition!$A55:$A1052,DisposalFacilities!$A55,DFcomposition!I55:I1052)))","v":""},{"$f":"IF($A55=\"\",\"\",IF(COUNTIF(DFcomposition!$A$1:$A$999,$A55)=0,0,AVERAGEIF(DFcomposition!$A55:$A1052,DisposalFacilities!$A55,DFcomposition!J55:J1052)))","v":""},{"$f":"IF($A55=\"\",\"\",IF(COUNTIF(DFcomposition!$A$1:$A$999,$A55)=0,0,AVERAGEIF(DFcomposition!$A55:$A1052,DisposalFacilities!$A55,DFcomposition!K55:K1052)))","v":""},{"$f":"IF($A55=\"\",\"\",IF(COUNTIF(DFcomposition!$A$1:$A$999,$A55)=0,0,AVERAGEIF(DFcomposition!$A55:$A1052,DisposalFacilities!$A55,DFcomposition!L55:L1052)))","v":""},{"$f":"IF($A55=\"\",\"\",IF(COUNTIF(DFcomposition!$A$1:$A$999,$A55)=0,0,AVERAGEIF(DFcomposition!$A55:$A1052,DisposalFacilities!$A55,DFcomposition!M55:M1052)))","v":""},{"$f":"IF($A55=\"\",\"\",IF(COUNTIF(DFcomposition!$A$1:$A$999,$A55)=0,0,AVERAGEIF(DFcomposition!$A55:$A1052,DisposalFacilities!$A55,DFcomposition!N55:N1052)))","v":""}]
[null,null,null,null,null,null,null,null,null,null,null,null,"","",{"$f":"IF($A56=\"\",\"\",IF(COUNTIF(DFcomposition!$A$1:$A$999,$A56)=0,0,AVERAGEIF(DFcomposition!$A56:$A1053,DisposalFacilities!$A56,DFcomposition!C56:C1053)))","v":""},{"$f":"IF($A56=\"\",\"\",IF(COUNTIF(DFcomposition!$A$1:$A$999,$A56)=0,0,AVERAGEIF(DFcomposition!$A56:$A1053,DisposalFacilities!$A56,DFcomposition!D56:D1053)))","v":""},{"$f":"IF($A56=\"\",\"\",IF(COUNTIF(DFcomposition!$A$1:$A$999,$A56)=0,0,AVERAGEIF(DFcomposition!$A56:$A1053,DisposalFacilities!$A56,DFcomposition!E56:E1053)))","v":""},{"$f":"IF($A56=\"\",\"\",IF(COUNTIF(DFcomposition!$A$1:$A$999,$A56)=0,0,AVERAGEIF(DFcomposition!$A56:$A1053,DisposalFacilities!$A56,DFcomposition!F56:F1053)))","v":""},{"$f":"IF($A56=\"\",\"\",IF(COUNTIF(DFcomposition!$A$1:$A$999,$A56)=0,0,AVERAGEIF(DFcomposition!$A56:$A1053,DisposalFacilities!$A56,DFcomposition!G56:G1053)))","v":""},{"$f":"IF($A56=\"\",\"\",IF(COUNTIF(DFcomposition!$A$1:$A$999,$A56)=0,0,AVERAGEIF(DFcomposition!$A56:$A1053,DisposalFacilities!$A56,DFcomposition!H56:H1053)))","v":""},{"$f":"IF($A56=\"\",\"\",IF(COUNTIF(DFcomposition!$A$1:$A$999,$A56)=0,0,AVERAGEIF(DFcomposition!$A56:$A1053,DisposalFacilities!$A56,DFcomposition!I56:I1053)))","v":""},{"$f":"IF($A56=\"\",\"\",IF(COUNTIF(DFcomposition!$A$1:$A$999,$A56)=0,0,AVERAGEIF(DFcomposition!$A56:$A1053,DisposalFacilities!$A56,DFcomposition!J56:J1053)))","v":""},{"$f":"IF($A56=\"\",\"\",IF(COUNTIF(DFcomposition!$A$1:$A$999,$A56)=0,0,AVERAGEIF(DFcomposition!$A56:$A1053,DisposalFacilities!$A56,DFcomposition!K56:K1053)))","v":""},{"$f":"IF($A56=\"\",\"\",IF(COUNTIF(DFcomposition!$A$1:$A$999,$A56)=0,0,AVERAGEIF(DFcomposition!$A56:$A1053,DisposalFacilities!$A56,DFcomposition!L56:L1053)))","v":""},{"$f":"IF($A56=\"\",\"\",IF(COUNTIF(DFcomposition!$A$1:$A$999,$A56)=0,0,AVERAGEIF(DFcomposition!$A56:$A1053,DisposalFacilities!$A56,DFcomposition!M56:M1053)))","v":""},{"$f":"IF($A56=\"\",\"\",IF(COUNTIF(DFcomposition!$A$1:$A$999,$A56)=0,0,AVERAGEIF(DFcomposition!$A56:$A1053,DisposalFacilities!$A56,DFcomposition!N56:N1053)))","v":""}]
[null,null,null,null,null,null,null,null,null,null,null,null,"","",{"$f":"IF($A57=\"\",\"\",IF(COUNTIF(DFcomposition!$A$1:$A$999,$A57)=0,0,AVERAGEIF(DFcomposition!$A57:$A1054,DisposalFacilities!$A57,DFcomposition!C57:C1054)))","v":""},{"$f":"IF($A57=\"\",\"\",IF(COUNTIF(DFcomposition!$A$1:$A$999,$A57)=0,0,AVERAGEIF(DFcomposition!$A57:$A1054,DisposalFacilities!$A57,DFcomposition!D57:D1054)))","v":""},{"$f":"IF($A57=\"\",\"\",IF(COUNTIF(DFcomposition!$A$1:$A$999,$A57)=0,0,AVERAGEIF(DFcomposition!$A57:$A1054,DisposalFacilities!$A57,DFcomposition!E57:E1054)))","v":""},{"$f":"IF($A57=\"\",\"\",IF(COUNTIF(DFcomposition!$A$1:$A$999,$A57)=0,0,AVERAGEIF(DFcomposition!$A57:$A1054,DisposalFacilities!$A57,DFcomposition!F57:F1054)))","v":""},{"$f":"IF($A57=\"\",\"\",IF(COUNTIF(DFcomposition!$A$1:$A$999,$A57)=0,0,AVERAGEIF(DFcomposition!$A57:$A1054,DisposalFacilities!$A57,DFcomposition!G57:G1054)))","v":""},{"$f":"IF($A57=\"\",\"\",IF(COUNTIF(DFcomposition!$A$1:$A$999,$A57)=0,0,AVERAGEIF(DFcomposition!$A57:$A1054,DisposalFacilities!$A57,DFcomposition!H57:H1054)))","v":""},{"$f":"IF($A57=\"\",\"\",IF(COUNTIF(DFcomposition!$A$1:$A$999,$A57)=0,0,AVERAGEIF(DFcomposition!$A57:$A1054,DisposalFacilities!$A57,DFcomposition!I57:I1054)))","v":""},{"$f":"IF($A57=\"\",\"\",IF(COUNTIF(DFcomposition!$A$1:$A$999,$A57)=0,0,AVERAGEIF(DFcomposition!$A57:$A1054,DisposalFacilities!$A57,DFcomposition!J57:J1054)))","v":""},{"$f":"IF($A57=\"\",\"\",IF(COUNTIF(DFcomposition!$A$1:$A$999,$A57)=0,0,AVERAGEIF(DFcomposition!$A57:$A1054,DisposalFacilities!$A57,DFcomposition!K57:K1054)))","v":""},{"$f":"IF($A57=\"\",\"\",IF(COUNTIF(DFcomposition!$A$1:$A$999,$A57)=0,0,AVERAGEIF(DFcomposition!$A57:$A1054,DisposalFacilities!$A57,DFcomposition!L57:L1054)))","v":""},{"$f":"IF($A57=\"\",\"\",IF(COUNTIF(DFcomposition!$A$1:$A$999,$A57)=0,0,AVERAGEIF(DFcomposition!$A57:$A1054,DisposalFacilities!$A57,DFcomposition!M57:M1054)))","v":""},{"$f":"IF($A57=\"\",\"\",IF(COUNTIF(DFcomposition!$A$1:$A$999,$A57)=0,0,AVERAGEIF(DFcomposition!$A57:$A1054,DisposalFacilities!$A57,DFcomposition!N57:N1054)))","v":""}]
[null,null,null,null,null,null,null,null,null,null,null,null,"","",{"$f":"IF($A58=\"\",\"\",IF(COUNTIF(DFcomposition!$A$1:$A$999,$A58)=0,0,AVERAGEIF(DFcomposition!$A58:$A1055,DisposalFacilities!$A58,DFcomposition!C58:C1055)))","v":""},{"$f":"IF($A58=\"\",\"\",IF(COUNTIF(DFcomposition!$A$1:$A$999,$A58)=0,0,AVERAGEIF(DFcomposition!$A58:$A1055,DisposalFacilities!$A58,DFcomposition!D58:D1055)))","v":""},{"$f":"IF($A58=\"\",\"\",IF(COUNTIF(DFcomposition!$A$1:$A$999,$A58)=0,0,AVERAGEIF(DFcomposition!$A58:$A1055,DisposalFacilities!$A58,DFcomposition!E58:E1055)))","v":""},{"$f":"IF($A58=\"\",\"\",IF(COUNTIF(DFcomposition!$A$1:$A$999,$A58)=0,0,AVERAGEIF(DFcomposition!$A58:$A1055,DisposalFacilities!$A58,DFcomposition!F58:F1055)))","v":""},{"$f":"IF($A58=\"\",\"\",IF(COUNTIF(DFcomposition!$A$1:$A$999,$A58)=0,0,AVERAGEIF(DFcomposition!$A58:$A1055,DisposalFacilities!$A58,DFcomposition!G58:G1055)))","v":""},{"$f":"IF($A58=\"\",\"\",IF(COUNTIF(DFcomposition!$A$1:$A$999,$A58)=0,0,AVERAGEIF(DFcomposition!$A58:$A1055,DisposalFacilities!$A58,DFcomposition!H58:H1055)))","v":""},{"$f":"IF($A58=\"\",\"\",IF(COUNTIF(DFcomposition!$A$1:$A$999,$A58)=0,0,AVERAGEIF(DFcomposition!$A58:$A1055,DisposalFacilities!$A58,DFcomposition!I58:I1055)))","v":""},{"$f":"IF($A58=\"\",\"\",IF(COUNTIF(DFcomposition!$A$1:$A$999,$A58)=0,0,AVERAGEIF(DFcomposition!$A58:$A1055,DisposalFacilities!$A58,DFcomposition!J58:J1055)))","v":""},{"$f":"IF($A58=\"\",\"\",IF(COUNTIF(DFcomposition!$A$1:$A$999,$A58)=0,0,AVERAGEIF(DFcomposition!$A58:$A1055,DisposalFacilities!$A58,DFcomposition!K58:K1055)))","v":""},{"$f":"IF($A58=\"\",\"\",IF(COUNTIF(DFcomposition!$A$1:$A$999,$A58)=0,0,AVERAGEIF(DFcomposition!$A58:$A1055,DisposalFacilities!$A58,DFcomposition!L58:L1055)))","v":""},{"$f":"IF($A58=\"\",\"\",IF(COUNTIF(DFcomposition!$A$1:$A$999,$A58)=0,0,AVERAGEIF(DFcomposition!$A58:$A1055,DisposalFacilities!$A58,DFcomposition!M58:M1055)))","v":""},{"$f":"IF($A58=\"\",\"\",IF(COUNTIF(DFcomposition!$A$1:$A$999,$A58)=0,0,AVERAGEIF(DFcomposition!$A58:$A1055,DisposalFacilities!$A58,DFcomposition!N58:N1055)))","v":""}]
[null,null,null,null,null,null,null,null,null,null,null,null,"","",{"$f":"IF($A59=\"\",\"\",IF(COUNTIF(DFcomposition!$A$1:$A$999,$A59)=0,0,AVERAGEIF(DFcomposition!$A59:$A1056,DisposalFacilities!$A59,DFcomposition!C59:C1056)))","v":""},{"$f":"IF($A59=\"\",\"\",IF(COUNTIF(DFcomposition!$A$1:$A$999,$A59)=0,0,AVERAGEIF(DFcomposition!$A59:$A1056,DisposalFacilities!$A59,DFcomposition!D59:D1056)))","v":""},{"$f":"IF($A59=\"\",\"\",IF(COUNTIF(DFcomposition!$A$1:$A$999,$A59)=0,0,AVERAGEIF(DFcomposition!$A59:$A1056,DisposalFacilities!$A59,DFcomposition!E59:E1056)))","v":""},{"$f":"IF($A59=\"\",\"\",IF(COUNTIF(DFcomposition!$A$1:$A$999,$A59)=0,0,AVERAGEIF(DFcomposition!$A59:$A1056,DisposalFacilities!$A59,DFcomposition!F59:F1056)))","v":""},{"$f":"IF($A59=\"\",\"\",IF(COUNTIF(DFcomposition!$A$1:$A$999,$A59)=0,0,AVERAGEIF(DFcomposition!$A59:$A1056,DisposalFacilities!$A59,DFcomposition!G59:G1056)))","v":""},{"$f":"IF($A59=\"\",\"\",IF(COUNTIF(DFcomposition!$A$1:$A$999,$A59)=0,0,AVERAGEIF(DFcomposition!$A59:$A1056,DisposalFacilities!$A59,DFcomposition!H59:H1056)))","v":""},{"$f":"IF($A59=\"\",\"\",IF(COUNTIF(DFcomposition!$A$1:$A$999,$A59)=0,0,AVERAGEIF(DFcomposition!$A59:$A1056,DisposalFacilities!$A59,DFcomposition!I59:I1056)))","v":""},{"$f":"IF($A59=\"\",\"\",IF(COUNTIF(DFcomposition!$A$1:$A$999,$A59)=0,0,AVERAGEIF(DFcomposition!$A59:$A1056,DisposalFacilities!$A59,DFcomposition!J59:J1056)))","v":""},{"$f":"IF($A59=\"\",\"\",IF(COUNTIF(DFcomposition!$A$1:$A$999,$A59)=0,0,AVERAGEIF(DFcomposition!$A59:$A1056,DisposalFacilities!$A59,DFcomposition!K59:K1056)))","v":""},{"$f":"IF($A59=\"\",\"\",IF(COUNTIF(DFcomposition!$A$1:$A$999,$A59)=0,0,AVERAGEIF(DFcomposition!$A59:$A1056,DisposalFacilities!$A59,DFcomposition!L59:L1056)))","v":""},{"$f":"IF($A59=\"\",\"\",IF(COUNTIF(DFcomposition!$A$1:$A$999,$A59)=0,0,AVERAGEIF(DFcomposition!$A59:$A1056,DisposalFacilities!$A59,DFcomposition!M59:M1056)))","v":""},{"$f":"IF($A59=\"\",\"\",IF(COUNTIF(DFcomposition!$A$1:$A$999,$A59)=0,0,AVERAGEIF(DFcomposition!$A59:$A1056,DisposalFacilities!$A59,DFcomposition!N59:N1056)))","v":""}]
[null,null,null,null,null,null,null,null,null,null,null,null,"","",{"$f":"IF($A60=\"\",\"\",IF(COUNTIF(DFcomposition!$A$1:$A$999,$A60)=0,0,AVERAGEIF(DFcomposition!$A60:$A1057,DisposalFacilities!$A60,DFcomposition!C60:C1057)))","v":""},{"$f":"IF($A60=\"\",\"\",IF(COUNTIF(DFcomposition!$A$1:$A$999,$A60)=0,0,AVERAGEIF(DFcomposition!$A60:$A1057,DisposalFacilities!$A60,DFcomposition!D60:D1057)))","v":""},{"$f":"IF($A60=\"\",\"\",IF(COUNTIF(DFcomposition!$A$1:$A$999,$A60)=0,0,AVERAGEIF(DFcomposition!$A60:$A1057,DisposalFacilities!$A60,DFcomposition!E60:E1057)))","v":""},{"$f":"IF($A60=\"\",\"\",IF(COUNTIF(DFcomposition!$A$1:$A$999,$A60)=0,0,AVERAGEIF(DFcomposition!$A60:$A1057,DisposalFacilities!$A60,DFcomposition!F60:F1057)))","v":""},{"$f":"IF($A60=\"\",\"\",IF(COUNTIF(DFcomposition!$A$1:$A$999,$A60)=0,0,AVERAGEIF(DFcomposition!$A60:$A1057,DisposalFacilities!$A60,DFcomposition!G60:G1057)))","v":""},{"$f":"IF($A60=\"\",\"\",IF(COUNTIF(DFcomposition!$A$1:$A$999,$A60)=0,0,AVERAGEIF(DFcomposition!$A60:$A1057,DisposalFacilities!$A60,DFcomposition!H60:H1057)))","v":""},{"$f":"IF($A60=\"\",\"\",IF(COUNTIF(DFcomposition!$A$1:$A$999,$A60)=0,0,AVERAGEIF(DFcomposition!$A60:$A1057,DisposalFacilities!$A60,DFcomposition!I60:I1057)))","v":""},{"$f":"IF($A60=\"\",\"\",IF(COUNTIF(DFcomposition!$A$1:$A$999,$A60)=0,0,AVERAGEIF(DFcomposition!$A60:$A1057,DisposalFacilities!$A60,DFcomposition!J60:J1057)))","v":""},{"$f":"IF($A60=\"\",\"\",IF(COUNTIF(DFcomposition!$A$1:$A$999,$A60)=0,0,AVERAGEIF(DFcomposition!$A60:$A1057,DisposalFacilities!$A60,DFcomposition!K60:K1057)))","v":""},{"$f":"IF($A60=\"\",\"\",IF(COUNTIF(DFcomposition!$A$1:$A$999,$A60)=0,0,AVERAGEIF(DFcomposition!$A60:$A1057,DisposalFacilities!$A60,DFcomposition!L60:L1057)))","v":""},{"$f":"IF($A60=\"\",\"\",IF(COUNTIF(DFcomposition!$A$1:$A$999,$A60)=0,0,AVERAGEIF(DFcomposition!$A60:$A1057,DisposalFacilities!$A60,DFcomposition!M60:M1057)))","v":""},{"$f":"IF($A60=\"\",\"\",IF(COUNTIF(DFcomposition!$A$1:$A$999,$A60)=0,0,AVERAGEIF(DFcomposition!$A60:$A1057,DisposalFacilities!$A60,DFcomposition!N60:N1057)))","v":""}]
[null,null,null,null,null,null,null,null,null,null,null,null,"","",{"$f":"IF($A61=\"\",\"\",IF(COUNTIF(DFcomposition!$A$1:$A$999,$A61)=0,0,AVERAGEIF(DFcomposition!$A61:$A1058,DisposalFacilities!$A61,DFcomposition!C61:C1058)))","v":""},{"$f":"IF($A61=\"\",\"\",IF(COUNTIF(DFcomposition!$A$1:$A$999,$A61)=0,0,AVERAGEIF(DFcomposition!$A61:$A1058,DisposalFacilities!$A61,DFcomposition!D61:D1058)))","v":""},{"$f":"IF($A61=\"\",\"\",IF(COUNTIF(DFcomposition!$A$1:$A$999,$A61)=0,0,AVERAGEIF(DFcomposition!$A61:$A1058,DisposalFacilities!$A61,DFcomposition!E61:E1058)))","v":""},{"$f":"IF($A61=\"\",\"\",IF(COUNTIF(DFcomposition!$A$1:$A$999,$A61)=0,0,AVERAGEIF(DFcomposition!$A61:$A1058,DisposalFacilities!$A61,DFcomposition!F61:F1058)))","v":""},{"$f":"IF($A61=\"\",\"\",IF(COUNTIF(DFcomposition!$A$1:$A$999,$A61)=0,0,AVERAGEIF(DFcomposition!$A61:$A1058,DisposalFacilities!$A61,DFcomposition!G61:G1058)))","v":""},{"$f":"IF($A61=\"\",\"\",IF(COUNTIF(DFcomposition!$A$1:$A$999,$A61)=0,0,AVERAGEIF(DFcomposition!$A61:$A1058,DisposalFacilities!$A61,DFcomposition!H61:H1058)))","v":""},{"$f":"IF($A61=\"\",\"\",IF(COUNTIF(DFcomposition!$A$1:$A$999,$A61)=0,0,AVERAGEIF(DFcomposition!$A61:$A1058,DisposalFacilities!$A61,DFcomposition!I61:I1058)))","v":""},{"$f":"IF($A61=\"\",\"\",IF(COUNTIF(DFcomposition!$A$1:$A$999,$A61)=0,0,AVERAGEIF(DFcomposition!$A61:$A1058,DisposalFacilities!$A61,DFcomposition!J61:J1058)))","v":""},{"$f":"IF($A61=\"\",\"\",IF(COUNTIF(DFcomposition!$A$1:$A$999,$A61)=0,0,AVERAGEIF(DFcomposition!$A61:$A1058,DisposalFacilities!$A61,DFcomposition!K61:K1058)))","v":""},{"$f":"IF($A61=\"\",\"\",IF(COUNTIF(DFcomposition!$A$1:$A$999,$A61)=0,0,AVERAGEIF(DFcomposition!$A61:$A1058,DisposalFacilities!$A61,DFcomposition!L61:L1058)))","v":""},{"$f":"IF($A61=\"\",\"\",IF(COUNTIF(DFcomposition!$A$1:$A$999,$A61)=0,0,AVERAGEIF(DFcomposition!$A61:$A1058,DisposalFacilities!$A61,DFcomposition!M61:M1058)))","v":""},{"$f":"IF($A61=\"\",\"\",IF(COUNTIF(DFcomposition!$A$1:$A$999,$A61)=0,0,AVERAGEIF(DFcomposition!$A61:$A1058,DisposalFacilities!$A61,DFcomposition!N61:N1058)))","v":""}]
[null,null,null,null,null,null,null,null,null,null,null,null,"","",{"$f":"IF($A62=\"\",\"\",IF(COUNTIF(DFcomposition!$A$1:$A$999,$A62)=0,0,AVERAGEIF(DFcomposition!$A62:$A1059,DisposalFacilities!$A62,DFcomposition!C62:C1059)))","v":""},{"$f":"IF($A62=\"\",\"\",IF(COUNTIF(DFcomposition!$A$1:$A$999,$A62)=0,0,AVERAGEIF(DFcomposition!$A62:$A1059,DisposalFacilities!$A62,DFcomposition!D62:D1059)))","v":""},{"$f":"IF($A62=\"\",\"\",IF(COUNTIF(DFcomposition!$A$1:$A$999,$A62)=0,0,AVERAGEIF(DFcomposition!$A62:$A1059,DisposalFacilities!$A62,DFcomposition!E62:E1059)))","v":""},{"$f":"IF($A62=\"\",\"\",IF(COUNTIF(DFcomposition!$A$1:$A$999,$A62)=0,0,AVERAGEIF(DFcomposition!$A62:$A1059,DisposalFacilities!$A62,DFcomposition!F62:F1059)))","v":""},{"$f":"IF($A62=\"\",\"\",IF(COUNTIF(DFcomposition!$A$1:$A$999,$A62)=0,0,AVERAGEIF(DFcomposition!$A62:$A1059,DisposalFacilities!$A62,DFcomposition!G62:G1059)))","v":""},{"$f":"IF($A62=\"\",\"\",IF(COUNTIF(DFcomposition!$A$1:$A$999,$A62)=0,0,AVERAGEIF(DFcomposition!$A62:$A1059,DisposalFacilities!$A62,DFcomposition!H62:H1059)))","v":""},{"$f":"IF($A62=\"\",\"\",IF(COUNTIF(DFcomposition!$A$1:$A$999,$A62)=0,0,AVERAGEIF(DFcomposition!$A62:$A1059,DisposalFacilities!$A62,DFcomposition!I62:I1059)))","v":""},{"$f":"IF($A62=\"\",\"\",IF(COUNTIF(DFcomposition!$A$1:$A$999,$A62)=0,0,AVERAGEIF(DFcomposition!$A62:$A1059,DisposalFacilities!$A62,DFcomposition!J62:J1059)))","v":""},{"$f":"IF($A62=\"\",\"\",IF(COUNTIF(DFcomposition!$A$1:$A$999,$A62)=0,0,AVERAGEIF(DFcomposition!$A62:$A1059,DisposalFacilities!$A62,DFcomposition!K62:K1059)))","v":""},{"$f":"IF($A62=\"\",\"\",IF(COUNTIF(DFcomposition!$A$1:$A$999,$A62)=0,0,AVERAGEIF(DFcomposition!$A62:$A1059,DisposalFacilities!$A62,DFcomposition!L62:L1059)))","v":""},{"$f":"IF($A62=\"\",\"\",IF(COUNTIF(DFcomposition!$A$1:$A$999,$A62)=0,0,AVERAGEIF(DFcomposition!$A62:$A1059,DisposalFacilities!$A62,DFcomposition!M62:M1059)))","v":""},{"$f":"IF($A62=\"\",\"\",IF(COUNTIF(DFcomposition!$A$1:$A$999,$A62)=0,0,AVERAGEIF(DFcomposition!$A62:$A1059,DisposalFacilities!$A62,DFcomposition!N62:N1059)))","v":""}]
[null,null,null,null,null,null,null,null,null,null,null,null,"","",{"$f":"IF($A63=\"\",\"\",IF(COUNTIF(DFcomposition!$A$1:$A$999,$A63)=0,0,AVERAGEIF(DFcomposition!$A63:$A1060,DisposalFacilities!$A63,DFcomposition!C63:C1060)))","v":""},{"$f":"IF($A63=\"\",\"\",IF(COUNTIF(DFcomposition!$A$1:$A$999,$A63)=0,0,AVERAGEIF(DFcomposition!$A63:$A1060,DisposalFacilities!$A63,DFcomposition!D63:D1060)))","v":""},{"$f":"IF($A63=\"\",\"\",IF(COUNTIF(DFcomposition!$A$1:$A$999,$A63)=0,0,AVERAGEIF(DFcomposition!$A63:$A1060,DisposalFacilities!$A63,DFcomposition!E63:E1060)))","v":""},{"$f":"IF($A63=\"\",\"\",IF(COUNTIF(DFcomposition!$A$1:$A$999,$A63)=0,0,AVERAGEIF(DFcomposition!$A63:$A1060,DisposalFacilities!$A63,DFcomposition!F63:F1060)))","v":""},{"$f":"IF($A63=\"\",\"\",IF(COUNTIF(DFcomposition!$A$1:$A$999,$A63)=0,0,AVERAGEIF(DFcomposition!$A63:$A1060,DisposalFacilities!$A63,DFcomposition!G63:G1060)))","v":""},{"$f":"IF($A63=\"\",\"\",IF(COUNTIF(DFcomposition!$A$1:$A$999,$A63)=0,0,AVERAGEIF(DFcomposition!$A63:$A1060,DisposalFacilities!$A63,DFcomposition!H63:H1060)))","v":""},{"$f":"IF($A63=\"\",\"\",IF(COUNTIF(DFcomposition!$A$1:$A$999,$A63)=0,0,AVERAGEIF(DFcomposition!$A63:$A1060,DisposalFacilities!$A63,DFcomposition!I63:I1060)))","v":""},{"$f":"IF($A63=\"\",\"\",IF(COUNTIF(DFcomposition!$A$1:$A$999,$A63)=0,0,AVERAGEIF(DFcomposition!$A63:$A1060,DisposalFacilities!$A63,DFcomposition!J63:J1060)))","v":""},{"$f":"IF($A63=\"\",\"\",IF(COUNTIF(DFcomposition!$A$1:$A$999,$A63)=0,0,AVERAGEIF(DFcomposition!$A63:$A1060,DisposalFacilities!$A63,DFcomposition!K63:K1060)))","v":""},{"$f":"IF($A63=\"\",\"\",IF(COUNTIF(DFcomposition!$A$1:$A$999,$A63)=0,0,AVERAGEIF(DFcomposition!$A63:$A1060,DisposalFacilities!$A63,DFcomposition!L63:L1060)))","v":""},{"$f":"IF($A63=\"\",\"\",IF(COUNTIF(DFcomposition!$A$1:$A$999,$A63)=0,0,AVERAGEIF(DFcomposition!$A63:$A1060,DisposalFacilities!$A63,DFcomposition!M63:M1060)))","v":""},{"$f":"IF($A63=\"\",\"\",IF(COUNTIF(DFcomposition!$A$1:$A$999,$A63)=0,0,AVERAGEIF(DFcomposition!$A63:$A1060,DisposalFacilities!$A63,DFcomposition!N63:N1060)))","v":""}]
[null,null,null,null,null,null,null,null,null,null,null,null,"","",{"$f":"IF($A64=\"\",\"\",IF(COUNTIF(DFcomposition!$A$1:$A$999,$A64)=0,0,AVERAGEIF(DFcomposition!$A64:$A1061,DisposalFacilities!$A64,DFcomposition!C64:C1061)))","v":""},{"$f":"IF($A64=\"\",\"\",IF(COUNTIF(DFcomposition!$A$1:$A$999,$A64)=0,0,AVERAGEIF(DFcomposition!$A64:$A1061,DisposalFacilities!$A64,DFcomposition!D64:D1061)))","v":""},{"$f":"IF($A64=\"\",\"\",IF(COUNTIF(DFcomposition!$A$1:$A$999,$A64)=0,0,AVERAGEIF(DFcomposition!$A64:$A1061,DisposalFacilities!$A64,DFcomposition!E64:E1061)))","v":""},{"$f":"IF($A64=\"\",\"\",IF(COUNTIF(DFcomposition!$A$1:$A$999,$A64)=0,0,AVERAGEIF(DFcomposition!$A64:$A1061,DisposalFacilities!$A64,DFcomposition!F64:F1061)))","v":""},{"$f":"IF($A64=\"\",\"\",IF(COUNTIF(DFcomposition!$A$1:$A$999,$A64)=0,0,AVERAGEIF(DFcomposition!$A64:$A1061,DisposalFacilities!$A64,DFcomposition!G64:G1061)))","v":""},{"$f":"IF($A64=\"\",\"\",IF(COUNTIF(DFcomposition!$A$1:$A$999,$A64)=0,0,AVERAGEIF(DFcomposition!$A64:$A1061,DisposalFacilities!$A64,DFcomposition!H64:H1061)))","v":""},{"$f":"IF($A64=\"\",\"\",IF(COUNTIF(DFcomposition!$A$1:$A$999,$A64)=0,0,AVERAGEIF(DFcomposition!$A64:$A1061,DisposalFacilities!$A64,DFcomposition!I64:I1061)))","v":""},{"$f":"IF($A64=\"\",\"\",IF(COUNTIF(DFcomposition!$A$1:$A$999,$A64)=0,0,AVERAGEIF(DFcomposition!$A64:$A1061,DisposalFacilities!$A64,DFcomposition!J64:J1061)))","v":""},{"$f":"IF($A64=\"\",\"\",IF(COUNTIF(DFcomposition!$A$1:$A$999,$A64)=0,0,AVERAGEIF(DFcomposition!$A64:$A1061,DisposalFacilities!$A64,DFcomposition!K64:K1061)))","v":""},{"$f":"IF($A64=\"\",\"\",IF(COUNTIF(DFcomposition!$A$1:$A$999,$A64)=0,0,AVERAGEIF(DFcomposition!$A64:$A1061,DisposalFacilities!$A64,DFcomposition!L64:L1061)))","v":""},{"$f":"IF($A64=\"\",\"\",IF(COUNTIF(DFcomposition!$A$1:$A$999,$A64)=0,0,AVERAGEIF(DFcomposition!$A64:$A1061,DisposalFacilities!$A64,DFcomposition!M64:M1061)))","v":""},{"$f":"IF($A64=\"\",\"\",IF(COUNTIF(DFcomposition!$A$1:$A$999,$A64)=0,0,AVERAGEIF(DFcomposition!$A64:$A1061,DisposalFacilities!$A64,DFcomposition!N64:N1061)))","v":""}]
[null,null,null,null,null,null,null,null,null,null,null,null,"","",{"$f":"IF($A65=\"\",\"\",IF(COUNTIF(DFcomposition!$A$1:$A$999,$A65)=0,0,AVERAGEIF(DFcomposition!$A65:$A1062,DisposalFacilities!$A65,DFcomposition!C65:C1062)))","v":""},{"$f":"IF($A65=\"\",\"\",IF(COUNTIF(DFcomposition!$A$1:$A$999,$A65)=0,0,AVERAGEIF(DFcomposition!$A65:$A1062,DisposalFacilities!$A65,DFcomposition!D65:D1062)))","v":""},{"$f":"IF($A65=\"\",\"\",IF(COUNTIF(DFcomposition!$A$1:$A$999,$A65)=0,0,AVERAGEIF(DFcomposition!$A65:$A1062,DisposalFacilities!$A65,DFcomposition!E65:E1062)))","v":""},{"$f":"IF($A65=\"\",\"\",IF(COUNTIF(DFcomposition!$A$1:$A$999,$A65)=0,0,AVERAGEIF(DFcomposition!$A65:$A1062,DisposalFacilities!$A65,DFcomposition!F65:F1062)))","v":""},{"$f":"IF($A65=\"\",\"\",IF(COUNTIF(DFcomposition!$A$1:$A$999,$A65)=0,0,AVERAGEIF(DFcomposition!$A65:$A1062,DisposalFacilities!$A65,DFcomposition!G65:G1062)))","v":""},{"$f":"IF($A65=\"\",\"\",IF(COUNTIF(DFcomposition!$A$1:$A$999,$A65)=0,0,AVERAGEIF(DFcomposition!$A65:$A1062,DisposalFacilities!$A65,DFcomposition!H65:H1062)))","v":""},{"$f":"IF($A65=\"\",\"\",IF(COUNTIF(DFcomposition!$A$1:$A$999,$A65)=0,0,AVERAGEIF(DFcomposition!$A65:$A1062,DisposalFacilities!$A65,DFcomposition!I65:I1062)))","v":""},{"$f":"IF($A65=\"\",\"\",IF(COUNTIF(DFcomposition!$A$1:$A$999,$A65)=0,0,AVERAGEIF(DFcomposition!$A65:$A1062,DisposalFacilities!$A65,DFcomposition!J65:J1062)))","v":""},{"$f":"IF($A65=\"\",\"\",IF(COUNTIF(DFcomposition!$A$1:$A$999,$A65)=0,0,AVERAGEIF(DFcomposition!$A65:$A1062,DisposalFacilities!$A65,DFcomposition!K65:K1062)))","v":""},{"$f":"IF($A65=\"\",\"\",IF(COUNTIF(DFcomposition!$A$1:$A$999,$A65)=0,0,AVERAGEIF(DFcomposition!$A65:$A1062,DisposalFacilities!$A65,DFcomposition!L65:L1062)))","v":""},{"$f":"IF($A65=\"\",\"\",IF(COUNTIF(DFcomposition!$A$1:$A$999,$A65)=0,0,AVERAGEIF(DFcomposition!$A65:$A1062,DisposalFacilities!$A65,DFcomposition!M65:M1062)))","v":""},{"$f":"IF($A65=\"\",\"\",IF(COUNTIF(DFcomposition!$A$1:$A$999,$A65)=0,0,AVERAGEIF(DFcomposition!$A65:$A1062,DisposalFacilities!$A65,DFcomposition!N65:N1062)))","v":""}]
[null,null,null,null,null,null,null,null,null,null,null,null,"","",{"$f":"IF($A66=\"\",\"\",IF(COUNTIF(DFcomposition!$A$1:$A$999,$A66)=0,0,AVERAGEIF(DFcomposition!$A66:$A1063,DisposalFacilities!$A66,DFcomposition!C66:C1063)))","v":""},{"$f":"IF($A66=\"\",\"\",IF(COUNTIF(DFcomposition!$A$1:$A$999,$A66)=0,0,AVERAGEIF(DFcomposition!$A66:$A1063,DisposalFacilities!$A66,DFcomposition!D66:D1063)))","v":""},{"$f":"IF($A66=\"\",\"\",IF(COUNTIF(DFcomposition!$A$1:$A$999,$A66)=0,0,AVERAGEIF(DFcomposition!$A66:$A1063,DisposalFacilities!$A66,DFcomposition!E66:E1063)))","v":""},{"$f":"IF($A66=\"\",\"\",IF(COUNTIF(DFcomposition!$A$1:$A$999,$A66)=0,0,AVERAGEIF(DFcomposition!$A66:$A1063,DisposalFacilities!$A66,DFcomposition!F66:F1063)))","v":""},{"$f":"IF($A66=\"\",\"\",IF(COUNTIF(DFcomposition!$A$1:$A$999,$A66)=0,0,AVERAGEIF(DFcomposition!$A66:$A1063,DisposalFacilities!$A66,DFcomposition!G66:G1063)))","v":""},{"$f":"IF($A66=\"\",\"\",IF(COUNTIF(DFcomposition!$A$1:$A$999,$A66)=0,0,AVERAGEIF(DFcomposition!$A66:$A1063,DisposalFacilities!$A66,DFcomposition!H66:H1063)))","v":""},{"$f":"IF($A66=\"\",\"\",IF(COUNTIF(DFcomposition!$A$1:$A$999,$A66)=0,0,AVERAGEIF(DFcomposition!$A66:$A1063,DisposalFacilities!$A66,DFcomposition!I66:I1063)))","v":""},{"$f":"IF($A66=\"\",\"\",IF(COUNTIF(DFcomposition!$A$1:$A$999,$A66)=0,0,AVERAGEIF(DFcomposition!$A66:$A1063,DisposalFacilities!$A66,DFcomposition!J66:J1063)))","v":""},{"$f":"IF($A66=\"\",\"\",IF(COUNTIF(DFcomposition!$A$1:$A$999,$A66)=0,0,AVERAGEIF(DFcomposition!$A66:$A1063,DisposalFacilities!$A66,DFcomposition!K66:K1063)))","v":""},{"$f":"IF($A66=\"\",\"\",IF(COUNTIF(DFcomposition!$A$1:$A$999,$A66)=0,0,AVERAGEIF(DFcomposition!$A66:$A1063,DisposalFacilities!$A66,DFcomposition!L66:L1063)))","v":""},{"$f":"IF($A66=\"\",\"\",IF(COUNTIF(DFcomposition!$A$1:$A$999,$A66)=0,0,AVERAGEIF(DFcomposition!$A66:$A1063,DisposalFacilities!$A66,DFcomposition!M66:M1063)))","v":""},{"$f":"IF($A66=\"\",\"\",IF(COUNTIF(DFcomposition!$A$1:$A$999,$A66)=0,0,AVERAGEIF(DFcomposition!$A66:$A1063,DisposalFacilities!$A66,DFcomposition!N66:N1063)))","v":""}]
[null,null,null,null,null,null,null,null,null,null,null,null,"","",{"$f":"IF($A67=\"\",\"\",IF(COUNTIF(DFcomposition!$A$1:$A$999,$A67)=0,0,AVERAGEIF(DFcomposition!$A67:$A1064,DisposalFacilities!$A67,DFcomposition!C67:C1064)))","v":""},{"$f":"IF($A67=\"\",\"\",IF(COUNTIF(DFcomposition!$A$1:$A$999,$A67)=0,0,AVERAGEIF(DFcomposition!$A67:$A1064,DisposalFacilities!$A67,DFcomposition!D67:D1064)))","v":""},{"$f":"IF($A67=\"\",\"\",IF(COUNTIF(DFcomposition!$A$1:$A$999,$A67)=0,0,AVERAGEIF(DFcomposition!$A67:$A1064,DisposalFacilities!$A67,DFcomposition!E67:E1064)))","v":""},{"$f":"IF($A67=\"\",\"\",IF(COUNTIF(DFcomposition!$A$1:$A$999,$A67)=0,0,AVERAGEIF(DFcomposition!$A67:$A1064,DisposalFacilities!$A67,DFcomposition!F67:F1064)))","v":""},{"$f":"IF($A67=\"\",\"\",IF(COUNTIF(DFcomposition!$A$1:$A$999,$A67)=0,0,AVERAGEIF(DFcomposition!$A67:$A1064,DisposalFacilities!$A67,DFcomposition!G67:G1064)))","v":""},{"$f":"IF($A67=\"\",\"\",IF(COUNTIF(DFcomposition!$A$1:$A$999,$A67)=0,0,AVERAGEIF(DFcomposition!$A67:$A1064,DisposalFacilities!$A67,DFcomposition!H67:H1064)))","v":""},{"$f":"IF($A67=\"\",\"\",IF(COUNTIF(DFcomposition!$A$1:$A$999,$A67)=0,0,AVERAGEIF(DFcomposition!$A67:$A1064,DisposalFacilities!$A67,DFcomposition!I67:I1064)))","v":""},{"$f":"IF($A67=\"\",\"\",IF(COUNTIF(DFcomposition!$A$1:$A$999,$A67)=0,0,AVERAGEIF(DFcomposition!$A67:$A1064,DisposalFacilities!$A67,DFcomposition!J67:J1064)))","v":""},{"$f":"IF($A67=\"\",\"\",IF(COUNTIF(DFcomposition!$A$1:$A$999,$A67)=0,0,AVERAGEIF(DFcomposition!$A67:$A1064,DisposalFacilities!$A67,DFcomposition!K67:K1064)))","v":""},{"$f":"IF($A67=\"\",\"\",IF(COUNTIF(DFcomposition!$A$1:$A$999,$A67)=0,0,AVERAGEIF(DFcomposition!$A67:$A1064,DisposalFacilities!$A67,DFcomposition!L67:L1064)))","v":""},{"$f":"IF($A67=\"\",\"\",IF(COUNTIF(DFcomposition!$A$1:$A$999,$A67)=0,0,AVERAGEIF(DFcomposition!$A67:$A1064,DisposalFacilities!$A67,DFcomposition!M67:M1064)))","v":""},{"$f":"IF($A67=\"\",\"\",IF(COUNTIF(DFcomposition!$A$1:$A$999,$A67)=0,0,AVERAGEIF(DFcomposition!$A67:$A1064,DisposalFacilities!$A67,DFcomposition!N67:N1064)))","v":""}]
[null,null,null,null,null,null,null,null,null,null,null,null,"","",{"$f":"IF($A68=\"\",\"\",IF(COUNTIF(DFcomposition!$A$1:$A$999,$A68)=0,0,AVERAGEIF(DFcomposition!$A68:$A1065,DisposalFacilities!$A68,DFcomposition!C68:C1065)))","v":""},{"$f":"IF($A68=\"\",\"\",IF(COUNTIF(DFcomposition!$A$1:$A$999,$A68)=0,0,AVERAGEIF(DFcomposition!$A68:$A1065,DisposalFacilities!$A68,DFcomposition!D68:D1065)))","v":""},{"$f":"IF($A68=\"\",\"\",IF(COUNTIF(DFcomposition!$A$1:$A$999,$A68)=0,0,AVERAGEIF(DFcomposition!$A68:$A1065,DisposalFacilities!$A68,DFcomposition!E68:E1065)))","v":""},{"$f":"IF($A68=\"\",\"\",IF(COUNTIF(DFcomposition!$A$1:$A$999,$A68)=0,0,AVERAGEIF(DFcomposition!$A68:$A1065,DisposalFacilities!$A68,DFcomposition!F68:F1065)))","v":""},{"$f":"IF($A68=\"\",\"\",IF(COUNTIF(DFcomposition!$A$1:$A$999,$A68)=0,0,AVERAGEIF(DFcomposition!$A68:$A1065,DisposalFacilities!$A68,DFcomposition!G68:G1065)))","v":""},{"$f":"IF($A68=\"\",\"\",IF(COUNTIF(DFcomposition!$A$1:$A$999,$A68)=0,0,AVERAGEIF(DFcomposition!$A68:$A1065,DisposalFacilities!$A68,DFcomposition!H68:H1065)))","v":""},{"$f":"IF($A68=\"\",\"\",IF(COUNTIF(DFcomposition!$A$1:$A$999,$A68)=0,0,AVERAGEIF(DFcomposition!$A68:$A1065,DisposalFacilities!$A68,DFcomposition!I68:I1065)))","v":""},{"$f":"IF($A68=\"\",\"\",IF(COUNTIF(DFcomposition!$A$1:$A$999,$A68)=0,0,AVERAGEIF(DFcomposition!$A68:$A1065,DisposalFacilities!$A68,DFcomposition!J68:J1065)))","v":""},{"$f":"IF($A68=\"\",\"\",IF(COUNTIF(DFcomposition!$A$1:$A$999,$A68)=0,0,AVERAGEIF(DFcomposition!$A68:$A1065,DisposalFacilities!$A68,DFcomposition!K68:K1065)))","v":""},{"$f":"IF($A68=\"\",\"\",IF(COUNTIF(DFcomposition!$A$1:$A$999,$A68)=0,0,AVERAGEIF(DFcomposition!$A68:$A1065,DisposalFacilities!$A68,DFcomposition!L68:L1065)))","v":""},{"$f":"IF($A68=\"\",\"\",IF(COUNTIF(DFcomposition!$A$1:$A$999,$A68)=0,0,AVERAGEIF(DFcomposition!$A68:$A1065,DisposalFacilities!$A68,DFcomposition!M68:M1065)))","v":""},{"$f":"IF($A68=\"\",\"\",IF(COUNTIF(DFcomposition!$A$1:$A$999,$A68)=0,0,AVERAGEIF(DFcomposition!$A68:$A1065,DisposalFacilities!$A68,DFcomposition!N68:N1065)))","v":""}]
[null,null,null,null,null,null,null,null,null,null,null,null,"","",{"$f":"IF($A69=\"\",\"\",IF(COUNTIF(DFcomposition!$A$1:$A$999,$A69)=0,0,AVERAGEIF(DFcomposition!$A69:$A1066,DisposalFacilities!$A69,DFcomposition!C69:C1066)))","v":""},{"$f":"IF($A69=\"\",\"\",IF(COUNTIF(DFcomposition!$A$1:$A$999,$A69)=0,0,AVERAGEIF(DFcomposition!$A69:$A1066,DisposalFacilities!$A69,DFcomposition!D69:D1066)))","v":""},{"$f":"IF($A69=\"\",\"\",IF(COUNTIF(DFcomposition!$A$1:$A$999,$A69)=0,0,AVERAGEIF(DFcomposition!$A69:$A1066,DisposalFacilities!$A69,DFcomposition!E69:E1066)))","v":""},{"$f":"IF($A69=\"\",\"\",IF(COUNTIF(DFcomposition!$A$1:$A$999,$A69)=0,0,AVERAGEIF(DFcomposition!$A69:$A1066,DisposalFacilities!$A69,DFcomposition!F69:F1066)))","v":""},{"$f":"IF($A69=\"\",\"\",IF(COUNTIF(DFcomposition!$A$1:$A$999,$A69)=0,0,AVERAGEIF(DFcomposition!$A69:$A1066,DisposalFacilities!$A69,DFcomposition!G69:G1066)))","v":""},{"$f":"IF($A69=\"\",\"\",IF(COUNTIF(DFcomposition!$A$1:$A$999,$A69)=0,0,AVERAGEIF(DFcomposition!$A69:$A1066,DisposalFacilities!$A69,DFcomposition!H69:H1066)))","v":""},{"$f":"IF($A69=\"\",\"\",IF(COUNTIF(DFcomposition!$A$1:$A$999,$A69)=0,0,AVERAGEIF(DFcomposition!$A69:$A1066,DisposalFacilities!$A69,DFcomposition!I69:I1066)))","v":""},{"$f":"IF($A69=\"\",\"\",IF(COUNTIF(DFcomposition!$A$1:$A$999,$A69)=0,0,AVERAGEIF(DFcomposition!$A69:$A1066,DisposalFacilities!$A69,DFcomposition!J69:J1066)))","v":""},{"$f":"IF($A69=\"\",\"\",IF(COUNTIF(DFcomposition!$A$1:$A$999,$A69)=0,0,AVERAGEIF(DFcomposition!$A69:$A1066,DisposalFacilities!$A69,DFcomposition!K69:K1066)))","v":""},{"$f":"IF($A69=\"\",\"\",IF(COUNTIF(DFcomposition!$A$1:$A$999,$A69)=0,0,AVERAGEIF(DFcomposition!$A69:$A1066,DisposalFacilities!$A69,DFcomposition!L69:L1066)))","v":""},{"$f":"IF($A69=\"\",\"\",IF(COUNTIF(DFcomposition!$A$1:$A$999,$A69)=0,0,AVERAGEIF(DFcomposition!$A69:$A1066,DisposalFacilities!$A69,DFcomposition!M69:M1066)))","v":""},{"$f":"IF($A69=\"\",\"\",IF(COUNTIF(DFcomposition!$A$1:$A$999,$A69)=0,0,AVERAGEIF(DFcomposition!$A69:$A1066,DisposalFacilities!$A69,DFcomposition!N69:N1066)))","v":""}]
[null,null,null,null,null,null,null,null,null,null,null,null,"","",{"$f":"IF($A70=\"\",\"\",IF(COUNTIF(DFcomposition!$A$1:$A$999,$A70)=0,0,AVERAGEIF(DFcomposition!$A70:$A1067,DisposalFacilities!$A70,DFcomposition!C70:C1067)))","v":""},{"$f":"IF($A70=\"\",\"\",IF(COUNTIF(DFcomposition!$A$1:$A$999,$A70)=0,0,AVERAGEIF(DFcomposition!$A70:$A1067,DisposalFacilities!$A70,DFcomposition!D70:D1067)))","v":""},{"$f":"IF($A70=\"\",\"\",IF(COUNTIF(DFcomposition!$A$1:$A$999,$A70)=0,0,AVERAGEIF(DFcomposition!$A70:$A1067,DisposalFacilities!$A70,DFcomposition!E70:E1067)))","v":""},{"$f":"IF($A70=\"\",\"\",IF(COUNTIF(DFcomposition!$A$1:$A$999,$A70)=0,0,AVERAGEIF(DFcomposition!$A70:$A1067,DisposalFacilities!$A70,DFcomposition!F70:F1067)))","v":""},{"$f":"IF($A70=\"\",\"\",IF(COUNTIF(DFcomposition!$A$1:$A$999,$A70)=0,0,AVERAGEIF(DFcomposition!$A70:$A1067,DisposalFacilities!$A70,DFcomposition!G70:G1067)))","v":""},{"$f":"IF($A70=\"\",\"\",IF(COUNTIF(DFcomposition!$A$1:$A$999,$A70)=0,0,AVERAGEIF(DFcomposition!$A70:$A1067,DisposalFacilities!$A70,DFcomposition!H70:H1067)))","v":""},{"$f":"IF($A70=\"\",\"\",IF(COUNTIF(DFcomposition!$A$1:$A$999,$A70)=0,0,AVERAGEIF(DFcomposition!$A70:$A1067,DisposalFacilities!$A70,DFcomposition!I70:I1067)))","v":""},{"$f":"IF($A70=\"\",\"\",IF(COUNTIF(DFcomposition!$A$1:$A$999,$A70)=0,0,AVERAGEIF(DFcomposition!$A70:$A1067,DisposalFacilities!$A70,DFcomposition!J70:J1067)))","v":""},{"$f":"IF($A70=\"\",\"\",IF(COUNTIF(DFcomposition!$A$1:$A$999,$A70)=0,0,AVERAGEIF(DFcomposition!$A70:$A1067,DisposalFacilities!$A70,DFcomposition!K70:K1067)))","v":""},{"$f":"IF($A70=\"\",\"\",IF(COUNTIF(DFcomposition!$A$1:$A$999,$A70)=0,0,AVERAGEIF(DFcomposition!$A70:$A1067,DisposalFacilities!$A70,DFcomposition!L70:L1067)))","v":""},{"$f":"IF($A70=\"\",\"\",IF(COUNTIF(DFcomposition!$A$1:$A$999,$A70)=0,0,AVERAGEIF(DFcomposition!$A70:$A1067,DisposalFacilities!$A70,DFcomposition!M70:M1067)))","v":""},{"$f":"IF($A70=\"\",\"\",IF(COUNTIF(DFcomposition!$A$1:$A$999,$A70)=0,0,AVERAGEIF(DFcomposition!$A70:$A1067,DisposalFacilities!$A70,DFcomposition!N70:N1067)))","v":""}]
[null,null,null,null,null,null,null,null,null,null,null,null,"","",{"$f":"IF($A71=\"\",\"\",IF(COUNTIF(DFcomposition!$A$1:$A$999,$A71)=0,0,AVERAGEIF(DFcomposition!$A71:$A1068,DisposalFacilities!$A71,DFcomposition!C71:C1068)))","v":""},{"$f":"IF($A71=\"\",\"\",IF(COUNTIF(DFcomposition!$A$1:$A$999,$A71)=0,0,AVERAGEIF(DFcomposition!$A71:$A1068,DisposalFacilities!$A71,DFcomposition!D71:D1068)))","v":""},{"$f":"IF($A71=\"\",\"\",IF(COUNTIF(DFcomposition!$A$1:$A$999,$A71)=0,0,AVERAGEIF(DFcomposition!$A71:$A1068,DisposalFacilities!$A71,DFcomposition!E71:E1068)))","v":""},{"$f":"IF($A71=\"\",\"\",IF(COUNTIF(DFcomposition!$A$1:$A$999,$A71)=0,0,AVERAGEIF(DFcomposition!$A71:$A1068,DisposalFacilities!$A71,DFcomposition!F71:F1068)))","v":""},{"$f":"IF($A71=\"\",\"\",IF(COUNTIF(DFcomposition!$A$1:$A$999,$A71)=0,0,AVERAGEIF(DFcomposition!$A71:$A1068,DisposalFacilities!$A71,DFcomposition!G71:G1068)))","v":""},{"$f":"IF($A71=\"\",\"\",IF(COUNTIF(DFcomposition!$A$1:$A$999,$A71)=0,0,AVERAGEIF(DFcomposition!$A71:$A1068,DisposalFacilities!$A71,DFcomposition!H71:H1068)))","v":""},{"$f":"IF($A71=\"\",\"\",IF(COUNTIF(DFcomposition!$A$1:$A$999,$A71)=0,0,AVERAGEIF(DFcomposition!$A71:$A1068,DisposalFacilities!$A71,DFcomposition!I71:I1068)))","v":""},{"$f":"IF($A71=\"\",\"\",IF(COUNTIF(DFcomposition!$A$1:$A$999,$A71)=0,0,AVERAGEIF(DFcomposition!$A71:$A1068,DisposalFacilities!$A71,DFcomposition!J71:J1068)))","v":""},{"$f":"IF($A71=\"\",\"\",IF(COUNTIF(DFcomposition!$A$1:$A$999,$A71)=0,0,AVERAGEIF(DFcomposition!$A71:$A1068,DisposalFacilities!$A71,DFcomposition!K71:K1068)))","v":""},{"$f":"IF($A71=\"\",\"\",IF(COUNTIF(DFcomposition!$A$1:$A$999,$A71)=0,0,AVERAGEIF(DFcomposition!$A71:$A1068,DisposalFacilities!$A71,DFcomposition!L71:L1068)))","v":""},{"$f":"IF($A71=\"\",\"\",IF(COUNTIF(DFcomposition!$A$1:$A$999,$A71)=0,0,AVERAGEIF(DFcomposition!$A71:$A1068,DisposalFacilities!$A71,DFcomposition!M71:M1068)))","v":""},{"$f":"IF($A71=\"\",\"\",IF(COUNTIF(DFcomposition!$A$1:$A$999,$A71)=0,0,AVERAGEIF(DFcomposition!$A71:$A1068,DisposalFacilities!$A71,DFcomposition!N71:N1068)))","v":""}]
[null,null,null,null,null,null,null,null,null,null,null,null,"","",{"$f":"IF($A72=\"\",\"\",IF(COUNTIF(DFcomposition!$A$1:$A$999,$A72)=0,0,AVERAGEIF(DFcomposition!$A72:$A1069,DisposalFacilities!$A72,DFcomposition!C72:C1069)))","v":""},{"$f":"IF($A72=\"\",\"\",IF(COUNTIF(DFcomposition!$A$1:$A$999,$A72)=0,0,AVERAGEIF(DFcomposition!$A72:$A1069,DisposalFacilities!$A72,DFcomposition!D72:D1069)))","v":""},{"$f":"IF($A72=\"\",\"\",IF(COUNTIF(DFcomposition!$A$1:$A$999,$A72)=0,0,AVERAGEIF(DFcomposition!$A72:$A1069,DisposalFacilities!$A72,DFcomposition!E72:E1069)))","v":""},{"$f":"IF($A72=\"\",\"\",IF(COUNTIF(DFcomposition!$A$1:$A$999,$A72)=0,0,AVERAGEIF(DFcomposition!$A72:$A1069,DisposalFacilities!$A72,DFcomposition!F72:F1069)))","v":""},{"$f":"IF($A72=\"\",\"\",IF(COUNTIF(DFcomposition!$A$1:$A$999,$A72)=0,0,AVERAGEIF(DFcomposition!$A72:$A1069,DisposalFacilities!$A72,DFcomposition!G72:G1069)))","v":""},{"$f":"IF($A72=\"\",\"\",IF(COUNTIF(DFcomposition!$A$1:$A$999,$A72)=0,0,AVERAGEIF(DFcomposition!$A72:$A1069,DisposalFacilities!$A72,DFcomposition!H72:H1069)))","v":""},{"$f":"IF($A72=\"\",\"\",IF(COUNTIF(DFcomposition!$A$1:$A$999,$A72)=0,0,AVERAGEIF(DFcomposition!$A72:$A1069,DisposalFacilities!$A72,DFcomposition!I72:I1069)))","v":""},{"$f":"IF($A72=\"\",\"\",IF(COUNTIF(DFcomposition!$A$1:$A$999,$A72)=0,0,AVERAGEIF(DFcomposition!$A72:$A1069,DisposalFacilities!$A72,DFcomposition!J72:J1069)))","v":""},{"$f":"IF($A72=\"\",\"\",IF(COUNTIF(DFcomposition!$A$1:$A$999,$A72)=0,0,AVERAGEIF(DFcomposition!$A72:$A1069,DisposalFacilities!$A72,DFcomposition!K72:K1069)))","v":""},{"$f":"IF($A72=\"\",\"\",IF(COUNTIF(DFcomposition!$A$1:$A$999,$A72)=0,0,AVERAGEIF(DFcomposition!$A72:$A1069,DisposalFacilities!$A72,DFcomposition!L72:L1069)))","v":""},{"$f":"IF($A72=\"\",\"\",IF(COUNTIF(DFcomposition!$A$1:$A$999,$A72)=0,0,AVERAGEIF(DFcomposition!$A72:$A1069,DisposalFacilities!$A72,DFcomposition!M72:M1069)))","v":""},{"$f":"IF($A72=\"\",\"\",IF(COUNTIF(DFcomposition!$A$1:$A$999,$A72)=0,0,AVERAGEIF(DFcomposition!$A72:$A1069,DisposalFacilities!$A72,DFcomposition!N72:N1069)))","v":""}]
[null,null,null,null,null,null,null,null,null,null,null,null,"","",{"$f":"IF($A73=\"\",\"\",IF(COUNTIF(DFcomposition!$A$1:$A$999,$A73)=0,0,AVERAGEIF(DFcomposition!$A73:$A1070,DisposalFacilities!$A73,DFcomposition!C73:C1070)))","v":""},{"$f":"IF($A73=\"\",\"\",IF(COUNTIF(DFcomposition!$A$1:$A$999,$A73)=0,0,AVERAGEIF(DFcomposition!$A73:$A1070,DisposalFacilities!$A73,DFcomposition!D73:D1070)))","v":""},{"$f":"IF($A73=\"\",\"\",IF(COUNTIF(DFcomposition!$A$1:$A$999,$A73)=0,0,AVERAGEIF(DFcomposition!$A73:$A1070,DisposalFacilities!$A73,DFcomposition!E73:E1070)))","v":""},{"$f":"IF($A73=\"\",\"\",IF(COUNTIF(DFcomposition!$A$1:$A$999,$A73)=0,0,AVERAGEIF(DFcomposition!$A73:$A1070,DisposalFacilities!$A73,DFcomposition!F73:F1070)))","v":""},{"$f":"IF($A73=\"\",\"\",IF(COUNTIF(DFcomposition!$A$1:$A$999,$A73)=0,0,AVERAGEIF(DFcomposition!$A73:$A1070,DisposalFacilities!$A73,DFcomposition!G73:G1070)))","v":""},{"$f":"IF($A73=\"\",\"\",IF(COUNTIF(DFcomposition!$A$1:$A$999,$A73)=0,0,AVERAGEIF(DFcomposition!$A73:$A1070,DisposalFacilities!$A73,DFcomposition!H73:H1070)))","v":""},{"$f":"IF($A73=\"\",\"\",IF(COUNTIF(DFcomposition!$A$1:$A$999,$A73)=0,0,AVERAGEIF(DFcomposition!$A73:$A1070,DisposalFacilities!$A73,DFcomposition!I73:I1070)))","v":""},{"$f":"IF($A73=\"\",\"\",IF(COUNTIF(DFcomposition!$A$1:$A$999,$A73)=0,0,AVERAGEIF(DFcomposition!$A73:$A1070,DisposalFacilities!$A73,DFcomposition!J73:J1070)))","v":""},{"$f":"IF($A73=\"\",\"\",IF(COUNTIF(DFcomposition!$A$1:$A$999,$A73)=0,0,AVERAGEIF(DFcomposition!$A73:$A1070,DisposalFacilities!$A73,DFcomposition!K73:K1070)))","v":""},{"$f":"IF($A73=\"\",\"\",IF(COUNTIF(DFcomposition!$A$1:$A$999,$A73)=0,0,AVERAGEIF(DFcomposition!$A73:$A1070,DisposalFacilities!$A73,DFcomposition!L73:L1070)))","v":""},{"$f":"IF($A73=\"\",\"\",IF(COUNTIF(DFcomposition!$A$1:$A$999,$A73)=0,0,AVERAGEIF(DFcomposition!$A73:$A1070,DisposalFacilities!$A73,DFcomposition!M73:M1070)))","v":""},{"$f":"IF($A73=\"\",\"\",IF(COUNTIF(DFcomposition!$A$1:$A$999,$A73)=0,0,AVERAGEIF(DFcomposition!$A73:$A1070,DisposalFacilities!$A73,DFcomposition!N73:N1070)))","v":""}]
[null,null,null,null,null,null,null,null,null,null,null,null,"","",{"$f":"IF($A74=\"\",\"\",IF(COUNTIF(DFcomposition!$A$1:$A$999,$A74)=0,0,AVERAGEIF(DFcomposition!$A74:$A1071,DisposalFacilities!$A74,DFcomposition!C74:C1071)))","v":""},{"$f":"IF($A74=\"\",\"\",IF(COUNTIF(DFcomposition!$A$1:$A$999,$A74)=0,0,AVERAGEIF(DFcomposition!$A74:$A1071,DisposalFacilities!$A74,DFcomposition!D74:D1071)))","v":""},{"$f":"IF($A74=\"\",\"\",IF(COUNTIF(DFcomposition!$A$1:$A$999,$A74)=0,0,AVERAGEIF(DFcomposition!$A74:$A1071,DisposalFacilities!$A74,DFcomposition!E74:E1071)))","v":""},{"$f":"IF($A74=\"\",\"\",IF(COUNTIF(DFcomposition!$A$1:$A$999,$A74)=0,0,AVERAGEIF(DFcomposition!$A74:$A1071,DisposalFacilities!$A74,DFcomposition!F74:F1071)))","v":""},{"$f":"IF($A74=\"\",\"\",IF(COUNTIF(DFcomposition!$A$1:$A$999,$A74)=0,0,AVERAGEIF(DFcomposition!$A74:$A1071,DisposalFacilities!$A74,DFcomposition!G74:G1071)))","v":""},{"$f":"IF($A74=\"\",\"\",IF(COUNTIF(DFcomposition!$A$1:$A$999,$A74)=0,0,AVERAGEIF(DFcomposition!$A74:$A1071,DisposalFacilities!$A74,DFcomposition!H74:H1071)))","v":""},{"$f":"IF($A74=\"\",\"\",IF(COUNTIF(DFcomposition!$A$1:$A$999,$A74)=0,0,AVERAGEIF(DFcomposition!$A74:$A1071,DisposalFacilities!$A74,DFcomposition!I74:I1071)))","v":""},{"$f":"IF($A74=\"\",\"\",IF(COUNTIF(DFcomposition!$A$1:$A$999,$A74)=0,0,AVERAGEIF(DFcomposition!$A74:$A1071,DisposalFacilities!$A74,DFcomposition!J74:J1071)))","v":""},{"$f":"IF($A74=\"\",\"\",IF(COUNTIF(DFcomposition!$A$1:$A$999,$A74)=0,0,AVERAGEIF(DFcomposition!$A74:$A1071,DisposalFacilities!$A74,DFcomposition!K74:K1071)))","v":""},{"$f":"IF($A74=\"\",\"\",IF(COUNTIF(DFcomposition!$A$1:$A$999,$A74)=0,0,AVERAGEIF(DFcomposition!$A74:$A1071,DisposalFacilities!$A74,DFcomposition!L74:L1071)))","v":""},{"$f":"IF($A74=\"\",\"\",IF(COUNTIF(DFcomposition!$A$1:$A$999,$A74)=0,0,AVERAGEIF(DFcomposition!$A74:$A1071,DisposalFacilities!$A74,DFcomposition!M74:M1071)))","v":""},{"$f":"IF($A74=\"\",\"\",IF(COUNTIF(DFcomposition!$A$1:$A$999,$A74)=0,0,AVERAGEIF(DFcomposition!$A74:$A1071,DisposalFacilities!$A74,DFcomposition!N74:N1071)))","v":""}]
[null,null,null,null,null,null,null,null,null,null,null,null,"","",{"$f":"IF($A75=\"\",\"\",IF(COUNTIF(DFcomposition!$A$1:$A$999,$A75)=0,0,AVERAGEIF(DFcomposition!$A75:$A1072,DisposalFacilities!$A75,DFcomposition!C75:C1072)))","v":""},{"$f":"IF($A75=\"\",\"\",IF(COUNTIF(DFcomposition!$A$1:$A$999,$A75)=0,0,AVERAGEIF(DFcomposition!$A75:$A1072,DisposalFacilities!$A75,DFcomposition!D75:D1072)))","v":""},{"$f":"IF($A75=\"\",\"\",IF(COUNTIF(DFcomposition!$A$1:$A$999,$A75)=0,0,AVERAGEIF(DFcomposition!$A75:$A1072,DisposalFacilities!$A75,DFcomposition!E75:E1072)))","v":""},{"$f":"IF($A75=\"\",\"\",IF(COUNTIF(DFcomposition!$A$1:$A$999,$A75)=0,0,AVERAGEIF(DFcomposition!$A75:$A1072,DisposalFacilities!$A75,DFcomposition!F75:F1072)))","v":""},{"$f":"IF($A75=\"\",\"\",IF(COUNTIF(DFcomposition!$A$1:$A$999,$A75)=0,0,AVERAGEIF(DFcomposition!$A75:$A1072,DisposalFacilities!$A75,DFcomposition!G75:G1072)))","v":""},{"$f":"IF($A75=\"\",\"\",IF(COUNTIF(DFcomposition!$A$1:$A$999,$A75)=0,0,AVERAGEIF(DFcomposition!$A75:$A1072,DisposalFacilities!$A75,DFcomposition!H75:H1072)))","v":""},{"$f":"IF($A75=\"\",\"\",IF(COUNTIF(DFcomposition!$A$1:$A$999,$A75)=0,0,AVERAGEIF(DFcomposition!$A75:$A1072,DisposalFacilities!$A75,DFcomposition!I75:I1072)))","v":""},{"$f":"IF($A75=\"\",\"\",IF(COUNTIF(DFcomposition!$A$1:$A$999,$A75)=0,0,AVERAGEIF(DFcomposition!$A75:$A1072,DisposalFacilities!$A75,DFcomposition!J75:J1072)))","v":""},{"$f":"IF($A75=\"\",\"\",IF(COUNTIF(DFcomposition!$A$1:$A$999,$A75)=0,0,AVERAGEIF(DFcomposition!$A75:$A1072,DisposalFacilities!$A75,DFcomposition!K75:K1072)))","v":""},{"$f":"IF($A75=\"\",\"\",IF(COUNTIF(DFcomposition!$A$1:$A$999,$A75)=0,0,AVERAGEIF(DFcomposition!$A75:$A1072,DisposalFacilities!$A75,DFcomposition!L75:L1072)))","v":""},{"$f":"IF($A75=\"\",\"\",IF(COUNTIF(DFcomposition!$A$1:$A$999,$A75)=0,0,AVERAGEIF(DFcomposition!$A75:$A1072,DisposalFacilities!$A75,DFcomposition!M75:M1072)))","v":""},{"$f":"IF($A75=\"\",\"\",IF(COUNTIF(DFcomposition!$A$1:$A$999,$A75)=0,0,AVERAGEIF(DFcomposition!$A75:$A1072,DisposalFacilities!$A75,DFcomposition!N75:N1072)))","v":""}]
[null,null,null,null,null,null,null,null,null,null,null,null,"","",{"$f":"IF($A76=\"\",\"\",IF(COUNTIF(DFcomposition!$A$1:$A$999,$A76)=0,0,AVERAGEIF(DFcomposition!$A76:$A1073,DisposalFacilities!$A76,DFcomposition!C76:C1073)))","v":""},{"$f":"IF($A76=\"\",\"\",IF(COUNTIF(DFcomposition!$A$1:$A$999,$A76)=0,0,AVERAGEIF(DFcomposition!$A76:$A1073,DisposalFacilities!$A76,DFcomposition!D76:D1073)))","v":""},{"$f":"IF($A76=\"\",\"\",IF(COUNTIF(DFcomposition!$A$1:$A$999,$A76)=0,0,AVERAGEIF(DFcomposition!$A76:$A1073,DisposalFacilities!$A76,DFcomposition!E76:E1073)))","v":""},{"$f":"IF($A76=\"\",\"\",IF(COUNTIF(DFcomposition!$A$1:$A$999,$A76)=0,0,AVERAGEIF(DFcomposition!$A76:$A1073,DisposalFacilities!$A76,DFcomposition!F76:F1073)))","v":""},{"$f":"IF($A76=\"\",\"\",IF(COUNTIF(DFcomposition!$A$1:$A$999,$A76)=0,0,AVERAGEIF(DFcomposition!$A76:$A1073,DisposalFacilities!$A76,DFcomposition!G76:G1073)))","v":""},{"$f":"IF($A76=\"\",\"\",IF(COUNTIF(DFcomposition!$A$1:$A$999,$A76)=0,0,AVERAGEIF(DFcomposition!$A76:$A1073,DisposalFacilities!$A76,DFcomposition!H76:H1073)))","v":""},{"$f":"IF($A76=\"\",\"\",IF(COUNTIF(DFcomposition!$A$1:$A$999,$A76)=0,0,AVERAGEIF(DFcomposition!$A76:$A1073,DisposalFacilities!$A76,DFcomposition!I76:I1073)))","v":""},{"$f":"IF($A76=\"\",\"\",IF(COUNTIF(DFcomposition!$A$1:$A$999,$A76)=0,0,AVERAGEIF(DFcomposition!$A76:$A1073,DisposalFacilities!$A76,DFcomposition!J76:J1073)))","v":""},{"$f":"IF($A76=\"\",\"\",IF(COUNTIF(DFcomposition!$A$1:$A$999,$A76)=0,0,AVERAGEIF(DFcomposition!$A76:$A1073,DisposalFacilities!$A76,DFcomposition!K76:K1073)))","v":""},{"$f":"IF($A76=\"\",\"\",IF(COUNTIF(DFcomposition!$A$1:$A$999,$A76)=0,0,AVERAGEIF(DFcomposition!$A76:$A1073,DisposalFacilities!$A76,DFcomposition!L76:L1073)))","v":""},{"$f":"IF($A76=\"\",\"\",IF(COUNTIF(DFcomposition!$A$1:$A$999,$A76)=0,0,AVERAGEIF(DFcomposition!$A76:$A1073,DisposalFacilities!$A76,DFcomposition!M76:M1073)))","v":""},{"$f":"IF($A76=\"\",\"\",IF(COUNTIF(DFcomposition!$A$1:$A$999,$A76)=0,0,AVERAGEIF(DFcomposition!$A76:$A1073,DisposalFacilities!$A76,DFcomposition!N76:N1073)))","v":""}]
[null,null,null,null,null,null,null,null,null,null,null,null,"","",{"$f":"IF($A77=\"\",\"\",IF(COUNTIF(DFcomposition!$A$1:$A$999,$A77)=0,0,AVERAGEIF(DFcomposition!$A77:$A1074,DisposalFacilities!$A77,DFcomposition!C77:C1074)))","v":""},{"$f":"IF($A77=\"\",\"\",IF(COUNTIF(DFcomposition!$A$1:$A$999,$A77)=0,0,AVERAGEIF(DFcomposition!$A77:$A1074,DisposalFacilities!$A77,DFcomposition!D77:D1074)))","v":""},{"$f":"IF($A77=\"\",\"\",IF(COUNTIF(DFcomposition!$A$1:$A$999,$A77)=0,0,AVERAGEIF(DFcomposition!$A77:$A1074,DisposalFacilities!$A77,DFcomposition!E77:E1074)))","v":""},{"$f":"IF($A77=\"\",\"\",IF(COUNTIF(DFcomposition!$A$1:$A$999,$A77)=0,0,AVERAGEIF(DFcomposition!$A77:$A1074,DisposalFacilities!$A77,DFcomposition!F77:F1074)))","v":""},{"$f":"IF($A77=\"\",\"\",IF(COUNTIF(DFcomposition!$A$1:$A$999,$A77)=0,0,AVERAGEIF(DFcomposition!$A77:$A1074,DisposalFacilities!$A77,DFcomposition!G77:G1074)))","v":""},{"$f":"IF($A77=\"\",\"\",IF(COUNTIF(DFcomposition!$A$1:$A$999,$A77)=0,0,AVERAGEIF(DFcomposition!$A77:$A1074,DisposalFacilities!$A77,DFcomposition!H77:H1074)))","v":""},{"$f":"IF($A77=\"\",\"\",IF(COUNTIF(DFcomposition!$A$1:$A$999,$A77)=0,0,AVERAGEIF(DFcomposition!$A77:$A1074,DisposalFacilities!$A77,DFcomposition!I77:I1074)))","v":""},{"$f":"IF($A77=\"\",\"\",IF(COUNTIF(DFcomposition!$A$1:$A$999,$A77)=0,0,AVERAGEIF(DFcomposition!$A77:$A1074,DisposalFacilities!$A77,DFcomposition!J77:J1074)))","v":""},{"$f":"IF($A77=\"\",\"\",IF(COUNTIF(DFcomposition!$A$1:$A$999,$A77)=0,0,AVERAGEIF(DFcomposition!$A77:$A1074,DisposalFacilities!$A77,DFcomposition!K77:K1074)))","v":""},{"$f":"IF($A77=\"\",\"\",IF(COUNTIF(DFcomposition!$A$1:$A$999,$A77)=0,0,AVERAGEIF(DFcomposition!$A77:$A1074,DisposalFacilities!$A77,DFcomposition!L77:L1074)))","v":""},{"$f":"IF($A77=\"\",\"\",IF(COUNTIF(DFcomposition!$A$1:$A$999,$A77)=0,0,AVERAGEIF(DFcomposition!$A77:$A1074,DisposalFacilities!$A77,DFcomposition!M77:M1074)))","v":""},{"$f":"IF($A77=\"\",\"\",IF(COUNTIF(DFcomposition!$A$1:$A$999,$A77)=0,0,AVERAGEIF(DFcomposition!$A77:$A1074,DisposalFacilities!$A77,DFcomposition!N77:N1074)))","v":""}]
[null,null,null,null,null,null,null,null,null,null,null,null,"","",{"$f":"IF($A78=\"\",\"\",IF(COUNTIF(DFcomposition!$A$1:$A$999,$A78)=0,0,AVERAGEIF(DFcomposition!$A78:$A1075,DisposalFacilities!$A78,DFcomposition!C78:C1075)))","v":""},{"$f":"IF($A78=\"\",\"\",IF(COUNTIF(DFcomposition!$A$1:$A$999,$A78)=0,0,AVERAGEIF(DFcomposition!$A78:$A1075,DisposalFacilities!$A78,DFcomposition!D78:D1075)))","v":""},{"$f":"IF($A78=\"\",\"\",IF(COUNTIF(DFcomposition!$A$1:$A$999,$A78)=0,0,AVERAGEIF(DFcomposition!$A78:$A1075,DisposalFacilities!$A78,DFcomposition!E78:E1075)))","v":""},{"$f":"IF($A78=\"\",\"\",IF(COUNTIF(DFcomposition!$A$1:$A$999,$A78)=0,0,AVERAGEIF(DFcomposition!$A78:$A1075,DisposalFacilities!$A78,DFcomposition!F78:F1075)))","v":""},{"$f":"IF($A78=\"\",\"\",IF(COUNTIF(DFcomposition!$A$1:$A$999,$A78)=0,0,AVERAGEIF(DFcomposition!$A78:$A1075,DisposalFacilities!$A78,DFcomposition!G78:G1075)))","v":""},{"$f":"IF($A78=\"\",\"\",IF(COUNTIF(DFcomposition!$A$1:$A$999,$A78)=0,0,AVERAGEIF(DFcomposition!$A78:$A1075,DisposalFacilities!$A78,DFcomposition!H78:H1075)))","v":""},{"$f":"IF($A78=\"\",\"\",IF(COUNTIF(DFcomposition!$A$1:$A$999,$A78)=0,0,AVERAGEIF(DFcomposition!$A78:$A1075,DisposalFacilities!$A78,DFcomposition!I78:I1075)))","v":""},{"$f":"IF($A78=\"\",\"\",IF(COUNTIF(DFcomposition!$A$1:$A$999,$A78)=0,0,AVERAGEIF(DFcomposition!$A78:$A1075,DisposalFacilities!$A78,DFcomposition!J78:J1075)))","v":""},{"$f":"IF($A78=\"\",\"\",IF(COUNTIF(DFcomposition!$A$1:$A$999,$A78)=0,0,AVERAGEIF(DFcomposition!$A78:$A1075,DisposalFacilities!$A78,DFcomposition!K78:K1075)))","v":""},{"$f":"IF($A78=\"\",\"\",IF(COUNTIF(DFcomposition!$A$1:$A$999,$A78)=0,0,AVERAGEIF(DFcomposition!$A78:$A1075,DisposalFacilities!$A78,DFcomposition!L78:L1075)))","v":""},{"$f":"IF($A78=\"\",\"\",IF(COUNTIF(DFcomposition!$A$1:$A$999,$A78)=0,0,AVERAGEIF(DFcomposition!$A78:$A1075,DisposalFacilities!$A78,DFcomposition!M78:M1075)))","v":""},{"$f":"IF($A78=\"\",\"\",IF(COUNTIF(DFcomposition!$A$1:$A$999,$A78)=0,0,AVERAGEIF(DFcomposition!$A78:$A1075,DisposalFacilities!$A78,DFcomposition!N78:N1075)))","v":""}]
[null,null,null,null,null,null,null,null,null,null,null,null,{"$f":"IF(A79=\"\",\"\",I79-(J79*K79/1000))","v":""},{"$f":"IF(A79=\"\",\"\",IF(H79>3,0,M79))","v":""},{"$f":"IF($A79=\"\",\"\",IF(COUNTIF(DFcomposition!$A$1:$A$999,$A79)=0,0,AVERAGEIF(DFcomposition!$A79:$A1076,DisposalFacilities!$A79,DFcomposition!C79:C1076)))","v":""},{"$f":"IF($A79=\"\",\"\",IF(COUNTIF(DFcomposition!$A$1:$A$999,$A79)=0,0,AVERAGEIF(DFcomposition!$A79:$A1076,DisposalFacilities!$A79,DFcomposition!D79:D1076)))","v":""},{"$f":"IF($A79=\"\",\"\",IF(COUNTIF(DFcomposition!$A$1:$A$999,$A79)=0,0,AVERAGEIF(DFcomposition!$A79:$A1076,DisposalFacilities!$A79,DFcomposition!E79:E1076)))","v":""},{"$f":"IF($A79=\"\",\"\",IF(COUNTIF(DFcomposition!$A$1:$A$999,$A79)=0,0,AVERAGEIF(DFcomposition!$A79:$A1076,DisposalFacilities!$A79,DFcomposition!F79:F1076)))","v":""},{"$f":"IF($A79=\"\",\"\",IF(COUNTIF(DFcomposition!$A$1:$A$999,$A79)=0,0,AVERAGEIF(DFcomposition!$A79:$A1076,DisposalFacilities!$A79,DFcomposition!G79:G1076)))","v":""},{"$f":"IF($A79=\"\",\"\",IF(COUNTIF(DFcomposition!$A$1:$A$999,$A79)=0,0,AVERAGEIF(DFcomposition!$A79:$A1076,DisposalFacilities!$A79,DFcomposition!H79:H1076)))","v":""},{"$f":"IF($A79=\"\",\"\",IF(COUNTIF(DFcomposition!$A$1:$A$999,$A79)=0,0,AVERAGEIF(DFcomposition!$A79:$A1076,DisposalFacilities!$A79,DFcomposition!I79:I1076)))","v":""},{"$f":"IF($A79=\"\",\"\",IF(COUNTIF(DFcomposition!$A$1:$A$999,$A79)=0,0,AVERAGEIF(DFcomposition!$A79:$A1076,DisposalFacilities!$A79,DFcomposition!J79:J1076)))","v":""},{"$f":"IF($A79=\"\",\"\",IF(COUNTIF(DFcomposition!$A$1:$A$999,$A79)=0,0,AVERAGEIF(DFcomposition!$A79:$A1076,DisposalFacilities!$A79,DFcomposition!K79:K1076)))","v":""},{"$f":"IF($A79=\"\",\"\",IF(COUNTIF(DFcomposition!$A$1:$A$999,$A79)=0,0,AVERAGEIF(DFcomposition!$A79:$A1076,DisposalFacilities!$A79,DFcomposition!L79:L1076)))","v":""},{"$f":"IF($A79=\"\",\"\",IF(COUNTIF(DFcomposition!$A$1:$A$999,$A79)=0,0,AVERAGEIF(DFcomposition!$A79:$A1076,DisposalFacilities!$A79,DFcomposition!M79:M1076)))","v":""},{"$f":"IF($A79=\"\",\"\",IF(COUNTIF(DFcomposition!$A$1:$A$999,$A79)=0,0,AVERAGEIF(DFcomposition!$A79:$A1076,DisposalFacilities!$A79,DFcomposition!N79:N1076)))","v":""}]
[null,null,null,null,null,null,null,null,null,null,null,null,"","",{"$f":"IF($A80=\"\",\"\",IF(COUNTIF(DFcomposition!$A$1:$A$999,$A80)=0,0,AVERAGEIF(DFcomposition!$A80:$A1077,DisposalFacilities!$A80,DFcomposition!C80:C1077)))","v":""},{"$f":"IF($A80=\"\",\"\",IF(COUNTIF(DFcomposition!$A$1:$A$999,$A80)=0,0,AVERAGEIF(DFcomposition!$A80:$A1077,DisposalFacilities!$A80,DFcomposition!D80:D1077)))","v":""},{"$f":"IF($A80=\"\",\"\",IF(COUNTIF(DFcomposition!$A$1:$A$999,$A80)=0,0,AVERAGEIF(DFcomposition!$A80:$A1077,DisposalFacilities!$A80,DFcomposition!E80:E1077)))","v":""},{"$f":"IF($A80=\"\",\"\",IF(COUNTIF(DFcomposition!$A$1:$A$999,$A80)=0,0,AVERAGEIF(DFcomposition!$A80:$A1077,DisposalFacilities!$A80,DFcomposition!F80:F1077)))","v":""},{"$f":"IF($A80=\"\",\"\",IF(COUNTIF(DFcomposition!$A$1:$A$999,$A80)=0,0,AVERAGEIF(DFcomposition!$A80:$A1077,DisposalFacilities!$A80,DFcomposition!G80:G1077)))","v":""},{"$f":"IF($A80=\"\",\"\",IF(COUNTIF(DFcomposition!$A$1:$A$999,$A80)=0,0,AVERAGEIF(DFcomposition!$A80:$A1077,DisposalFacilities!$A80,DFcomposition!H80:H1077)))","v":""},{"$f":"IF($A80=\"\",\"\",IF(COUNTIF(DFcomposition!$A$1:$A$999,$A80)=0,0,AVERAGEIF(DFcomposition!$A80:$A1077,DisposalFacilities!$A80,DFcomposition!I80:I1077)))","v":""},{"$f":"IF($A80=\"\",\"\",IF(COUNTIF(DFcomposition!$A$1:$A$999,$A80)=0,0,AVERAGEIF(DFcomposition!$A80:$A1077,DisposalFacilities!$A80,DFcomposition!J80:J1077)))","v":""},{"$f":"IF($A80=\"\",\"\",IF(COUNTIF(DFcomposition!$A$1:$A$999,$A80)=0,0,AVERAGEIF(DFcomposition!$A80:$A1077,DisposalFacilities!$A80,DFcomposition!K80:K1077)))","v":""},{"$f":"IF($A80=\"\",\"\",IF(COUNTIF(DFcomposition!$A$1:$A$999,$A80)=0,0,AVERAGEIF(DFcomposition!$A80:$A1077,DisposalFacilities!$A80,DFcomposition!L80:L1077)))","v":""},{"$f":"IF($A80=\"\",\"\",IF(COUNTIF(DFcomposition!$A$1:$A$999,$A80)=0,0,AVERAGEIF(DFcomposition!$A80:$A1077,DisposalFacilities!$A80,DFcomposition!M80:M1077)))","v":""},{"$f":"IF($A80=\"\",\"\",IF(COUNTIF(DFcomposition!$A$1:$A$999,$A80)=0,0,AVERAGEIF(DFcomposition!$A80:$A1077,DisposalFacilities!$A80,DFcomposition!N80:N1077)))","v":""}]
[null,null,null,null,null,null,null,null,null,null,null,null,"","",{"$f":"IF($A81=\"\",\"\",IF(COUNTIF(DFcomposition!$A$1:$A$999,$A81)=0,0,AVERAGEIF(DFcomposition!$A81:$A1078,DisposalFacilities!$A81,DFcomposition!C81:C1078)))","v":""},{"$f":"IF($A81=\"\",\"\",IF(COUNTIF(DFcomposition!$A$1:$A$999,$A81)=0,0,AVERAGEIF(DFcomposition!$A81:$A1078,DisposalFacilities!$A81,DFcomposition!D81:D1078)))","v":""},{"$f":"IF($A81=\"\",\"\",IF(COUNTIF(DFcomposition!$A$1:$A$999,$A81)=0,0,AVERAGEIF(DFcomposition!$A81:$A1078,DisposalFacilities!$A81,DFcomposition!E81:E1078)))","v":""},{"$f":"IF($A81=\"\",\"\",IF(COUNTIF(DFcomposition!$A$1:$A$999,$A81)=0,0,AVERAGEIF(DFcomposition!$A81:$A1078,DisposalFacilities!$A81,DFcomposition!F81:F1078)))","v":""},{"$f":"IF($A81=\"\",\"\",IF(COUNTIF(DFcomposition!$A$1:$A$999,$A81)=0,0,AVERAGEIF(DFcomposition!$A81:$A1078,DisposalFacilities!$A81,DFcomposition!G81:G1078)))","v":""},{"$f":"IF($A81=\"\",\"\",IF(COUNTIF(DFcomposition!$A$1:$A$999,$A81)=0,0,AVERAGEIF(DFcomposition!$A81:$A1078,DisposalFacilities!$A81,DFcomposition!H81:H1078)))","v":""},{"$f":"IF($A81=\"\",\"\",IF(COUNTIF(DFcomposition!$A$1:$A$999,$A81)=0,0,AVERAGEIF(DFcomposition!$A81:$A1078,DisposalFacilities!$A81,DFcomposition!I81:I1078)))","v":""},{"$f":"IF($A81=\"\",\"\",IF(COUNTIF(DFcomposition!$A$1:$A$999,$A81)=0,0,AVERAGEIF(DFcomposition!$A81:$A1078,DisposalFacilities!$A81,DFcomposition!J81:J1078)))","v":""},{"$f":"IF($A81=\"\",\"\",IF(COUNTIF(DFcomposition!$A$1:$A$999,$A81)=0,0,AVERAGEIF(DFcomposition!$A81:$A1078,DisposalFacilities!$A81,DFcomposition!K81:K1078)))","v":""},{"$f":"IF($A81=\"\",\"\",IF(COUNTIF(DFcomposition!$A$1:$A$999,$A81)=0,0,AVERAGEIF(DFcomposition!$A81:$A1078,DisposalFacilities!$A81,DFcomposition!L81:L1078)))","v":""},{"$f":"IF($A81=\"\",\"\",IF(COUNTIF(DFcomposition!$A$1:$A$999,$A81)=0,0,AVERAGEIF(DFcomposition!$A81:$A1078,DisposalFacilities!$A81,DFcomposition!M81:M1078)))","v":""},{"$f":"IF($A81=\"\",\"\",IF(COUNTIF(DFcomposition!$A$1:$A$999,$A81)=0,0,AVERAGEIF(DFcomposition!$A81:$A1078,DisposalFacilities!$A81,DFcomposition!N81:N1078)))","v":""}]
[null,null,null,null,null,null,null,null,null,null,null,null,"","",{"$f":"IF($A82=\"\",\"\",IF(COUNTIF(DFcomposition!$A$1:$A$999,$A82)=0,0,AVERAGEIF(DFcomposition!$A82:$A1079,DisposalFacilities!$A82,DFcomposition!C82:C1079)))","v":""},{"$f":"IF($A82=\"\",\"\",IF(COUNTIF(DFcomposition!$A$1:$A$999,$A82)=0,0,AVERAGEIF(DFcomposition!$A82:$A1079,DisposalFacilities!$A82,DFcomposition!D82:D1079)))","v":""},{"$f":"IF($A82=\"\",\"\",IF(COUNTIF(DFcomposition!$A$1:$A$999,$A82)=0,0,AVERAGEIF(DFcomposition!$A82:$A1079,DisposalFacilities!$A82,DFcomposition!E82:E1079)))","v":""},{"$f":"IF($A82=\"\",\"\",IF(COUNTIF(DFcomposition!$A$1:$A$999,$A82)=0,0,AVERAGEIF(DFcomposition!$A82:$A1079,DisposalFacilities!$A82,DFcomposition!F82:F1079)))","v":""},{"$f":"IF($A82=\"\",\"\",IF(COUNTIF(DFcomposition!$A$1:$A$999,$A82)=0,0,AVERAGEIF(DFcomposition!$A82:$A1079,DisposalFacilities!$A82,DFcomposition!G82:G1079)))","v":""},{"$f":"IF($A82=\"\",\"\",IF(COUNTIF(DFcomposition!$A$1:$A$999,$A82)=0,0,AVERAGEIF(DFcomposition!$A82:$A1079,DisposalFacilities!$A82,DFcomposition!H82:H1079)))","v":""},{"$f":"IF($A82=\"\",\"\",IF(COUNTIF(DFcomposition!$A$1:$A$999,$A82)=0,0,AVERAGEIF(DFcomposition!$A82:$A1079,DisposalFacilities!$A82,DFcomposition!I82:I1079)))","v":""},{"$f":"IF($A82=\"\",\"\",IF(COUNTIF(DFcomposition!$A$1:$A$999,$A82)=0,0,AVERAGEIF(DFcomposition!$A82:$A1079,DisposalFacilities!$A82,DFcomposition!J82:J1079)))","v":""},{"$f":"IF($A82=\"\",\"\",IF(COUNTIF(DFcomposition!$A$1:$A$999,$A82)=0,0,AVERAGEIF(DFcomposition!$A82:$A1079,DisposalFacilities!$A82,DFcomposition!K82:K1079)))","v":""},{"$f":"IF($A82=\"\",\"\",IF(COUNTIF(DFcomposition!$A$1:$A$999,$A82)=0,0,AVERAGEIF(DFcomposition!$A82:$A1079,DisposalFacilities!$A82,DFcomposition!L82:L1079)))","v":""},{"$f":"IF($A82=\"\",\"\",IF(COUNTIF(DFcomposition!$A$1:$A$999,$A82)=0,0,AVERAGEIF(DFcomposition!$A82:$A1079,DisposalFacilities!$A82,DFcomposition!M82:M1079)))","v":""},{"$f":"IF($A82=\"\",\"\",IF(COUNTIF(DFcomposition!$A$1:$A$999,$A82)=0,0,AVERAGEIF(DFcomposition!$A82:$A1079,DisposalFacilities!$A82,DFcomposition!N82:N1079)))","v":""}]
[null,null,null,null,null,null,null,null,null,null,null,null,"","",{"$f":"IF($A83=\"\",\"\",IF(COUNTIF(DFcomposition!$A$1:$A$999,$A83)=0,0,AVERAGEIF(DFcomposition!$A83:$A1080,DisposalFacilities!$A83,DFcomposition!C83:C1080)))","v":""},{"$f":"IF($A83=\"\",\"\",IF(COUNTIF(DFcomposition!$A$1:$A$999,$A83)=0,0,AVERAGEIF(DFcomposition!$A83:$A1080,DisposalFacilities!$A83,DFcomposition!D83:D1080)))","v":""},{"$f":"IF($A83=\"\",\"\",IF(COUNTIF(DFcomposition!$A$1:$A$999,$A83)=0,0,AVERAGEIF(DFcomposition!$A83:$A1080,DisposalFacilities!$A83,DFcomposition!E83:E1080)))","v":""},{"$f":"IF($A83=\"\",\"\",IF(COUNTIF(DFcomposition!$A$1:$A$999,$A83)=0,0,AVERAGEIF(DFcomposition!$A83:$A1080,DisposalFacilities!$A83,DFcomposition!F83:F1080)))","v":""},{"$f":"IF($A83=\"\",\"\",IF(COUNTIF(DFcomposition!$A$1:$A$999,$A83)=0,0,AVERAGEIF(DFcomposition!$A83:$A1080,DisposalFacilities!$A83,DFcomposition!G83:G1080)))","v":""},{"$f":"IF($A83=\"\",\"\",IF(COUNTIF(DFcomposition!$A$1:$A$999,$A83)=0,0,AVERAGEIF(DFcomposition!$A83:$A1080,DisposalFacilities!$A83,DFcomposition!H83:H1080)))","v":""},{"$f":"IF($A83=\"\",\"\",IF(COUNTIF(DFcomposition!$A$1:$A$999,$A83)=0,0,AVERAGEIF(DFcomposition!$A83:$A1080,DisposalFacilities!$A83,DFcomposition!I83:I1080)))","v":""},{"$f":"IF($A83=\"\",\"\",IF(COUNTIF(DFcomposition!$A$1:$A$999,$A83)=0,0,AVERAGEIF(DFcomposition!$A83:$A1080,DisposalFacilities!$A83,DFcomposition!J83:J1080)))","v":""},{"$f":"IF($A83=\"\",\"\",IF(COUNTIF(DFcomposition!$A$1:$A$999,$A83)=0,0,AVERAGEIF(DFcomposition!$A83:$A1080,DisposalFacilities!$A83,DFcomposition!K83:K1080)))","v":""},{"$f":"IF($A83=\"\",\"\",IF(COUNTIF(DFcomposition!$A$1:$A$999,$A83)=0,0,AVERAGEIF(DFcomposition!$A83:$A1080,DisposalFacilities!$A83,DFcomposition!L83:L1080)))","v":""},{"$f":"IF($A83=\"\",\"\",IF(COUNTIF(DFcomposition!$A$1:$A$999,$A83)=0,0,AVERAGEIF(DFcomposition!$A83:$A1080,DisposalFacilities!$A83,DFcomposition!M83:M1080)))","v":""},{"$f":"IF($A83=\"\",\"\",IF(COUNTIF(DFcomposition!$A$1:$A$999,$A83)=0,0,AVERAGEIF(DFcomposition!$A83:$A1080,DisposalFacilities!$A83,DFcomposition!N83:N1080)))","v":""}]
[null,null,null,null,null,null,null,null,null,null,null,null,"","",{"$f":"IF($A84=\"\",\"\",IF(COUNTIF(DFcomposition!$A$1:$A$999,$A84)=0,0,AVERAGEIF(DFcomposition!$A84:$A1081,DisposalFacilities!$A84,DFcomposition!C84:C1081)))","v":""},{"$f":"IF($A84=\"\",\"\",IF(COUNTIF(DFcomposition!$A$1:$A$999,$A84)=0,0,AVERAGEIF(DFcomposition!$A84:$A1081,DisposalFacilities!$A84,DFcomposition!D84:D1081)))","v":""},{"$f":"IF($A84=\"\",\"\",IF(COUNTIF(DFcomposition!$A$1:$A$999,$A84)=0,0,AVERAGEIF(DFcomposition!$A84:$A1081,DisposalFacilities!$A84,DFcomposition!E84:E1081)))","v":""},{"$f":"IF($A84=\"\",\"\",IF(COUNTIF(DFcomposition!$A$1:$A$999,$A84)=0,0,AVERAGEIF(DFcomposition!$A84:$A1081,DisposalFacilities!$A84,DFcomposition!F84:F1081)))","v":""},{"$f":"IF($A84=\"\",\"\",IF(COUNTIF(DFcomposition!$A$1:$A$999,$A84)=0,0,AVERAGEIF(DFcomposition!$A84:$A1081,DisposalFacilities!$A84,DFcomposition!G84:G1081)))","v":""},{"$f":"IF($A84=\"\",\"\",IF(COUNTIF(DFcomposition!$A$1:$A$999,$A84)=0,0,AVERAGEIF(DFcomposition!$A84:$A1081,DisposalFacilities!$A84,DFcomposition!H84:H1081)))","v":""},{"$f":"IF($A84=\"\",\"\",IF(COUNTIF(DFcomposition!$A$1:$A$999,$A84)=0,0,AVERAGEIF(DFcomposition!$A84:$A1081,DisposalFacilities!$A84,DFcomposition!I84:I1081)))","v":""},{"$f":"IF($A84=\"\",\"\",IF(COUNTIF(DFcomposition!$A$1:$A$999,$A84)=0,0,AVERAGEIF(DFcomposition!$A84:$A1081,DisposalFacilities!$A84,DFcomposition!J84:J1081)))","v":""},{"$f":"IF($A84=\"\",\"\",IF(COUNTIF(DFcomposition!$A$1:$A$999,$A84)=0,0,AVERAGEIF(DFcomposition!$A84:$A1081,DisposalFacilities!$A84,DFcomposition!K84:K1081)))","v":""},{"$f":"IF($A84=\"\",\"\",IF(COUNTIF(DFcomposition!$A$1:$A$999,$A84)=0,0,AVERAGEIF(DFcomposition!$A84:$A1081,DisposalFacilities!$A84,DFcomposition!L84:L1081)))","v":""},{"$f":"IF($A84=\"\",\"\",IF(COUNTIF(DFcomposition!$A$1:$A$999,$A84)=0,0,AVERAGEIF(DFcomposition!$A84:$A1081,DisposalFacilities!$A84,DFcomposition!M84:M1081)))","v":""},{"$f":"IF($A84=\"\",\"\",IF(COUNTIF(DFcomposition!$A$1:$A$999,$A84)=0,0,AVERAGEIF(DFcomposition!$A84:$A1081,DisposalFacilities!$A84,DFcomposition!N84:N1081)))","v":""}]
[null,null,null,null,null,null,null,null,null,null,null,null,"","",{"$f":"IF($A85=\"\",\"\",IF(COUNTIF(DFcomposition!$A$1:$A$999,$A85)=0,0,AVERAGEIF(DFcomposition!$A85:$A1082,DisposalFacilities!$A85,DFcomposition!C85:C1082)))","v":""},{"$f":"IF($A85=\"\",\"\",IF(COUNTIF(DFcomposition!$A$1:$A$999,$A85)=0,0,AVERAGEIF(DFcomposition!$A85:$A1082,DisposalFacilities!$A85,DFcomposition!D85:D1082)))","v":""},{"$f":"IF($A85=\"\",\"\",IF(COUNTIF(DFcomposition!$A$1:$A$999,$A85)=0,0,AVERAGEIF(DFcomposition!$A85:$A1082,DisposalFacilities!$A85,DFcomposition!E85:E1082)))","v":""},{"$f":"IF($A85=\"\",\"\",IF(COUNTIF(DFcomposition!$A$1:$A$999,$A85)=0,0,AVERAGEIF(DFcomposition!$A85:$A1082,DisposalFacilities!$A85,DFcomposition!F85:F1082)))","v":""},{"$f":"IF($A85=\"\",\"\",IF(COUNTIF(DFcomposition!$A$1:$A$999,$A85)=0,0,AVERAGEIF(DFcomposition!$A85:$A1082,DisposalFacilities!$A85,DFcomposition!G85:G1082)))","v":""},{"$f":"IF($A85=\"\",\"\",IF(COUNTIF(DFcomposition!$A$1:$A$999,$A85)=0,0,AVERAGEIF(DFcomposition!$A85:$A1082,DisposalFacilities!$A85,DFcomposition!H85:H1082)))","v":""},{"$f":"IF($A85=\"\",\"\",IF(COUNTIF(DFcomposition!$A$1:$A$999,$A85)=0,0,AVERAGEIF(DFcomposition!$A85:$A1082,DisposalFacilities!$A85,DFcomposition!I85:I1082)))","v":""},{"$f":"IF($A85=\"\",\"\",IF(COUNTIF(DFcomposition!$A$1:$A$999,$A85)=0,0,AVERAGEIF(DFcomposition!$A85:$A1082,DisposalFacilities!$A85,DFcomposition!J85:J1082)))","v":""},{"$f":"IF($A85=\"\",\"\",IF(COUNTIF(DFcomposition!$A$1:$A$999,$A85)=0,0,AVERAGEIF(DFcomposition!$A85:$A1082,DisposalFacilities!$A85,DFcomposition!K85:K1082)))","v":""},{"$f":"IF($A85=\"\",\"\",IF(COUNTIF(DFcomposition!$A$1:$A$999,$A85)=0,0,AVERAGEIF(DFcomposition!$A85:$A1082,DisposalFacilities!$A85,DFcomposition!L85:L1082)))","v":""},{"$f":"IF($A85=\"\",\"\",IF(COUNTIF(DFcomposition!$A$1:$A$999,$A85)=0,0,AVERAGEIF(DFcomposition!$A85:$A1082,DisposalFacilities!$A85,DFcomposition!M85:M1082)))","v":""},{"$f":"IF($A85=\"\",\"\",IF(COUNTIF(DFcomposition!$A$1:$A$999,$A85)=0,0,AVERAGEIF(DFcomposition!$A85:$A1082,DisposalFacilities!$A85,DFcomposition!N85:N1082)))","v":""}]
[null,null,null,null,null,null,null,null,null,null,null,null,"","",{"$f":"IF($A86=\"\",\"\",IF(COUNTIF(DFcomposition!$A$1:$A$999,$A86)=0,0,AVERAGEIF(DFcomposition!$A86:$A1083,DisposalFacilities!$A86,DFcomposition!C86:C1083)))","v":""},{"$f":"IF($A86=\"\",\"\",IF(COUNTIF(DFcomposition!$A$1:$A$999,$A86)=0,0,AVERAGEIF(DFcomposition!$A86:$A1083,DisposalFacilities!$A86,DFcomposition!D86:D1083)))","v":""},{"$f":"IF($A86=\"\",\"\",IF(COUNTIF(DFcomposition!$A$1:$A$999,$A86)=0,0,AVERAGEIF(DFcomposition!$A86:$A1083,DisposalFacilities!$A86,DFcomposition!E86:E1083)))","v":""},{"$f":"IF($A86=\"\",\"\",IF(COUNTIF(DFcomposition!$A$1:$A$999,$A86)=0,0,AVERAGEIF(DFcomposition!$A86:$A1083,DisposalFacilities!$A86,DFcomposition!F86:F1083)))","v":""},{"$f":"IF($A86=\"\",\"\",IF(COUNTIF(DFcomposition!$A$1:$A$999,$A86)=0,0,AVERAGEIF(DFcomposition!$A86:$A1083,DisposalFacilities!$A86,DFcomposition!G86:G1083)))","v":""},{"$f":"IF($A86=\"\",\"\",IF(COUNTIF(DFcomposition!$A$1:$A$999,$A86)=0,0,AVERAGEIF(DFcomposition!$A86:$A1083,DisposalFacilities!$A86,DFcomposition!H86:H1083)))","v":""},{"$f":"IF($A86=\"\",\"\",IF(COUNTIF(DFcomposition!$A$1:$A$999,$A86)=0,0,AVERAGEIF(DFcomposition!$A86:$A1083,DisposalFacilities!$A86,DFcomposition!I86:I1083)))","v":""},{"$f":"IF($A86=\"\",\"\",IF(COUNTIF(DFcomposition!$A$1:$A$999,$A86)=0,0,AVERAGEIF(DFcomposition!$A86:$A1083,DisposalFacilities!$A86,DFcomposition!J86:J1083)))","v":""},{"$f":"IF($A86=\"\",\"\",IF(COUNTIF(DFcomposition!$A$1:$A$999,$A86)=0,0,AVERAGEIF(DFcomposition!$A86:$A1083,DisposalFacilities!$A86,DFcomposition!K86:K1083)))","v":""},{"$f":"IF($A86=\"\",\"\",IF(COUNTIF(DFcomposition!$A$1:$A$999,$A86)=0,0,AVERAGEIF(DFcomposition!$A86:$A1083,DisposalFacilities!$A86,DFcomposition!L86:L1083)))","v":""},{"$f":"IF($A86=\"\",\"\",IF(COUNTIF(DFcomposition!$A$1:$A$999,$A86)=0,0,AVERAGEIF(DFcomposition!$A86:$A1083,DisposalFacilities!$A86,DFcomposition!M86:M1083)))","v":""},{"$f":"IF($A86=\"\",\"\",IF(COUNTIF(DFcomposition!$A$1:$A$999,$A86)=0,0,AVERAGEIF(DFcomposition!$A86:$A1083,DisposalFacilities!$A86,DFcomposition!N86:N1083)))","v":""}]
[null,null,null,null,null,null,null,null,null,null,null,null,"","",{"$f":"IF($A87=\"\",\"\",IF(COUNTIF(DFcomposition!$A$1:$A$999,$A87)=0,0,AVERAGEIF(DFcomposition!$A87:$A1084,DisposalFacilities!$A87,DFcomposition!C87:C1084)))","v":""},{"$f":"IF($A87=\"\",\"\",IF(COUNTIF(DFcomposition!$A$1:$A$999,$A87)=0,0,AVERAGEIF(DFcomposition!$A87:$A1084,DisposalFacilities!$A87,DFcomposition!D87:D1084)))","v":""},{"$f":"IF($A87=\"\",\"\",IF(COUNTIF(DFcomposition!$A$1:$A$999,$A87)=0,0,AVERAGEIF(DFcomposition!$A87:$A1084,DisposalFacilities!$A87,DFcomposition!E87:E1084)))","v":""},{"$f":"IF($A87=\"\",\"\",IF(COUNTIF(DFcomposition!$A$1:$A$999,$A87)=0,0,AVERAGEIF(DFcomposition!$A87:$A1084,DisposalFacilities!$A87,DFcomposition!F87:F1084)))","v":""},{"$f":"IF($A87=\"\",\"\",IF(COUNTIF(DFcomposition!$A$1:$A$999,$A87)=0,0,AVERAGEIF(DFcomposition!$A87:$A1084,DisposalFacilities!$A87,DFcomposition!G87:G1084)))","v":""},{"$f":"IF($A87=\"\",\"\",IF(COUNTIF(DFcomposition!$A$1:$A$999,$A87)=0,0,AVERAGEIF(DFcomposition!$A87:$A1084,DisposalFacilities!$A87,DFcomposition!H87:H1084)))","v":""},{"$f":"IF($A87=\"\",\"\",IF(COUNTIF(DFcomposition!$A$1:$A$999,$A87)=0,0,AVERAGEIF(DFcomposition!$A87:$A1084,DisposalFacilities!$A87,DFcomposition!I87:I1084)))","v":""},{"$f":"IF($A87=\"\",\"\",IF(COUNTIF(DFcomposition!$A$1:$A$999,$A87)=0,0,AVERAGEIF(DFcomposition!$A87:$A1084,DisposalFacilities!$A87,DFcomposition!J87:J1084)))","v":""},{"$f":"IF($A87=\"\",\"\",IF(COUNTIF(DFcomposition!$A$1:$A$999,$A87)=0,0,AVERAGEIF(DFcomposition!$A87:$A1084,DisposalFacilities!$A87,DFcomposition!K87:K1084)))","v":""},{"$f":"IF($A87=\"\",\"\",IF(COUNTIF(DFcomposition!$A$1:$A$999,$A87)=0,0,AVERAGEIF(DFcomposition!$A87:$A1084,DisposalFacilities!$A87,DFcomposition!L87:L1084)))","v":""},{"$f":"IF($A87=\"\",\"\",IF(COUNTIF(DFcomposition!$A$1:$A$999,$A87)=0,0,AVERAGEIF(DFcomposition!$A87:$A1084,DisposalFacilities!$A87,DFcomposition!M87:M1084)))","v":""},{"$f":"IF($A87=\"\",\"\",IF(COUNTIF(DFcomposition!$A$1:$A$999,$A87)=0,0,AVERAGEIF(DFcomposition!$A87:$A1084,DisposalFacilities!$A87,DFcomposition!N87:N1084)))","v":""}]
[null,null,null,null,null,null,null,null,null,null,null,null,"","",{"$f":"IF($A88=\"\",\"\",IF(COUNTIF(DFcomposition!$A$1:$A$999,$A88)=0,0,AVERAGEIF(DFcomposition!$A88:$A1085,DisposalFacilities!$A88,DFcomposition!C88:C1085)))","v":""},{"$f":"IF($A88=\"\",\"\",IF(COUNTIF(DFcomposition!$A$1:$A$999,$A88)=0,0,AVERAGEIF(DFcomposition!$A88:$A1085,DisposalFacilities!$A88,DFcomposition!D88:D1085)))","v":""},{"$f":"IF($A88=\"\",\"\",IF(COUNTIF(DFcomposition!$A$1:$A$999,$A88)=0,0,AVERAGEIF(DFcomposition!$A88:$A1085,DisposalFacilities!$A88,DFcomposition!E88:E1085)))","v":""},{"$f":"IF($A88=\"\",\"\",IF(COUNTIF(DFcomposition!$A$1:$A$999,$A88)=0,0,AVERAGEIF(DFcomposition!$A88:$A1085,DisposalFacilities!$A88,DFcomposition!F88:F1085)))","v":""},{"$f":"IF($A88=\"\",\"\",IF(COUNTIF(DFcomposition!$A$1:$A$999,$A88)=0,0,AVERAGEIF(DFcomposition!$A88:$A1085,DisposalFacilities!$A88,DFcomposition!G88:G1085)))","v":""},{"$f":"IF($A88=\"\",\"\",IF(COUNTIF(DFcomposition!$A$1:$A$999,$A88)=0,0,AVERAGEIF(DFcomposition!$A88:$A1085,DisposalFacilities!$A88,DFcomposition!H88:H1085)))","v":""},{"$f":"IF($A88=\"\",\"\",IF(COUNTIF(DFcomposition!$A$1:$A$999,$A88)=0,0,AVERAGEIF(DFcomposition!$A88:$A1085,DisposalFacilities!$A88,DFcomposition!I88:I1085)))","v":""},{"$f":"IF($A88=\"\",\"\",IF(COUNTIF(DFcomposition!$A$1:$A$999,$A88)=0,0,AVERAGEIF(DFcomposition!$A88:$A1085,DisposalFacilities!$A88,DFcomposition!J88:J1085)))","v":""},{"$f":"IF($A88=\"\",\"\",IF(COUNTIF(DFcomposition!$A$1:$A$999,$A88)=0,0,AVERAGEIF(DFcomposition!$A88:$A1085,DisposalFacilities!$A88,DFcomposition!K88:K1085)))","v":""},{"$f":"IF($A88=\"\",\"\",IF(COUNTIF(DFcomposition!$A$1:$A$999,$A88)=0,0,AVERAGEIF(DFcomposition!$A88:$A1085,DisposalFacilities!$A88,DFcomposition!L88:L1085)))","v":""},{"$f":"IF($A88=\"\",\"\",IF(COUNTIF(DFcomposition!$A$1:$A$999,$A88)=0,0,AVERAGEIF(DFcomposition!$A88:$A1085,DisposalFacilities!$A88,DFcomposition!M88:M1085)))","v":""},{"$f":"IF($A88=\"\",\"\",IF(COUNTIF(DFcomposition!$A$1:$A$999,$A88)=0,0,AVERAGEIF(DFcomposition!$A88:$A1085,DisposalFacilities!$A88,DFcomposition!N88:N1085)))","v":""}]
[null,null,null,null,null,null,null,null,null,null,null,null,"","",{"$f":"IF($A89=\"\",\"\",IF(COUNTIF(DFcomposition!$A$1:$A$999,$A89)=0,0,AVERAGEIF(DFcomposition!$A89:$A1086,DisposalFacilities!$A89,DFcomposition!C89:C1086)))","v":""},{"$f":"IF($A89=\"\",\"\",IF(COUNTIF(DFcomposition!$A$1:$A$999,$A89)=0,0,AVERAGEIF(DFcomposition!$A89:$A1086,DisposalFacilities!$A89,DFcomposition!D89:D1086)))","v":""},{"$f":"IF($A89=\"\",\"\",IF(COUNTIF(DFcomposition!$A$1:$A$999,$A89)=0,0,AVERAGEIF(DFcomposition!$A89:$A1086,DisposalFacilities!$A89,DFcomposition!E89:E1086)))","v":""},{"$f":"IF($A89=\"\",\"\",IF(COUNTIF(DFcomposition!$A$1:$A$999,$A89)=0,0,AVERAGEIF(DFcomposition!$A89:$A1086,DisposalFacilities!$A89,DFcomposition!F89:F1086)))","v":""},{"$f":"IF($A89=\"\",\"\",IF(COUNTIF(DFcomposition!$A$1:$A$999,$A89)=0,0,AVERAGEIF(DFcomposition!$A89:$A1086,DisposalFacilities!$A89,DFcomposition!G89:G1086)))","v":""},{"$f":"IF($A89=\"\",\"\",IF(COUNTIF(DFcomposition!$A$1:$A$999,$A89)=0,0,AVERAGEIF(DFcomposition!$A89:$A1086,DisposalFacilities!$A89,DFcomposition!H89:H1086)))","v":""},{"$f":"IF($A89=\"\",\"\",IF(COUNTIF(DFcomposition!$A$1:$A$999,$A89)=0,0,AVERAGEIF(DFcomposition!$A89:$A1086,DisposalFacilities!$A89,DFcomposition!I89:I1086)))","v":""},{"$f":"IF($A89=\"\",\"\",IF(COUNTIF(DFcomposition!$A$1:$A$999,$A89)=0,0,AVERAGEIF(DFcomposition!$A89:$A1086,DisposalFacilities!$A89,DFcomposition!J89:J1086)))","v":""},{"$f":"IF($A89=\"\",\"\",IF(COUNTIF(DFcomposition!$A$1:$A$999,$A89)=0,0,AVERAGEIF(DFcomposition!$A89:$A1086,DisposalFacilities!$A89,DFcomposition!K89:K1086)))","v":""},{"$f":"IF($A89=\"\",\"\",IF(COUNTIF(DFcomposition!$A$1:$A$999,$A89)=0,0,AVERAGEIF(DFcomposition!$A89:$A1086,DisposalFacilities!$A89,DFcomposition!L89:L1086)))","v":""},{"$f":"IF($A89=\"\",\"\",IF(COUNTIF(DFcomposition!$A$1:$A$999,$A89)=0,0,AVERAGEIF(DFcomposition!$A89:$A1086,DisposalFacilities!$A89,DFcomposition!M89:M1086)))","v":""},{"$f":"IF($A89=\"\",\"\",IF(COUNTIF(DFcomposition!$A$1:$A$999,$A89)=0,0,AVERAGEIF(DFcomposition!$A89:$A1086,DisposalFacilities!$A89,DFcomposition!N89:N1086)))","v":""}]
[null,null,null,null,null,null,null,null,null,null,null,null,"","",{"$f":"IF($A90=\"\",\"\",IF(COUNTIF(DFcomposition!$A$1:$A$999,$A90)=0,0,AVERAGEIF(DFcomposition!$A90:$A1087,DisposalFacilities!$A90,DFcomposition!C90:C1087)))","v":""},{"$f":"IF($A90=\"\",\"\",IF(COUNTIF(DFcomposition!$A$1:$A$999,$A90)=0,0,AVERAGEIF(DFcomposition!$A90:$A1087,DisposalFacilities!$A90,DFcomposition!D90:D1087)))","v":""},{"$f":"IF($A90=\"\",\"\",IF(COUNTIF(DFcomposition!$A$1:$A$999,$A90)=0,0,AVERAGEIF(DFcomposition!$A90:$A1087,DisposalFacilities!$A90,DFcomposition!E90:E1087)))","v":""},{"$f":"IF($A90=\"\",\"\",IF(COUNTIF(DFcomposition!$A$1:$A$999,$A90)=0,0,AVERAGEIF(DFcomposition!$A90:$A1087,DisposalFacilities!$A90,DFcomposition!F90:F1087)))","v":""},{"$f":"IF($A90=\"\",\"\",IF(COUNTIF(DFcomposition!$A$1:$A$999,$A90)=0,0,AVERAGEIF(DFcomposition!$A90:$A1087,DisposalFacilities!$A90,DFcomposition!G90:G1087)))","v":""},{"$f":"IF($A90=\"\",\"\",IF(COUNTIF(DFcomposition!$A$1:$A$999,$A90)=0,0,AVERAGEIF(DFcomposition!$A90:$A1087,DisposalFacilities!$A90,DFcomposition!H90:H1087)))","v":""},{"$f":"IF($A90=\"\",\"\",IF(COUNTIF(DFcomposition!$A$1:$A$999,$A90)=0,0,AVERAGEIF(DFcomposition!$A90:$A1087,DisposalFacilities!$A90,DFcomposition!I90:I1087)))","v":""},{"$f":"IF($A90=\"\",\"\",IF(COUNTIF(DFcomposition!$A$1:$A$999,$A90)=0,0,AVERAGEIF(DFcomposition!$A90:$A1087,DisposalFacilities!$A90,DFcomposition!J90:J1087)))","v":""},{"$f":"IF($A90=\"\",\"\",IF(COUNTIF(DFcomposition!$A$1:$A$999,$A90)=0,0,AVERAGEIF(DFcomposition!$A90:$A1087,DisposalFacilities!$A90,DFcomposition!K90:K1087)))","v":""},{"$f":"IF($A90=\"\",\"\",IF(COUNTIF(DFcomposition!$A$1:$A$999,$A90)=0,0,AVERAGEIF(DFcomposition!$A90:$A1087,DisposalFacilities!$A90,DFcomposition!L90:L1087)))","v":""},{"$f":"IF($A90=\"\",\"\",IF(COUNTIF(DFcomposition!$A$1:$A$999,$A90)=0,0,AVERAGEIF(DFcomposition!$A90:$A1087,DisposalFacilities!$A90,DFcomposition!M90:M1087)))","v":""},{"$f":"IF($A90=\"\",\"\",IF(COUNTIF(DFcomposition!$A$1:$A$999,$A90)=0,0,AVERAGEIF(DFcomposition!$A90:$A1087,DisposalFacilities!$A90,DFcomposition!N90:N1087)))","v":""}]
[null,null,null,null,null,null,null,null,null,null,null,null,"","",{"$f":"IF($A91=\"\",\"\",IF(COUNTIF(DFcomposition!$A$1:$A$999,$A91)=0,0,AVERAGEIF(DFcomposition!$A91:$A1088,DisposalFacilities!$A91,DFcomposition!C91:C1088)))","v":""},{"$f":"IF($A91=\"\",\"\",IF(COUNTIF(DFcomposition!$A$1:$A$999,$A91)=0,0,AVERAGEIF(DFcomposition!$A91:$A1088,DisposalFacilities!$A91,DFcomposition!D91:D1088)))","v":""},{"$f":"IF($A91=\"\",\"\",IF(COUNTIF(DFcomposition!$A$1:$A$999,$A91)=0,0,AVERAGEIF(DFcomposition!$A91:$A1088,DisposalFacilities!$A91,DFcomposition!E91:E1088)))","v":""},{"$f":"IF($A91=\"\",\"\",IF(COUNTIF(DFcomposition!$A$1:$A$999,$A91)=0,0,AVERAGEIF(DFcomposition!$A91:$A1088,DisposalFacilities!$A91,DFcomposition!F91:F1088)))","v":""},{"$f":"IF($A91=\"\",\"\",IF(COUNTIF(DFcomposition!$A$1:$A$999,$A91)=0,0,AVERAGEIF(DFcomposition!$A91:$A1088,DisposalFacilities!$A91,DFcomposition!G91:G1088)))","v":""},{"$f":"IF($A91=\"\",\"\",IF(COUNTIF(DFcomposition!$A$1:$A$999,$A91)=0,0,AVERAGEIF(DFcomposition!$A91:$A1088,DisposalFacilities!$A91,DFcomposition!H91:H1088)))","v":""},{"$f":"IF($A91=\"\",\"\",IF(COUNTIF(DFcomposition!$A$1:$A$999,$A91)=0,0,AVERAGEIF(DFcomposition!$A91:$A1088,DisposalFacilities!$A91,DFcomposition!I91:I1088)))","v":""},{"$f":"IF($A91=\"\",\"\",IF(COUNTIF(DFcomposition!$A$1:$A$999,$A91)=0,0,AVERAGEIF(DFcomposition!$A91:$A1088,DisposalFacilities!$A91,DFcomposition!J91:J1088)))","v":""},{"$f":"IF($A91=\"\",\"\",IF(COUNTIF(DFcomposition!$A$1:$A$999,$A91)=0,0,AVERAGEIF(DFcomposition!$A91:$A1088,DisposalFacilities!$A91,DFcomposition!K91:K1088)))","v":""},{"$f":"IF($A91=\"\",\"\",IF(COUNTIF(DFcomposition!$A$1:$A$999,$A91)=0,0,AVERAGEIF(DFcomposition!$A91:$A1088,DisposalFacilities!$A91,DFcomposition!L91:L1088)))","v":""},{"$f":"IF($A91=\"\",\"\",IF(COUNTIF(DFcomposition!$A$1:$A$999,$A91)=0,0,AVERAGEIF(DFcomposition!$A91:$A1088,DisposalFacilities!$A91,DFcomposition!M91:M1088)))","v":""},{"$f":"IF($A91=\"\",\"\",IF(COUNTIF(DFcomposition!$A$1:$A$999,$A91)=0,0,AVERAGEIF(DFcomposition!$A91:$A1088,DisposalFacilities!$A91,DFcomposition!N91:N1088)))","v":""}]
[null,null,null,null,null,null,null,null,null,null,null,null,"","",{"$f":"IF($A92=\"\",\"\",IF(COUNTIF(DFcomposition!$A$1:$A$999,$A92)=0,0,AVERAGEIF(DFcomposition!$A92:$A1089,DisposalFacilities!$A92,DFcomposition!C92:C1089)))","v":""},{"$f":"IF($A92=\"\",\"\",IF(COUNTIF(DFcomposition!$A$1:$A$999,$A92)=0,0,AVERAGEIF(DFcomposition!$A92:$A1089,DisposalFacilities!$A92,DFcomposition!D92:D1089)))","v":""},{"$f":"IF($A92=\"\",\"\",IF(COUNTIF(DFcomposition!$A$1:$A$999,$A92)=0,0,AVERAGEIF(DFcomposition!$A92:$A1089,DisposalFacilities!$A92,DFcomposition!E92:E1089)))","v":""},{"$f":"IF($A92=\"\",\"\",IF(COUNTIF(DFcomposition!$A$1:$A$999,$A92)=0,0,AVERAGEIF(DFcomposition!$A92:$A1089,DisposalFacilities!$A92,DFcomposition!F92:F1089)))","v":""},{"$f":"IF($A92=\"\",\"\",IF(COUNTIF(DFcomposition!$A$1:$A$999,$A92)=0,0,AVERAGEIF(DFcomposition!$A92:$A1089,DisposalFacilities!$A92,DFcomposition!G92:G1089)))","v":""},{"$f":"IF($A92=\"\",\"\",IF(COUNTIF(DFcomposition!$A$1:$A$999,$A92)=0,0,AVERAGEIF(DFcomposition!$A92:$A1089,DisposalFacilities!$A92,DFcomposition!H92:H1089)))","v":""},{"$f":"IF($A92=\"\",\"\",IF(COUNTIF(DFcomposition!$A$1:$A$999,$A92)=0,0,AVERAGEIF(DFcomposition!$A92:$A1089,DisposalFacilities!$A92,DFcomposition!I92:I1089)))","v":""},{"$f":"IF($A92=\"\",\"\",IF(COUNTIF(DFcomposition!$A$1:$A$999,$A92)=0,0,AVERAGEIF(DFcomposition!$A92:$A1089,DisposalFacilities!$A92,DFcomposition!J92:J1089)))","v":""},{"$f":"IF($A92=\"\",\"\",IF(COUNTIF(DFcomposition!$A$1:$A$999,$A92)=0,0,AVERAGEIF(DFcomposition!$A92:$A1089,DisposalFacilities!$A92,DFcomposition!K92:K1089)))","v":""},{"$f":"IF($A92=\"\",\"\",IF(COUNTIF(DFcomposition!$A$1:$A$999,$A92)=0,0,AVERAGEIF(DFcomposition!$A92:$A1089,DisposalFacilities!$A92,DFcomposition!L92:L1089)))","v":""},{"$f":"IF($A92=\"\",\"\",IF(COUNTIF(DFcomposition!$A$1:$A$999,$A92)=0,0,AVERAGEIF(DFcomposition!$A92:$A1089,DisposalFacilities!$A92,DFcomposition!M92:M1089)))","v":""},{"$f":"IF($A92=\"\",\"\",IF(COUNTIF(DFcomposition!$A$1:$A$999,$A92)=0,0,AVERAGEIF(DFcomposition!$A92:$A1089,DisposalFacilities!$A92,DFcomposition!N92:N1089)))","v":""}]
[null,null,null,null,null,null,null,null,null,null,null,null,"","",{"$f":"IF($A93=\"\",\"\",IF(COUNTIF(DFcomposition!$A$1:$A$999,$A93)=0,0,AVERAGEIF(DFcomposition!$A93:$A1090,DisposalFacilities!$A93,DFcomposition!C93:C1090)))","v":""},{"$f":"IF($A93=\"\",\"\",IF(COUNTIF(DFcomposition!$A$1:$A$999,$A93)=0,0,AVERAGEIF(DFcomposition!$A93:$A1090,DisposalFacilities!$A93,DFcomposition!D93:D1090)))","v":""},{"$f":"IF($A93=\"\",\"\",IF(COUNTIF(DFcomposition!$A$1:$A$999,$A93)=0,0,AVERAGEIF(DFcomposition!$A93:$A1090,DisposalFacilities!$A93,DFcomposition!E93:E1090)))","v":""},{"$f":"IF($A93=\"\",\"\",IF(COUNTIF(DFcomposition!$A$1:$A$999,$A93)=0,0,AVERAGEIF(DFcomposition!$A93:$A1090,DisposalFacilities!$A93,DFcomposition!F93:F1090)))","v":""},{"$f":"IF($A93=\"\",\"\",IF(COUNTIF(DFcomposition!$A$1:$A$999,$A93)=0,0,AVERAGEIF(DFcomposition!$A93:$A1090,DisposalFacilities!$A93,DFcomposition!G93:G1090)))","v":""},{"$f":"IF($A93=\"\",\"\",IF(COUNTIF(DFcomposition!$A$1:$A$999,$A93)=0,0,AVERAGEIF(DFcomposition!$A93:$A1090,DisposalFacilities!$A93,DFcomposition!H93:H1090)))","v":""},{"$f":"IF($A93=\"\",\"\",IF(COUNTIF(DFcomposition!$A$1:$A$999,$A93)=0,0,AVERAGEIF(DFcomposition!$A93:$A1090,DisposalFacilities!$A93,DFcomposition!I93:I1090)))","v":""},{"$f":"IF($A93=\"\",\"\",IF(COUNTIF(DFcomposition!$A$1:$A$999,$A93)=0,0,AVERAGEIF(DFcomposition!$A93:$A1090,DisposalFacilities!$A93,DFcomposition!J93:J1090)))","v":""},{"$f":"IF($A93=\"\",\"\",IF(COUNTIF(DFcomposition!$A$1:$A$999,$A93)=0,0,AVERAGEIF(DFcomposition!$A93:$A1090,DisposalFacilities!$A93,DFcomposition!K93:K1090)))","v":""},{"$f":"IF($A93=\"\",\"\",IF(COUNTIF(DFcomposition!$A$1:$A$999,$A93)=0,0,AVERAGEIF(DFcomposition!$A93:$A1090,DisposalFacilities!$A93,DFcomposition!L93:L1090)))","v":""},{"$f":"IF($A93=\"\",\"\",IF(COUNTIF(DFcomposition!$A$1:$A$999,$A93)=0,0,AVERAGEIF(DFcomposition!$A93:$A1090,DisposalFacilities!$A93,DFcomposition!M93:M1090)))","v":""},{"$f":"IF($A93=\"\",\"\",IF(COUNTIF(DFcomposition!$A$1:$A$999,$A93)=0,0,AVERAGEIF(DFcomposition!$A93:$A1090,DisposalFacilities!$A93,DFcomposition!N93:N1090)))","v":""}]
[null,null,null,null,null,null,null,null,null,null,null,null,"","",{"$f":"IF($A94=\"\",\"\",IF(COUNTIF(DFcomposition!$A$1:$A$999,$A94)=0,0,AVERAGEIF(DFcomposition!$A94:$A1091,DisposalFacilities!$A94,DFcomposition!C94:C1091)))","v":""},{"$f":"IF($A94=\"\",\"\",IF(COUNTIF(DFcomposition!$A$1:$A$999,$A94)=0,0,AVERAGEIF(DFcomposition!$A94:$A1091,DisposalFacilities!$A94,DFcomposition!D94:D1091)))","v":""},{"$f":"IF($A94=\"\",\"\",IF(COUNTIF(DFcomposition!$A$1:$A$999,$A94)=0,0,AVERAGEIF(DFcomposition!$A94:$A1091,DisposalFacilities!$A94,DFcomposition!E94:E1091)))","v":""},{"$f":"IF($A94=\"\",\"\",IF(COUNTIF(DFcomposition!$A$1:$A$999,$A94)=0,0,AVERAGEIF(DFcomposition!$A94:$A1091,DisposalFacilities!$A94,DFcomposition!F94:F1091)))","v":""},{"$f":"IF($A94=\"\",\"\",IF(COUNTIF(DFcomposition!$A$1:$A$999,$A94)=0,0,AVERAGEIF(DFcomposition!$A94:$A1091,DisposalFacilities!$A94,DFcomposition!G94:G1091)))","v":""},{"$f":"IF($A94=\"\",\"\",IF(COUNTIF(DFcomposition!$A$1:$A$999,$A94)=0,0,AVERAGEIF(DFcomposition!$A94:$A1091,DisposalFacilities!$A94,DFcomposition!H94:H1091)))","v":""},{"$f":"IF($A94=\"\",\"\",IF(COUNTIF(DFcomposition!$A$1:$A$999,$A94)=0,0,AVERAGEIF(DFcomposition!$A94:$A1091,DisposalFacilities!$A94,DFcomposition!I94:I1091)))","v":""},{"$f":"IF($A94=\"\",\"\",IF(COUNTIF(DFcomposition!$A$1:$A$999,$A94)=0,0,AVERAGEIF(DFcomposition!$A94:$A1091,DisposalFacilities!$A94,DFcomposition!J94:J1091)))","v":""},{"$f":"IF($A94=\"\",\"\",IF(COUNTIF(DFcomposition!$A$1:$A$999,$A94)=0,0,AVERAGEIF(DFcomposition!$A94:$A1091,DisposalFacilities!$A94,DFcomposition!K94:K1091)))","v":""},{"$f":"IF($A94=\"\",\"\",IF(COUNTIF(DFcomposition!$A$1:$A$999,$A94)=0,0,AVERAGEIF(DFcomposition!$A94:$A1091,DisposalFacilities!$A94,DFcomposition!L94:L1091)))","v":""},{"$f":"IF($A94=\"\",\"\",IF(COUNTIF(DFcomposition!$A$1:$A$999,$A94)=0,0,AVERAGEIF(DFcomposition!$A94:$A1091,DisposalFacilities!$A94,DFcomposition!M94:M1091)))","v":""},{"$f":"IF($A94=\"\",\"\",IF(COUNTIF(DFcomposition!$A$1:$A$999,$A94)=0,0,AVERAGEIF(DFcomposition!$A94:$A1091,DisposalFacilities!$A94,DFcomposition!N94:N1091)))","v":""}]
[null,null,null,null,null,null,null,null,null,null,null,null,"","",{"$f":"IF($A95=\"\",\"\",IF(COUNTIF(DFcomposition!$A$1:$A$999,$A95)=0,0,AVERAGEIF(DFcomposition!$A95:$A1092,DisposalFacilities!$A95,DFcomposition!C95:C1092)))","v":""},{"$f":"IF($A95=\"\",\"\",IF(COUNTIF(DFcomposition!$A$1:$A$999,$A95)=0,0,AVERAGEIF(DFcomposition!$A95:$A1092,DisposalFacilities!$A95,DFcomposition!D95:D1092)))","v":""},{"$f":"IF($A95=\"\",\"\",IF(COUNTIF(DFcomposition!$A$1:$A$999,$A95)=0,0,AVERAGEIF(DFcomposition!$A95:$A1092,DisposalFacilities!$A95,DFcomposition!E95:E1092)))","v":""},{"$f":"IF($A95=\"\",\"\",IF(COUNTIF(DFcomposition!$A$1:$A$999,$A95)=0,0,AVERAGEIF(DFcomposition!$A95:$A1092,DisposalFacilities!$A95,DFcomposition!F95:F1092)))","v":""},{"$f":"IF($A95=\"\",\"\",IF(COUNTIF(DFcomposition!$A$1:$A$999,$A95)=0,0,AVERAGEIF(DFcomposition!$A95:$A1092,DisposalFacilities!$A95,DFcomposition!G95:G1092)))","v":""},{"$f":"IF($A95=\"\",\"\",IF(COUNTIF(DFcomposition!$A$1:$A$999,$A95)=0,0,AVERAGEIF(DFcomposition!$A95:$A1092,DisposalFacilities!$A95,DFcomposition!H95:H1092)))","v":""},{"$f":"IF($A95=\"\",\"\",IF(COUNTIF(DFcomposition!$A$1:$A$999,$A95)=0,0,AVERAGEIF(DFcomposition!$A95:$A1092,DisposalFacilities!$A95,DFcomposition!I95:I1092)))","v":""},{"$f":"IF($A95=\"\",\"\",IF(COUNTIF(DFcomposition!$A$1:$A$999,$A95)=0,0,AVERAGEIF(DFcomposition!$A95:$A1092,DisposalFacilities!$A95,DFcomposition!J95:J1092)))","v":""},{"$f":"IF($A95=\"\",\"\",IF(COUNTIF(DFcomposition!$A$1:$A$999,$A95)=0,0,AVERAGEIF(DFcomposition!$A95:$A1092,DisposalFacilities!$A95,DFcomposition!K95:K1092)))","v":""},{"$f":"IF($A95=\"\",\"\",IF(COUNTIF(DFcomposition!$A$1:$A$999,$A95)=0,0,AVERAGEIF(DFcomposition!$A95:$A1092,DisposalFacilities!$A95,DFcomposition!L95:L1092)))","v":""},{"$f":"IF($A95=\"\",\"\",IF(COUNTIF(DFcomposition!$A$1:$A$999,$A95)=0,0,AVERAGEIF(DFcomposition!$A95:$A1092,DisposalFacilities!$A95,DFcomposition!M95:M1092)))","v":""},{"$f":"IF($A95=\"\",\"\",IF(COUNTIF(DFcomposition!$A$1:$A$999,$A95)=0,0,AVERAGEIF(DFcomposition!$A95:$A1092,DisposalFacilities!$A95,DFcomposition!N95:N1092)))","v":""}]
[null,null,null,null,null,null,null,null,null,null,null,null,"","",{"$f":"IF($A96=\"\",\"\",IF(COUNTIF(DFcomposition!$A$1:$A$999,$A96)=0,0,AVERAGEIF(DFcomposition!$A96:$A1093,DisposalFacilities!$A96,DFcomposition!C96:C1093)))","v":""},{"$f":"IF($A96=\"\",\"\",IF(COUNTIF(DFcomposition!$A$1:$A$999,$A96)=0,0,AVERAGEIF(DFcomposition!$A96:$A1093,DisposalFacilities!$A96,DFcomposition!D96:D1093)))","v":""},{"$f":"IF($A96=\"\",\"\",IF(COUNTIF(DFcomposition!$A$1:$A$999,$A96)=0,0,AVERAGEIF(DFcomposition!$A96:$A1093,DisposalFacilities!$A96,DFcomposition!E96:E1093)))","v":""},{"$f":"IF($A96=\"\",\"\",IF(COUNTIF(DFcomposition!$A$1:$A$999,$A96)=0,0,AVERAGEIF(DFcomposition!$A96:$A1093,DisposalFacilities!$A96,DFcomposition!F96:F1093)))","v":""},{"$f":"IF($A96=\"\",\"\",IF(COUNTIF(DFcomposition!$A$1:$A$999,$A96)=0,0,AVERAGEIF(DFcomposition!$A96:$A1093,DisposalFacilities!$A96,DFcomposition!G96:G1093)))","v":""},{"$f":"IF($A96=\"\",\"\",IF(COUNTIF(DFcomposition!$A$1:$A$999,$A96)=0,0,AVERAGEIF(DFcomposition!$A96:$A1093,DisposalFacilities!$A96,DFcomposition!H96:H1093)))","v":""},{"$f":"IF($A96=\"\",\"\",IF(COUNTIF(DFcomposition!$A$1:$A$999,$A96)=0,0,AVERAGEIF(DFcomposition!$A96:$A1093,DisposalFacilities!$A96,DFcomposition!I96:I1093)))","v":""},{"$f":"IF($A96=\"\",\"\",IF(COUNTIF(DFcomposition!$A$1:$A$999,$A96)=0,0,AVERAGEIF(DFcomposition!$A96:$A1093,DisposalFacilities!$A96,DFcomposition!J96:J1093)))","v":""},{"$f":"IF($A96=\"\",\"\",IF(COUNTIF(DFcomposition!$A$1:$A$999,$A96)=0,0,AVERAGEIF(DFcomposition!$A96:$A1093,DisposalFacilities!$A96,DFcomposition!K96:K1093)))","v":""},{"$f":"IF($A96=\"\",\"\",IF(COUNTIF(DFcomposition!$A$1:$A$999,$A96)=0,0,AVERAGEIF(DFcomposition!$A96:$A1093,DisposalFacilities!$A96,DFcomposition!L96:L1093)))","v":""},{"$f":"IF($A96=\"\",\"\",IF(COUNTIF(DFcomposition!$A$1:$A$999,$A96)=0,0,AVERAGEIF(DFcomposition!$A96:$A1093,DisposalFacilities!$A96,DFcomposition!M96:M1093)))","v":""},{"$f":"IF($A96=\"\",\"\",IF(COUNTIF(DFcomposition!$A$1:$A$999,$A96)=0,0,AVERAGEIF(DFcomposition!$A96:$A1093,DisposalFacilities!$A96,DFcomposition!N96:N1093)))","v":""}]
[null,null,null,null,null,null,null,null,null,null,null,null,"","",{"$f":"IF($A97=\"\",\"\",IF(COUNTIF(DFcomposition!$A$1:$A$999,$A97)=0,0,AVERAGEIF(DFcomposition!$A97:$A1094,DisposalFacilities!$A97,DFcomposition!C97:C1094)))","v":""},{"$f":"IF($A97=\"\",\"\",IF(COUNTIF(DFcomposition!$A$1:$A$999,$A97)=0,0,AVERAGEIF(DFcomposition!$A97:$A1094,DisposalFacilities!$A97,DFcomposition!D97:D1094)))","v":""},{"$f":"IF($A97=\"\",\"\",IF(COUNTIF(DFcomposition!$A$1:$A$999,$A97)=0,0,AVERAGEIF(DFcomposition!$A97:$A1094,DisposalFacilities!$A97,DFcomposition!E97:E1094)))","v":""},{"$f":"IF($A97=\"\",\"\",IF(COUNTIF(DFcomposition!$A$1:$A$999,$A97)=0,0,AVERAGEIF(DFcomposition!$A97:$A1094,DisposalFacilities!$A97,DFcomposition!F97:F1094)))","v":""},{"$f":"IF($A97=\"\",\"\",IF(COUNTIF(DFcomposition!$A$1:$A$999,$A97)=0,0,AVERAGEIF(DFcomposition!$A97:$A1094,DisposalFacilities!$A97,DFcomposition!G97:G1094)))","v":""},{"$f":"IF($A97=\"\",\"\",IF(COUNTIF(DFcomposition!$A$1:$A$999,$A97)=0,0,AVERAGEIF(DFcomposition!$A97:$A1094,DisposalFacilities!$A97,DFcomposition!H97:H1094)))","v":""},{"$f":"IF($A97=\"\",\"\",IF(COUNTIF(DFcomposition!$A$1:$A$999,$A97)=0,0,AVERAGEIF(DFcomposition!$A97:$A1094,DisposalFacilities!$A97,DFcomposition!I97:I1094)))","v":""},{"$f":"IF($A97=\"\",\"\",IF(COUNTIF(DFcomposition!$A$1:$A$999,$A97)=0,0,AVERAGEIF(DFcomposition!$A97:$A1094,DisposalFacilities!$A97,DFcomposition!J97:J1094)))","v":""},{"$f":"IF($A97=\"\",\"\",IF(COUNTIF(DFcomposition!$A$1:$A$999,$A97)=0,0,AVERAGEIF(DFcomposition!$A97:$A1094,DisposalFacilities!$A97,DFcomposition!K97:K1094)))","v":""},{"$f":"IF($A97=\"\",\"\",IF(COUNTIF(DFcomposition!$A$1:$A$999,$A97)=0,0,AVERAGEIF(DFcomposition!$A97:$A1094,DisposalFacilities!$A97,DFcomposition!L97:L1094)))","v":""},{"$f":"IF($A97=\"\",\"\",IF(COUNTIF(DFcomposition!$A$1:$A$999,$A97)=0,0,AVERAGEIF(DFcomposition!$A97:$A1094,DisposalFacilities!$A97,DFcomposition!M97:M1094)))","v":""},{"$f":"IF($A97=\"\",\"\",IF(COUNTIF(DFcomposition!$A$1:$A$999,$A97)=0,0,AVERAGEIF(DFcomposition!$A97:$A1094,DisposalFacilities!$A97,DFcomposition!N97:N1094)))","v":""}]
[null,null,null,null,null,null,null,null,null,null,null,null,"","",{"$f":"IF($A98=\"\",\"\",IF(COUNTIF(DFcomposition!$A$1:$A$999,$A98)=0,0,AVERAGEIF(DFcomposition!$A98:$A1095,DisposalFacilities!$A98,DFcomposition!C98:C1095)))","v":""},{"$f":"IF($A98=\"\",\"\",IF(COUNTIF(DFcomposition!$A$1:$A$999,$A98)=0,0,AVERAGEIF(DFcomposition!$A98:$A1095,DisposalFacilities!$A98,DFcomposition!D98:D1095)))","v":""},{"$f":"IF($A98=\"\",\"\",IF(COUNTIF(DFcomposition!$A$1:$A$999,$A98)=0,0,AVERAGEIF(DFcomposition!$A98:$A1095,DisposalFacilities!$A98,DFcomposition!E98:E1095)))","v":""},{"$f":"IF($A98=\"\",\"\",IF(COUNTIF(DFcomposition!$A$1:$A$999,$A98)=0,0,AVERAGEIF(DFcomposition!$A98:$A1095,DisposalFacilities!$A98,DFcomposition!F98:F1095)))","v":""},{"$f":"IF($A98=\"\",\"\",IF(COUNTIF(DFcomposition!$A$1:$A$999,$A98)=0,0,AVERAGEIF(DFcomposition!$A98:$A1095,DisposalFacilities!$A98,DFcomposition!G98:G1095)))","v":""},{"$f":"IF($A98=\"\",\"\",IF(COUNTIF(DFcomposition!$A$1:$A$999,$A98)=0,0,AVERAGEIF(DFcomposition!$A98:$A1095,DisposalFacilities!$A98,DFcomposition!H98:H1095)))","v":""},{"$f":"IF($A98=\"\",\"\",IF(COUNTIF(DFcomposition!$A$1:$A$999,$A98)=0,0,AVERAGEIF(DFcomposition!$A98:$A1095,DisposalFacilities!$A98,DFcomposition!I98:I1095)))","v":""},{"$f":"IF($A98=\"\",\"\",IF(COUNTIF(DFcomposition!$A$1:$A$999,$A98)=0,0,AVERAGEIF(DFcomposition!$A98:$A1095,DisposalFacilities!$A98,DFcomposition!J98:J1095)))","v":""},{"$f":"IF($A98=\"\",\"\",IF(COUNTIF(DFcomposition!$A$1:$A$999,$A98)=0,0,AVERAGEIF(DFcomposition!$A98:$A1095,DisposalFacilities!$A98,DFcomposition!K98:K1095)))","v":""},{"$f":"IF($A98=\"\",\"\",IF(COUNTIF(DFcomposition!$A$1:$A$999,$A98)=0,0,AVERAGEIF(DFcomposition!$A98:$A1095,DisposalFacilities!$A98,DFcomposition!L98:L1095)))","v":""},{"$f":"IF($A98=\"\",\"\",IF(COUNTIF(DFcomposition!$A$1:$A$999,$A98)=0,0,AVERAGEIF(DFcomposition!$A98:$A1095,DisposalFacilities!$A98,DFcomposition!M98:M1095)))","v":""},{"$f":"IF($A98=\"\",\"\",IF(COUNTIF(DFcomposition!$A$1:$A$999,$A98)=0,0,AVERAGEIF(DFcomposition!$A98:$A1095,DisposalFacilities!$A98,DFcomposition!N98:N1095)))","v":""}]
[null,null,null,null,null,null,null,null,null,null,null,null,"","",{"$f":"IF($A99=\"\",\"\",IF(COUNTIF(DFcomposition!$A$1:$A$999,$A99)=0,0,AVERAGEIF(DFcomposition!$A99:$A1096,DisposalFacilities!$A99,DFcomposition!C99:C1096)))","v":""},{"$f":"IF($A99=\"\",\"\",IF(COUNTIF(DFcomposition!$A$1:$A$999,$A99)=0,0,AVERAGEIF(DFcomposition!$A99:$A1096,DisposalFacilities!$A99,DFcomposition!D99:D1096)))","v":""},{"$f":"IF($A99=\"\",\"\",IF(COUNTIF(DFcomposition!$A$1:$A$999,$A99)=0,0,AVERAGEIF(DFcomposition!$A99:$A1096,DisposalFacilities!$A99,DFcomposition!E99:E1096)))","v":""},{"$f":"IF($A99=\"\",\"\",IF(COUNTIF(DFcomposition!$A$1:$A$999,$A99)=0,0,AVERAGEIF(DFcomposition!$A99:$A1096,DisposalFacilities!$A99,DFcomposition!F99:F1096)))","v":""},{"$f":"IF($A99=\"\",\"\",IF(COUNTIF(DFcomposition!$A$1:$A$999,$A99)=0,0,AVERAGEIF(DFcomposition!$A99:$A1096,DisposalFacilities!$A99,DFcomposition!G99:G1096)))","v":""},{"$f":"IF($A99=\"\",\"\",IF(COUNTIF(DFcomposition!$A$1:$A$999,$A99)=0,0,AVERAGEIF(DFcomposition!$A99:$A1096,DisposalFacilities!$A99,DFcomposition!H99:H1096)))","v":""},{"$f":"IF($A99=\"\",\"\",IF(COUNTIF(DFcomposition!$A$1:$A$999,$A99)=0,0,AVERAGEIF(DFcomposition!$A99:$A1096,DisposalFacilities!$A99,DFcomposition!I99:I1096)))","v":""},{"$f":"IF($A99=\"\",\"\",IF(COUNTIF(DFcomposition!$A$1:$A$999,$A99)=0,0,AVERAGEIF(DFcomposition!$A99:$A1096,DisposalFacilities!$A99,DFcomposition!J99:J1096)))","v":""},{"$f":"IF($A99=\"\",\"\",IF(COUNTIF(DFcomposition!$A$1:$A$999,$A99)=0,0,AVERAGEIF(DFcomposition!$A99:$A1096,DisposalFacilities!$A99,DFcomposition!K99:K1096)))","v":""},{"$f":"IF($A99=\"\",\"\",IF(COUNTIF(DFcomposition!$A$1:$A$999,$A99)=0,0,AVERAGEIF(DFcomposition!$A99:$A1096,DisposalFacilities!$A99,DFcomposition!L99:L1096)))","v":""},{"$f":"IF($A99=\"\",\"\",IF(COUNTIF(DFcomposition!$A$1:$A$999,$A99)=0,0,AVERAGEIF(DFcomposition!$A99:$A1096,DisposalFacilities!$A99,DFcomposition!M99:M1096)))","v":""},{"$f":"IF($A99=\"\",\"\",IF(COUNTIF(DFcomposition!$A$1:$A$999,$A99)=0,0,AVERAGEIF(DFcomposition!$A99:$A1096,DisposalFacilities!$A99,DFcomposition!N99:N1096)))","v":""}]
[null,null,null,null,null,null,null,null,null,null,null,null,"",""]
[null,null,null,null,null,null,null,null,null,null,null,null,"",""]
[null,null,null,null,null,null,null,null,null,null,null,null,"",""]
[null,null,null,null,null,null,null,null,null,null,null,null,"",""]
[null,null,null,null,null,null,null,null,null,null,null,null,"",""]
[null,null,null,null,null,null,null,null,null,null,null,null,"",""]
[null,null,null,null,null,null,null,null,null,null,null,null,"",""]
[null,null,null,null,null,null,null,null,null,null,null,null,"",""]
[null,null,null,null,null,null,null,null,null,null,null,null,"",""]
[null,null,null,null,null,null,null,null,null,null,null,null,"",""]
[null,null,null,null,null,null,null,null,null,null,null,null,"",""]
[null,null,null,null,null,null,null,null,null,null,null,null,"",""]
[null,null,null,null,null,null,null,null,null,null,null,null,"",""]
[null,null,null,null,null,null,null,null,null,null,null,null,"",""]
[null,null,null,null,null,null,null,null,null,null,null,null,"",""]
[null,null,null,null,null,null,null,null,null,null,null,null,"",""]
[null,null,null,null,null,null,null,null,null,null,null,null,"",""]
[null,null,null,null,null,null,null,null,null,null,null,null,"",""]
[null,null,null,null,null,null,null,null,null,null,null,null,"",""]
[null,null,null,null,null,null,null,null,null,null,null,null,"",""]
[null,null,null,null,null,null,null,null,null,null,null,null,"",""]
[null,null,null,null,null,null,null,null,null,null,null,null,"",""]
[null,null,null,null,null,null,null,null,null,null,null,null,"",""]
[null,null,null,null,null,null,null,null,null,null,null,null,"",""]
[null,null,null,null,null,null,null,null,null,null,null,null,"",""]
[null,null,null,null,null,null,null,null,null,null,null,null,"",""]
[null,null,null,null,null,null,null,null,null,null,null,null,"",""]
[null,null,null,null,null,null,null,null,null,null,null,null,"",""]
[null,null,null,null,null,null,null,null,null,null,null,null,"",""]
[null,null,null,null,null,null,null,null,null,null,null,null,"",""]
[null,null,null,null,null,null,null,null,null,null,null,null,"",""]
[null,null,null,null,null,null,null,null,null,null,null,null,"",""]
[null,null,null,null,null,null,null,null,null,null,null,null,"",""]
[null,null,null,null,null,null,null,null,null,null,null,null,"",""]
[null,null,null,null,null,null,null,null,null,null,null,null,"",""]
[null,null,null,null,null,null,null,null,null,null,null,null,"",""]
[null,null,null,null,null,null,null,null,null,null,null,null,"",""]
[null,null,null,null,null,null,null,null,null,null,null,null,"",""]
[null,null,null,null,null,null,null,null,null,null,null,null,"",""]
[null,null,null,null,null,null,null,null,null,null,null,null,"",""]
[null,null,null,null,null,null,null,null,null,null,null,null,"",""]
[null,null,null,null,null,null,null,null,null,null,null,null,"",""]
[null,null,null,null,null,null,null,null,null,null,null,null,"",""]
[null,null,null,null,null,null,null,null,null,null,null,null,{"$f":"IF(A143=\"\",\"\",I143-(J143*K143/1000))","v":""},{"$f":"IF(A143=\"\",\"\",IF(H143>3,0,M143))","v":""}]
[null,null,null,null,null,null,null,null,null,null,null,null,"",""]
[null,null,null,null,null,null,null,null,null,null,null,null,"",""]
[null,null,null,null,null,null,null,null,null,null,null,null,"",""]
[null,null,null,null,null,null,null,null,null,null,null,null,"",""]
[null,null,null,null,null,null,null,null,null,null,null,null,"",""]
[null,null,null,null,null,null,null,null,null,null,null,null,"",""]
[null,null,null,null,null,null,null,null,null,null,null,null,"",""]
[null,null,null,null,null,null,null,null,null,null,null,null,"",""]
[null,null,null,null,null,null,null,null,null,null,null,null,"",""]
[null,null,null,null,null,null,null,null,null,null,null,null,"",""]
[null,null,null,null,null,null,null,null,null,null,null,null,"",""]
[null,null,null,null,null,null,null,null,null,null,null,null,"",""]
[null,null,null,null,null,null,null,null,null,null,null,null,"",""]
[null,null,null,null,null,null,null,null,null,null,null,null,"",""]
[null,null,null,null,null,null,null,null,null,null,null,null,"",""]
[null,null,null,null,null,null,null,null,null,null,null,null,"",""]
[null,null,null,null,null,null,null,null,null,null,null,null,"",""]
[null,null,null,null,null,null,null,null,null,null,null,null,"",""]
[null,null,null,null,null,null,null,null,null,null,null,null,"",""]
[null,null,null,null,null,null,null,null,null,null,null,null,"",""]
[null,null,null,null,null,null,null,null,null,null,null,null,"",""]
[null,null,null,null,null,null,null,null,null,null,null,null,"",""]
[null,null,null,null,null,null,null,null,null,null,null,null,"",""]
[null,null,null,null,null,null,null,null,null,null,null,null,"",""]
[null,null,null,null,null,null,null,null,null,null,null,null,"",""]
[null,null,null,null,null,null,null,null,null,null,null,null,"",""]
[null,null,null,null,null,null,null,null,null,null,null,null,"",""]
[null,null,null,null,null,null,null,null,null,null,null,null,"",""]
[null,null,null,null,null,null,null,null,null,null,null,null,"",""]
[null,null,null,null,null,null,null,null,null,null,null,null,"",""]
[null,null,null,null,null,null,null,null,null,null,null,null,"",""]
[null,null,null,null,null,null,null,null,null,null,null,null,"",""]
[null,null,null,null,null,null,null,null,null,null,null,null,"",""]
[null,null,null,null,null,null,null,null,null,null,null,null,"",""]
[null,null,null,null,null,null,null,null,null,null,null,null,"",""]
[null,null,null,null,null,null,null,null,null,null,null,null,"",""]
[null,null,null,null,null,null,null,null,null,null,null,null,"",""]
[null,null,null,null,null,null,null,null,null,null,null,null,"",""]
[null,null,null,null,null,null,null,null,null,null,null,null,"",""]
[null,null,null,null,null,null,null,null,null,null,null,null,"",""]
[null,null,null,null,null,null,null,null,null,null,null,null,"",""]
[null,null,null,null,null,null,null,null,null,null,null,null,"",""]
[null,null,null,null,null,null,null,null,null,null,null,null,"",""]
[null,null,null,null,null,null,null,null,null,null,null,null,"",""]
[null,null,null,null,null,null,null,null,null,null,null,null,"",""]
[null,null,null,null,null,null,null,null,null,null,null,null,"",""]
[null,null,null,null,null,null,null,null,null,null,null,null,"",""]
[null,null,null,null,null,null,null,null,null,null,null,null,"",""]
[null,null,null,null,null,null,null,null,null,null,null,null,"",""]
[null,null,null,null,null,null,null,null,null,null,null,null,"",""]
[null,null,null,null,null,null,null,null,null,null,null,null,"",""]
[null,null,null,null,null,null,null,null,null,null,null,null,"",""]
[null,null,null,null,null,null,null,null,null,null,null,null,"",""]
[null,null,null,null,null,null,null,null,null,null,null,null,"",""]
[null,null,null,null,null,null,null,null,null,null,null,null,"",""]
[null,null,null,null,null,null,null,null,null,null,null,null,"",""]
[null,null,null,null,null,null,null,null,null,null,null,null,"",""]
[null,null,null,null,null,null,null,null,null,null,null,null,"",""]
[null,null,null,null,null,null,null,null,null,null,null,null,"",""]
[null,null,null,null,null,null,null,null,null,null,null,null,"",""]
[null,null,null,null,null,null,null,null,null,null,null,null,"",""]
[null,null,null,null,null,null,null,null,null,null,null,null,"",""]
[null,null,null,null,null,null,null,null,null,null,null,null,"",""]
[null,null,null,null,null,null,null,null,null,null,null,null,{"$f":"IF(A207=\"\",\"\",I207-(J207*K207/1000))","v":""},{"$f":"IF(A207=\"\",\"\",IF(H207>3,0,M207))","v":""}]
[null,null,null,null,null,null,null,null,null,null,null,null,"",""]
[null,null,null,null,null,null,null,null,null,null,null,null,"",""]
[null,null,null,null,null,null,null,null,null,null,null,null,"",""]
[null,null,null,null,null,null,null,null,null,null,null,null,"",""]
[null,null,null,null,null,null,null,null,null,null,null,null,"",""]
[null,null,null,null,null,null,null,null,null,null,null,null,"",""]
[null,null,null,null,null,null,null,null,null,null,null,null,"",""]
[null,null,null,null,null,null,null,null,null,null,null,null,"",""]
[null,null,null,null,null,null,null,null,null,null,null,null,"",""]
[null,null,null,null,null,null,null,null,null,null,null,null,"",""]
[null,null,null,null,null,null,null,null,null,null,null,null,"",""]
[null,null,null,null,null,null,null,null,null,null,null,null,"",""]
[null,null,null,null,null,null,null,null,null,null,null,null,"",""]
[null,null,null,null,null,null,null,null,null,null,null,null,"",""]
[null,null,null,null,null,null,null,null,null,null,null,null,"",""]
[null,null,null,null,null,null,null,null,null,null,null,null,"",""]
[null,null,null,null,null,null,null,null,null,null,null,null,"",""]
[null,null,null,null,null,null,null,null,null,null,null,null,"",""]
[null,null,null,null,null,null,null,null,null,null,null,null,"",""]
[null,null,null,null,null,null,null,null,null,null,null,null,"",""]
[null,null,null,null,null,null,null,null,null,null,null,null,"",""]
[null,null,null,null,null,null,null,null,null,null,null,null,"",""]
[null,null,null,null,null,null,null,null,null,null,null,null,"",""]
[null,null,null,null,null,null,null,null,null,null,null,null,"",""]
[null,null,null,null,null,null,null,null,null,null,null,null,"",""]
[null,null,null,null,null,null,null,null,null,null,null,null,"",""]
[null,null,null,null,null,null,null,null,null,null,null,null,"",""]
[null,null,null,null,null,null,null,null,null,null,null,null,"",""]
[null,null,null,null,null,null,null,null,null,null,null,null,"",""]
[null,null,null,null,null,null,null,null,null,null,null,null,"",""]
[null,null,null,null,null,null,null,null,null,null,null,null,"",""]
[null,null,null,null,null,null,null,null,null,null,null,null,"",""]
[null,null,null,null,null,null,null,null,null,null,null,null,"",""]
[null,null,null,null,null,null,null,null,null,null,null,null,"",""]
[null,null,null,null,null,null,null,null,null,null,null,null,"",""]
[null,null,null,null,null,null,null,null,null,null,null,null,"",""]
[null,null,null,null,null,null,null,null,null,null,null,null,"",""]
[null,null,null,null,null,null,null,null,null,null,null,null,"",""]
[null,null,null,null,null,null,null,null,null,null,null,null,"",""]
[null,null,null,null,null,null,null,null,null,null,null,null,"",""]
[null,null,null,null,null,null,null,null,null,null,null,null,"",""]
[null,null,null,null,null,null,null,null,null,null,null,null,"",""]
[null,null,null,null,null,null,null,null,null,null,null,null,"",""]
[null,null,null,null,null,null,null,null,null,null,null,null,"",""]
[null,null,null,null,null,null,null,null,null,null,null,null,"",""]
[null,null,null,null,null,null,null,null,null,null,null,null,"",""]
[null,null,null,null,null,null,null,null,null,null,null,null,"",""]
[null,null,null,null,null,null,null,null,null,null,null,null,"",""]
[null,null,null,null,null,null,null,null,null,null,null,null,"",""]
[null,null,null,null,null,null,null,null,null,null,null,null,"",""]
[null,null,null,null,null,null,null,null,null,null,null,null,"",""]
[null,null,null,null,null,null,null,null,null,null,null,null,"",""]
[null,null,null,null,null,null,null,null,null,null,null,null,"",""]
[null,null,null,null,null,null,null,null,null,null,null,null,"",""]
[null,null,null,null,null,null,null,null,null,null,null,null,"",""]
[null,null,null,null,null,null,null,null,null,null,null,null,"",""]
[null,null,null,null,null,null,null,null,null,null,null,null,"",""]
[null,null,null,null,null,null,null,null,null,null,null,null,"",""]
[null,null,null,null,null,null,null,null,null,null,null,null,"",""]
[null,null,null,null,null,null,null,null,null,null,null,null,"",""]
[null,null,null,null,null,null,null,null,null,null,null,null,"",""]
[null,null,null,null,null,null,null,null,null,null,null,null,"",""]
[null,null,null,null,null,null,null,null,null,null,null,null,"",""]
[null,null,null,null,null,null,null,null,null,null,null,null,{"$f":"IF(A271=\"\",\"\",I271-(J271*K271/1000))","v":""},{"$f":"IF(A271=\"\",\"\",IF(H271>3,0,M271))","v":""}]
[null,null,null,null,null,null,null,null,null,null,null,null,"",""]
[null,null,null,null,null,null,null,null,null,null,null,null,"",""]
[null,null,null,null,null,null,null,null,null,null,null,null,"",""]
[null,null,null,null,null,null,null,null,null,null,null,null,"",""]
[null,null,null,null,null,null,null,null,null,null,null,null,"",""]
[null,null,null,null,null,null,null,null,null,null,null,null,"",""]
[null,null,null,null,null,null,null,null,null,null,null,null,"",""]
[null,null,null,null,null,null,null,null,null,null,null,null,"",""]
[null,null,null,null,null,null,null,null,null,null,null,null,"",""]
[null,null,null,null,null,null,null,null,null,null,null,null,"",""]
[null,null,null,null,null,null,null,null,null,null,null,null,"",""]
[null,null,null,null,null,null,null,null,null,null,null,null,"",""]
[null,null,null,null,null,null,null,null,null,null,null,null,"",""]
[null,null,null,null,null,null,null,null,null,null,null,null,"",""]
[null,null,null,null,null,null,null,null,null,null,null,null,"",""]
[null,null,null,null,null,null,null,null,null,null,null,null,"",""]
[null,null,null,null,null,null,null,null,null,null,null,null,"",""]
[null,null,null,null,null,null,null,null,null,null,null,null,"",""]
[null,null,null,null,null,null,null,null,null,null,null,null,"",""]
[null,null,null,null,null,null,null,null,null,null,null,null,"",""]
[null,null,null,null,null,null,null,null,null,null,null,null,"",""]
[null,null,null,null,null,null,null,null,null,null,null,null,"",""]
[null,null,null,null,null,null,null,null,null,null,null,null,"",""]
[null,null,null,null,null,null,null,null,null,null,null,null,"",""]
[null,null,null,null,null,null,null,null,null,null,null,null,"",""]
[null,null,null,null,null,null,null,null,null,null,null,null,"",""]
[null,null,null,null,null,null,null,null,null,null,null,null,"",""]
[null,null,null,null,null,null,null,null,null,null,null,null,"",""]
[null,null,null,null,null,null,null,null,null,null,null,null,"",""]
[null,null,null,null,null,null,null,null,null,null,null,null,"",""]
[null,null,null,null,null,null,null,null,null,null,null,null,"",""]
[null,null,null,null,null,null,null,null,null,null,null,null,"",""]
[null,null,null,null,null,null,null,null,null,null,null,null,"",""]
[null,null,null,null,null,null,null,null,null,null,null,null,"",""]
[null,null,null,null,null,null,null,null,null,null,null,null,"",""]
[null,null,null,null,null,null,null,null,null,null,null,null,"",""]
[null,null,null,null,null,null,null,null,null,null,null,null,"",""]
[null,null,null,null,null,null,null,null,null,null,null,null,"",""]
[null,null,null,null,null,null,null,null,null,null,null,null,"",""]
[null,null,null,null,null,null,null,null,null,null,null,null,"",""]
[null,null,null,null,null,null,null,null,null,null,null,null,"",""]
[null,null,null,null,null,null,null,null,null,null,null,null,"",""]
[null,null,null,null,null,null,null,null,null,null,null,null,"",""]
[null,null,null,null,null,null,null,null,null,null,null,null,"",""]
[null,null,null,null,null,null,null,null,null,null,null,null,"",""]
[null,null,null,null,null,null,null,null,null,null,null,null,"",""]
[null,null,null,null,null,null,null,null,null,null,null,null,"",""]
[null,null,null,null,null,null,null,null,null,null,null,null,"",""]
[null,null,null,null,null,null,null,null,null,null,null,null,"",""]
[null,null,null,null,null,null,null,null,null,null,null,null,"",""]
[null,null,null,null,null,null,null,null,null,null,null,null,"",""]
[null,null,null,null,null,null,null,null,null,null,null,null,"",""]
[null,null,null,null,null,null,null,null,null,null,null,null,"",""]
[null,null,null,null,null,null,null,null,null,null,null,null,"",""]
[null,null,null,null,null,null,null,null,null,null,null,null,"",""]
[null,null,null,null,null,null,null,null,null,null,null,null,"",""]
[null,null,null,null,null,null,null,null,null,null,null,null,"",""]
[null,null,null,null,null,null,null,null,null,null,null,null,"",""]
[null,null,null,null,null,null,null,null,null,null,null,null,"",""]
[null,null,null,null,null,null,null,null,null,null,null,null,"",""]
[null,null,null,null,null,null,null,null,null,null,null,null,"",""]
[null,null,null,null,null,null,null,null,null,null,null,null,"",""]
[null,null,null,null,null,null,null,null,null,null,null,null,"",""]
[null,null,null,null,null,null,null,null,null,null,null,null,{"$f":"IF(A335=\"\",\"\",I335-(J335*K335/1000))","v":""},{"$f":"IF(A335=\"\",\"\",IF(H335>3,0,M335))","v":""}]
[null,null,null,null,null,null,null,null,null,null,null,null,"",""]
[null,null,null,null,null,null,null,null,null,null,null,null,"",""]
[null,null,null,null,null,null,null,null,null,null,null,null,"",""]
[null,null,null,null,null,null,null,null,null,null,null,null,"",""]
[null,null,null,null,null,null,null,null,null,null,null,null,"",""]
[null,null,null,null,null,null,null,null,null,null,null,null,"",""]
[null,null,null,null,null,null,null,null,null,null,null,null,"",""]
[null,null,null,null,null,null,null,null,null,null,null,null,"",""]
[null,null,null,null,null,null,null,null,null,null,null,null,"",""]
[null,null,null,null,null,null,null,null,null,null,null,null,"",""]
[null,null,null,null,null,null,null,null,null,null,null,null,"",""]
[null,null,null,null,null,null,null,null,null,null,null,null,"",""]
[null,null,null,null,null,null,null,null,null,null,null,null,"",""]
[null,null,null,null,null,null,null,null,null,null,null,null,"",""]
[null,null,null,null,null,null,null,null,null,null,null,null,"",""]
[null,null,null,null,null,null,null,null,null,null,null,null,"",""]
[null,null,null,null,null,null,null,null,null,null,null,null,"",""]
[null,null,null,null,null,null,null,null,null,null,null,null,"",""]
[null,null,null,null,null,null,null,null,null,null,null,null,"",""]
[null,null,null,null,null,null,null,null,null,null,null,null,"",""]
[null,null,null,null,null,null,null,null,null,null,null,null,"",""]
[null,null,null,null,null,null,null,null,null,null,null,null,"",""]
[null,null,null,null,null,null,null,null,null,null,null,null,"",""]
[null,null,null,null,null,null,null,null,null,null,null,null,"",""]
[null,null,null,null,null,null,null,null,null,null,null,null,"",""]
[null,null,null,null,null,null,null,null,null,null,null,null,"",""]
[null,null,null,null,null,null,null,null,null,null,null,null,"",""]
[null,null,null,null,null,null,null,null,null,null,null,null,"",""]
[null,null,null,null,null,null,null,null,null,null,null,null,"",""]
[null,null,null,null,null,null,null,null,null,null,null,null,"",""]
[null,null,null,null,null,null,null,null,null,null,null,null,"",""]
[null,null,null,null,null,null,null,null,null,null,null,null,"",""]
[null,null,null,null,null,null,null,null,null,null,null,null,"",""]
[null,null,null,null,null,null,null,null,null,null,null,null,"",""]
[null,null,null,null,null,null,null,null,null,null,null,null,"",""]
[null,null,null,null,null,null,null,null,null,null,null,null,"",""]
[null,null,null,null,null,null,null,null,null,null,null,null,"",""]
[null,null,null,null,null,null,null,null,null,null,null,null,"",""]
[null,null,null,null,null,null,null,null,null,null,null,null,"",""]
[null,null,null,null,null,null,null,null,null,null,null,null,"",""]
[null,null,null,null,null,null,null,null,null,null,null,null,"",""]
[null,null,null,null,null,null,null,null,null,null,null,null,"",""]
[null,null,null,null,null,null,null,null,null,null,null,null,"",""]
[null,null,null,null,null,null,null,null,null,null,null,null,"",""]
[null,null,null,null,null,null,null,null,null,null,null,null,"",""]
[null,null,null,null,null,null,null,null,null,null,null,null,"",""]
[null,null,null,null,null,null,null,null,null,null,null,null,"",""]
[null,null,null,null,null,null,null,null,null,null,null,null,"",""]
[null,null,null,null,null,null,null,null,null,null,null,null,"",""]
[null,null,null,null,null,null,null,null,null,null,null,null,"",""]
[null,null,null,null,null,null,null,null,null,null,null,null,"",""]
[null,null,null,null,null,null,null,null,null,null,null,null,"",""]
[null,null,null,null,null,null,null,null,null,null,null,null,"",""]
[null,null,null,null,null,null,null,null,null,null,null,null,"",""]
[null,null,null,null,null,null,null,null,null,null,null,null,"",""]
[null,null,null,null,null,null,null,null,null,null,null,null,"",""]
[null,null,null,null,null,null,null,null,null,null,null,null,"",""]
[null,null,null,null,null,null,null,null,null,null,null,null,"",""]
[null,null,null,null,null,null,null,null,null,null,null,null,"",""]
[null,null,null,null,null,null,null,null,null,null,null,null,"",""]
[null,null,null,null,null,null,null,null,null,null,null,null,"",""]
[null,null,null,null,null,null,null,null,null,null,null,null,"",""]
[null,null,null,null,null,null,null,null,null,null,null,null,"",""]
[null,null,null,null,null,null,null,null,null,null,null,null,{"$f":"IF(A399=\"\",\"\",I399-(J399*K399/1000))","v":""},{"$f":"IF(A399=\"\",\"\",IF(H399>3,0,M399))","v":""}]
[null,null,null,null,null,null,null,null,null,null,null,null,"",""]
[null,null,null,null,null,null,null,null,null,null,null,null,"",""]
[null,null,null,null,null,null,null,null,null,null,null,null,"",""]
[null,null,null,null,null,null,null,null,null,null,null,null,"",""]
[null,null,null,null,null,null,null,null,null,null,null,null,"",""]
[null,null,null,null,null,null,null,null,null,null,null,null,"",""]
[null,null,null,null,null,null,null,null,null,null,null,null,"",""]
[null,null,null,null,null,null,null,null,null,null,null,null,"",""]
[null,null,null,null,null,null,null,null,null,null,null,null,"",""]
[null,null,null,null,null,null,null,null,null,null,null,null,"",""]
[null,null,null,null,null,null,null,null,null,null,null,null,"",""]
[null,null,null,null,null,null,null,null,null,null,null,null,"",""]
[null,null,null,null,null,null,null,null,null,null,null,null,"",""]
[null,null,null,null,null,null,null,null,null,null,null,null,"",""]
[null,null,null,null,null,null,null,null,null,null,null,null,"",""]
[null,null,null,null,null,null,null,null,null,null,null,null,"",""]
[null,null,null,null,null,null,null,null,null,null,null,null,"",""]
[null,null,null,null,null,null,null,null,null,null,null,null,"",""]
[null,null,null,null,null,null,null,null,null,null,null,null,"",""]
[null,null,null,null,null,null,null,null,null,null,null,null,"",""]
[null,null,null,null,null,null,null,null,null,null,null,null,"",""]
[null,null,null,null,null,null,null,null,null,null,null,null,"",""]
[null,null,null,null,null,null,null,null,null,null,null,null,"",""]
[null,null,null,null,null,null,null,null,null,null,null,null,"",""]
[null,null,null,null,null,null,null,null,null,null,null,null,"",""]
[null,null,null,null,null,null,null,null,null,null,null,null,"",""]
[null,null,null,null,null,null,null,null,null,null,null,null,"",""]
[null,null,null,null,null,null,null,null,null,null,null,null,"",""]
[null,null,null,null,null,null,null,null,null,null,null,null,"",""]
[null,null,null,null,null,null,null,null,null,null,null,null,"",""]
[null,null,null,null,null,null,null,null,null,null,null,null,"",""]
[null,null,null,null,null,null,null,null,null,null,null,null,"",""]
[null,null,null,null,null,null,null,null,null,null,null,null,"",""]
[null,null,null,null,null,null,null,null,null,null,null,null,"",""]
[null,null,null,null,null,null,null,null,null,null,null,null,"",""]
[null,null,null,null,null,null,null,null,null,null,null,null,"",""]
[null,null,null,null,null,null,null,null,null,null,null,null,"",""]
[null,null,null,null,null,null,null,null,null,null,null,null,"",""]
[null,null,null,null,null,null,null,null,null,null,null,null,"",""]
[null,null,null,null,null,null,null,null,null,null,null,null,"",""]
[null,null,null,null,null,null,null,null,null,null,null,null,"",""]
[null,null,null,null,null,null,null,null,null,null,null,null,"",""]
[null,null,null,null,null,null,null,null,null,null,null,null,"",""]
[null,null,null,null,null,null,null,null,null,null,null,null,"",""]
[null,null,null,null,null,null,null,null,null,null,null,null,"",""]
[null,null,null,null,null,null,null,null,null,null,null,null,"",""]
[null,null,null,null,null,null,null,null,null,null,null,null,"",""]
[null,null,null,null,null,null,null,null,null,null,null,null,"",""]
[null,null,null,null,null,null,null,null,null,null,null,null,"",""]
[null,null,null,null,null,null,null,null,null,null,null,null,"",""]
[null,null,null,null,null,null,null,null,null,null,null,null,"",""]
[null,null,null,null,null,null,null,null,null,null,null,null,"",""]
[null,null,null,null,null,null,null,null,null,null,null,null,"",""]
[null,null,null,null,null,null,null,null,null,null,null,null,"",""]
[null,null,null,null,null,null,null,null,null,null,null,null,"",""]
[null,null,null,null,null,null,null,null,null,null,null,null,"",""]
[null,null,null,null,null,null,null,null,null,null,null,null,"",""]
[null,null,null,null,null,null,null,null,null,null,null,null,"",""]
[null,null,null,null,null,null,null,null,null,null,null,null,"",""]
[null,null,null,null,null,null,null,null,null,null,null,null,"",""]
[null,null,null,null,null,null,null,null,null,null,null,null,"",""]
[null,null,null,null,null,null,null,null,null,null,null,null,"",""]
[null,null,null,null,null,null,null,null,null,null,null,null,"",""]
[null,null,null,null,null,null,null,null,null,null,null,null,{"$f":"IF(A463=\"\",\"\",I463-(J463*K463/1000))","v":""},{"$f":"IF(A463=\"\",\"\",IF(H463>3,0,M463))","v":""}]
[null,null,null,null,null,null,null,null,null,null,null,null,"",""]
[null,null,null,null,null,null,null,null,null,null,null,null,"",""]
[null,null,null,null,null,null,null,null,null,null,null,null,"",""]
[null,null,null,null,null,null,null,null,null,null,null,null,"",""]
[null,null,null,null,null,null,null,null,null,null,null,null,"",""]
[null,null,null,null,null,null,null,null,null,null,null,null,"",""]
[null,null,null,null,null,null,null,null,null,null,null,null,"",""]
[null,null,null,null,null,null,null,null,null,null,null,null,"",""]
[null,null,null,null,null,null,null,null,null,null,null,null,"",""]
[null,null,null,null,null,null,null,null,null,null,null,null,"",""]
[null,null,null,null,null,null,null,null,null,null,null,null,"",""]
[null,null,null,null,null,null,null,null,null,null,null,null,"",""]
[null,null,null,null,null,null,null,null,null,null,null,null,"",""]
[null,null,null,null,null,null,null,null,null,null,null,null,"",""]
[null,null,null,null,null,null,null,null,null,null,null,null,"",""]
[null,null,null,null,null,null,null,null,null,null,null,null,"",""]
[null,null,null,null,null,null,null,null,null,null,null,null,"",""]
[null,null,null,null,null,null,null,null,null,null,null,null,"",""]
[null,null,null,null,null,null,null,null,null,null,null,null,"",""]
[null,null,null,null,null,null,null,null,null,null,null,null,"",""]
[null,null,null,null,null,null,null,null,null,null,null,null,"",""]
[null,null,null,null,null,null,null,null,null,null,null,null,"",""]
[null,null,null,null,null,null,null,null,null,null,null,null,"",""]
[null,null,null,null,null,null,null,null,null,null,null,null,"",""]
[null,null,null,null,null,null,null,null,null,null,null,null,"",""]
[null,null,null,null,null,null,null,null,null,null,null,null,"",""]
[null,null,null,null,null,null,null,null,null,null,null,null,"",""]
[null,null,null,null,null,null,null,null,null,null,null,null,"",""]
[null,null,null,null,null,null,null,null,null,null,null,null,"",""]
[null,null,null,null,null,null,null,null,null,null,null,null,"",""]
[null,null,null,null,null,null,null,null,null,null,null,null,"",""]
[null,null,null,null,null,null,null,null,null,null,null,null,"",""]
[null,null,null,null,null,null,null,null,null,null,null,null,"",""]
[null,null,null,null,null,null,null,null,null,null,null,null,"",""]
[null,null,null,null,null,null,null,null,null,null,null,null,"",""]
[null,null,null,null,null,null,null,null,null,null,null,null,"",""]
[null,null,null,null,null,null,null,null,null,null,null,null,"",""]
[null,null,null,null,null,null,null,null,null,null,null,null,"",""]
[null,null,null,null,null,null,null,null,null,null,null,null,"",""]
[null,null,null,null,null,null,null,null,null,null,null,null,"",""]
[null,null,null,null,null,null,null,null,null,null,null,null,"",""]
[null,null,null,null,null,null,null,null,null,null,null,null,"",""]
[null,null,null,null,null,null,null,null,null,null,null,null,"",""]
[null,null,null,null,null,null,null,null,null,null,null,null,"",""]
[null,null,null,null,null,null,null,null,null,null,null,null,"",""]
[null,null,null,null,null,null,null,null,null,null,null,null,"",""]
[null,null,null,null,null,null,null,null,null,null,null,null,"",""]
[null,null,null,null,null,null,null,null,null,null,null,null,"",""]
[null,null,null,null,null,null,null,null,null,null,null,null,"",""]
[null,null,null,null,null,null,null,null,null,null,null,null,"",""]
[null,null,null,null,null,null,null,null,null,null,null,null,"",""]
[null,null,null,null,null,null,null,null,null,null,null,null,"",""]
[null,null,null,null,null,null,null,null,null,null,null,null,"",""]
[null,null,null,null,null,null,null,null,null,null,null,null,"",""]
[null,null,null,null,null,null,null,null,null,null,null,null,"",""]
[null,null,null,null,null,null,null,null,null,null,null,null,"",""]
[null,null,null,null,null,null,null,null,null,null,null,null,"",""]
[null,null,null,null,null,null,null,null,null,null,null,null,"",""]
[null,null,null,null,null,null,null,null,null,null,null,null,"",""]
[null,null,null,null,null,null,null,null,null,null,null,null,"",""]
[null,null,null,null,null,null,null,null,null,null,null,null,"",""]
[null,null,null,null,null,null,null,null,null,null,null,null,"",""]
[null,null,null,null,null,null,null,null,null,null,null,null,"",""]
[null,null,null,null,null,null,null,null,null,null,null,null,{"$f":"IF(A527=\"\",\"\",I527-(J527*K527/1000))","v":""},{"$f":"IF(A527=\"\",\"\",IF(H527>3,0,M527))","v":""}]
[null,null,null,null,null,null,null,null,null,null,null,null,"",""]
[null,null,null,null,null,null,null,null,null,null,null,null,"",""]
[null,null,null,null,null,null,null,null,null,null,null,null,"",""]
[null,null,null,null,null,null,null,null,null,null,null,null,"",""]
[null,null,null,null,null,null,null,null,null,null,null,null,"",""]
[null,null,null,null,null,null,null,null,null,null,null,null,"",""]
[null,null,null,null,null,null,null,null,null,null,null,null,"",""]
[null,null,null,null,null,null,null,null,null,null,null,null,"",""]
[null,null,null,null,null,null,null,null,null,null,null,null,"",""]
[null,null,null,null,null,null,null,null,null,null,null,null,"",""]
[null,null,null,null,null,null,null,null,null,null,null,null,"",""]
[null,null,null,null,null,null,null,null,null,null,null,null,"",""]
[null,null,null,null,null,null,null,null,null,null,null,null,"",""]
[null,null,null,null,null,null,null,null,null,null,null,null,"",""]
[null,null,null,null,null,null,null,null,null,null,null,null,"",""]
[null,null,null,null,null,null,null,null,null,null,null,null,"",""]
[null,null,null,null,null,null,null,null,null,null,null,null,"",""]
[null,null,null,null,null,null,null,null,null,null,null,null,"",""]
[null,null,null,null,null,null,null,null,null,null,null,null,"",""]
[null,null,null,null,null,null,null,null,null,null,null,null,"",""]
[null,null,null,null,null,null,null,null,null,null,null,null,"",""]
[null,null,null,null,null,null,null,null,null,null,null,null,"",""]
[null,null,null,null,null,null,null,null,null,null,null,null,"",""]
[null,null,null,null,null,null,null,null,null,null,null,null,"",""]
[null,null,null,null,null,null,null,null,null,null,null,null,"",""]
[null,null,null,null,null,null,null,null,null,null,null,null,"",""]
[null,null,null,null,null,null,null,null,null,null,null,null,"",""]
[null,null,null,null,null,null,null,null,null,null,null,null,"",""]
[null,null,null,null,null,null,null,null,null,null,null,null,"",""]
[null,null,null,null,null,null,null,null,null,null,null,null,"",""]
[null,null,null,null,null,null,null,null,null,null,null,null,"",""]
[null,null,null,null,null,null,null,null,null,null,null,null,"",""]
[null,null,null,null,null,null,null,null,null,null,null,null,"",""]
[null,null,null,null,null,null,null,null,null,null,null,null,"",""]
[null,null,null,null,null,null,null,null,null,null,null,null,"",""]
[null,null,null,null,null,null,null,null,null,null,null,null,"",""]
[null,null,null,null,null,null,null,null,null,null,null,null,"",""]
[null,null,null,null,null,null,null,null,null,null,null,null,"",""]
[null,null,null,null,null,null,null,null,null,null,null,null,"",""]
[null,null,null,null,null,null,null,null,null,null,null,null,"",""]
[null,null,null,null,null,null,null,null,null,null,null,null,"",""]
[null,null,null,null,null,null,null,null,null,null,null,null,"",""]
[null,null,null,null,null,null,null,null,null,null,null,null,"",""]
[null,null,null,null,null,null,null,null,null,null,null,null,"",""]
[null,null,null,null,null,null,null,null,null,null,null,null,"",""]
[null,null,null,null,null,null,null,null,null,null,null,null,"",""]
[null,null,null,null,null,null,null,null,null,null,null,null,"",""]
[null,null,null,null,null,null,null,null,null,null,null,null,"",""]
[null,null,null,null,null,null,null,null,null,null,null,null,"",""]
[null,null,null,null,null,null,null,null,null,null,null,null,"",""]
[null,null,null,null,null,null,null,null,null,null,null,null,"",""]
[null,null,null,null,null,null,null,null,null,null,null,null,"",""]
[null,null,null,null,null,null,null,null,null,null,null,null,"",""]
[null,null,null,null,null,null,null,null,null,null,null,null,"",""]
[null,null,null,null,null,null,null,null,null,null,null,null,"",""]
[null,null,null,null,null,null,null,null,null,null,null,null,"",""]
[null,null,null,null,null,null,null,null,null,null,null,null,"",""]
[null,null,null,null,null,null,null,null,null,null,null,null,"",""]
[null,null,null,null,null,null,null,null,null,null,null,null,"",""]
[null,null,null,null,null,null,null,null,null,null,null,null,"",""]
[null,null,null,null,null,null,null,null,null,null,null,null,"",""]
[null,null,null,null,null,null,null,null,null,null,null,null,"",""]
[null,null,null,null,null,null,null,null,null,null,null,null,"",""]
[null,null,null,null,null,null,null,null,null,null,null,null,{"$f":"IF(A591=\"\",\"\",I591-(J591*K591/1000))","v":""},{"$f":"IF(A591=\"\",\"\",IF(H591>3,0,M591))","v":""}]
[null,null,null,null,null,null,null,null,null,null,null,null,"",""]
[null,null,null,null,null,null,null,null,null,null,null,null,"",""]
[null,null,null,null,null,null,null,null,null,null,null,null,"",""]
[null,null,null,null,null,null,null,null,null,null,null,null,"",""]
[null,null,null,null,null,null,null,null,null,null,null,null,"",""]
[null,null,null,null,null,null,null,null,null,null,null,null,"",""]
[null,null,null,null,null,null,null,null,null,null,null,null,"",""]
[null,null,null,null,null,null,null,null,null,null,null,null,"",""]
[null,null,null,null,null,null,null,null,null,null,null,null,"",""]
[null,null,null,null,null,null,null,null,null,null,null,null,"",""]
[null,null,null,null,null,null,null,null,null,null,null,null,"",""]
[null,null,null,null,null,null,null,null,null,null,null,null,"",""]
[null,null,null,null,null,null,null,null,null,null,null,null,"",""]
[null,null,null,null,null,null,null,null,null,null,null,null,"",""]
[null,null,null,null,null,null,null,null,null,null,null,null,"",""]
[null,null,null,null,null,null,null,null,null,null,null,null,"",""]
[null,null,null,null,null,null,null,null,null,null,null,null,"",""]
[null,null,null,null,null,null,null,null,null,null,null,null,"",""]
[null,null,null,null,null,null,null,null,null,null,null,null,"",""]
[null,null,null,null,null,null,null,null,null,null,null,null,"",""]
[null,null,null,null,null,null,null,null,null,null,null,null,"",""]
[null,null,null,null,null,null,null,null,null,null,null,null,"",""]
[null,null,null,null,null,null,null,null,null,null,null,null,"",""]
[null,null,null,null,null,null,null,null,null,null,null,null,"",""]
[null,null,null,null,null,null,null,null,null,null,null,null,"",""]
[null,null,null,null,null,null,null,null,null,null,null,null,"",""]
[null,null,null,null,null,null,null,null,null,null,null,null,"",""]
[null,null,null,null,null,null,null,null,null,null,null,null,"",""]
[null,null,null,null,null,null,null,null,null,null,null,null,"",""]
[null,null,null,null,null,null,null,null,null,null,null,null,"",""]
[null,null,null,null,null,null,null,null,null,null,null,null,"",""]
[null,null,null,null,null,null,null,null,null,null,null,null,"",""]
[null,null,null,null,null,null,null,null,null,null,null,null,"",""]
[null,null,null,null,null,null,null,null,null,null,null,null,"",""]
[null,null,null,null,null,null,null,null,null,null,null,null,"",""]
[null,null,null,null,null,null,null,null,null,null,null,null,"",""]
[null,null,null,null,null,null,null,null,null,null,null,null,"",""]
[null,null,null,null,null,null,null,null,null,null,null,null,"",""]
[null,null,null,null,null,null,null,null,null,null,null,null,"",""]
[null,null,null,null,null,null,null,null,null,null,null,null,"",""]
[null,null,null,null,null,null,null,null,null,null,null,null,"",""]
[null,null,null,null,null,null,null,null,null,null,null,null,"",""]
[null,null,null,null,null,null,null,null,null,null,null,null,"",""]
[null,null,null,null,null,null,null,null,null,null,null,null,"",""]
[null,null,null,null,null,null,null,null,null,null,null,null,"",""]
[null,null,null,null,null,null,null,null,null,null,null,null,"",""]
[null,null,null,null,null,null,null,null,null,null,null,null,"",""]
[null,null,null,null,null,null,null,null,null,null,null,null,"",""]
[null,null,null,null,null,null,null,null,null,null,null,null,"",""]
[null,null,null,null,null,null,null,null,null,null,null,null,"",""]
[null,null,null,null,null,null,null,null,null,null,null,null,"",""]
[null,null,null,null,null,null,null,null,null,null,null,null,"",""]
[null,null,null,null,null,null,null,null,null,null,null,null,"",""]
[null,null,null,null,null,null,null,null,null,null,null,null,"",""]
[null,null,null,null,null,null,null,null,null,null,null,null,"",""]
[null,null,null,null,null,null,null,null,null,null,null,null,"",""]
[null,null,null,null,null,null,null,null,null,null,null,null,"",""]
[null,null,null,null,null,null,null,null,null,null,null,null,"",""]
[null,null,null,null,null,null,null,null,null,null,null,null,"",""]
[null,null,null,null,null,null,null,null,null,null,null,null,"",""]
[null,null,null,null,null,null,null,null,null,null,null,null,"",""]
[null,null,null,null,null,null,null,null,null,null,null,null,"",""]
[null,null,null,null,null,null,null,null,null,null,null,null,"",""]
[null,null,null,null,null,null,null,null,null,null,null,null,{"$f":"IF(A655=\"\",\"\",I655-(J655*K655/1000))","v":""},{"$f":"IF(A655=\"\",\"\",IF(H655>3,0,M655))","v":""}]
[null,null,null,null,null,null,null,null,null,null,null,null,"",""]
[null,null,null,null,null,null,null,null,null,null,null,null,"",""]
[null,null,null,null,null,null,null,null,null,null,null,null,"",""]
[null,null,null,null,null,null,null,null,null,null,null,null,"",""]
[null,null,null,null,null,null,null,null,null,null,null,null,"",""]
[null,null,null,null,null,null,null,null,null,null,null,null,"",""]
[null,null,null,null,null,null,null,null,null,null,null,null,"",""]
[null,null,null,null,null,null,null,null,null,null,null,null,"",""]
[null,null,null,null,null,null,null,null,null,null,null,null,"",""]
[null,null,null,null,null,null,null,null,null,null,null,null,"",""]
[null,null,null,null,null,null,null,null,null,null,null,null,"",""]
[null,null,null,null,null,null,null,null,null,null,null,null,"",""]
[null,null,null,null,null,null,null,null,null,null,null,null,"",""]
[null,null,null,null,null,null,null,null,null,null,null,null,"",""]
[null,null,null,null,null,null,null,null,null,null,null,null,"",""]
[null,null,null,null,null,null,null,null,null,null,null,null,"",""]
[null,null,null,null,null,null,null,null,null,null,null,null,"",""]
[null,null,null,null,null,null,null,null,null,null,null,null,"",""]
[null,null,null,null,null,null,null,null,null,null,null,null,"",""]
[null,null,null,null,null,null,null,null,null,null,null,null,"",""]
[null,null,null,null,null,null,null,null,null,null,null,null,"",""]
[null,null,null,null,null,null,null,null,null,null,null,null,"",""]
[null,null,null,null,null,null,null,null,null,null,null,null,"",""]
[null,null,null,null,null,null,null,null,null,null,null,null,"",""]
[null,null,null,null,null,null,null,null,null,null,null,null,"",""]
[null,null,null,null,null,null,null,null,null,null,null,null,"",""]
[null,null,null,null,null,null,null,null,null,null,null,null,"",""]
[null,null,null,null,null,null,null,null,null,null,null,null,"",""]
[null,null,null,null,null,null,null,null,null,null,null,null,"",""]
[null,null,null,null,null,null,null,null,null,null,null,null,"",""]
[null,null,null,null,null,null,null,null,null,null,null,null,"",""]
[null,null,null,null,null,null,null,null,null,null,null,null,"",""]
[null,null,null,null,null,null,null,null,null,null,null,null,"",""]
[null,null,null,null,null,null,null,null,null,null,null,null,"",""]
[null,null,null,null,null,null,null,null,null,null,null,null,"",""]
[null,null,null,null,null,null,null,null,null,null,null,null,"",""]
[null,null,null,null,null,null,null,null,null,null,null,null,"",""]
[null,null,null,null,null,null,null,null,null,null,null,null,"",""]
[null,null,null,null,null,null,null,null,null,null,null,null,"",""]
[null,null,null,null,null,null,null,null,null,null,null,null,"",""]
[null,null,null,null,null,null,null,null,null,null,null,null,"",""]
[null,null,null,null,null,null,null,null,null,null,null,null,"",""]
[null,null,null,null,null,null,null,null,null,null,null,null,"",""]
[null,null,null,null,null,null,null,null,null,null,null,null,"",""]
[null,null,null,null,null,null,null,null,null,null,null,null,"",""]
[null,null,null,null,null,null,null,null,null,null,null,null,"",""]
[null,null,null,null,null,null,null,null,null,null,null,null,"",""]
[null,null,null,null,null,null,null,null,null,null,null,null,"",""]
[null,null,null,null,null,null,null,null,null,null,null,null,"",""]
[null,null,null,null,null,null,null,null,null,null,null,null,"",""]
[null,null,null,null,null,null,null,null,null,null,null,null,"",""]
[null,null,null,null,null,null,null,null,null,null,null,null,"",""]
[null,null,null,null,null,null,null,null,null,null,null,null,"",""]
[null,null,null,null,null,null,null,null,null,null,null,null,"",""]
[null,null,null,null,null,null,null,null,null,null,null,null,"",""]
[null,null,null,null,null,null,null,null,null,null,null,null,"",""]
[null,null,null,null,null,null,null,null,null,null,null,null,"",""]
[null,null,null,null,null,null,null,null,null,null,null,null,"",""]
[null,null,null,null,null,null,null,null,null,null,null,null,"",""]
[null,null,null,null,null,null,null,null,null,null,null,null,"",""]
[null,null,null,null,null,null,null,null,null,null,null,null,"",""]
[null,null,null,null,null,null,null,null,null,null,null,null,"",""]
[null,null,null,null,null,null,null,null,null,null,null,null,"",""]
[null,null,null,null,null,null,null,null,null,null,null,null,{"$f":"IF(A719=\"\",\"\",I719-(J719*K719/1000))","v":""},{"$f":"IF(A719=\"\",\"\",IF(H719>3,0,M719))","v":""}]
[null,null,null,null,null,null,null,null,null,null,null,null,"",""]
[null,null,null,null,null,null,null,null,null,null,null,null,"",""]
[null,null,null,null,null,null,null,null,null,null,null,null,"",""]
[null,null,null,null,null,null,null,null,null,null,null,null,"",""]
[null,null,null,null,null,null,null,null,null,null,null,null,"",""]
[null,null,null,null,null,null,null,null,null,null,null,null,"",""]
[null,null,null,null,null,null,null,null,null,null,null,null,"",""]
[null,null,null,null,null,null,null,null,null,null,null,null,"",""]
[null,null,null,null,null,null,null,null,null,null,null,null,"",""]
[null,null,null,null,null,null,null,null,null,null,null,null,"",""]
[null,null,null,null,null,null,null,null,null,null,null,null,"",""]
[null,null,null,null,null,null,null,null,null,null,null,null,"",""]
[null,null,null,null,null,null,null,null,null,null,null,null,"",""]
[null,null,null,null,null,null,null,null,null,null,null,null,"",""]
[null,null,null,null,null,null,null,null,null,null,null,null,"",""]
[null,null,null,null,null,null,null,null,null,null,null,null,"",""]
[null,null,null,null,null,null,null,null,null,null,null,null,"",""]
[null,null,null,null,null,null,null,null,null,null,null,null,"",""]
[null,null,null,null,null,null,null,null,null,null,null,null,"",""]
[null,null,null,null,null,null,null,null,null,null,null,null,"",""]
[null,null,null,null,null,null,null,null,null,null,null,null,"",""]
[null,null,null,null,null,null,null,null,null,null,null,null,"",""]
[null,null,null,null,null,null,null,null,null,null,null,null,"",""]
[null,null,null,null,null,null,null,null,null,null,null,null,"",""]
[null,null,null,null,null,null,null,null,null,null,null,null,"",""]
[null,null,null,null,null,null,null,null,null,null,null,null,"",""]
[null,null,null,null,null,null,null,null,null,null,null,null,"",""]
[null,null,null,null,null,null,null,null,null,null,null,null,"",""]
[null,null,null,null,null,null,null,null,null,null,null,null,"",""]
[null,null,null,null,null,null,null,null,null,null,null,null,"",""]
[null,null,null,null,null,null,null,null,null,null,null,null,"",""]
[null,null,null,null,null,null,null,null,null,null,null,null,"",""]
[null,null,null,null,null,null,null,null,null,null,null,null,"",""]
[null,null,null,null,null,null,null,null,null,null,null,null,"",""]
[null,null,null,null,null,null,null,null,null,null,null,null,"",""]
[null,null,null,null,null,null,null,null,null,null,null,null,"",""]
[null,null,null,null,null,null,null,null,null,null,null,null,"",""]
[null,null,null,null,null,null,null,null,null,null,null,null,"",""]
[null,null,null,null,null,null,null,null,null,null,null,null,"",""]
[null,null,null,null,null,null,null,null,null,null,null,null,"",""]
[null,null,null,null,null,null,null,null,null,null,null,null,"",""]
[null,null,null,null,null,null,null,null,null,null,null,null,"",""]
[null,null,null,null,null,null,null,null,null,null,null,null,"",""]
[null,null,null,null,null,null,null,null,null,null,null,null,"",""]
[null,null,null,null,null,null,null,null,null,null,null,null,"",""]
[null,null,null,null,null,null,null,null,null,null,null,null,"",""]
[null,null,null,null,null,null,null,null,null,null,null,null,"",""]
[null,null,null,null,null,null,null,null,null,null,null,null,"",""]
[null,null,null,null,null,null,null,null,null,null,null,null,"",""]
[null,null,null,null,null,null,null,null,null,null,null,null,"",""]
[null,null,null,null,null,null,null,null,null,null,null,null,"",""]
[null,null,null,null,null,null,null,null,null,null,null,null,"",""]
[null,null,null,null,null,null,null,null,null,null,null,null,"",""]
[null,null,null,null,null,null,null,null,null,null,null,null,"",""]
[null,null,null,null,null,null,null,null,null,null,null,null,"",""]
[null,null,null,null,null,null,null,null,null,null,null,null,"",""]
[null,null,null,null,null,null,null,null,null,null,null,null,"",""]
[null,null,null,null,null,null,null,null,null,null,null,null,"",""]
[null,null,null,null,null,null,null,null,null,null,null,null,"",""]
[null,null,null,null,null,null,null,null,null,null,null,null,"",""]
[null,null,null,null,null,null,null,null,null,null,null,null,"",""]
[null,null,null,null,null,null,null,null,null,null,null,null,"",""]
[null,null,null,null,null,null,null,null,null,null,null,null,"",""]
[null,null,null,null,null,null,null,null,null,null,null,null,{"$f":"IF(A783=\"\",\"\",I783-(J783*K783/1000))","v":""},{"$f":"IF(A783=\"\",\"\",IF(H783>3,0,M783))","v":""}]
[null,null,null,null,null,null,null,null,null,null,null,null,"",""]
[null,null,null,null,null,null,null,null,null,null,null,null,"",""]
[null,null,null,null,null,null,null,null,null,null,null,null,"",""]
[null,null,null,null,null,null,null,null,null,null,null,null,"",""]
[null,null,null,null,null,null,null,null,null,null,null,null,"",""]
[null,null,null,null,null,null,null,null,null,null,null,null,"",""]
[null,null,null,null,null,null,null,null,null,null,null,null,"",""]
[null,null,null,null,null,null,null,null,null,null,null,null,"",""]
[null,null,null,null,null,null,null,null,null,null,null,null,"",""]
[null,null,null,null,null,null,null,null,null,null,null,null,"",""]
[null,null,null,null,null,null,null,null,null,null,null,null,"",""]
[null,null,null,null,null,null,null,null,null,null,null,null,"",""]
[null,null,null,null,null,null,null,null,null,null,null,null,"",""]
[null,null,null,null,null,null,null,null,null,null,null,null,"",""]
[null,null,null,null,null,null,null,null,null,null,null,null,"",""]
[null,null,null,null,null,null,null,null,null,null,null,null,"",""]
[null,null,null,null,null,null,null,null,null,null,null,null,"",""]
[null,null,null,null,null,null,null,null,null,null,null,null,"",""]
[null,null,null,null,null,null,null,null,null,null,null,null,"",""]
[null,null,null,null,null,null,null,null,null,null,null,null,"",""]
[null,null,null,null,null,null,null,null,null,null,null,null,"",""]
[null,null,null,null,null,null,null,null,null,null,null,null,"",""]
[null,null,null,null,null,null,null,null,null,null,null,null,"",""]
[null,null,null,null,null,null,null,null,null,null,null,null,"",""]
[null,null,null,null,null,null,null,null,null,null,null,null,"",""]
[null,null,null,null,null,null,null,null,null,null,null,null,"",""]
[null,null,null,null,null,null,null,null,null,null,null,null,"",""]
[null,null,null,null,null,null,null,null,null,null,null,null,"",""]
[null,null,null,null,null,null,null,null,null,null,null,null,"",""]
[null,null,null,null,null,null,null,null,null,null,null,null,"",""]
[null,null,null,null,null,null,null,null,null,null,null,null,"",""]
[null,null,null,null,null,null,null,null,null,null,null,null,"",""]
[null,null,null,null,null,null,null,null,null,null,null,null,"",""]
[null,null,null,null,null,null,null,null,null,null,null,null,"",""]
[null,null,null,null,null,null,null,null,null,null,null,null,"",""]
[null,null,null,null,null,null,null,null,null,null,null,null,"",""]
[null,null,null,null,null,null,null,null,null,null,null,null,"",""]
[null,null,null,null,null,null,null,null,null,null,null,null,"",""]
[null,null,null,null,null,null,null,null,null,null,null,null,"",""]
[null,null,null,null,null,null,null,null,null,null,null,null,"",""]
[null,null,null,null,null,null,null,null,null,null,null,null,"",""]
[null,null,null,null,null,null,null,null,null,null,null,null,"",""]
[null,null,null,null,null,null,null,null,null,null,null,null,"",""]
[null,null,null,null,null,null,null,null,null,null,null,null,"",""]
[null,null,null,null,null,null,null,null,null,null,null,null,"",""]
[null,null,null,null,null,null,null,null,null,null,null,null,"",""]
[null,null,null,null,null,null,null,null,null,null,null,null,"",""]
[null,null,null,null,null,null,null,null,null,null,null,null,"",""]
[null,null,null,null,null,null,null,null,null,null,null,null,"",""]
[null,null,null,null,null,null,null,null,null,null,null,null,"",""]
[null,null,null,null,null,null,null,null,null,null,null,null,"",""]
[null,null,null,null,null,null,null,null,null,null,null,null,"",""]
[null,null,null,null,null,null,null,null,null,null,null,null,"",""]
[null,null,null,null,null,null,null,null,null,null,null,null,"",""]
[null,null,null,null,null,null,null,null,null,null,null,null,"",""]
[null,null,null,null,null,null,null,null,null,null,null,null,"",""]
[null,null,null,null,null,null,null,null,null,null,null,null,"",""]
[null,null,null,null,null,null,null,null,null,null,null,null,"",""]
[null,null,null,null,null,null,null,null,null,null,null,null,"",""]
[null,null,null,null,null,null,null,null,null,null,null,null,"",""]
[null,null,null,null,null,null,null,null,null,null,null,null,"",""]
[null,null,null,null,null,null,null,null,null,null,null,null,"",""]
[null,null,null,null,null,null,null,null,null,null,null,null,"",""]
[null,null,null,null,null,null,null,null,null,null,null,null,{"$f":"IF(A847=\"\",\"\",I847-(J847*K847/1000))","v":""},{"$f":"IF(A847=\"\",\"\",IF(H847>3,0,M847))","v":""}]
[null,null,null,null,null,null,null,null,null,null,null,null,"",""]
[null,null,null,null,null,null,null,null,null,null,null,null,"",""]
[null,null,null,null,null,null,null,null,null,null,null,null,"",""]
[null,null,null,null,null,null,null,null,null,null,null,null,"",""]
[null,null,null,null,null,null,null,null,null,null,null,null,"",""]
[null,null,null,null,null,null,null,null,null,null,null,null,"",""]
[null,null,null,null,null,null,null,null,null,null,null,null,"",""]
[null,null,null,null,null,null,null,null,null,null,null,null,"",""]
[null,null,null,null,null,null,null,null,null,null,null,null,"",""]
[null,null,null,null,null,null,null,null,null,null,null,null,"",""]
[null,null,null,null,null,null,null,null,null,null,null,null,"",""]
[null,null,null,null,null,null,null,null,null,null,null,null,"",""]
[null,null,null,null,null,null,null,null,null,null,null,null,"",""]
[null,null,null,null,null,null,null,null,null,null,null,null,"",""]
[null,null,null,null,null,null,null,null,null,null,null,null,"",""]
[null,null,null,null,null,null,null,null,null,null,null,null,"",""]
[null,null,null,null,null,null,null,null,null,null,null,null,"",""]
[null,null,null,null,null,null,null,null,null,null,null,null,"",""]
[null,null,null,null,null,null,null,null,null,null,null,null,"",""]
[null,null,null,null,null,null,null,null,null,null,null,null,"",""]
[null,null,null,null,null,null,null,null,null,null,null,null,"",""]
[null,null,null,null,null,null,null,null,null,null,null,null,"",""]
[null,null,null,null,null,null,null,null,null,null,null,null,"",""]
[null,null,null,null,null,null,null,null,null,null,null,null,"",""]
[null,null,null,null,null,null,null,null,null,null,null,null,"",""]
[null,null,null,null,null,null,null,null,null,null,null,null,"",""]
[null,null,null,null,null,null,null,null,null,null,null,null,"",""]
[null,null,null,null,null,null,null,null,null,null,null,null,"",""]
[null,null,null,null,null,null,null,null,null,null,null,null,"",""]
[null,null,null,null,null,null,null,null,null,null,null,null,"",""]
[null,null,null,null,null,null,null,null,null,null,null,null,"",""]
[null,null,null,null,null,null,null,null,null,null,null,null,"",""]
[null,null,null,null,null,null,null,null,null,null,null,null,"",""]
[null,null,null,null,null,null,null,null,null,null,null,null,"",""]
[null,null,null,null,null,null,null,null,null,null,null,null,"",""]
[null,null,null,null,null,null,null,null,null,null,null,null,"",""]
[null,null,null,null,null,null,null,null,null,null,null,null,"",""]
[null,null,null,null,null,null,null,null,null,null,null,null,"",""]
[null,null,null,null,null,null,null,null,null,null,null,null,"",""]
[null,null,null,null,null,null,null,null,null,null,null,null,"",""]
[null,null,null,null,null,null,null,null,null,null,null,null,"",""]
[null,null,null,null,null,null,null,null,null,null,null,null,"",""]
[null,null,null,null,null,null,null,null,null,null,null,null,"",""]
[null,null,null,null,null,null,null,null,null,null,null,null,"",""]
[null,null,null,null,null,null,null,null,null,null,null,null,"",""]
[null,null,null,null,null,null,null,null,null,null,null,null,"",""]
[null,null,null,null,null,null,null,null,null,null,null,null,"",""]
[null,null,null,null,null,null,null,null,null,null,null,null,"",""]
[null,null,null,null,null,null,null,null,null,null,null,null,"",""]
[null,null,null,null,null,null,null,null,null,null,null,null,"",""]
[null,null,null,null,null,null,null,null,null,null,null,null,"",""]
[null,null,null,null,null,null,null,null,null,null,null,null,"",""]
[null,null,null,null,null,null,null,null,null,null,null,null,"",""]
[null,null,null,null,null,null,null,null,null,null,null,null,"",""]
[null,null,null,null,null,null,null,null,null,null,null,null,"",""]
[null,null,null,null,null,null,null,null,null,null,null,null,"",""]
[null,null,null,null,null,null,null,null,null,null,null,null,"",""]
[null,null,null,null,null,null,null,null,null,null,null,null,"",""]
[null,null,null,null,null,null,null,null,null,null,null,null,"",""]
[null,null,null,null,null,null,null,null,null,null,null,null,"",""]
[null,null,null,null,null,null,null,null,null,null,null,null,"",""]
[null,null,null,null,null,null,null,null,null,null,null,null,"",""]
[null,null,null,null,null,null,null,null,null,null,null,null,"",""]
[null,null,null,null,null,null,null,null,null,null,null,null,{"$f":"IF(A911=\"\",\"\",I911-(J911*K911/1000))","v":""},{"$f":"IF(A911=\"\",\"\",IF(H911>3,0,M911))","v":""}]
[null,null,null,null,null,null,null,null,null,null,null,null,"",""]
[null,null,null,null,null,null,null,null,null,null,null,null,"",""]
[null,null,null,null,null,null,null,null,null,null,null,null,"",""]
[null,null,null,null,null,null,null,null,null,null,null,null,"",""]
[null,null,null,null,null,null,null,null,null,null,null,null,"",""]
[null,null,null,null,null,null,null,null,null,null,null,null,"",""]
[null,null,null,null,null,null,null,null,null,null,null,null,"",""]
[null,null,null,null,null,null,null,null,null,null,null,null,"",""]
[null,null,null,null,null,null,null,null,null,null,null,null,"",""]
[null,null,null,null,null,null,null,null,null,null,null,null,"",""]
[null,null,null,null,null,null,null,null,null,null,null,null,"",""]
[null,null,null,null,null,null,null,null,null,null,null,null,"",""]
[null,null,null,null,null,null,null,null,null,null,null,null,"",""]
[null,null,null,null,null,null,null,null,null,null,null,null,"",""]
[null,null,null,null,null,null,null,null,null,null,null,null,"",""]
[null,null,null,null,null,null,null,null,null,null,null,null,"",""]
[null,null,null,null,null,null,null,null,null,null,null,null,"",""]
[null,null,null,null,null,null,null,null,null,null,null,null,"",""]
[null,null,null,null,null,null,null,null,null,null,null,null,"",""]
[null,null,null,null,null,null,null,null,null,null,null,null,"",""]
[null,null,null,null,null,null,null,null,null,null,null,null,"",""]
[null,null,null,null,null,null,null,null,null,null,null,null,"",""]
[null,null,null,null,null,null,null,null,null,null,null,null,"",""]
[null,null,null,null,null,null,null,null,null,null,null,null,"",""]
[null,null,null,null,null,null,null,null,null,null,null,null,"",""]
[null,null,null,null,null,null,null,null,null,null,null,null,"",""]
[null,null,null,null,null,null,null,null,null,null,null,null,"",""]
[null,null,null,null,null,null,null,null,null,null,null,null,"",""]
[null,null,null,null,null,null,null,null,null,null,null,null,"",""]
[null,null,null,null,null,null,null,null,null,null,null,null,"",""]
[null,null,null,null,null,null,null,null,null,null,null,null,"",""]
[null,null,null,null,null,null,null,null,null,null,null,null,"",""]
[null,null,null,null,null,null,null,null,null,null,null,null,"",""]
[null,null,null,null,null,null,null,null,null,null,null,null,"",""]
[null,null,null,null,null,null,null,null,null,null,null,null,"",""]
[null,null,null,null,null,null,null,null,null,null,null,null,"",""]
[null,null,null,null,null,null,null,null,null,null,null,null,"",""]
[null,null,null,null,null,null,null,null,null,null,null,null,"",""]
[null,null,null,null,null,null,null,null,null,null,null,null,"",""]
[null,null,null,null,null,null,null,null,null,null,null,null,"",""]
[null,null,null,null,null,null,null,null,null,null,null,null,"",""]
[null,null,null,null,null,null,null,null,null,null,null,null,"",""]
[null,null,null,null,null,null,null,null,null,null,null,null,"",""]
[null,null,null,null,null,null,null,null,null,null,null,null,"",""]
[null,null,null,null,null,null,null,null,null,null,null,null,"",""]
[null,null,null,null,null,null,null,null,null,null,null,null,"",""]
[null,null,null,null,null,null,null,null,null,null,null,null,"",""]
[null,null,null,null,null,null,null,null,null,null,null,null,"",""]
[null,null,null,null,null,null,null,null,null,null,null,null,"",""]
[null,null,null,null,null,null,null,null,null,null,null,null,"",""]
[null,null,null,null,null,null,null,null,null,null,null,null,"",""]
[null,null,null,null,null,null,null,null,null,null,null,null,"",""]
[null,null,null,null,null,null,null,null,null,null,null,null,"",""]
[null,null,null,null,null,null,null,null,null,null,null,null,"",""]
[null,null,null,null,null,null,null,null,null,null,null,null,"",""]
[null,null,null,null,null,null,null,null,null,null,null,null,"",""]
[null,null,null,null,null,null,null,null,null,null,null,null,"",""]
[null,null,null,null,null,null,null,null,null,null,null,null,"",""]
[null,null,null,null,null,null,null,null,null,null,null,null,"",""]
[null,null,null,null,null,null,null,null,null,null,null,null,"",""]
[null,null,null,null,null,null,null,null,null,null,null,null,"",""]
[null,null,null,null,null,null,null,null,null,null,null,null,"",""]
[null,null,null,null,null,null,null,null,null,null,null,null,"",""]
[null,null,null,null,null,null,null,null,null,null,null,null,{"$f":"IF(A975=\"\",\"\",I975-(J975*K975/1000))","v":""},{"$f":"IF(A975=\"\",\"\",IF(H975>3,0,M975))","v":""}]
[null,null,null,null,null,null,null,null,null,null,null,null,"",""]
[null,null,null,null,null,null,null,null,null,null,null,null,"",""]
[null,null,null,null,null,null,null,null,null,null,null,null,"",""]
[null,null,null,null,null,null,null,null,null,null,null,null,"",""]
[null,null,null,null,null,null,null,null,null,null,null,null,"",""]
[null,null,null,null,null,null,null,null,null,null,null,null,"",""]
[null,null,null,null,null,null,null,null,null,null,null,null,"",""]
[null,null,null,null,null,null,null,null,null,null,null,null,"",""]
[null,null,null,null,null,null,null,null,null,null,null,null,"",""]
[null,null,null,null,null,null,null,null,null,null,null,null,"",""]
[null,null,null,null,null,null,null,null,null,null,null,null,"",""]
[null,null,null,null,null,null,null,null,null,null,null,null,"",""]
[null,null,null,null,null,null,null,null,null,null,null,null,"",""]
[null,null,null,null,null,null,null,null,null,null,null,null,"",""]
[null,null,null,null,null,null,null,null,null,null,null,null,"",""]
[null,null,null,null,null,null,null,null,null,null,null,null,"",""]
[null,null,null,null,null,null,null,null,null,null,null,null,"",""]
[null,null,null,null,null,null,null,null,null,null,null,null,"",""]
[null,null,null,null,null,null,null,null,null,null,null,null,"",""]
[null,null,null,null,null,null,null,null,null,null,null,null,"",""]
[null,null,null,null,null,null,null,null,null,null,null,null,"",""]
[null,null,null,null,null,null,null,null,null,null,null,null,"",""]
[null,null,null,null,null,null,null,null,null,null,null,null,"",""]
[null,null,null,null,null,null,null,null,null,null,null,null,"",""]

{"sheet":"DFsummary","index":16,"n_rows":31,"n_cols":5,"rows_kept":31,"cut":false,"hidden":true,"merged":[]}
["MSW Total",{"$f":"SUM(DisposalFacilities!I2:I999)","v":0},null,"MSW Controlled Total",{"$f":"SUMIF(DisposalFacilities!H2:H999,\"<3\",DisposalFacilities!I2:I999)","v":0}]
["MSW Picked",{"$f":"B1-B3","v":0},null,"MSW Controlled Picked",{"$f":"E1-E3","v":0}]
["MSW Net",{"$f":"SUM(DisposalFacilities!M2:M999)","v":0},null,"MSW Controlled Net",{"$f":"SUMIF(DisposalFacilities!H2:H999,\"<3\",DisposalFacilities!M2:M999)","v":0}]
["MSW Net Controlled",{"$f":"SUMIF(DisposalFacilities!H2:H999,\"<3\",DisposalFacilities!M2:M999)","v":0}]
["Collection %",{"$f":"IF(HouseholdSummary!D5+NHHsummary!N13=0,0,(B28+B29)/(HouseholdSummary!D5+NHHsummary!N13)*100)","v":0}]
["Collected/Controlled %",{"$f":"IF(HouseholdSummary!D5+NHHsummary!N13=0,0,(B4+B26)/(HouseholdSummary!D5+NHHsummary!N13)*100)","v":0}]
["Kitchen/canteen",{"$f":"SUM(DFcomposition!C2:C999)","v":0},{"$f":"IF(B$19=0,0,B7/B$19*100)","v":0},{"$f":"A7 & \" (\" & TEXT(C7,\"0\") & \" %)\"","v":"Kitchen/canteen (0 %)"}]
["Garden/park",{"$f":"SUM(DFcomposition!D2:D999)","v":0},{"$f":"IF(B$19=0,0,B8/B$19*100)","v":0},{"$f":"A8 & \" (\" & TEXT(C8,\"0\") & \" %)\"","v":"Garden/park (0 %)"}]
["Paper/cardboard",{"$f":"SUM(DFcomposition!E2:E999)","v":0},0,"Paper/cardboard (0 %)"]
["Plastic film",{"$f":"SUM(DFcomposition!F2:F999)","v":0},0,"Plastic film (0 %)"]
["Plastics (dense)",{"$f":"SUM(DFcomposition!G2:G999)","v":0},0,"Plastics (dense) (0 %)"]
["Metals",{"$f":"SUM(DFcomposition!H2:H999)","v":0},0,"Metals (0 %)"]
["Glass",{"$f":"SUM(DFcomposition!I2:I999)","v":0},0,"Glass (0 %)"]
["Textiles/shoes",{"$f":"SUM(DFcomposition!J2:J999)","v":0},0,"Textiles/shoes (0 %)"]
["Wood (processed)",{"$f":"SUM(DFcomposition!K2:K999)","v":0},0,"Wood (processed) (0 %)"]
["Special wastes",{"$f":"SUM(DFcomposition!L2:L999)","v":0},0,"Special wastes (0 %)"]
["Composite products",{"$f":"SUM(DFcomposition!M2:M999)","v":0},0,"Composite products (0 %)"]
["Other",{"$f":"SUM(DFcomposition!N2:N999)","v":0},0,"Other (0 %)"]
["Total",{"$f":"SUM(B7:B18)","v":0},0]
[]
["RF Total Inputs",{"$f":"Facilities!W5","v":0},null,"waste",{"$f":"B21*(100-$B$24)/100","v":0}]
["RF City Inputs",{"$f":"Facilities!W2","v":0},null,"waste",{"$f":"B22*(100-$B$24)/100","v":0}]
["RF Controlled City Inputs",{"$f":"Facilities!W3","v":0},null,"waste",0]
["Net percent",{"$f":"100-Survey!C23","v":90}]
["RF City Net Inputs",{"$f":"B22-E22","v":0}]
["RF Controlled City Net Inputs",{"$f":"B23-E23","v":0}]
["City recycling rate",{"$f":"IF(HouseholdSummary!D5+NHHsummary!N13=0,0,(B26)/(HouseholdSummary!D5+NHHsummary!N13)*100)","v":0}]
["MSW at DF less RF wastes received",{"$f":"B1-(E22)","v":0}]
["MSW at RFs less DFs picked",{"$f":"B22-B2","v":0}]
[]
["MSW at controlled DFs less controlled RFs received"]

{"sheet":"DFcomposition","index":17,"n_rows":99,"n_cols":15,"rows_kept":99,"cut":false,"hidden":true,"merged":[]}
["DF ID","IL ID","Qty1","Qty2","Qty3","Qty4","Qty5","Qty6","Qty7","Qty8","Qty9","Qty10","Qty11","Qty12","Total"]
[null,null,null,null,null,null,null,null,null,null,null,null,null,null,{"$f":"IF(A2=\"\",\"\",SUM(C2:N2))","v":""}]
[null,null,null,null,null,null,null,null,null,null,null,null,null,null,{"$f":"IF(A3=\"\",\"\",SUM(C3:N3))","v":""}]
[null,null,null,null,null,null,null,null,null,null,null,null,null,null,""]
[null,null,null,null,null,null,null,null,null,null,null,null,null,null,""]
[null,null,null,null,null,null,null,null,null,null,null,null,null,null,""]
[null,null,null,null,null,null,null,null,null,null,null,null,null,null,""]
[null,null,null,null,null,null,null,null,null,null,null,null,null,null,""]
[null,null,null,null,null,null,null,null,null,null,null,null,null,null,""]
[null,null,null,null,null,null,null,null,null,null,null,null,null,null,""]
[null,null,null,null,null,null,null,null,null,null,null,null,null,null,""]
[null,null,null,null,null,null,null,null,null,null,null,null,null,null,""]
[null,null,null,null,null,null,null,null,null,null,null,null,null,null,""]
[null,null,null,null,null,null,null,null,null,null,null,null,null,null,""]
[null,null,null,null,null,null,null,null,null,null,null,null,null,null,""]
[null,null,null,null,null,null,null,null,null,null,null,null,null,null,""]
[null,null,null,null,null,null,null,null,null,null,null,null,null,null,""]
[null,null,null,null,null,null,null,null,null,null,null,null,null,null,""]
[null,null,null,null,null,null,null,null,null,null,null,null,null,null,""]
[null,null,null,null,null,null,null,null,null,null,null,null,null,null,""]
[null,null,null,null,null,null,null,null,null,null,null,null,null,null,""]
[null,null,null,null,null,null,null,null,null,null,null,null,null,null,""]
[null,null,null,null,null,null,null,null,null,null,null,null,null,null,""]
[null,null,null,null,null,null,null,null,null,null,null,null,null,null,""]
[null,null,null,null,null,null,null,null,null,null,null,null,null,null,""]
[null,null,null,null,null,null,null,null,null,null,null,null,null,null,""]
[null,null,null,null,null,null,null,null,null,null,null,null,null,null,""]
[null,null,null,null,null,null,null,null,null,null,null,null,null,null,""]
[null,null,null,null,null,null,null,null,null,null,null,null,null,null,""]
[null,null,null,null,null,null,null,null,null,null,null,null,null,null,""]
[null,null,null,null,null,null,null,null,null,null,null,null,null,null,""]
[null,null,null,null,null,null,null,null,null,null,null,null,null,null,""]
[null,null,null,null,null,null,null,null,null,null,null,null,null,null,""]
[null,null,null,null,null,null,null,null,null,null,null,null,null,null,""]
[null,null,null,null,null,null,null,null,null,null,null,null,null,null,""]
[null,null,null,null,null,null,null,null,null,null,null,null,null,null,""]
[null,null,null,null,null,null,null,null,null,null,null,null,null,null,""]
[null,null,null,null,null,null,null,null,null,null,null,null,null,null,""]
[null,null,null,null,null,null,null,null,null,null,null,null,null,null,""]
[null,null,null,null,null,null,null,null,null,null,null,null,null,null,""]
[null,null,null,null,null,null,null,null,null,null,null,null,null,null,""]
[null,null,null,null,null,null,null,null,null,null,null,null,null,null,""]
[null,null,null,null,null,null,null,null,null,null,null,null,null,null,""]
[null,null,null,null,null,null,null,null,null,null,null,null,null,null,""]
[null,null,null,null,null,null,null,null,null,null,null,null,null,null,""]
[null,null,null,null,null,null,null,null,null,null,null,null,null,null,""]
[null,null,null,null,null,null,null,null,null,null,null,null,null,null,""]
[null,null,null,null,null,null,null,null,null,null,null,null,null,null,""]
[null,null,null,null,null,null,null,null,null,null,null,null,null,null,""]
[null,null,null,null,null,null,null,null,null,null,null,null,null,null,""]
[null,null,null,null,null,null,null,null,null,null,null,null,null,null,""]
[null,null,null,null,null,null,null,null,null,null,null,null,null,null,""]
[null,null,null,null,null,null,null,null,null,null,null,null,null,null,""]
[null,null,null,null,null,null,null,null,null,null,null,null,null,null,""]
[null,null,null,null,null,null,null,null,null,null,null,null,null,null,""]
[null,null,null,null,null,null,null,null,null,null,null,null,null,null,""]
[null,null,null,null,null,null,null,null,null,null,null,null,null,null,""]
[null,null,null,null,null,null,null,null,null,null,null,null,null,null,""]
[null,null,null,null,null,null,null,null,null,null,null,null,null,null,""]
[null,null,null,null,null,null,null,null,null,null,null,null,null,null,""]
[null,null,null,null,null,null,null,null,null,null,null,null,null,null,""]
[null,null,null,null,null,null,null,null,null,null,null,null,null,null,""]
[null,null,null,null,null,null,null,null,null,null,null,null,null,null,""]
[null,null,null,null,null,null,null,null,null,null,null,null,null,null,""]
[null,null,null,null,null,null,null,null,null,null,null,null,null,null,""]
[null,null,null,null,null,null,null,null,null,null,null,null,null,null,""]
[null,null,null,null,null,null,null,null,null,null,null,null,null,null,{"$f":"IF(A67=\"\",\"\",SUM(C67:N67))","v":""}]
[null,null,null,null,null,null,null,null,null,null,null,null,null,null,""]
[null,null,null,null,null,null,null,null,null,null,null,null,null,null,""]
[null,null,null,null,null,null,null,null,null,null,null,null,null,null,""]
[null,null,null,null,null,null,null,null,null,null,null,null,null,null,""]
[null,null,null,null,null,null,null,null,null,null,null,null,null,null,""]
[null,null,null,null,null,null,null,null,null,null,null,null,null,null,""]
[null,null,null,null,null,null,null,null,null,null,null,null,null,null,""]
[null,null,null,null,null,null,null,null,null,null,null,null,null,null,""]
[null,null,null,null,null,null,null,null,null,null,null,null,null,null,""]
[null,null,null,null,null,null,null,null,null,null,null,null,null,null,""]
[null,null,null,null,null,null,null,null,null,null,null,null,null,null,""]
[null,null,null,null,null,null,null,null,null,null,null,null,null,null,""]
[null,null,null,null,null,null,null,null,null,null,null,null,null,null,""]
[null,null,null,null,null,null,null,null,null,null,null,null,null,null,""]
[null,null,null,null,null,null,null,null,null,null,null,null,null,null,""]
[null,null,null,null,null,null,null,null,null,null,null,null,null,null,""]
[null,null,null,null,null,null,null,null,null,null,null,null,null,null,""]
[null,null,null,null,null,null,null,null,null,null,null,null,null,null,""]
[null,null,null,null,null,null,null,null,null,null,null,null,null,null,""]
[null,null,null,null,null,null,null,null,null,null,null,null,null,null,""]
[null,null,null,null,null,null,null,null,null,null,null,null,null,null,""]
[null,null,null,null,null,null,null,null,null,null,null,null,null,null,""]
[null,null,null,null,null,null,null,null,null,null,null,null,null,null,""]
[null,null,null,null,null,null,null,null,null,null,null,null,null,null,""]
[null,null,null,null,null,null,null,null,null,null,null,null,null,null,""]
[null,null,null,null,null,null,null,null,null,null,null,null,null,null,""]
[null,null,null,null,null,null,null,null,null,null,null,null,null,null,""]
[null,null,null,null,null,null,null,null,null,null,null,null,null,null,""]
[null,null,null,null,null,null,null,null,null,null,null,null,null,null,""]
[null,null,null,null,null,null,null,null,null,null,null,null,null,null,""]
[null,null,null,null,null,null,null,null,null,null,null,null,null,null,""]
[null,null,null,null,null,null,null,null,null,null,null,null,null,null,""]

{"sheet":"CompositionChart","index":18,"n_rows":0,"n_cols":0,"rows_kept":0,"cut":false,"hidden":true,"merged":[]}

{"sheet":"Facilities","index":19,"n_rows":99,"n_cols":23,"rows_kept":99,"cut":false,"hidden":true,"merged":[]}
["ID","RFclassID","Name","Address","Contact","email","Telephone","InformalPct","MarketSharePct","ControlClassID","Capacity","TotalQty","CityQty","CItyQtyControlled","TotalWaste","CityWaste","CityWasteControlled","TotalNet","CityNet","CityNetControlled",null,"SUMMARY"]
[null,null,null,null,null,null,null,null,null,null,null,{"$f":"IF(A2=\"\",\"\",SUMIF(RF_inputs!$B$2:$B$996,Facilities!A2,RF_inputs!$G$2:$G$996))","v":""},{"$f":"IF(A2=\"\",\"\",SUMIF(RF_inputs!$B$2:$B$996,Facilities!A2,RF_inputs!$I$2:$I$996))","v":""},{"$f":"IF(A2=\"\",\"\",SUMIF(RF_inputs!$B$2:$B$996,Facilities!A2,RF_inputs!$J$2:$J$996))","v":""},{"$f":"IF($A2=\"\",\"\",L2*(Survey!$C$23/100))","v":""},{"$f":"IF($A2=\"\",\"\",M2*(Survey!$C$23/100))","v":""},{"$f":"IF($A2=\"\",\"\",N2*(Survey!$C$23/100))","v":""},{"$f":"IF($A2=\"\",\"\",L2-O2)","v":""},{"$f":"IF($A2=\"\",\"\",M2-P2)","v":""},{"$f":"IF($A2=\"\",\"\",N2-Q2)","v":""},54.227699960999992,"Total City Inputs",{"$f":"SUM(M2:M999)","v":0}]
[null,null,null,null,null,null,null,null,null,null,null,{"$f":"IF(A3=\"\",\"\",SUMIF(RF_inputs!$B$2:$B$996,Facilities!A3,RF_inputs!$G$2:$G$996))","v":""},{"$f":"IF(A3=\"\",\"\",SUMIF(RF_inputs!$B$2:$B$996,Facilities!A3,RF_inputs!$I$2:$I$996))","v":""},{"$f":"IF(A3=\"\",\"\",SUMIF(RF_inputs!$B$2:$B$996,Facilities!A3,RF_inputs!$J$2:$J$996))","v":""},{"$f":"IF($A3=\"\",\"\",L3*(Survey!$C$23/100))","v":""},{"$f":"IF($A3=\"\",\"\",M3*(Survey!$C$23/100))","v":""},{"$f":"IF($A3=\"\",\"\",N3*(Survey!$C$23/100))","v":""},{"$f":"IF($A3=\"\",\"\",L3-O3)","v":""},{"$f":"IF($A3=\"\",\"\",M3-P3)","v":""},{"$f":"IF($A3=\"\",\"\",N3-Q3)","v":""},52.204969960999989,"City controlled inputs",{"$f":"SUM(N2:N999)","v":0}]
[null,null,null,null,null,null,null,null,null,null,null,{"$f":"IF(A4=\"\",\"\",SUMIF(RF_inputs!$B$2:$B$996,Facilities!A4,RF_inputs!$G$2:$G$996))","v":""},{"$f":"IF(A4=\"\",\"\",SUMIF(RF_inputs!$B$2:$B$996,Facilities!A4,RF_inputs!$I$2:$I$996))","v":""},{"$f":"IF(A4=\"\",\"\",SUMIF(RF_inputs!$B$2:$B$996,Facilities!A4,RF_inputs!$J$2:$J$996))","v":""},{"$f":"IF($A4=\"\",\"\",L4*(Survey!$C$23/100))","v":""},{"$f":"IF($A4=\"\",\"\",M4*(Survey!$C$23/100))","v":""},{"$f":"IF($A4=\"\",\"\",N4*(Survey!$C$23/100))","v":""},"","",""]
[null,null,null,null,null,null,null,null,null,null,null,{"$f":"IF(A5=\"\",\"\",SUMIF(RF_inputs!$B$2:$B$996,Facilities!A5,RF_inputs!$G$2:$G$996))","v":""},{"$f":"IF(A5=\"\",\"\",SUMIF(RF_inputs!$B$2:$B$996,Facilities!A5,RF_inputs!$I$2:$I$996))","v":""},{"$f":"IF(A5=\"\",\"\",SUMIF(RF_inputs!$B$2:$B$996,Facilities!A5,RF_inputs!$J$2:$J$996))","v":""},{"$f":"IF($A5=\"\",\"\",L5*(Survey!$C$23/100))","v":""},{"$f":"IF($A5=\"\",\"\",M5*(Survey!$C$23/100))","v":""},{"$f":"IF($A5=\"\",\"\",N5*(Survey!$C$23/100))","v":""},"","","",null,"Total Inputs",{"$f":"SUM(L2:L999)","v":0}]
[null,null,null,null,null,null,null,null,null,null,null,{"$f":"IF(A6=\"\",\"\",SUMIF(RF_inputs!$B$2:$B$996,Facilities!A6,RF_inputs!$G$2:$G$996))","v":""},{"$f":"IF(A6=\"\",\"\",SUMIF(RF_inputs!$B$2:$B$996,Facilities!A6,RF_inputs!$I$2:$I$996))","v":""},{"$f":"IF(A6=\"\",\"\",SUMIF(RF_inputs!$B$2:$B$996,Facilities!A6,RF_inputs!$J$2:$J$996))","v":""},{"$f":"IF($A6=\"\",\"\",L6*(Survey!$C$23/100))","v":""},{"$f":"IF($A6=\"\",\"\",M6*(Survey!$C$23/100))","v":""},{"$f":"IF($A6=\"\",\"\",N6*(Survey!$C$23/100))","v":""},"","",""]
[null,null,null,null,null,null,null,null,null,null,null,{"$f":"IF(A7=\"\",\"\",SUMIF(RF_inputs!$B$2:$B$996,Facilities!A7,RF_inputs!$G$2:$G$996))","v":""},{"$f":"IF(A7=\"\",\"\",SUMIF(RF_inputs!$B$2:$B$996,Facilities!A7,RF_inputs!$I$2:$I$996))","v":""},{"$f":"IF(A7=\"\",\"\",SUMIF(RF_inputs!$B$2:$B$996,Facilities!A7,RF_inputs!$J$2:$J$996))","v":""},{"$f":"IF($A7=\"\",\"\",L7*(Survey!$C$23/100))","v":""},{"$f":"IF($A7=\"\",\"\",M7*(Survey!$C$23/100))","v":""},{"$f":"IF($A7=\"\",\"\",N7*(Survey!$C$23/100))","v":""},"","","",null,"City net inputs",{"$f":"SUM(S2:S999)","v":0}]
[null,null,null,null,null,null,null,null,null,null,null,{"$f":"IF(A8=\"\",\"\",SUMIF(RF_inputs!$B$2:$B$996,Facilities!A8,RF_inputs!$G$2:$G$996))","v":""},{"$f":"IF(A8=\"\",\"\",SUMIF(RF_inputs!$B$2:$B$996,Facilities!A8,RF_inputs!$I$2:$I$996))","v":""},{"$f":"IF(A8=\"\",\"\",SUMIF(RF_inputs!$B$2:$B$996,Facilities!A8,RF_inputs!$J$2:$J$996))","v":""},{"$f":"IF($A8=\"\",\"\",L8*(Survey!$C$23/100))","v":""},{"$f":"IF($A8=\"\",\"\",M8*(Survey!$C$23/100))","v":""},{"$f":"IF($A8=\"\",\"\",N8*(Survey!$C$23/100))","v":""},"","","",null,"City net controlled inputs",{"$f":"SUM(T2:T999)","v":0}]
[null,null,null,null,null,null,null,null,null,null,null,{"$f":"IF(A9=\"\",\"\",SUMIF(RF_inputs!$B$2:$B$996,Facilities!A9,RF_inputs!$G$2:$G$996))","v":""},{"$f":"IF(A9=\"\",\"\",SUMIF(RF_inputs!$B$2:$B$996,Facilities!A9,RF_inputs!$I$2:$I$996))","v":""},{"$f":"IF(A9=\"\",\"\",SUMIF(RF_inputs!$B$2:$B$996,Facilities!A9,RF_inputs!$J$2:$J$996))","v":""},{"$f":"IF($A9=\"\",\"\",L9*(Survey!$C$23/100))","v":""},{"$f":"IF($A9=\"\",\"\",M9*(Survey!$C$23/100))","v":""},{"$f":"IF($A9=\"\",\"\",N9*(Survey!$C$23/100))","v":""},"","",""]
[null,null,null,null,null,null,null,null,null,null,null,{"$f":"IF(A10=\"\",\"\",SUMIF(RF_inputs!$B$2:$B$996,Facilities!A10,RF_inputs!$G$2:$G$996))","v":""},{"$f":"IF(A10=\"\",\"\",SUMIF(RF_inputs!$B$2:$B$996,Facilities!A10,RF_inputs!$I$2:$I$996))","v":""},{"$f":"IF(A10=\"\",\"\",SUMIF(RF_inputs!$B$2:$B$996,Facilities!A10,RF_inputs!$J$2:$J$996))","v":""},{"$f":"IF($A10=\"\",\"\",L10*(Survey!$C$23/100))","v":""},{"$f":"IF($A10=\"\",\"\",M10*(Survey!$C$23/100))","v":""},{"$f":"IF($A10=\"\",\"\",N10*(Survey!$C$23/100))","v":""},"","",""]
[null,null,null,null,null,null,null,null,null,null,null,{"$f":"IF(A11=\"\",\"\",SUMIF(RF_inputs!$B$2:$B$996,Facilities!A11,RF_inputs!$G$2:$G$996))","v":""},{"$f":"IF(A11=\"\",\"\",SUMIF(RF_inputs!$B$2:$B$996,Facilities!A11,RF_inputs!$I$2:$I$996))","v":""},{"$f":"IF(A11=\"\",\"\",SUMIF(RF_inputs!$B$2:$B$996,Facilities!A11,RF_inputs!$J$2:$J$996))","v":""},{"$f":"IF($A11=\"\",\"\",L11*(Survey!$C$23/100))","v":""},{"$f":"IF($A11=\"\",\"\",M11*(Survey!$C$23/100))","v":""},{"$f":"IF($A11=\"\",\"\",N11*(Survey!$C$23/100))","v":""},"","",""]
[null,null,null,null,null,null,null,null,null,null,null,{"$f":"IF(A12=\"\",\"\",SUMIF(RF_inputs!$B$2:$B$996,Facilities!A12,RF_inputs!$G$2:$G$996))","v":""},{"$f":"IF(A12=\"\",\"\",SUMIF(RF_inputs!$B$2:$B$996,Facilities!A12,RF_inputs!$I$2:$I$996))","v":""},{"$f":"IF(A12=\"\",\"\",SUMIF(RF_inputs!$B$2:$B$996,Facilities!A12,RF_inputs!$J$2:$J$996))","v":""},{"$f":"IF($A12=\"\",\"\",L12*(Survey!$C$23/100))","v":""},{"$f":"IF($A12=\"\",\"\",M12*(Survey!$C$23/100))","v":""},{"$f":"IF($A12=\"\",\"\",N12*(Survey!$C$23/100))","v":""},{"$f":"IF($A12=\"\",\"\",L12-O12)","v":""},{"$f":"IF($A12=\"\",\"\",M12-P12)","v":""},{"$f":"IF($A12=\"\",\"\",N12-Q12)","v":""}]
[null,null,null,null,null,null,null,null,null,null,null,{"$f":"IF(A13=\"\",\"\",SUMIF(RF_inputs!$B$2:$B$996,Facilities!A13,RF_inputs!$G$2:$G$996))","v":""},{"$f":"IF(A13=\"\",\"\",SUMIF(RF_inputs!$B$2:$B$996,Facilities!A13,RF_inputs!$I$2:$I$996))","v":""},{"$f":"IF(A13=\"\",\"\",SUMIF(RF_inputs!$B$2:$B$996,Facilities!A13,RF_inputs!$J$2:$J$996))","v":""},{"$f":"IF($A13=\"\",\"\",L13*(Survey!$C$23/100))","v":""},{"$f":"IF($A13=\"\",\"\",M13*(Survey!$C$23/100))","v":""},{"$f":"IF($A13=\"\",\"\",N13*(Survey!$C$23/100))","v":""},"",{"$f":"IF($A13=\"\",\"\",M13-P13)","v":""},{"$f":"IF($A13=\"\",\"\",N13-Q13)","v":""}]
[null,null,null,null,null,null,null,null,null,null,null,{"$f":"IF(A14=\"\",\"\",SUMIF(RF_inputs!$B$2:$B$996,Facilities!A14,RF_inputs!$G$2:$G$996))","v":""},{"$f":"IF(A14=\"\",\"\",SUMIF(RF_inputs!$B$2:$B$996,Facilities!A14,RF_inputs!$I$2:$I$996))","v":""},{"$f":"IF(A14=\"\",\"\",SUMIF(RF_inputs!$B$2:$B$996,Facilities!A14,RF_inputs!$J$2:$J$996))","v":""},{"$f":"IF($A14=\"\",\"\",L14*(Survey!$C$23/100))","v":""},{"$f":"IF($A14=\"\",\"\",M14*(Survey!$C$23/100))","v":""},{"$f":"IF($A14=\"\",\"\",N14*(Survey!$C$23/100))","v":""},"","",""]
[null,null,null,null,null,null,null,null,null,null,null,{"$f":"IF(A15=\"\",\"\",SUMIF(RF_inputs!$B$2:$B$996,Facilities!A15,RF_inputs!$G$2:$G$996))","v":""},{"$f":"IF(A15=\"\",\"\",SUMIF(RF_inputs!$B$2:$B$996,Facilities!A15,RF_inputs!$I$2:$I$996))","v":""},{"$f":"IF(A15=\"\",\"\",SUMIF(RF_inputs!$B$2:$B$996,Facilities!A15,RF_inputs!$J$2:$J$996))","v":""},{"$f":"IF($A15=\"\",\"\",L15*(Survey!$C$23/100))","v":""},{"$f":"IF($A15=\"\",\"\",M15*(Survey!$C$23/100))","v":""},{"$f":"IF($A15=\"\",\"\",N15*(Survey!$C$23/100))","v":""},"","",""]
[null,null,null,null,null,null,null,null,null,null,null,{"$f":"IF(A16=\"\",\"\",SUMIF(RF_inputs!$B$2:$B$996,Facilities!A16,RF_inputs!$G$2:$G$996))","v":""},{"$f":"IF(A16=\"\",\"\",SUMIF(RF_inputs!$B$2:$B$996,Facilities!A16,RF_inputs!$I$2:$I$996))","v":""},{"$f":"IF(A16=\"\",\"\",SUMIF(RF_inputs!$B$2:$B$996,Facilities!A16,RF_inputs!$J$2:$J$996))","v":""},{"$f":"IF($A16=\"\",\"\",L16*(Survey!$C$23/100))","v":""},{"$f":"IF($A16=\"\",\"\",M16*(Survey!$C$23/100))","v":""},{"$f":"IF($A16=\"\",\"\",N16*(Survey!$C$23/100))","v":""},"","",""]
[null,null,null,null,null,null,null,null,null,null,null,{"$f":"IF(A17=\"\",\"\",SUMIF(RF_inputs!$B$2:$B$996,Facilities!A17,RF_inputs!$G$2:$G$996))","v":""},{"$f":"IF(A17=\"\",\"\",SUMIF(RF_inputs!$B$2:$B$996,Facilities!A17,RF_inputs!$I$2:$I$996))","v":""},{"$f":"IF(A17=\"\",\"\",SUMIF(RF_inputs!$B$2:$B$996,Facilities!A17,RF_inputs!$J$2:$J$996))","v":""},{"$f":"IF($A17=\"\",\"\",L17*(Survey!$C$23/100))","v":""},{"$f":"IF($A17=\"\",\"\",M17*(Survey!$C$23/100))","v":""},{"$f":"IF($A17=\"\",\"\",N17*(Survey!$C$23/100))","v":""},"","",""]
[null,null,null,null,null,null,null,null,null,null,null,{"$f":"IF(A18=\"\",\"\",SUMIF(RF_inputs!$B$2:$B$996,Facilities!A18,RF_inputs!$G$2:$G$996))","v":""},{"$f":"IF(A18=\"\",\"\",SUMIF(RF_inputs!$B$2:$B$996,Facilities!A18,RF_inputs!$I$2:$I$996))","v":""},{"$f":"IF(A18=\"\",\"\",SUMIF(RF_inputs!$B$2:$B$996,Facilities!A18,RF_inputs!$J$2:$J$996))","v":""},{"$f":"IF($A18=\"\",\"\",L18*(Survey!$C$23/100))","v":""},{"$f":"IF($A18=\"\",\"\",M18*(Survey!$C$23/100))","v":""},{"$f":"IF($A18=\"\",\"\",N18*(Survey!$C$23/100))","v":""},"","",""]
[null,null,null,null,null,null,null,null,null,null,null,{"$f":"IF(A19=\"\",\"\",SUMIF(RF_inputs!$B$2:$B$996,Facilities!A19,RF_inputs!$G$2:$G$996))","v":""},{"$f":"IF(A19=\"\",\"\",SUMIF(RF_inputs!$B$2:$B$996,Facilities!A19,RF_inputs!$I$2:$I$996))","v":""},{"$f":"IF(A19=\"\",\"\",SUMIF(RF_inputs!$B$2:$B$996,Facilities!A19,RF_inputs!$J$2:$J$996))","v":""},{"$f":"IF($A19=\"\",\"\",L19*(Survey!$C$23/100))","v":""},{"$f":"IF($A19=\"\",\"\",M19*(Survey!$C$23/100))","v":""},{"$f":"IF($A19=\"\",\"\",N19*(Survey!$C$23/100))","v":""},"","",""]
[null,null,null,null,null,null,null,null,null,null,null,{"$f":"IF(A20=\"\",\"\",SUMIF(RF_inputs!$B$2:$B$996,Facilities!A20,RF_inputs!$G$2:$G$996))","v":""},{"$f":"IF(A20=\"\",\"\",SUMIF(RF_inputs!$B$2:$B$996,Facilities!A20,RF_inputs!$I$2:$I$996))","v":""},{"$f":"IF(A20=\"\",\"\",SUMIF(RF_inputs!$B$2:$B$996,Facilities!A20,RF_inputs!$J$2:$J$996))","v":""},{"$f":"IF($A20=\"\",\"\",L20*(Survey!$C$23/100))","v":""},{"$f":"IF($A20=\"\",\"\",M20*(Survey!$C$23/100))","v":""},{"$f":"IF($A20=\"\",\"\",N20*(Survey!$C$23/100))","v":""},"","",""]
[null,null,null,null,null,null,null,null,null,null,null,{"$f":"IF(A21=\"\",\"\",SUMIF(RF_inputs!$B$2:$B$996,Facilities!A21,RF_inputs!$G$2:$G$996))","v":""},{"$f":"IF(A21=\"\",\"\",SUMIF(RF_inputs!$B$2:$B$996,Facilities!A21,RF_inputs!$I$2:$I$996))","v":""},{"$f":"IF(A21=\"\",\"\",SUMIF(RF_inputs!$B$2:$B$996,Facilities!A21,RF_inputs!$J$2:$J$996))","v":""},{"$f":"IF($A21=\"\",\"\",L21*(Survey!$C$23/100))","v":""},{"$f":"IF($A21=\"\",\"\",M21*(Survey!$C$23/100))","v":""},{"$f":"IF($A21=\"\",\"\",N21*(Survey!$C$23/100))","v":""},"","",""]
[null,null,null,null,null,null,null,null,null,null,null,{"$f":"IF(A22=\"\",\"\",SUMIF(RF_inputs!$B$2:$B$996,Facilities!A22,RF_inputs!$G$2:$G$996))","v":""},{"$f":"IF(A22=\"\",\"\",SUMIF(RF_inputs!$B$2:$B$996,Facilities!A22,RF_inputs!$I$2:$I$996))","v":""},{"$f":"IF(A22=\"\",\"\",SUMIF(RF_inputs!$B$2:$B$996,Facilities!A22,RF_inputs!$J$2:$J$996))","v":""},{"$f":"IF($A22=\"\",\"\",L22*(Survey!$C$23/100))","v":""},{"$f":"IF($A22=\"\",\"\",M22*(Survey!$C$23/100))","v":""},{"$f":"IF($A22=\"\",\"\",N22*(Survey!$C$23/100))","v":""},"","",""]
[null,null,null,null,null,null,null,null,null,null,null,{"$f":"IF(A23=\"\",\"\",SUMIF(RF_inputs!$B$2:$B$996,Facilities!A23,RF_inputs!$G$2:$G$996))","v":""},{"$f":"IF(A23=\"\",\"\",SUMIF(RF_inputs!$B$2:$B$996,Facilities!A23,RF_inputs!$I$2:$I$996))","v":""},{"$f":"IF(A23=\"\",\"\",SUMIF(RF_inputs!$B$2:$B$996,Facilities!A23,RF_inputs!$J$2:$J$996))","v":""},{"$f":"IF($A23=\"\",\"\",L23*(Survey!$C$23/100))","v":""},{"$f":"IF($A23=\"\",\"\",M23*(Survey!$C$23/100))","v":""},{"$f":"IF($A23=\"\",\"\",N23*(Survey!$C$23/100))","v":""},"","",""]
[null,null,null,null,null,null,null,null,null,null,null,{"$f":"IF(A24=\"\",\"\",SUMIF(RF_inputs!$B$2:$B$996,Facilities!A24,RF_inputs!$G$2:$G$996))","v":""},{"$f":"IF(A24=\"\",\"\",SUMIF(RF_inputs!$B$2:$B$996,Facilities!A24,RF_inputs!$I$2:$I$996))","v":""},{"$f":"IF(A24=\"\",\"\",SUMIF(RF_inputs!$B$2:$B$996,Facilities!A24,RF_inputs!$J$2:$J$996))","v":""},{"$f":"IF($A24=\"\",\"\",L24*(Survey!$C$23/100))","v":""},{"$f":"IF($A24=\"\",\"\",M24*(Survey!$C$23/100))","v":""},{"$f":"IF($A24=\"\",\"\",N24*(Survey!$C$23/100))","v":""},"","",""]
[null,null,null,null,null,null,null,null,null,null,null,{"$f":"IF(A25=\"\",\"\",SUMIF(RF_inputs!$B$2:$B$996,Facilities!A25,RF_inputs!$G$2:$G$996))","v":""},{"$f":"IF(A25=\"\",\"\",SUMIF(RF_inputs!$B$2:$B$996,Facilities!A25,RF_inputs!$I$2:$I$996))","v":""},{"$f":"IF(A25=\"\",\"\",SUMIF(RF_inputs!$B$2:$B$996,Facilities!A25,RF_inputs!$J$2:$J$996))","v":""},{"$f":"IF($A25=\"\",\"\",L25*(Survey!$C$23/100))","v":""},{"$f":"IF($A25=\"\",\"\",M25*(Survey!$C$23/100))","v":""},{"$f":"IF($A25=\"\",\"\",N25*(Survey!$C$23/100))","v":""},"","",""]
[null,null,null,null,null,null,null,null,null,null,null,{"$f":"IF(A26=\"\",\"\",SUMIF(RF_inputs!$B$2:$B$996,Facilities!A26,RF_inputs!$G$2:$G$996))","v":""},{"$f":"IF(A26=\"\",\"\",SUMIF(RF_inputs!$B$2:$B$996,Facilities!A26,RF_inputs!$I$2:$I$996))","v":""},{"$f":"IF(A26=\"\",\"\",SUMIF(RF_inputs!$B$2:$B$996,Facilities!A26,RF_inputs!$J$2:$J$996))","v":""},{"$f":"IF($A26=\"\",\"\",L26*(Survey!$C$23/100))","v":""},{"$f":"IF($A26=\"\",\"\",M26*(Survey!$C$23/100))","v":""},{"$f":"IF($A26=\"\",\"\",N26*(Survey!$C$23/100))","v":""},"","",""]
[null,null,null,null,null,null,null,null,null,null,null,{"$f":"IF(A27=\"\",\"\",SUMIF(RF_inputs!$B$2:$B$996,Facilities!A27,RF_inputs!$G$2:$G$996))","v":""},{"$f":"IF(A27=\"\",\"\",SUMIF(RF_inputs!$B$2:$B$996,Facilities!A27,RF_inputs!$I$2:$I$996))","v":""},{"$f":"IF(A27=\"\",\"\",SUMIF(RF_inputs!$B$2:$B$996,Facilities!A27,RF_inputs!$J$2:$J$996))","v":""},{"$f":"IF($A27=\"\",\"\",L27*(Survey!$C$23/100))","v":""},{"$f":"IF($A27=\"\",\"\",M27*(Survey!$C$23/100))","v":""},{"$f":"IF($A27=\"\",\"\",N27*(Survey!$C$23/100))","v":""},"","",""]
[null,null,null,null,null,null,null,null,null,null,null,{"$f":"IF(A28=\"\",\"\",SUMIF(RF_inputs!$B$2:$B$996,Facilities!A28,RF_inputs!$G$2:$G$996))","v":""},{"$f":"IF(A28=\"\",\"\",SUMIF(RF_inputs!$B$2:$B$996,Facilities!A28,RF_inputs!$I$2:$I$996))","v":""},{"$f":"IF(A28=\"\",\"\",SUMIF(RF_inputs!$B$2:$B$996,Facilities!A28,RF_inputs!$J$2:$J$996))","v":""},{"$f":"IF($A28=\"\",\"\",L28*(Survey!$C$23/100))","v":""},{"$f":"IF($A28=\"\",\"\",M28*(Survey!$C$23/100))","v":""},{"$f":"IF($A28=\"\",\"\",N28*(Survey!$C$23/100))","v":""},"","",""]
[null,null,null,null,null,null,null,null,null,null,null,{"$f":"IF(A29=\"\",\"\",SUMIF(RF_inputs!$B$2:$B$996,Facilities!A29,RF_inputs!$G$2:$G$996))","v":""},{"$f":"IF(A29=\"\",\"\",SUMIF(RF_inputs!$B$2:$B$996,Facilities!A29,RF_inputs!$I$2:$I$996))","v":""},{"$f":"IF(A29=\"\",\"\",SUMIF(RF_inputs!$B$2:$B$996,Facilities!A29,RF_inputs!$J$2:$J$996))","v":""},{"$f":"IF($A29=\"\",\"\",L29*(Survey!$C$23/100))","v":""},{"$f":"IF($A29=\"\",\"\",M29*(Survey!$C$23/100))","v":""},{"$f":"IF($A29=\"\",\"\",N29*(Survey!$C$23/100))","v":""},"","",""]
[null,null,null,null,null,null,null,null,null,null,null,{"$f":"IF(A30=\"\",\"\",SUMIF(RF_inputs!$B$2:$B$996,Facilities!A30,RF_inputs!$G$2:$G$996))","v":""},{"$f":"IF(A30=\"\",\"\",SUMIF(RF_inputs!$B$2:$B$996,Facilities!A30,RF_inputs!$I$2:$I$996))","v":""},{"$f":"IF(A30=\"\",\"\",SUMIF(RF_inputs!$B$2:$B$996,Facilities!A30,RF_inputs!$J$2:$J$996))","v":""},{"$f":"IF($A30=\"\",\"\",L30*(Survey!$C$23/100))","v":""},{"$f":"IF($A30=\"\",\"\",M30*(Survey!$C$23/100))","v":""},{"$f":"IF($A30=\"\",\"\",N30*(Survey!$C$23/100))","v":""},"","",""]
[null,null,null,null,null,null,null,null,null,null,null,{"$f":"IF(A31=\"\",\"\",SUMIF(RF_inputs!$B$2:$B$996,Facilities!A31,RF_inputs!$G$2:$G$996))","v":""},{"$f":"IF(A31=\"\",\"\",SUMIF(RF_inputs!$B$2:$B$996,Facilities!A31,RF_inputs!$I$2:$I$996))","v":""},{"$f":"IF(A31=\"\",\"\",SUMIF(RF_inputs!$B$2:$B$996,Facilities!A31,RF_inputs!$J$2:$J$996))","v":""},{"$f":"IF($A31=\"\",\"\",L31*(Survey!$C$23/100))","v":""},{"$f":"IF($A31=\"\",\"\",M31*(Survey!$C$23/100))","v":""},{"$f":"IF($A31=\"\",\"\",N31*(Survey!$C$23/100))","v":""},"","",""]
[null,null,null,null,null,null,null,null,null,null,null,{"$f":"IF(A32=\"\",\"\",SUMIF(RF_inputs!$B$2:$B$996,Facilities!A32,RF_inputs!$G$2:$G$996))","v":""},{"$f":"IF(A32=\"\",\"\",SUMIF(RF_inputs!$B$2:$B$996,Facilities!A32,RF_inputs!$I$2:$I$996))","v":""},{"$f":"IF(A32=\"\",\"\",SUMIF(RF_inputs!$B$2:$B$996,Facilities!A32,RF_inputs!$J$2:$J$996))","v":""},{"$f":"IF($A32=\"\",\"\",L32*(Survey!$C$23/100))","v":""},{"$f":"IF($A32=\"\",\"\",M32*(Survey!$C$23/100))","v":""},{"$f":"IF($A32=\"\",\"\",N32*(Survey!$C$23/100))","v":""},"","",""]
[null,null,null,null,null,null,null,null,null,null,null,{"$f":"IF(A33=\"\",\"\",SUMIF(RF_inputs!$B$2:$B$996,Facilities!A33,RF_inputs!$G$2:$G$996))","v":""},{"$f":"IF(A33=\"\",\"\",SUMIF(RF_inputs!$B$2:$B$996,Facilities!A33,RF_inputs!$I$2:$I$996))","v":""},{"$f":"IF(A33=\"\",\"\",SUMIF(RF_inputs!$B$2:$B$996,Facilities!A33,RF_inputs!$J$2:$J$996))","v":""},{"$f":"IF($A33=\"\",\"\",L33*(Survey!$C$23/100))","v":""},{"$f":"IF($A33=\"\",\"\",M33*(Survey!$C$23/100))","v":""},{"$f":"IF($A33=\"\",\"\",N33*(Survey!$C$23/100))","v":""},"","",""]
[null,null,null,null,null,null,null,null,null,null,null,{"$f":"IF(A34=\"\",\"\",SUMIF(RF_inputs!$B$2:$B$996,Facilities!A34,RF_inputs!$G$2:$G$996))","v":""},{"$f":"IF(A34=\"\",\"\",SUMIF(RF_inputs!$B$2:$B$996,Facilities!A34,RF_inputs!$I$2:$I$996))","v":""},{"$f":"IF(A34=\"\",\"\",SUMIF(RF_inputs!$B$2:$B$996,Facilities!A34,RF_inputs!$J$2:$J$996))","v":""},{"$f":"IF($A34=\"\",\"\",L34*(Survey!$C$23/100))","v":""},{"$f":"IF($A34=\"\",\"\",M34*(Survey!$C$23/100))","v":""},{"$f":"IF($A34=\"\",\"\",N34*(Survey!$C$23/100))","v":""},"","",""]
[null,null,null,null,null,null,null,null,null,null,null,{"$f":"IF(A35=\"\",\"\",SUMIF(RF_inputs!$B$2:$B$996,Facilities!A35,RF_inputs!$G$2:$G$996))","v":""},{"$f":"IF(A35=\"\",\"\",SUMIF(RF_inputs!$B$2:$B$996,Facilities!A35,RF_inputs!$I$2:$I$996))","v":""},{"$f":"IF(A35=\"\",\"\",SUMIF(RF_inputs!$B$2:$B$996,Facilities!A35,RF_inputs!$J$2:$J$996))","v":""},{"$f":"IF($A35=\"\",\"\",L35*(Survey!$C$23/100))","v":""},{"$f":"IF($A35=\"\",\"\",M35*(Survey!$C$23/100))","v":""},{"$f":"IF($A35=\"\",\"\",N35*(Survey!$C$23/100))","v":""},"","",""]
[null,null,null,null,null,null,null,null,null,null,null,{"$f":"IF(A36=\"\",\"\",SUMIF(RF_inputs!$B$2:$B$996,Facilities!A36,RF_inputs!$G$2:$G$996))","v":""},{"$f":"IF(A36=\"\",\"\",SUMIF(RF_inputs!$B$2:$B$996,Facilities!A36,RF_inputs!$I$2:$I$996))","v":""},{"$f":"IF(A36=\"\",\"\",SUMIF(RF_inputs!$B$2:$B$996,Facilities!A36,RF_inputs!$J$2:$J$996))","v":""},{"$f":"IF($A36=\"\",\"\",L36*(Survey!$C$23/100))","v":""},{"$f":"IF($A36=\"\",\"\",M36*(Survey!$C$23/100))","v":""},{"$f":"IF($A36=\"\",\"\",N36*(Survey!$C$23/100))","v":""},"","",""]
[null,null,null,null,null,null,null,null,null,null,null,{"$f":"IF(A37=\"\",\"\",SUMIF(RF_inputs!$B$2:$B$996,Facilities!A37,RF_inputs!$G$2:$G$996))","v":""},{"$f":"IF(A37=\"\",\"\",SUMIF(RF_inputs!$B$2:$B$996,Facilities!A37,RF_inputs!$I$2:$I$996))","v":""},{"$f":"IF(A37=\"\",\"\",SUMIF(RF_inputs!$B$2:$B$996,Facilities!A37,RF_inputs!$J$2:$J$996))","v":""},{"$f":"IF($A37=\"\",\"\",L37*(Survey!$C$23/100))","v":""},{"$f":"IF($A37=\"\",\"\",M37*(Survey!$C$23/100))","v":""},{"$f":"IF($A37=\"\",\"\",N37*(Survey!$C$23/100))","v":""},"","",""]
[null,null,null,null,null,null,null,null,null,null,null,{"$f":"IF(A38=\"\",\"\",SUMIF(RF_inputs!$B$2:$B$996,Facilities!A38,RF_inputs!$G$2:$G$996))","v":""},{"$f":"IF(A38=\"\",\"\",SUMIF(RF_inputs!$B$2:$B$996,Facilities!A38,RF_inputs!$I$2:$I$996))","v":""},{"$f":"IF(A38=\"\",\"\",SUMIF(RF_inputs!$B$2:$B$996,Facilities!A38,RF_inputs!$J$2:$J$996))","v":""},{"$f":"IF($A38=\"\",\"\",L38*(Survey!$C$23/100))","v":""},{"$f":"IF($A38=\"\",\"\",M38*(Survey!$C$23/100))","v":""},{"$f":"IF($A38=\"\",\"\",N38*(Survey!$C$23/100))","v":""},"","",""]
[null,null,null,null,null,null,null,null,null,null,null,{"$f":"IF(A39=\"\",\"\",SUMIF(RF_inputs!$B$2:$B$996,Facilities!A39,RF_inputs!$G$2:$G$996))","v":""},{"$f":"IF(A39=\"\",\"\",SUMIF(RF_inputs!$B$2:$B$996,Facilities!A39,RF_inputs!$I$2:$I$996))","v":""},{"$f":"IF(A39=\"\",\"\",SUMIF(RF_inputs!$B$2:$B$996,Facilities!A39,RF_inputs!$J$2:$J$996))","v":""},{"$f":"IF($A39=\"\",\"\",L39*(Survey!$C$23/100))","v":""},{"$f":"IF($A39=\"\",\"\",M39*(Survey!$C$23/100))","v":""},{"$f":"IF($A39=\"\",\"\",N39*(Survey!$C$23/100))","v":""},"","",""]
[null,null,null,null,null,null,null,null,null,null,null,{"$f":"IF(A40=\"\",\"\",SUMIF(RF_inputs!$B$2:$B$996,Facilities!A40,RF_inputs!$G$2:$G$996))","v":""},{"$f":"IF(A40=\"\",\"\",SUMIF(RF_inputs!$B$2:$B$996,Facilities!A40,RF_inputs!$I$2:$I$996))","v":""},{"$f":"IF(A40=\"\",\"\",SUMIF(RF_inputs!$B$2:$B$996,Facilities!A40,RF_inputs!$J$2:$J$996))","v":""},{"$f":"IF($A40=\"\",\"\",L40*(Survey!$C$23/100))","v":""},{"$f":"IF($A40=\"\",\"\",M40*(Survey!$C$23/100))","v":""},{"$f":"IF($A40=\"\",\"\",N40*(Survey!$C$23/100))","v":""},"","",""]
[null,null,null,null,null,null,null,null,null,null,null,{"$f":"IF(A41=\"\",\"\",SUMIF(RF_inputs!$B$2:$B$996,Facilities!A41,RF_inputs!$G$2:$G$996))","v":""},{"$f":"IF(A41=\"\",\"\",SUMIF(RF_inputs!$B$2:$B$996,Facilities!A41,RF_inputs!$I$2:$I$996))","v":""},{"$f":"IF(A41=\"\",\"\",SUMIF(RF_inputs!$B$2:$B$996,Facilities!A41,RF_inputs!$J$2:$J$996))","v":""},{"$f":"IF($A41=\"\",\"\",L41*(Survey!$C$23/100))","v":""},{"$f":"IF($A41=\"\",\"\",M41*(Survey!$C$23/100))","v":""},{"$f":"IF($A41=\"\",\"\",N41*(Survey!$C$23/100))","v":""},"","",""]
[null,null,null,null,null,null,null,null,null,null,null,{"$f":"IF(A42=\"\",\"\",SUMIF(RF_inputs!$B$2:$B$996,Facilities!A42,RF_inputs!$G$2:$G$996))","v":""},{"$f":"IF(A42=\"\",\"\",SUMIF(RF_inputs!$B$2:$B$996,Facilities!A42,RF_inputs!$I$2:$I$996))","v":""},{"$f":"IF(A42=\"\",\"\",SUMIF(RF_inputs!$B$2:$B$996,Facilities!A42,RF_inputs!$J$2:$J$996))","v":""},{"$f":"IF($A42=\"\",\"\",L42*(Survey!$C$23/100))","v":""},{"$f":"IF($A42=\"\",\"\",M42*(Survey!$C$23/100))","v":""},{"$f":"IF($A42=\"\",\"\",N42*(Survey!$C$23/100))","v":""},"","",""]
[null,null,null,null,null,null,null,null,null,null,null,{"$f":"IF(A43=\"\",\"\",SUMIF(RF_inputs!$B$2:$B$996,Facilities!A43,RF_inputs!$G$2:$G$996))","v":""},{"$f":"IF(A43=\"\",\"\",SUMIF(RF_inputs!$B$2:$B$996,Facilities!A43,RF_inputs!$I$2:$I$996))","v":""},{"$f":"IF(A43=\"\",\"\",SUMIF(RF_inputs!$B$2:$B$996,Facilities!A43,RF_inputs!$J$2:$J$996))","v":""},{"$f":"IF($A43=\"\",\"\",L43*(Survey!$C$23/100))","v":""},{"$f":"IF($A43=\"\",\"\",M43*(Survey!$C$23/100))","v":""},{"$f":"IF($A43=\"\",\"\",N43*(Survey!$C$23/100))","v":""},"","",""]
[null,null,null,null,null,null,null,null,null,null,null,{"$f":"IF(A44=\"\",\"\",SUMIF(RF_inputs!$B$2:$B$996,Facilities!A44,RF_inputs!$G$2:$G$996))","v":""},{"$f":"IF(A44=\"\",\"\",SUMIF(RF_inputs!$B$2:$B$996,Facilities!A44,RF_inputs!$I$2:$I$996))","v":""},{"$f":"IF(A44=\"\",\"\",SUMIF(RF_inputs!$B$2:$B$996,Facilities!A44,RF_inputs!$J$2:$J$996))","v":""},{"$f":"IF($A44=\"\",\"\",L44*(Survey!$C$23/100))","v":""},{"$f":"IF($A44=\"\",\"\",M44*(Survey!$C$23/100))","v":""},{"$f":"IF($A44=\"\",\"\",N44*(Survey!$C$23/100))","v":""},"","",""]
[null,null,null,null,null,null,null,null,null,null,null,{"$f":"IF(A45=\"\",\"\",SUMIF(RF_inputs!$B$2:$B$996,Facilities!A45,RF_inputs!$G$2:$G$996))","v":""},{"$f":"IF(A45=\"\",\"\",SUMIF(RF_inputs!$B$2:$B$996,Facilities!A45,RF_inputs!$I$2:$I$996))","v":""},{"$f":"IF(A45=\"\",\"\",SUMIF(RF_inputs!$B$2:$B$996,Facilities!A45,RF_inputs!$J$2:$J$996))","v":""},{"$f":"IF($A45=\"\",\"\",L45*(Survey!$C$23/100))","v":""},{"$f":"IF($A45=\"\",\"\",M45*(Survey!$C$23/100))","v":""},{"$f":"IF($A45=\"\",\"\",N45*(Survey!$C$23/100))","v":""},"",{"$f":"IF($A45=\"\",\"\",M45-P45)","v":""},{"$f":"IF($A45=\"\",\"\",N45-Q45)","v":""}]
[null,null,null,null,null,null,null,null,null,null,null,{"$f":"IF(A46=\"\",\"\",SUMIF(RF_inputs!$B$2:$B$996,Facilities!A46,RF_inputs!$G$2:$G$996))","v":""},{"$f":"IF(A46=\"\",\"\",SUMIF(RF_inputs!$B$2:$B$996,Facilities!A46,RF_inputs!$I$2:$I$996))","v":""},{"$f":"IF(A46=\"\",\"\",SUMIF(RF_inputs!$B$2:$B$996,Facilities!A46,RF_inputs!$J$2:$J$996))","v":""},{"$f":"IF($A46=\"\",\"\",L46*(Survey!$C$23/100))","v":""},{"$f":"IF($A46=\"\",\"\",M46*(Survey!$C$23/100))","v":""},{"$f":"IF($A46=\"\",\"\",N46*(Survey!$C$23/100))","v":""},"","",""]
[null,null,null,null,null,null,null,null,null,null,null,{"$f":"IF(A47=\"\",\"\",SUMIF(RF_inputs!$B$2:$B$996,Facilities!A47,RF_inputs!$G$2:$G$996))","v":""},{"$f":"IF(A47=\"\",\"\",SUMIF(RF_inputs!$B$2:$B$996,Facilities!A47,RF_inputs!$I$2:$I$996))","v":""},{"$f":"IF(A47=\"\",\"\",SUMIF(RF_inputs!$B$2:$B$996,Facilities!A47,RF_inputs!$J$2:$J$996))","v":""},{"$f":"IF($A47=\"\",\"\",L47*(Survey!$C$23/100))","v":""},{"$f":"IF($A47=\"\",\"\",M47*(Survey!$C$23/100))","v":""},{"$f":"IF($A47=\"\",\"\",N47*(Survey!$C$23/100))","v":""},"","",""]
[null,null,null,null,null,null,null,null,null,null,null,{"$f":"IF(A48=\"\",\"\",SUMIF(RF_inputs!$B$2:$B$996,Facilities!A48,RF_inputs!$G$2:$G$996))","v":""},{"$f":"IF(A48=\"\",\"\",SUMIF(RF_inputs!$B$2:$B$996,Facilities!A48,RF_inputs!$I$2:$I$996))","v":""},{"$f":"IF(A48=\"\",\"\",SUMIF(RF_inputs!$B$2:$B$996,Facilities!A48,RF_inputs!$J$2:$J$996))","v":""},{"$f":"IF($A48=\"\",\"\",L48*(Survey!$C$23/100))","v":""},{"$f":"IF($A48=\"\",\"\",M48*(Survey!$C$23/100))","v":""},{"$f":"IF($A48=\"\",\"\",N48*(Survey!$C$23/100))","v":""},"","",""]
[null,null,null,null,null,null,null,null,null,null,null,{"$f":"IF(A49=\"\",\"\",SUMIF(RF_inputs!$B$2:$B$996,Facilities!A49,RF_inputs!$G$2:$G$996))","v":""},{"$f":"IF(A49=\"\",\"\",SUMIF(RF_inputs!$B$2:$B$996,Facilities!A49,RF_inputs!$I$2:$I$996))","v":""},{"$f":"IF(A49=\"\",\"\",SUMIF(RF_inputs!$B$2:$B$996,Facilities!A49,RF_inputs!$J$2:$J$996))","v":""},{"$f":"IF($A49=\"\",\"\",L49*(Survey!$C$23/100))","v":""},{"$f":"IF($A49=\"\",\"\",M49*(Survey!$C$23/100))","v":""},{"$f":"IF($A49=\"\",\"\",N49*(Survey!$C$23/100))","v":""},"","",""]
[null,null,null,null,null,null,null,null,null,null,null,{"$f":"IF(A50=\"\",\"\",SUMIF(RF_inputs!$B$2:$B$996,Facilities!A50,RF_inputs!$G$2:$G$996))","v":""},{"$f":"IF(A50=\"\",\"\",SUMIF(RF_inputs!$B$2:$B$996,Facilities!A50,RF_inputs!$I$2:$I$996))","v":""},{"$f":"IF(A50=\"\",\"\",SUMIF(RF_inputs!$B$2:$B$996,Facilities!A50,RF_inputs!$J$2:$J$996))","v":""},{"$f":"IF($A50=\"\",\"\",L50*(Survey!$C$23/100))","v":""},{"$f":"IF($A50=\"\",\"\",M50*(Survey!$C$23/100))","v":""},{"$f":"IF($A50=\"\",\"\",N50*(Survey!$C$23/100))","v":""},"","",""]
[null,null,null,null,null,null,null,null,null,null,null,{"$f":"IF(A51=\"\",\"\",SUMIF(RF_inputs!$B$2:$B$996,Facilities!A51,RF_inputs!$G$2:$G$996))","v":""},{"$f":"IF(A51=\"\",\"\",SUMIF(RF_inputs!$B$2:$B$996,Facilities!A51,RF_inputs!$I$2:$I$996))","v":""},{"$f":"IF(A51=\"\",\"\",SUMIF(RF_inputs!$B$2:$B$996,Facilities!A51,RF_inputs!$J$2:$J$996))","v":""},{"$f":"IF($A51=\"\",\"\",L51*(Survey!$C$23/100))","v":""},{"$f":"IF($A51=\"\",\"\",M51*(Survey!$C$23/100))","v":""},{"$f":"IF($A51=\"\",\"\",N51*(Survey!$C$23/100))","v":""},"","",""]
[null,null,null,null,null,null,null,null,null,null,null,{"$f":"IF(A52=\"\",\"\",SUMIF(RF_inputs!$B$2:$B$996,Facilities!A52,RF_inputs!$G$2:$G$996))","v":""},{"$f":"IF(A52=\"\",\"\",SUMIF(RF_inputs!$B$2:$B$996,Facilities!A52,RF_inputs!$I$2:$I$996))","v":""},{"$f":"IF(A52=\"\",\"\",SUMIF(RF_inputs!$B$2:$B$996,Facilities!A52,RF_inputs!$J$2:$J$996))","v":""},{"$f":"IF($A52=\"\",\"\",L52*(Survey!$C$23/100))","v":""},{"$f":"IF($A52=\"\",\"\",M52*(Survey!$C$23/100))","v":""},{"$f":"IF($A52=\"\",\"\",N52*(Survey!$C$23/100))","v":""},"","",""]
[null,null,null,null,null,null,null,null,null,null,null,{"$f":"IF(A53=\"\",\"\",SUMIF(RF_inputs!$B$2:$B$996,Facilities!A53,RF_inputs!$G$2:$G$996))","v":""},{"$f":"IF(A53=\"\",\"\",SUMIF(RF_inputs!$B$2:$B$996,Facilities!A53,RF_inputs!$I$2:$I$996))","v":""},{"$f":"IF(A53=\"\",\"\",SUMIF(RF_inputs!$B$2:$B$996,Facilities!A53,RF_inputs!$J$2:$J$996))","v":""},{"$f":"IF($A53=\"\",\"\",L53*(Survey!$C$23/100))","v":""},{"$f":"IF($A53=\"\",\"\",M53*(Survey!$C$23/100))","v":""},{"$f":"IF($A53=\"\",\"\",N53*(Survey!$C$23/100))","v":""},"","",""]
[null,null,null,null,null,null,null,null,null,null,null,{"$f":"IF(A54=\"\",\"\",SUMIF(RF_inputs!$B$2:$B$996,Facilities!A54,RF_inputs!$G$2:$G$996))","v":""},{"$f":"IF(A54=\"\",\"\",SUMIF(RF_inputs!$B$2:$B$996,Facilities!A54,RF_inputs!$I$2:$I$996))","v":""},{"$f":"IF(A54=\"\",\"\",SUMIF(RF_inputs!$B$2:$B$996,Facilities!A54,RF_inputs!$J$2:$J$996))","v":""},{"$f":"IF($A54=\"\",\"\",L54*(Survey!$C$23/100))","v":""},{"$f":"IF($A54=\"\",\"\",M54*(Survey!$C$23/100))","v":""},{"$f":"IF($A54=\"\",\"\",N54*(Survey!$C$23/100))","v":""},"","",""]
[null,null,null,null,null,null,null,null,null,null,null,{"$f":"IF(A55=\"\",\"\",SUMIF(RF_inputs!$B$2:$B$996,Facilities!A55,RF_inputs!$G$2:$G$996))","v":""},{"$f":"IF(A55=\"\",\"\",SUMIF(RF_inputs!$B$2:$B$996,Facilities!A55,RF_inputs!$I$2:$I$996))","v":""},{"$f":"IF(A55=\"\",\"\",SUMIF(RF_inputs!$B$2:$B$996,Facilities!A55,RF_inputs!$J$2:$J$996))","v":""},{"$f":"IF($A55=\"\",\"\",L55*(Survey!$C$23/100))","v":""},{"$f":"IF($A55=\"\",\"\",M55*(Survey!$C$23/100))","v":""},{"$f":"IF($A55=\"\",\"\",N55*(Survey!$C$23/100))","v":""},"","",""]
[null,null,null,null,null,null,null,null,null,null,null,{"$f":"IF(A56=\"\",\"\",SUMIF(RF_inputs!$B$2:$B$996,Facilities!A56,RF_inputs!$G$2:$G$996))","v":""},{"$f":"IF(A56=\"\",\"\",SUMIF(RF_inputs!$B$2:$B$996,Facilities!A56,RF_inputs!$I$2:$I$996))","v":""},{"$f":"IF(A56=\"\",\"\",SUMIF(RF_inputs!$B$2:$B$996,Facilities!A56,RF_inputs!$J$2:$J$996))","v":""},{"$f":"IF($A56=\"\",\"\",L56*(Survey!$C$23/100))","v":""},{"$f":"IF($A56=\"\",\"\",M56*(Survey!$C$23/100))","v":""},{"$f":"IF($A56=\"\",\"\",N56*(Survey!$C$23/100))","v":""},"","",""]
[null,null,null,null,null,null,null,null,null,null,null,{"$f":"IF(A57=\"\",\"\",SUMIF(RF_inputs!$B$2:$B$996,Facilities!A57,RF_inputs!$G$2:$G$996))","v":""},{"$f":"IF(A57=\"\",\"\",SUMIF(RF_inputs!$B$2:$B$996,Facilities!A57,RF_inputs!$I$2:$I$996))","v":""},{"$f":"IF(A57=\"\",\"\",SUMIF(RF_inputs!$B$2:$B$996,Facilities!A57,RF_inputs!$J$2:$J$996))","v":""},{"$f":"IF($A57=\"\",\"\",L57*(Survey!$C$23/100))","v":""},{"$f":"IF($A57=\"\",\"\",M57*(Survey!$C$23/100))","v":""},{"$f":"IF($A57=\"\",\"\",N57*(Survey!$C$23/100))","v":""},"","",""]
[null,null,null,null,null,null,null,null,null,null,null,{"$f":"IF(A58=\"\",\"\",SUMIF(RF_inputs!$B$2:$B$996,Facilities!A58,RF_inputs!$G$2:$G$996))","v":""},{"$f":"IF(A58=\"\",\"\",SUMIF(RF_inputs!$B$2:$B$996,Facilities!A58,RF_inputs!$I$2:$I$996))","v":""},{"$f":"IF(A58=\"\",\"\",SUMIF(RF_inputs!$B$2:$B$996,Facilities!A58,RF_inputs!$J$2:$J$996))","v":""},{"$f":"IF($A58=\"\",\"\",L58*(Survey!$C$23/100))","v":""},{"$f":"IF($A58=\"\",\"\",M58*(Survey!$C$23/100))","v":""},{"$f":"IF($A58=\"\",\"\",N58*(Survey!$C$23/100))","v":""},"","",""]
[null,null,null,null,null,null,null,null,null,null,null,{"$f":"IF(A59=\"\",\"\",SUMIF(RF_inputs!$B$2:$B$996,Facilities!A59,RF_inputs!$G$2:$G$996))","v":""},{"$f":"IF(A59=\"\",\"\",SUMIF(RF_inputs!$B$2:$B$996,Facilities!A59,RF_inputs!$I$2:$I$996))","v":""},{"$f":"IF(A59=\"\",\"\",SUMIF(RF_inputs!$B$2:$B$996,Facilities!A59,RF_inputs!$J$2:$J$996))","v":""},{"$f":"IF($A59=\"\",\"\",L59*(Survey!$C$23/100))","v":""},{"$f":"IF($A59=\"\",\"\",M59*(Survey!$C$23/100))","v":""},{"$f":"IF($A59=\"\",\"\",N59*(Survey!$C$23/100))","v":""},"","",""]
[null,null,null,null,null,null,null,null,null,null,null,{"$f":"IF(A60=\"\",\"\",SUMIF(RF_inputs!$B$2:$B$996,Facilities!A60,RF_inputs!$G$2:$G$996))","v":""},{"$f":"IF(A60=\"\",\"\",SUMIF(RF_inputs!$B$2:$B$996,Facilities!A60,RF_inputs!$I$2:$I$996))","v":""},{"$f":"IF(A60=\"\",\"\",SUMIF(RF_inputs!$B$2:$B$996,Facilities!A60,RF_inputs!$J$2:$J$996))","v":""},{"$f":"IF($A60=\"\",\"\",L60*(Survey!$C$23/100))","v":""},{"$f":"IF($A60=\"\",\"\",M60*(Survey!$C$23/100))","v":""},{"$f":"IF($A60=\"\",\"\",N60*(Survey!$C$23/100))","v":""},"","",""]
[null,null,null,null,null,null,null,null,null,null,null,{"$f":"IF(A61=\"\",\"\",SUMIF(RF_inputs!$B$2:$B$996,Facilities!A61,RF_inputs!$G$2:$G$996))","v":""},{"$f":"IF(A61=\"\",\"\",SUMIF(RF_inputs!$B$2:$B$996,Facilities!A61,RF_inputs!$I$2:$I$996))","v":""},{"$f":"IF(A61=\"\",\"\",SUMIF(RF_inputs!$B$2:$B$996,Facilities!A61,RF_inputs!$J$2:$J$996))","v":""},{"$f":"IF($A61=\"\",\"\",L61*(Survey!$C$23/100))","v":""},{"$f":"IF($A61=\"\",\"\",M61*(Survey!$C$23/100))","v":""},{"$f":"IF($A61=\"\",\"\",N61*(Survey!$C$23/100))","v":""},"","",""]
[null,null,null,null,null,null,null,null,null,null,null,{"$f":"IF(A62=\"\",\"\",SUMIF(RF_inputs!$B$2:$B$996,Facilities!A62,RF_inputs!$G$2:$G$996))","v":""},{"$f":"IF(A62=\"\",\"\",SUMIF(RF_inputs!$B$2:$B$996,Facilities!A62,RF_inputs!$I$2:$I$996))","v":""},{"$f":"IF(A62=\"\",\"\",SUMIF(RF_inputs!$B$2:$B$996,Facilities!A62,RF_inputs!$J$2:$J$996))","v":""},{"$f":"IF($A62=\"\",\"\",L62*(Survey!$C$23/100))","v":""},{"$f":"IF($A62=\"\",\"\",M62*(Survey!$C$23/100))","v":""},{"$f":"IF($A62=\"\",\"\",N62*(Survey!$C$23/100))","v":""},"","",""]
[null,null,null,null,null,null,null,null,null,null,null,{"$f":"IF(A63=\"\",\"\",SUMIF(RF_inputs!$B$2:$B$996,Facilities!A63,RF_inputs!$G$2:$G$996))","v":""},{"$f":"IF(A63=\"\",\"\",SUMIF(RF_inputs!$B$2:$B$996,Facilities!A63,RF_inputs!$I$2:$I$996))","v":""},{"$f":"IF(A63=\"\",\"\",SUMIF(RF_inputs!$B$2:$B$996,Facilities!A63,RF_inputs!$J$2:$J$996))","v":""},{"$f":"IF($A63=\"\",\"\",L63*(Survey!$C$23/100))","v":""},{"$f":"IF($A63=\"\",\"\",M63*(Survey!$C$23/100))","v":""},{"$f":"IF($A63=\"\",\"\",N63*(Survey!$C$23/100))","v":""},"","",""]
[null,null,null,null,null,null,null,null,null,null,null,{"$f":"IF(A64=\"\",\"\",SUMIF(RF_inputs!$B$2:$B$996,Facilities!A64,RF_inputs!$G$2:$G$996))","v":""},{"$f":"IF(A64=\"\",\"\",SUMIF(RF_inputs!$B$2:$B$996,Facilities!A64,RF_inputs!$I$2:$I$996))","v":""},{"$f":"IF(A64=\"\",\"\",SUMIF(RF_inputs!$B$2:$B$996,Facilities!A64,RF_inputs!$J$2:$J$996))","v":""},{"$f":"IF($A64=\"\",\"\",L64*(Survey!$C$23/100))","v":""},{"$f":"IF($A64=\"\",\"\",M64*(Survey!$C$23/100))","v":""},{"$f":"IF($A64=\"\",\"\",N64*(Survey!$C$23/100))","v":""},"","",""]
[null,null,null,null,null,null,null,null,null,null,null,{"$f":"IF(A65=\"\",\"\",SUMIF(RF_inputs!$B$2:$B$996,Facilities!A65,RF_inputs!$G$2:$G$996))","v":""},{"$f":"IF(A65=\"\",\"\",SUMIF(RF_inputs!$B$2:$B$996,Facilities!A65,RF_inputs!$I$2:$I$996))","v":""},{"$f":"IF(A65=\"\",\"\",SUMIF(RF_inputs!$B$2:$B$996,Facilities!A65,RF_inputs!$J$2:$J$996))","v":""},{"$f":"IF($A65=\"\",\"\",L65*(Survey!$C$23/100))","v":""},{"$f":"IF($A65=\"\",\"\",M65*(Survey!$C$23/100))","v":""},{"$f":"IF($A65=\"\",\"\",N65*(Survey!$C$23/100))","v":""},"","",""]
[null,null,null,null,null,null,null,null,null,null,null,{"$f":"IF(A66=\"\",\"\",SUMIF(RF_inputs!$B$2:$B$996,Facilities!A66,RF_inputs!$G$2:$G$996))","v":""},{"$f":"IF(A66=\"\",\"\",SUMIF(RF_inputs!$B$2:$B$996,Facilities!A66,RF_inputs!$I$2:$I$996))","v":""},{"$f":"IF(A66=\"\",\"\",SUMIF(RF_inputs!$B$2:$B$996,Facilities!A66,RF_inputs!$J$2:$J$996))","v":""},{"$f":"IF($A66=\"\",\"\",L66*(Survey!$C$23/100))","v":""},{"$f":"IF($A66=\"\",\"\",M66*(Survey!$C$23/100))","v":""},{"$f":"IF($A66=\"\",\"\",N66*(Survey!$C$23/100))","v":""},"","",""]
[null,null,null,null,null,null,null,null,null,null,null,{"$f":"IF(A67=\"\",\"\",SUMIF(RF_inputs!$B$2:$B$996,Facilities!A67,RF_inputs!$G$2:$G$996))","v":""},{"$f":"IF(A67=\"\",\"\",SUMIF(RF_inputs!$B$2:$B$996,Facilities!A67,RF_inputs!$I$2:$I$996))","v":""},{"$f":"IF(A67=\"\",\"\",SUMIF(RF_inputs!$B$2:$B$996,Facilities!A67,RF_inputs!$J$2:$J$996))","v":""},{"$f":"IF($A67=\"\",\"\",L67*(Survey!$C$23/100))","v":""},{"$f":"IF($A67=\"\",\"\",M67*(Survey!$C$23/100))","v":""},{"$f":"IF($A67=\"\",\"\",N67*(Survey!$C$23/100))","v":""},{"$f":"IF($A67=\"\",\"\",L67-O67)","v":""},"",""]
[null,null,null,null,null,null,null,null,null,null,null,{"$f":"IF(A68=\"\",\"\",SUMIF(RF_inputs!$B$2:$B$996,Facilities!A68,RF_inputs!$G$2:$G$996))","v":""},{"$f":"IF(A68=\"\",\"\",SUMIF(RF_inputs!$B$2:$B$996,Facilities!A68,RF_inputs!$I$2:$I$996))","v":""},{"$f":"IF(A68=\"\",\"\",SUMIF(RF_inputs!$B$2:$B$996,Facilities!A68,RF_inputs!$J$2:$J$996))","v":""},{"$f":"IF($A68=\"\",\"\",L68*(Survey!$C$23/100))","v":""},{"$f":"IF($A68=\"\",\"\",M68*(Survey!$C$23/100))","v":""},{"$f":"IF($A68=\"\",\"\",N68*(Survey!$C$23/100))","v":""},"","",""]
[null,null,null,null,null,null,null,null,null,null,null,{"$f":"IF(A69=\"\",\"\",SUMIF(RF_inputs!$B$2:$B$996,Facilities!A69,RF_inputs!$G$2:$G$996))","v":""},{"$f":"IF(A69=\"\",\"\",SUMIF(RF_inputs!$B$2:$B$996,Facilities!A69,RF_inputs!$I$2:$I$996))","v":""},{"$f":"IF(A69=\"\",\"\",SUMIF(RF_inputs!$B$2:$B$996,Facilities!A69,RF_inputs!$J$2:$J$996))","v":""},{"$f":"IF($A69=\"\",\"\",L69*(Survey!$C$23/100))","v":""},{"$f":"IF($A69=\"\",\"\",M69*(Survey!$C$23/100))","v":""},{"$f":"IF($A69=\"\",\"\",N69*(Survey!$C$23/100))","v":""},"","",""]
[null,null,null,null,null,null,null,null,null,null,null,{"$f":"IF(A70=\"\",\"\",SUMIF(RF_inputs!$B$2:$B$996,Facilities!A70,RF_inputs!$G$2:$G$996))","v":""},{"$f":"IF(A70=\"\",\"\",SUMIF(RF_inputs!$B$2:$B$996,Facilities!A70,RF_inputs!$I$2:$I$996))","v":""},{"$f":"IF(A70=\"\",\"\",SUMIF(RF_inputs!$B$2:$B$996,Facilities!A70,RF_inputs!$J$2:$J$996))","v":""},{"$f":"IF($A70=\"\",\"\",L70*(Survey!$C$23/100))","v":""},{"$f":"IF($A70=\"\",\"\",M70*(Survey!$C$23/100))","v":""},{"$f":"IF($A70=\"\",\"\",N70*(Survey!$C$23/100))","v":""},"","",""]
[null,null,null,null,null,null,null,null,null,null,null,{"$f":"IF(A71=\"\",\"\",SUMIF(RF_inputs!$B$2:$B$996,Facilities!A71,RF_inputs!$G$2:$G$996))","v":""},{"$f":"IF(A71=\"\",\"\",SUMIF(RF_inputs!$B$2:$B$996,Facilities!A71,RF_inputs!$I$2:$I$996))","v":""},{"$f":"IF(A71=\"\",\"\",SUMIF(RF_inputs!$B$2:$B$996,Facilities!A71,RF_inputs!$J$2:$J$996))","v":""},{"$f":"IF($A71=\"\",\"\",L71*(Survey!$C$23/100))","v":""},{"$f":"IF($A71=\"\",\"\",M71*(Survey!$C$23/100))","v":""},{"$f":"IF($A71=\"\",\"\",N71*(Survey!$C$23/100))","v":""},"","",""]
[null,null,null,null,null,null,null,null,null,null,null,{"$f":"IF(A72=\"\",\"\",SUMIF(RF_inputs!$B$2:$B$996,Facilities!A72,RF_inputs!$G$2:$G$996))","v":""},{"$f":"IF(A72=\"\",\"\",SUMIF(RF_inputs!$B$2:$B$996,Facilities!A72,RF_inputs!$I$2:$I$996))","v":""},{"$f":"IF(A72=\"\",\"\",SUMIF(RF_inputs!$B$2:$B$996,Facilities!A72,RF_inputs!$J$2:$J$996))","v":""},{"$f":"IF($A72=\"\",\"\",L72*(Survey!$C$23/100))","v":""},{"$f":"IF($A72=\"\",\"\",M72*(Survey!$C$23/100))","v":""},{"$f":"IF($A72=\"\",\"\",N72*(Survey!$C$23/100))","v":""},"","",""]
[null,null,null,null,null,null,null,null,null,null,null,{"$f":"IF(A73=\"\",\"\",SUMIF(RF_inputs!$B$2:$B$996,Facilities!A73,RF_inputs!$G$2:$G$996))","v":""},{"$f":"IF(A73=\"\",\"\",SUMIF(RF_inputs!$B$2:$B$996,Facilities!A73,RF_inputs!$I$2:$I$996))","v":""},{"$f":"IF(A73=\"\",\"\",SUMIF(RF_inputs!$B$2:$B$996,Facilities!A73,RF_inputs!$J$2:$J$996))","v":""},{"$f":"IF($A73=\"\",\"\",L73*(Survey!$C$23/100))","v":""},{"$f":"IF($A73=\"\",\"\",M73*(Survey!$C$23/100))","v":""},{"$f":"IF($A73=\"\",\"\",N73*(Survey!$C$23/100))","v":""},"","",""]
[null,null,null,null,null,null,null,null,null,null,null,{"$f":"IF(A74=\"\",\"\",SUMIF(RF_inputs!$B$2:$B$996,Facilities!A74,RF_inputs!$G$2:$G$996))","v":""},{"$f":"IF(A74=\"\",\"\",SUMIF(RF_inputs!$B$2:$B$996,Facilities!A74,RF_inputs!$I$2:$I$996))","v":""},{"$f":"IF(A74=\"\",\"\",SUMIF(RF_inputs!$B$2:$B$996,Facilities!A74,RF_inputs!$J$2:$J$996))","v":""},{"$f":"IF($A74=\"\",\"\",L74*(Survey!$C$23/100))","v":""},{"$f":"IF($A74=\"\",\"\",M74*(Survey!$C$23/100))","v":""},{"$f":"IF($A74=\"\",\"\",N74*(Survey!$C$23/100))","v":""},"","",""]
[null,null,null,null,null,null,null,null,null,null,null,{"$f":"IF(A75=\"\",\"\",SUMIF(RF_inputs!$B$2:$B$996,Facilities!A75,RF_inputs!$G$2:$G$996))","v":""},{"$f":"IF(A75=\"\",\"\",SUMIF(RF_inputs!$B$2:$B$996,Facilities!A75,RF_inputs!$I$2:$I$996))","v":""},{"$f":"IF(A75=\"\",\"\",SUMIF(RF_inputs!$B$2:$B$996,Facilities!A75,RF_inputs!$J$2:$J$996))","v":""},{"$f":"IF($A75=\"\",\"\",L75*(Survey!$C$23/100))","v":""},{"$f":"IF($A75=\"\",\"\",M75*(Survey!$C$23/100))","v":""},{"$f":"IF($A75=\"\",\"\",N75*(Survey!$C$23/100))","v":""},"","",""]
[null,null,null,null,null,null,null,null,null,null,null,{"$f":"IF(A76=\"\",\"\",SUMIF(RF_inputs!$B$2:$B$996,Facilities!A76,RF_inputs!$G$2:$G$996))","v":""},{"$f":"IF(A76=\"\",\"\",SUMIF(RF_inputs!$B$2:$B$996,Facilities!A76,RF_inputs!$I$2:$I$996))","v":""},{"$f":"IF(A76=\"\",\"\",SUMIF(RF_inputs!$B$2:$B$996,Facilities!A76,RF_inputs!$J$2:$J$996))","v":""},{"$f":"IF($A76=\"\",\"\",L76*(Survey!$C$23/100))","v":""},{"$f":"IF($A76=\"\",\"\",M76*(Survey!$C$23/100))","v":""},{"$f":"IF($A76=\"\",\"\",N76*(Survey!$C$23/100))","v":""},"","",""]
[null,null,null,null,null,null,null,null,null,null,null,{"$f":"IF(A77=\"\",\"\",SUMIF(RF_inputs!$B$2:$B$996,Facilities!A77,RF_inputs!$G$2:$G$996))","v":""},{"$f":"IF(A77=\"\",\"\",SUMIF(RF_inputs!$B$2:$B$996,Facilities!A77,RF_inputs!$I$2:$I$996))","v":""},{"$f":"IF(A77=\"\",\"\",SUMIF(RF_inputs!$B$2:$B$996,Facilities!A77,RF_inputs!$J$2:$J$996))","v":""},{"$f":"IF($A77=\"\",\"\",L77*(Survey!$C$23/100))","v":""},{"$f":"IF($A77=\"\",\"\",M77*(Survey!$C$23/100))","v":""},{"$f":"IF($A77=\"\",\"\",N77*(Survey!$C$23/100))","v":""},"",{"$f":"IF($A77=\"\",\"\",M77-P77)","v":""},{"$f":"IF($A77=\"\",\"\",N77-Q77)","v":""}]
[null,null,null,null,null,null,null,null,null,null,null,{"$f":"IF(A78=\"\",\"\",SUMIF(RF_inputs!$B$2:$B$996,Facilities!A78,RF_inputs!$G$2:$G$996))","v":""},{"$f":"IF(A78=\"\",\"\",SUMIF(RF_inputs!$B$2:$B$996,Facilities!A78,RF_inputs!$I$2:$I$996))","v":""},{"$f":"IF(A78=\"\",\"\",SUMIF(RF_inputs!$B$2:$B$996,Facilities!A78,RF_inputs!$J$2:$J$996))","v":""},{"$f":"IF($A78=\"\",\"\",L78*(Survey!$C$23/100))","v":""},{"$f":"IF($A78=\"\",\"\",M78*(Survey!$C$23/100))","v":""},{"$f":"IF($A78=\"\",\"\",N78*(Survey!$C$23/100))","v":""},"","",""]
[null,null,null,null,null,null,null,null,null,null,null,{"$f":"IF(A79=\"\",\"\",SUMIF(RF_inputs!$B$2:$B$996,Facilities!A79,RF_inputs!$G$2:$G$996))","v":""},{"$f":"IF(A79=\"\",\"\",SUMIF(RF_inputs!$B$2:$B$996,Facilities!A79,RF_inputs!$I$2:$I$996))","v":""},{"$f":"IF(A79=\"\",\"\",SUMIF(RF_inputs!$B$2:$B$996,Facilities!A79,RF_inputs!$J$2:$J$996))","v":""},{"$f":"IF($A79=\"\",\"\",L79*(Survey!$C$23/100))","v":""},{"$f":"IF($A79=\"\",\"\",M79*(Survey!$C$23/100))","v":""},{"$f":"IF($A79=\"\",\"\",N79*(Survey!$C$23/100))","v":""},"","",""]
[null,null,null,null,null,null,null,null,null,null,null,{"$f":"IF(A80=\"\",\"\",SUMIF(RF_inputs!$B$2:$B$996,Facilities!A80,RF_inputs!$G$2:$G$996))","v":""},{"$f":"IF(A80=\"\",\"\",SUMIF(RF_inputs!$B$2:$B$996,Facilities!A80,RF_inputs!$I$2:$I$996))","v":""},{"$f":"IF(A80=\"\",\"\",SUMIF(RF_inputs!$B$2:$B$996,Facilities!A80,RF_inputs!$J$2:$J$996))","v":""},{"$f":"IF($A80=\"\",\"\",L80*(Survey!$C$23/100))","v":""},{"$f":"IF($A80=\"\",\"\",M80*(Survey!$C$23/100))","v":""},{"$f":"IF($A80=\"\",\"\",N80*(Survey!$C$23/100))","v":""},"","",""]
[null,null,null,null,null,null,null,null,null,null,null,{"$f":"IF(A81=\"\",\"\",SUMIF(RF_inputs!$B$2:$B$996,Facilities!A81,RF_inputs!$G$2:$G$996))","v":""},{"$f":"IF(A81=\"\",\"\",SUMIF(RF_inputs!$B$2:$B$996,Facilities!A81,RF_inputs!$I$2:$I$996))","v":""},{"$f":"IF(A81=\"\",\"\",SUMIF(RF_inputs!$B$2:$B$996,Facilities!A81,RF_inputs!$J$2:$J$996))","v":""},{"$f":"IF($A81=\"\",\"\",L81*(Survey!$C$23/100))","v":""},{"$f":"IF($A81=\"\",\"\",M81*(Survey!$C$23/100))","v":""},{"$f":"IF($A81=\"\",\"\",N81*(Survey!$C$23/100))","v":""},"","",""]
[null,null,null,null,null,null,null,null,null,null,null,{"$f":"IF(A82=\"\",\"\",SUMIF(RF_inputs!$B$2:$B$996,Facilities!A82,RF_inputs!$G$2:$G$996))","v":""},{"$f":"IF(A82=\"\",\"\",SUMIF(RF_inputs!$B$2:$B$996,Facilities!A82,RF_inputs!$I$2:$I$996))","v":""},{"$f":"IF(A82=\"\",\"\",SUMIF(RF_inputs!$B$2:$B$996,Facilities!A82,RF_inputs!$J$2:$J$996))","v":""},{"$f":"IF($A82=\"\",\"\",L82*(Survey!$C$23/100))","v":""},{"$f":"IF($A82=\"\",\"\",M82*(Survey!$C$23/100))","v":""},{"$f":"IF($A82=\"\",\"\",N82*(Survey!$C$23/100))","v":""},"","",""]
[null,null,null,null,null,null,null,null,null,null,null,{"$f":"IF(A83=\"\",\"\",SUMIF(RF_inputs!$B$2:$B$996,Facilities!A83,RF_inputs!$G$2:$G$996))","v":""},{"$f":"IF(A83=\"\",\"\",SUMIF(RF_inputs!$B$2:$B$996,Facilities!A83,RF_inputs!$I$2:$I$996))","v":""},{"$f":"IF(A83=\"\",\"\",SUMIF(RF_inputs!$B$2:$B$996,Facilities!A83,RF_inputs!$J$2:$J$996))","v":""},{"$f":"IF($A83=\"\",\"\",L83*(Survey!$C$23/100))","v":""},{"$f":"IF($A83=\"\",\"\",M83*(Survey!$C$23/100))","v":""},{"$f":"IF($A83=\"\",\"\",N83*(Survey!$C$23/100))","v":""},"","",""]
[null,null,null,null,null,null,null,null,null,null,null,{"$f":"IF(A84=\"\",\"\",SUMIF(RF_inputs!$B$2:$B$996,Facilities!A84,RF_inputs!$G$2:$G$996))","v":""},{"$f":"IF(A84=\"\",\"\",SUMIF(RF_inputs!$B$2:$B$996,Facilities!A84,RF_inputs!$I$2:$I$996))","v":""},{"$f":"IF(A84=\"\",\"\",SUMIF(RF_inputs!$B$2:$B$996,Facilities!A84,RF_inputs!$J$2:$J$996))","v":""},{"$f":"IF($A84=\"\",\"\",L84*(Survey!$C$23/100))","v":""},{"$f":"IF($A84=\"\",\"\",M84*(Survey!$C$23/100))","v":""},{"$f":"IF($A84=\"\",\"\",N84*(Survey!$C$23/100))","v":""},"","",""]
[null,null,null,null,null,null,null,null,null,null,null,{"$f":"IF(A85=\"\",\"\",SUMIF(RF_inputs!$B$2:$B$996,Facilities!A85,RF_inputs!$G$2:$G$996))","v":""},{"$f":"IF(A85=\"\",\"\",SUMIF(RF_inputs!$B$2:$B$996,Facilities!A85,RF_inputs!$I$2:$I$996))","v":""},{"$f":"IF(A85=\"\",\"\",SUMIF(RF_inputs!$B$2:$B$996,Facilities!A85,RF_inputs!$J$2:$J$996))","v":""},{"$f":"IF($A85=\"\",\"\",L85*(Survey!$C$23/100))","v":""},{"$f":"IF($A85=\"\",\"\",M85*(Survey!$C$23/100))","v":""},{"$f":"IF($A85=\"\",\"\",N85*(Survey!$C$23/100))","v":""},"","",""]
[null,null,null,null,null,null,null,null,null,null,null,{"$f":"IF(A86=\"\",\"\",SUMIF(RF_inputs!$B$2:$B$996,Facilities!A86,RF_inputs!$G$2:$G$996))","v":""},{"$f":"IF(A86=\"\",\"\",SUMIF(RF_inputs!$B$2:$B$996,Facilities!A86,RF_inputs!$I$2:$I$996))","v":""},{"$f":"IF(A86=\"\",\"\",SUMIF(RF_inputs!$B$2:$B$996,Facilities!A86,RF_inputs!$J$2:$J$996))","v":""},{"$f":"IF($A86=\"\",\"\",L86*(Survey!$C$23/100))","v":""},{"$f":"IF($A86=\"\",\"\",M86*(Survey!$C$23/100))","v":""},{"$f":"IF($A86=\"\",\"\",N86*(Survey!$C$23/100))","v":""},"","",""]
[null,null,null,null,null,null,null,null,null,null,null,{"$f":"IF(A87=\"\",\"\",SUMIF(RF_inputs!$B$2:$B$996,Facilities!A87,RF_inputs!$G$2:$G$996))","v":""},{"$f":"IF(A87=\"\",\"\",SUMIF(RF_inputs!$B$2:$B$996,Facilities!A87,RF_inputs!$I$2:$I$996))","v":""},{"$f":"IF(A87=\"\",\"\",SUMIF(RF_inputs!$B$2:$B$996,Facilities!A87,RF_inputs!$J$2:$J$996))","v":""},{"$f":"IF($A87=\"\",\"\",L87*(Survey!$C$23/100))","v":""},{"$f":"IF($A87=\"\",\"\",M87*(Survey!$C$23/100))","v":""},{"$f":"IF($A87=\"\",\"\",N87*(Survey!$C$23/100))","v":""},"","",""]
[null,null,null,null,null,null,null,null,null,null,null,{"$f":"IF(A88=\"\",\"\",SUMIF(RF_inputs!$B$2:$B$996,Facilities!A88,RF_inputs!$G$2:$G$996))","v":""},{"$f":"IF(A88=\"\",\"\",SUMIF(RF_inputs!$B$2:$B$996,Facilities!A88,RF_inputs!$I$2:$I$996))","v":""},{"$f":"IF(A88=\"\",\"\",SUMIF(RF_inputs!$B$2:$B$996,Facilities!A88,RF_inputs!$J$2:$J$996))","v":""},{"$f":"IF($A88=\"\",\"\",L88*(Survey!$C$23/100))","v":""},{"$f":"IF($A88=\"\",\"\",M88*(Survey!$C$23/100))","v":""},{"$f":"IF($A88=\"\",\"\",N88*(Survey!$C$23/100))","v":""},"","",""]
[null,null,null,null,null,null,null,null,null,null,null,{"$f":"IF(A89=\"\",\"\",SUMIF(RF_inputs!$B$2:$B$996,Facilities!A89,RF_inputs!$G$2:$G$996))","v":""},{"$f":"IF(A89=\"\",\"\",SUMIF(RF_inputs!$B$2:$B$996,Facilities!A89,RF_inputs!$I$2:$I$996))","v":""},{"$f":"IF(A89=\"\",\"\",SUMIF(RF_inputs!$B$2:$B$996,Facilities!A89,RF_inputs!$J$2:$J$996))","v":""},{"$f":"IF($A89=\"\",\"\",L89*(Survey!$C$23/100))","v":""},{"$f":"IF($A89=\"\",\"\",M89*(Survey!$C$23/100))","v":""},{"$f":"IF($A89=\"\",\"\",N89*(Survey!$C$23/100))","v":""},"","",""]
[null,null,null,null,null,null,null,null,null,null,null,{"$f":"IF(A90=\"\",\"\",SUMIF(RF_inputs!$B$2:$B$996,Facilities!A90,RF_inputs!$G$2:$G$996))","v":""},{"$f":"IF(A90=\"\",\"\",SUMIF(RF_inputs!$B$2:$B$996,Facilities!A90,RF_inputs!$I$2:$I$996))","v":""},{"$f":"IF(A90=\"\",\"\",SUMIF(RF_inputs!$B$2:$B$996,Facilities!A90,RF_inputs!$J$2:$J$996))","v":""},{"$f":"IF($A90=\"\",\"\",L90*(Survey!$C$23/100))","v":""},{"$f":"IF($A90=\"\",\"\",M90*(Survey!$C$23/100))","v":""},{"$f":"IF($A90=\"\",\"\",N90*(Survey!$C$23/100))","v":""},"","",""]
[null,null,null,null,null,null,null,null,null,null,null,{"$f":"IF(A91=\"\",\"\",SUMIF(RF_inputs!$B$2:$B$996,Facilities!A91,RF_inputs!$G$2:$G$996))","v":""},{"$f":"IF(A91=\"\",\"\",SUMIF(RF_inputs!$B$2:$B$996,Facilities!A91,RF_inputs!$I$2:$I$996))","v":""},{"$f":"IF(A91=\"\",\"\",SUMIF(RF_inputs!$B$2:$B$996,Facilities!A91,RF_inputs!$J$2:$J$996))","v":""},{"$f":"IF($A91=\"\",\"\",L91*(Survey!$C$23/100))","v":""},{"$f":"IF($A91=\"\",\"\",M91*(Survey!$C$23/100))","v":""},{"$f":"IF($A91=\"\",\"\",N91*(Survey!$C$23/100))","v":""},"","",""]
[null,null,null,null,null,null,null,null,null,null,null,{"$f":"IF(A92=\"\",\"\",SUMIF(RF_inputs!$B$2:$B$996,Facilities!A92,RF_inputs!$G$2:$G$996))","v":""},{"$f":"IF(A92=\"\",\"\",SUMIF(RF_inputs!$B$2:$B$996,Facilities!A92,RF_inputs!$I$2:$I$996))","v":""},{"$f":"IF(A92=\"\",\"\",SUMIF(RF_inputs!$B$2:$B$996,Facilities!A92,RF_inputs!$J$2:$J$996))","v":""},{"$f":"IF($A92=\"\",\"\",L92*(Survey!$C$23/100))","v":""},{"$f":"IF($A92=\"\",\"\",M92*(Survey!$C$23/100))","v":""},{"$f":"IF($A92=\"\",\"\",N92*(Survey!$C$23/100))","v":""},"","",""]
[null,null,null,null,null,null,null,null,null,null,null,{"$f":"IF(A93=\"\",\"\",SUMIF(RF_inputs!$B$2:$B$996,Facilities!A93,RF_inputs!$G$2:$G$996))","v":""},{"$f":"IF(A93=\"\",\"\",SUMIF(RF_inputs!$B$2:$B$996,Facilities!A93,RF_inputs!$I$2:$I$996))","v":""},{"$f":"IF(A93=\"\",\"\",SUMIF(RF_inputs!$B$2:$B$996,Facilities!A93,RF_inputs!$J$2:$J$996))","v":""},{"$f":"IF($A93=\"\",\"\",L93*(Survey!$C$23/100))","v":""},{"$f":"IF($A93=\"\",\"\",M93*(Survey!$C$23/100))","v":""},{"$f":"IF($A93=\"\",\"\",N93*(Survey!$C$23/100))","v":""},"","",""]
[null,null,null,null,null,null,null,null,null,null,null,{"$f":"IF(A94=\"\",\"\",SUMIF(RF_inputs!$B$2:$B$996,Facilities!A94,RF_inputs!$G$2:$G$996))","v":""},{"$f":"IF(A94=\"\",\"\",SUMIF(RF_inputs!$B$2:$B$996,Facilities!A94,RF_inputs!$I$2:$I$996))","v":""},{"$f":"IF(A94=\"\",\"\",SUMIF(RF_inputs!$B$2:$B$996,Facilities!A94,RF_inputs!$J$2:$J$996))","v":""},{"$f":"IF($A94=\"\",\"\",L94*(Survey!$C$23/100))","v":""},{"$f":"IF($A94=\"\",\"\",M94*(Survey!$C$23/100))","v":""},{"$f":"IF($A94=\"\",\"\",N94*(Survey!$C$23/100))","v":""},"","",""]
[null,null,null,null,null,null,null,null,null,null,null,{"$f":"IF(A95=\"\",\"\",SUMIF(RF_inputs!$B$2:$B$996,Facilities!A95,RF_inputs!$G$2:$G$996))","v":""},{"$f":"IF(A95=\"\",\"\",SUMIF(RF_inputs!$B$2:$B$996,Facilities!A95,RF_inputs!$I$2:$I$996))","v":""},{"$f":"IF(A95=\"\",\"\",SUMIF(RF_inputs!$B$2:$B$996,Facilities!A95,RF_inputs!$J$2:$J$996))","v":""},{"$f":"IF($A95=\"\",\"\",L95*(Survey!$C$23/100))","v":""},{"$f":"IF($A95=\"\",\"\",M95*(Survey!$C$23/100))","v":""},{"$f":"IF($A95=\"\",\"\",N95*(Survey!$C$23/100))","v":""},"","",""]
[null,null,null,null,null,null,null,null,null,null,null,{"$f":"IF(A96=\"\",\"\",SUMIF(RF_inputs!$B$2:$B$996,Facilities!A96,RF_inputs!$G$2:$G$996))","v":""},{"$f":"IF(A96=\"\",\"\",SUMIF(RF_inputs!$B$2:$B$996,Facilities!A96,RF_inputs!$I$2:$I$996))","v":""},{"$f":"IF(A96=\"\",\"\",SUMIF(RF_inputs!$B$2:$B$996,Facilities!A96,RF_inputs!$J$2:$J$996))","v":""},{"$f":"IF($A96=\"\",\"\",L96*(Survey!$C$23/100))","v":""},{"$f":"IF($A96=\"\",\"\",M96*(Survey!$C$23/100))","v":""},{"$f":"IF($A96=\"\",\"\",N96*(Survey!$C$23/100))","v":""},"","",""]
[null,null,null,null,null,null,null,null,null,null,null,{"$f":"IF(A97=\"\",\"\",SUMIF(RF_inputs!$B$2:$B$996,Facilities!A97,RF_inputs!$G$2:$G$996))","v":""},{"$f":"IF(A97=\"\",\"\",SUMIF(RF_inputs!$B$2:$B$996,Facilities!A97,RF_inputs!$I$2:$I$996))","v":""},{"$f":"IF(A97=\"\",\"\",SUMIF(RF_inputs!$B$2:$B$996,Facilities!A97,RF_inputs!$J$2:$J$996))","v":""},{"$f":"IF($A97=\"\",\"\",L97*(Survey!$C$23/100))","v":""},{"$f":"IF($A97=\"\",\"\",M97*(Survey!$C$23/100))","v":""},{"$f":"IF($A97=\"\",\"\",N97*(Survey!$C$23/100))","v":""},"","",""]
[null,null,null,null,null,null,null,null,null,null,null,{"$f":"IF(A98=\"\",\"\",SUMIF(RF_inputs!$B$2:$B$996,Facilities!A98,RF_inputs!$G$2:$G$996))","v":""},{"$f":"IF(A98=\"\",\"\",SUMIF(RF_inputs!$B$2:$B$996,Facilities!A98,RF_inputs!$I$2:$I$996))","v":""},{"$f":"IF(A98=\"\",\"\",SUMIF(RF_inputs!$B$2:$B$996,Facilities!A98,RF_inputs!$J$2:$J$996))","v":""},{"$f":"IF($A98=\"\",\"\",L98*(Survey!$C$23/100))","v":""},{"$f":"IF($A98=\"\",\"\",M98*(Survey!$C$23/100))","v":""},{"$f":"IF($A98=\"\",\"\",N98*(Survey!$C$23/100))","v":""},"","",""]
[null,null,null,null,null,null,null,null,null,null,null,{"$f":"IF(A99=\"\",\"\",SUMIF(RF_inputs!$B$2:$B$996,Facilities!A99,RF_inputs!$G$2:$G$996))","v":""},{"$f":"IF(A99=\"\",\"\",SUMIF(RF_inputs!$B$2:$B$996,Facilities!A99,RF_inputs!$I$2:$I$996))","v":""},{"$f":"IF(A99=\"\",\"\",SUMIF(RF_inputs!$B$2:$B$996,Facilities!A99,RF_inputs!$J$2:$J$996))","v":""},{"$f":"IF($A99=\"\",\"\",L99*(Survey!$C$23/100))","v":""},{"$f":"IF($A99=\"\",\"\",M99*(Survey!$C$23/100))","v":""},{"$f":"IF($A99=\"\",\"\",N99*(Survey!$C$23/100))","v":""},"","",""]

{"sheet":"Sources","index":20,"n_rows":1,"n_cols":7,"rows_kept":1,"cut":false,"hidden":true,"merged":[]}
["ID","Type","Name","Address","Contact","email","Telephone"]

{"sheet":"Outlets","index":21,"n_rows":1,"n_cols":7,"rows_kept":1,"cut":false,"hidden":true,"merged":[]}
["ID","Type","Name","Address","Contact","email","Telephone"]

{"sheet":"Source Cities","index":22,"n_rows":2,"n_cols":7,"rows_kept":2,"cut":false,"hidden":true,"merged":[]}
["ID","City","SurveyCity",null,null,null,"Note: only ONE city can be surveycity"]
[1,"Survey City",true]

{"sheet":"RF_inputs","index":23,"n_rows":999,"n_cols":15,"rows_kept":999,"cut":false,"hidden":true,"merged":[]}
["ID","ReceivingRfID","ResourceID","SourceTypeID","SourceID","SourceCityID","Qty","NonHH","Received","ReceivedControlled","PointOfEntry",null,null,"PoE","Controlled"]
[null,null,null,null,null,null,null,null,{"$f":"IF(A2=\"\",\"\",IF(F2=1,G2*N2,0))","v":""},{"$f":"IF(A2=\"\",\"\",IF(O2<4,I2,0))","v":""},null,null,null,{"$f":"IF(A2=\"\",\"\",IF(K2=TRUE,1,0))","v":""},{"$f":"IF(A2=\"\",\"\",VLOOKUP(B2,Facilities!A$2:J$99,10,))","v":""}]
[null,null,null,null,null,null,null,null,"","",null,null,null,{"$f":"IF(A3=\"\",\"\",IF(K3=TRUE,1,0))","v":""},{"$f":"IF(A3=\"\",\"\",VLOOKUP(B3,Facilities!A$2:J$99,10,))","v":""}]
[null,null,null,null,null,null,null,null,"","",null,null,null,"",{"$f":"IF(A4=\"\",\"\",VLOOKUP(B4,Facilities!A$2:J$99,10,))","v":""}]
[null,null,null,null,null,null,null,null,"","",null,null,null,"",{"$f":"IF(A5=\"\",\"\",VLOOKUP(B5,Facilities!A$2:J$99,10,))","v":""}]
[null,null,null,null,null,null,null,null,"","",null,null,null,"",{"$f":"IF(A6=\"\",\"\",VLOOKUP(B6,Facilities!A$2:J$99,10,))","v":""}]
[null,null,null,null,null,null,null,null,"","",null,null,null,"",{"$f":"IF(A7=\"\",\"\",VLOOKUP(B7,Facilities!A$2:J$99,10,))","v":""}]
[null,null,null,null,null,null,null,null,"","",null,null,null,"",{"$f":"IF(A8=\"\",\"\",VLOOKUP(B8,Facilities!A$2:J$99,10,))","v":""}]
[null,null,null,null,null,null,null,null,"","",null,null,null,"",{"$f":"IF(A9=\"\",\"\",VLOOKUP(B9,Facilities!A$2:J$99,10,))","v":""}]
[null,null,null,null,null,null,null,null,"","",null,null,null,"",{"$f":"IF(A10=\"\",\"\",VLOOKUP(B10,Facilities!A$2:J$99,10,))","v":""}]
[null,null,null,null,null,null,null,null,"","",null,null,null,"",{"$f":"IF(A11=\"\",\"\",VLOOKUP(B11,Facilities!A$2:J$99,10,))","v":""}]
[null,null,null,null,null,null,null,null,"","",null,null,null,"",{"$f":"IF(A12=\"\",\"\",VLOOKUP(B12,Facilities!A$2:J$99,10,))","v":""}]
[null,null,null,null,null,null,null,null,"","",null,null,null,"",{"$f":"IF(A13=\"\",\"\",VLOOKUP(B13,Facilities!A$2:J$99,10,))","v":""}]
[null,null,null,null,null,null,null,null,"","",null,null,null,"",{"$f":"IF(A14=\"\",\"\",VLOOKUP(B14,Facilities!A$2:J$99,10,))","v":""}]
[null,null,null,null,null,null,null,null,"","",null,null,null,"",{"$f":"IF(A15=\"\",\"\",VLOOKUP(B15,Facilities!A$2:J$99,10,))","v":""}]
[null,null,null,null,null,null,null,null,"","",null,null,null,"",{"$f":"IF(A16=\"\",\"\",VLOOKUP(B16,Facilities!A$2:J$99,10,))","v":""}]
[null,null,null,null,null,null,null,null,"","",null,null,null,"",{"$f":"IF(A17=\"\",\"\",VLOOKUP(B17,Facilities!A$2:J$99,10,))","v":""}]
[null,null,null,null,null,null,null,null,"","",null,null,null,"",{"$f":"IF(A18=\"\",\"\",VLOOKUP(B18,Facilities!A$2:J$99,10,))","v":""}]
[null,null,null,null,null,null,null,null,"","",null,null,null,"",{"$f":"IF(A19=\"\",\"\",VLOOKUP(B19,Facilities!A$2:J$99,10,))","v":""}]
[null,null,null,null,null,null,null,null,"","",null,null,null,"",{"$f":"IF(A20=\"\",\"\",VLOOKUP(B20,Facilities!A$2:J$99,10,))","v":""}]
[null,null,null,null,null,null,null,null,"","",null,null,null,"",{"$f":"IF(A21=\"\",\"\",VLOOKUP(B21,Facilities!A$2:J$99,10,))","v":""}]
[null,null,null,null,null,null,null,null,"","",null,null,null,"",{"$f":"IF(A22=\"\",\"\",VLOOKUP(B22,Facilities!A$2:J$99,10,))","v":""}]
[null,null,null,null,null,null,null,null,"","",null,null,null,"",{"$f":"IF(A23=\"\",\"\",VLOOKUP(B23,Facilities!A$2:J$99,10,))","v":""}]
[null,null,null,null,null,null,null,null,"","",null,null,null,"",{"$f":"IF(A24=\"\",\"\",VLOOKUP(B24,Facilities!A$2:J$99,10,))","v":""}]
[null,null,null,null,null,null,null,null,"","",null,null,null,"",{"$f":"IF(A25=\"\",\"\",VLOOKUP(B25,Facilities!A$2:J$99,10,))","v":""}]
[null,null,null,null,null,null,null,null,"","",null,null,null,"",{"$f":"IF(A26=\"\",\"\",VLOOKUP(B26,Facilities!A$2:J$99,10,))","v":""}]
[null,null,null,null,null,null,null,null,"","",null,null,null,"",{"$f":"IF(A27=\"\",\"\",VLOOKUP(B27,Facilities!A$2:J$99,10,))","v":""}]
[null,null,null,null,null,null,null,null,"","",null,null,null,"",{"$f":"IF(A28=\"\",\"\",VLOOKUP(B28,Facilities!A$2:J$99,10,))","v":""}]
[null,null,null,null,null,null,null,null,"","",null,null,null,"",{"$f":"IF(A29=\"\",\"\",VLOOKUP(B29,Facilities!A$2:J$99,10,))","v":""}]
[null,null,null,null,null,null,null,null,"","",null,null,null,"",{"$f":"IF(A30=\"\",\"\",VLOOKUP(B30,Facilities!A$2:J$99,10,))","v":""}]
[null,null,null,null,null,null,null,null,"","",null,null,null,"",{"$f":"IF(A31=\"\",\"\",VLOOKUP(B31,Facilities!A$2:J$99,10,))","v":""}]
[null,null,null,null,null,null,null,null,"","",null,null,null,"",{"$f":"IF(A32=\"\",\"\",VLOOKUP(B32,Facilities!A$2:J$99,10,))","v":""}]
[null,null,null,null,null,null,null,null,"","",null,null,null,"",{"$f":"IF(A33=\"\",\"\",VLOOKUP(B33,Facilities!A$2:J$99,10,))","v":""}]
[null,null,null,null,null,null,null,null,"","",null,null,null,"",{"$f":"IF(A34=\"\",\"\",VLOOKUP(B34,Facilities!A$2:J$99,10,))","v":""}]
[null,null,null,null,null,null,null,null,"","",null,null,null,"",{"$f":"IF(A35=\"\",\"\",VLOOKUP(B35,Facilities!A$2:J$99,10,))","v":""}]
[null,null,null,null,null,null,null,null,"","",null,null,null,"",{"$f":"IF(A36=\"\",\"\",VLOOKUP(B36,Facilities!A$2:J$99,10,))","v":""}]
[null,null,null,null,null,null,null,null,"","",null,null,null,"",{"$f":"IF(A37=\"\",\"\",VLOOKUP(B37,Facilities!A$2:J$99,10,))","v":""}]
[null,null,null,null,null,null,null,null,"","",null,null,null,"",{"$f":"IF(A38=\"\",\"\",VLOOKUP(B38,Facilities!A$2:J$99,10,))","v":""}]
[null,null,null,null,null,null,null,null,"","",null,null,null,"",{"$f":"IF(A39=\"\",\"\",VLOOKUP(B39,Facilities!A$2:J$99,10,))","v":""}]
[null,null,null,null,null,null,null,null,"","",null,null,null,"",{"$f":"IF(A40=\"\",\"\",VLOOKUP(B40,Facilities!A$2:J$99,10,))","v":""}]
[null,null,null,null,null,null,null,null,"","",null,null,null,"",{"$f":"IF(A41=\"\",\"\",VLOOKUP(B41,Facilities!A$2:J$99,10,))","v":""}]
[null,null,null,null,null,null,null,null,"","",null,null,null,"",{"$f":"IF(A42=\"\",\"\",VLOOKUP(B42,Facilities!A$2:J$99,10,))","v":""}]
[null,null,null,null,null,null,null,null,"","",null,null,null,"",{"$f":"IF(A43=\"\",\"\",VLOOKUP(B43,Facilities!A$2:J$99,10,))","v":""}]
[null,null,null,null,null,null,null,null,"","",null,null,null,"",{"$f":"IF(A44=\"\",\"\",VLOOKUP(B44,Facilities!A$2:J$99,10,))","v":""}]
[null,null,null,null,null,null,null,null,"","",null,null,null,"",{"$f":"IF(A45=\"\",\"\",VLOOKUP(B45,Facilities!A$2:J$99,10,))","v":""}]
[null,null,null,null,null,null,null,null,"","",null,null,null,"",{"$f":"IF(A46=\"\",\"\",VLOOKUP(B46,Facilities!A$2:J$99,10,))","v":""}]
[null,null,null,null,null,null,null,null,"","",null,null,null,"",{"$f":"IF(A47=\"\",\"\",VLOOKUP(B47,Facilities!A$2:J$99,10,))","v":""}]
[null,null,null,null,null,null,null,null,"","",null,null,null,"",{"$f":"IF(A48=\"\",\"\",VLOOKUP(B48,Facilities!A$2:J$99,10,))","v":""}]
[null,null,null,null,null,null,null,null,"","",null,null,null,"",{"$f":"IF(A49=\"\",\"\",VLOOKUP(B49,Facilities!A$2:J$99,10,))","v":""}]
[null,null,null,null,null,null,null,null,"","",null,null,null,"",{"$f":"IF(A50=\"\",\"\",VLOOKUP(B50,Facilities!A$2:J$99,10,))","v":""}]
[null,null,null,null,null,null,null,null,"","",null,null,null,"",{"$f":"IF(A51=\"\",\"\",VLOOKUP(B51,Facilities!A$2:J$99,10,))","v":""}]
[null,null,null,null,null,null,null,null,"","",null,null,null,"",{"$f":"IF(A52=\"\",\"\",VLOOKUP(B52,Facilities!A$2:J$99,10,))","v":""}]
[null,null,null,null,null,null,null,null,"","",null,null,null,"",{"$f":"IF(A53=\"\",\"\",VLOOKUP(B53,Facilities!A$2:J$99,10,))","v":""}]
[null,null,null,null,null,null,null,null,"","",null,null,null,"",{"$f":"IF(A54=\"\",\"\",VLOOKUP(B54,Facilities!A$2:J$99,10,))","v":""}]
[null,null,null,null,null,null,null,null,"","",null,null,null,"",{"$f":"IF(A55=\"\",\"\",VLOOKUP(B55,Facilities!A$2:J$99,10,))","v":""}]
[null,null,null,null,null,null,null,null,"","",null,null,null,"",{"$f":"IF(A56=\"\",\"\",VLOOKUP(B56,Facilities!A$2:J$99,10,))","v":""}]
[null,null,null,null,null,null,null,null,"","",null,null,null,"",{"$f":"IF(A57=\"\",\"\",VLOOKUP(B57,Facilities!A$2:J$99,10,))","v":""}]
[null,null,null,null,null,null,null,null,"","",null,null,null,"",{"$f":"IF(A58=\"\",\"\",VLOOKUP(B58,Facilities!A$2:J$99,10,))","v":""}]
[null,null,null,null,null,null,null,null,"","",null,null,null,"",{"$f":"IF(A59=\"\",\"\",VLOOKUP(B59,Facilities!A$2:J$99,10,))","v":""}]
[null,null,null,null,null,null,null,null,"","",null,null,null,"",{"$f":"IF(A60=\"\",\"\",VLOOKUP(B60,Facilities!A$2:J$99,10,))","v":""}]
[null,null,null,null,null,null,null,null,"","",null,null,null,"",{"$f":"IF(A61=\"\",\"\",VLOOKUP(B61,Facilities!A$2:J$99,10,))","v":""}]
[null,null,null,null,null,null,null,null,"","",null,null,null,"",{"$f":"IF(A62=\"\",\"\",VLOOKUP(B62,Facilities!A$2:J$99,10,))","v":""}]
[null,null,null,null,null,null,null,null,"","",null,null,null,"",{"$f":"IF(A63=\"\",\"\",VLOOKUP(B63,Facilities!A$2:J$99,10,))","v":""}]
[null,null,null,null,null,null,null,null,"","",null,null,null,"",{"$f":"IF(A64=\"\",\"\",VLOOKUP(B64,Facilities!A$2:J$99,10,))","v":""}]
[null,null,null,null,null,null,null,null,"","",null,null,null,"",{"$f":"IF(A65=\"\",\"\",VLOOKUP(B65,Facilities!A$2:J$99,10,))","v":""}]
[null,null,null,null,null,null,null,null,{"$f":"IF(A66=\"\",\"\",IF(F66=1,G66*N66,0))","v":""},{"$f":"IF(A66=\"\",\"\",IF(O66<4,I66,0))","v":""},null,null,null,{"$f":"IF(A66=\"\",\"\",IF(K66=TRUE,1,0))","v":""},{"$f":"IF(A66=\"\",\"\",VLOOKUP(B66,Facilities!A$2:J$99,10,))","v":""}]
[null,null,null,null,null,null,null,null,{"$f":"IF(A67=\"\",\"\",IF(F67=1,G67*N67,0))","v":""},{"$f":"IF(A67=\"\",\"\",IF(O67<4,I67,0))","v":""},null,null,null,"",{"$f":"IF(A67=\"\",\"\",VLOOKUP(B67,Facilities!A$2:J$99,10,))","v":""}]
[null,null,null,null,null,null,null,null,"","",null,null,null,"",{"$f":"IF(A68=\"\",\"\",VLOOKUP(B68,Facilities!A$2:J$99,10,))","v":""}]
[null,null,null,null,null,null,null,null,"","",null,null,null,"",{"$f":"IF(A69=\"\",\"\",VLOOKUP(B69,Facilities!A$2:J$99,10,))","v":""}]
[null,null,null,null,null,null,null,null,"","",null,null,null,"",{"$f":"IF(A70=\"\",\"\",VLOOKUP(B70,Facilities!A$2:J$99,10,))","v":""}]
[null,null,null,null,null,null,null,null,"","",null,null,null,"",{"$f":"IF(A71=\"\",\"\",VLOOKUP(B71,Facilities!A$2:J$99,10,))","v":""}]
[null,null,null,null,null,null,null,null,"","",null,null,null,"",{"$f":"IF(A72=\"\",\"\",VLOOKUP(B72,Facilities!A$2:J$99,10,))","v":""}]
[null,null,null,null,null,null,null,null,"","",null,null,null,"",{"$f":"IF(A73=\"\",\"\",VLOOKUP(B73,Facilities!A$2:J$99,10,))","v":""}]
[null,null,null,null,null,null,null,null,"","",null,null,null,"",{"$f":"IF(A74=\"\",\"\",VLOOKUP(B74,Facilities!A$2:J$99,10,))","v":""}]
[null,null,null,null,null,null,null,null,"","",null,null,null,"",{"$f":"IF(A75=\"\",\"\",VLOOKUP(B75,Facilities!A$2:J$99,10,))","v":""}]
[null,null,null,null,null,null,null,null,"","",null,null,null,"",{"$f":"IF(A76=\"\",\"\",VLOOKUP(B76,Facilities!A$2:J$99,10,))","v":""}]
[null,null,null,null,null,null,null,null,"","",null,null,null,"",{"$f":"IF(A77=\"\",\"\",VLOOKUP(B77,Facilities!A$2:J$99,10,))","v":""}]
[null,null,null,null,null,null,null,null,"","",null,null,null,"",{"$f":"IF(A78=\"\",\"\",VLOOKUP(B78,Facilities!A$2:J$99,10,))","v":""}]
[null,null,null,null,null,null,null,null,"","",null,null,null,"",{"$f":"IF(A79=\"\",\"\",VLOOKUP(B79,Facilities!A$2:J$99,10,))","v":""}]
[null,null,null,null,null,null,null,null,"","",null,null,null,"",{"$f":"IF(A80=\"\",\"\",VLOOKUP(B80,Facilities!A$2:J$99,10,))","v":""}]
[null,null,null,null,null,null,null,null,"","",null,null,null,"",{"$f":"IF(A81=\"\",\"\",VLOOKUP(B81,Facilities!A$2:J$99,10,))","v":""}]
[null,null,null,null,null,null,null,null,"","",null,null,null,"",{"$f":"IF(A82=\"\",\"\",VLOOKUP(B82,Facilities!A$2:J$99,10,))","v":""}]
[null,null,null,null,null,null,null,null,"","",null,null,null,"",{"$f":"IF(A83=\"\",\"\",VLOOKUP(B83,Facilities!A$2:J$99,10,))","v":""}]
[null,null,null,null,null,null,null,null,"","",null,null,null,"",{"$f":"IF(A84=\"\",\"\",VLOOKUP(B84,Facilities!A$2:J$99,10,))","v":""}]
[null,null,null,null,null,null,null,null,"","",null,null,null,"",{"$f":"IF(A85=\"\",\"\",VLOOKUP(B85,Facilities!A$2:J$99,10,))","v":""}]
[null,null,null,null,null,null,null,null,"","",null,null,null,"",{"$f":"IF(A86=\"\",\"\",VLOOKUP(B86,Facilities!A$2:J$99,10,))","v":""}]
[null,null,null,null,null,null,null,null,"","",null,null,null,"",{"$f":"IF(A87=\"\",\"\",VLOOKUP(B87,Facilities!A$2:J$99,10,))","v":""}]
[null,null,null,null,null,null,null,null,"","",null,null,null,"",{"$f":"IF(A88=\"\",\"\",VLOOKUP(B88,Facilities!A$2:J$99,10,))","v":""}]
[null,null,null,null,null,null,null,null,"","",null,null,null,"",{"$f":"IF(A89=\"\",\"\",VLOOKUP(B89,Facilities!A$2:J$99,10,))","v":""}]
[null,null,null,null,null,null,null,null,"","",null,null,null,"",{"$f":"IF(A90=\"\",\"\",VLOOKUP(B90,Facilities!A$2:J$99,10,))","v":""}]
[null,null,null,null,null,null,null,null,"","",null,null,null,"",{"$f":"IF(A91=\"\",\"\",VLOOKUP(B91,Facilities!A$2:J$99,10,))","v":""}]
[null,null,null,null,null,null,null,null,"","",null,null,null,"",{"$f":"IF(A92=\"\",\"\",VLOOKUP(B92,Facilities!A$2:J$99,10,))","v":""}]
[null,null,null,null,null,null,null,null,"","",null,null,null,"",{"$f":"IF(A93=\"\",\"\",VLOOKUP(B93,Facilities!A$2:J$99,10,))","v":""}]
[null,null,null,null,null,null,null,null,"","",null,null,null,"",{"$f":"IF(A94=\"\",\"\",VLOOKUP(B94,Facilities!A$2:J$99,10,))","v":""}]
[null,null,null,null,null,null,null,null,"","",null,null,null,"",{"$f":"IF(A95=\"\",\"\",VLOOKUP(B95,Facilities!A$2:J$99,10,))","v":""}]
[null,null,null,null,null,null,null,null,"","",null,null,null,"",{"$f":"IF(A96=\"\",\"\",VLOOKUP(B96,Facilities!A$2:J$99,10,))","v":""}]
[null,null,null,null,null,null,null,null,"","",null,null,null,"",{"$f":"IF(A97=\"\",\"\",VLOOKUP(B97,Facilities!A$2:J$99,10,))","v":""}]
[null,null,null,null,null,null,null,null,"","",null,null,null,"",{"$f":"IF(A98=\"\",\"\",VLOOKUP(B98,Facilities!A$2:J$99,10,))","v":""}]
[null,null,null,null,null,null,null,null,"","",null,null,null,"",{"$f":"IF(A99=\"\",\"\",VLOOKUP(B99,Facilities!A$2:J$99,10,))","v":""}]
[null,null,null,null,null,null,null,null,"","",null,null,null,"",{"$f":"IF(A100=\"\",\"\",VLOOKUP(B100,Facilities!A$2:J$99,10,))","v":""}]
[null,null,null,null,null,null,null,null,"","",null,null,null,"",{"$f":"IF(A101=\"\",\"\",VLOOKUP(B101,Facilities!A$2:J$99,10,))","v":""}]
[null,null,null,null,null,null,null,null,"","",null,null,null,"",{"$f":"IF(A102=\"\",\"\",VLOOKUP(B102,Facilities!A$2:J$99,10,))","v":""}]
[null,null,null,null,null,null,null,null,"","",null,null,null,"",{"$f":"IF(A103=\"\",\"\",VLOOKUP(B103,Facilities!A$2:J$99,10,))","v":""}]
[null,null,null,null,null,null,null,null,"","",null,null,null,"",{"$f":"IF(A104=\"\",\"\",VLOOKUP(B104,Facilities!A$2:J$99,10,))","v":""}]
[null,null,null,null,null,null,null,null,"","",null,null,null,"",{"$f":"IF(A105=\"\",\"\",VLOOKUP(B105,Facilities!A$2:J$99,10,))","v":""}]
[null,null,null,null,null,null,null,null,"","",null,null,null,"",{"$f":"IF(A106=\"\",\"\",VLOOKUP(B106,Facilities!A$2:J$99,10,))","v":""}]
[null,null,null,null,null,null,null,null,"","",null,null,null,"",{"$f":"IF(A107=\"\",\"\",VLOOKUP(B107,Facilities!A$2:J$99,10,))","v":""}]
[null,null,null,null,null,null,null,null,"","",null,null,null,"",{"$f":"IF(A108=\"\",\"\",VLOOKUP(B108,Facilities!A$2:J$99,10,))","v":""}]
[null,null,null,null,null,null,null,null,"","",null,null,null,"",{"$f":"IF(A109=\"\",\"\",VLOOKUP(B109,Facilities!A$2:J$99,10,))","v":""}]
[null,null,null,null,null,null,null,null,"","",null,null,null,"",{"$f":"IF(A110=\"\",\"\",VLOOKUP(B110,Facilities!A$2:J$99,10,))","v":""}]
[null,null,null,null,null,null,null,null,"","",null,null,null,"",{"$f":"IF(A111=\"\",\"\",VLOOKUP(B111,Facilities!A$2:J$99,10,))","v":""}]
[null,null,null,null,null,null,null,null,"","",null,null,null,"",{"$f":"IF(A112=\"\",\"\",VLOOKUP(B112,Facilities!A$2:J$99,10,))","v":""}]
[null,null,null,null,null,null,null,null,"","",null,null,null,"",{"$f":"IF(A113=\"\",\"\",VLOOKUP(B113,Facilities!A$2:J$99,10,))","v":""}]
[null,null,null,null,null,null,null,null,"","",null,null,null,"",{"$f":"IF(A114=\"\",\"\",VLOOKUP(B114,Facilities!A$2:J$99,10,))","v":""}]
[null,null,null,null,null,null,null,null,"","",null,null,null,"",{"$f":"IF(A115=\"\",\"\",VLOOKUP(B115,Facilities!A$2:J$99,10,))","v":""}]
[null,null,null,null,null,null,null,null,"","",null,null,null,"",{"$f":"IF(A116=\"\",\"\",VLOOKUP(B116,Facilities!A$2:J$99,10,))","v":""}]
[null,null,null,null,null,null,null,null,"","",null,null,null,"",{"$f":"IF(A117=\"\",\"\",VLOOKUP(B117,Facilities!A$2:J$99,10,))","v":""}]
[null,null,null,null,null,null,null,null,"","",null,null,null,"",{"$f":"IF(A118=\"\",\"\",VLOOKUP(B118,Facilities!A$2:J$99,10,))","v":""}]
[null,null,null,null,null,null,null,null,"","",null,null,null,"",{"$f":"IF(A119=\"\",\"\",VLOOKUP(B119,Facilities!A$2:J$99,10,))","v":""}]
[null,null,null,null,null,null,null,null,"","",null,null,null,"",{"$f":"IF(A120=\"\",\"\",VLOOKUP(B120,Facilities!A$2:J$99,10,))","v":""}]
[null,null,null,null,null,null,null,null,"","",null,null,null,"",{"$f":"IF(A121=\"\",\"\",VLOOKUP(B121,Facilities!A$2:J$99,10,))","v":""}]
[null,null,null,null,null,null,null,null,"","",null,null,null,"",{"$f":"IF(A122=\"\",\"\",VLOOKUP(B122,Facilities!A$2:J$99,10,))","v":""}]
[null,null,null,null,null,null,null,null,"","",null,null,null,"",{"$f":"IF(A123=\"\",\"\",VLOOKUP(B123,Facilities!A$2:J$99,10,))","v":""}]
[null,null,null,null,null,null,null,null,"","",null,null,null,"",{"$f":"IF(A124=\"\",\"\",VLOOKUP(B124,Facilities!A$2:J$99,10,))","v":""}]
[null,null,null,null,null,null,null,null,"","",null,null,null,"",{"$f":"IF(A125=\"\",\"\",VLOOKUP(B125,Facilities!A$2:J$99,10,))","v":""}]
[null,null,null,null,null,null,null,null,"","",null,null,null,"",{"$f":"IF(A126=\"\",\"\",VLOOKUP(B126,Facilities!A$2:J$99,10,))","v":""}]
[null,null,null,null,null,null,null,null,"","",null,null,null,"",{"$f":"IF(A127=\"\",\"\",VLOOKUP(B127,Facilities!A$2:J$99,10,))","v":""}]
[null,null,null,null,null,null,null,null,"","",null,null,null,{"$f":"IF(A128=\"\",\"\",IF(K128=TRUE,1,0))","v":""},{"$f":"IF(A128=\"\",\"\",VLOOKUP(B128,Facilities!A$2:J$99,10,))","v":""}]
[null,null,null,null,null,null,null,null,"","",null,null,null,"",{"$f":"IF(A129=\"\",\"\",VLOOKUP(B129,Facilities!A$2:J$99,10,))","v":""}]
[null,null,null,null,null,null,null,null,"","",null,null,null,"",{"$f":"IF(A130=\"\",\"\",VLOOKUP(B130,Facilities!A$2:J$99,10,))","v":""}]
[null,null,null,null,null,null,null,null,{"$f":"IF(A131=\"\",\"\",IF(F131=1,G131*N131,0))","v":""},{"$f":"IF(A131=\"\",\"\",IF(O131<4,I131,0))","v":""},null,null,null,"",{"$f":"IF(A131=\"\",\"\",VLOOKUP(B131,Facilities!A$2:J$99,10,))","v":""}]
[null,null,null,null,null,null,null,null,"","",null,null,null,"",{"$f":"IF(A132=\"\",\"\",VLOOKUP(B132,Facilities!A$2:J$99,10,))","v":""}]
[null,null,null,null,null,null,null,null,"","",null,null,null,"",{"$f":"IF(A133=\"\",\"\",VLOOKUP(B133,Facilities!A$2:J$99,10,))","v":""}]
[null,null,null,null,null,null,null,null,"","",null,null,null,"",{"$f":"IF(A134=\"\",\"\",VLOOKUP(B134,Facilities!A$2:J$99,10,))","v":""}]
[null,null,null,null,null,null,null,null,"","",null,null,null,"",{"$f":"IF(A135=\"\",\"\",VLOOKUP(B135,Facilities!A$2:J$99,10,))","v":""}]
[null,null,null,null,null,null,null,null,"","",null,null,null,"",{"$f":"IF(A136=\"\",\"\",VLOOKUP(B136,Facilities!A$2:J$99,10,))","v":""}]
[null,null,null,null,null,null,null,null,"","",null,null,null,"",{"$f":"IF(A137=\"\",\"\",VLOOKUP(B137,Facilities!A$2:J$99,10,))","v":""}]
[null,null,null,null,null,null,null,null,"","",null,null,null,"",{"$f":"IF(A138=\"\",\"\",VLOOKUP(B138,Facilities!A$2:J$99,10,))","v":""}]
[null,null,null,null,null,null,null,null,"","",null,null,null,"",{"$f":"IF(A139=\"\",\"\",VLOOKUP(B139,Facilities!A$2:J$99,10,))","v":""}]
[null,null,null,null,null,null,null,null,"","",null,null,null,"",{"$f":"IF(A140=\"\",\"\",VLOOKUP(B140,Facilities!A$2:J$99,10,))","v":""}]
[null,null,null,null,null,null,null,null,"","",null,null,null,"",{"$f":"IF(A141=\"\",\"\",VLOOKUP(B141,Facilities!A$2:J$99,10,))","v":""}]
[null,null,null,null,null,null,null,null,"","",null,null,null,"",{"$f":"IF(A142=\"\",\"\",VLOOKUP(B142,Facilities!A$2:J$99,10,))","v":""}]
[null,null,null,null,null,null,null,null,"","",null,null,null,"",{"$f":"IF(A143=\"\",\"\",VLOOKUP(B143,Facilities!A$2:J$99,10,))","v":""}]
[null,null,null,null,null,null,null,null,"","",null,null,null,"",{"$f":"IF(A144=\"\",\"\",VLOOKUP(B144,Facilities!A$2:J$99,10,))","v":""}]
[null,null,null,null,null,null,null,null,"","",null,null,null,"",{"$f":"IF(A145=\"\",\"\",VLOOKUP(B145,Facilities!A$2:J$99,10,))","v":""}]
[null,null,null,null,null,null,null,null,"","",null,null,null,"",{"$f":"IF(A146=\"\",\"\",VLOOKUP(B146,Facilities!A$2:J$99,10,))","v":""}]
[null,null,null,null,null,null,null,null,"","",null,null,null,"",{"$f":"IF(A147=\"\",\"\",VLOOKUP(B147,Facilities!A$2:J$99,10,))","v":""}]
[null,null,null,null,null,null,null,null,"","",null,null,null,"",{"$f":"IF(A148=\"\",\"\",VLOOKUP(B148,Facilities!A$2:J$99,10,))","v":""}]
[null,null,null,null,null,null,null,null,"","",null,null,null,"",{"$f":"IF(A149=\"\",\"\",VLOOKUP(B149,Facilities!A$2:J$99,10,))","v":""}]
[null,null,null,null,null,null,null,null,"","",null,null,null,"",{"$f":"IF(A150=\"\",\"\",VLOOKUP(B150,Facilities!A$2:J$99,10,))","v":""}]
[null,null,null,null,null,null,null,null,"","",null,null,null,"",{"$f":"IF(A151=\"\",\"\",VLOOKUP(B151,Facilities!A$2:J$99,10,))","v":""}]
[null,null,null,null,null,null,null,null,"","",null,null,null,"",{"$f":"IF(A152=\"\",\"\",VLOOKUP(B152,Facilities!A$2:J$99,10,))","v":""}]
[null,null,null,null,null,null,null,null,"","",null,null,null,"",{"$f":"IF(A153=\"\",\"\",VLOOKUP(B153,Facilities!A$2:J$99,10,))","v":""}]
[null,null,null,null,null,null,null,null,"","",null,null,null,"",{"$f":"IF(A154=\"\",\"\",VLOOKUP(B154,Facilities!A$2:J$99,10,))","v":""}]
[null,null,null,null,null,null,null,null,"","",null,null,null,"",{"$f":"IF(A155=\"\",\"\",VLOOKUP(B155,Facilities!A$2:J$99,10,))","v":""}]
[null,null,null,null,null,null,null,null,"","",null,null,null,"",{"$f":"IF(A156=\"\",\"\",VLOOKUP(B156,Facilities!A$2:J$99,10,))","v":""}]
[null,null,null,null,null,null,null,null,"","",null,null,null,"",{"$f":"IF(A157=\"\",\"\",VLOOKUP(B157,Facilities!A$2:J$99,10,))","v":""}]
[null,null,null,null,null,null,null,null,"","",null,null,null,"",{"$f":"IF(A158=\"\",\"\",VLOOKUP(B158,Facilities!A$2:J$99,10,))","v":""}]
[null,null,null,null,null,null,null,null,"","",null,null,null,"",{"$f":"IF(A159=\"\",\"\",VLOOKUP(B159,Facilities!A$2:J$99,10,))","v":""}]
[null,null,null,null,null,null,null,null,"","",null,null,null,"",{"$f":"IF(A160=\"\",\"\",VLOOKUP(B160,Facilities!A$2:J$99,10,))","v":""}]
[null,null,null,null,null,null,null,null,"","",null,null,null,"",{"$f":"IF(A161=\"\",\"\",VLOOKUP(B161,Facilities!A$2:J$99,10,))","v":""}]
[null,null,null,null,null,null,null,null,"","",null,null,null,"",{"$f":"IF(A162=\"\",\"\",VLOOKUP(B162,Facilities!A$2:J$99,10,))","v":""}]
[null,null,null,null,null,null,null,null,"","",null,null,null,"",{"$f":"IF(A163=\"\",\"\",VLOOKUP(B163,Facilities!A$2:J$99,10,))","v":""}]
[null,null,null,null,null,null,null,null,"","",null,null,null,"",{"$f":"IF(A164=\"\",\"\",VLOOKUP(B164,Facilities!A$2:J$99,10,))","v":""}]
[null,null,null,null,null,null,null,null,"","",null,null,null,"",{"$f":"IF(A165=\"\",\"\",VLOOKUP(B165,Facilities!A$2:J$99,10,))","v":""}]
[null,null,null,null,null,null,null,null,"","",null,null,null,"",{"$f":"IF(A166=\"\",\"\",VLOOKUP(B166,Facilities!A$2:J$99,10,))","v":""}]
[null,null,null,null,null,null,null,null,"","",null,null,null,"",{"$f":"IF(A167=\"\",\"\",VLOOKUP(B167,Facilities!A$2:J$99,10,))","v":""}]
[null,null,null,null,null,null,null,null,"","",null,null,null,"",{"$f":"IF(A168=\"\",\"\",VLOOKUP(B168,Facilities!A$2:J$99,10,))","v":""}]
[null,null,null,null,null,null,null,null,"","",null,null,null,"",{"$f":"IF(A169=\"\",\"\",VLOOKUP(B169,Facilities!A$2:J$99,10,))","v":""}]
[null,null,null,null,null,null,null,null,"","",null,null,null,"",{"$f":"IF(A170=\"\",\"\",VLOOKUP(B170,Facilities!A$2:J$99,10,))","v":""}]
[null,null,null,null,null,null,null,null,"","",null,null,null,"",{"$f":"IF(A171=\"\",\"\",VLOOKUP(B171,Facilities!A$2:J$99,10,))","v":""}]
[null,null,null,null,null,null,null,null,"","",null,null,null,"",{"$f":"IF(A172=\"\",\"\",VLOOKUP(B172,Facilities!A$2:J$99,10,))","v":""}]
[null,null,null,null,null,null,null,null,"","",null,null,null,"",{"$f":"IF(A173=\"\",\"\",VLOOKUP(B173,Facilities!A$2:J$99,10,))","v":""}]
[null,null,null,null,null,null,null,null,"","",null,null,null,"",{"$f":"IF(A174=\"\",\"\",VLOOKUP(B174,Facilities!A$2:J$99,10,))","v":""}]
[null,null,null,null,null,null,null,null,"","",null,null,null,"",{"$f":"IF(A175=\"\",\"\",VLOOKUP(B175,Facilities!A$2:J$99,10,))","v":""}]
[null,null,null,null,null,null,null,null,"","",null,null,null,"",{"$f":"IF(A176=\"\",\"\",VLOOKUP(B176,Facilities!A$2:J$99,10,))","v":""}]
[null,null,null,null,null,null,null,null,"","",null,null,null,"",{"$f":"IF(A177=\"\",\"\",VLOOKUP(B177,Facilities!A$2:J$99,10,))","v":""}]
[null,null,null,null,null,null,null,null,"","",null,null,null,"",{"$f":"IF(A178=\"\",\"\",VLOOKUP(B178,Facilities!A$2:J$99,10,))","v":""}]
[null,null,null,null,null,null,null,null,"","",null,null,null,"",{"$f":"IF(A179=\"\",\"\",VLOOKUP(B179,Facilities!A$2:J$99,10,))","v":""}]
[null,null,null,null,null,null,null,null,"","",null,null,null,"",{"$f":"IF(A180=\"\",\"\",VLOOKUP(B180,Facilities!A$2:J$99,10,))","v":""}]
[null,null,null,null,null,null,null,null,"","",null,null,null,"",{"$f":"IF(A181=\"\",\"\",VLOOKUP(B181,Facilities!A$2:J$99,10,))","v":""}]
[null,null,null,null,null,null,null,null,"","",null,null,null,"",{"$f":"IF(A182=\"\",\"\",VLOOKUP(B182,Facilities!A$2:J$99,10,))","v":""}]
[null,null,null,null,null,null,null,null,"","",null,null,null,"",{"$f":"IF(A183=\"\",\"\",VLOOKUP(B183,Facilities!A$2:J$99,10,))","v":""}]
[null,null,null,null,null,null,null,null,"","",null,null,null,"",{"$f":"IF(A184=\"\",\"\",VLOOKUP(B184,Facilities!A$2:J$99,10,))","v":""}]
[null,null,null,null,null,null,null,null,"","",null,null,null,"",{"$f":"IF(A185=\"\",\"\",VLOOKUP(B185,Facilities!A$2:J$99,10,))","v":""}]
[null,null,null,null,null,null,null,null,"","",null,null,null,"",{"$f":"IF(A186=\"\",\"\",VLOOKUP(B186,Facilities!A$2:J$99,10,))","v":""}]
[null,null,null,null,null,null,null,null,"","",null,null,null,"",{"$f":"IF(A187=\"\",\"\",VLOOKUP(B187,Facilities!A$2:J$99,10,))","v":""}]
[null,null,null,null,null,null,null,null,"","",null,null,null,"",{"$f":"IF(A188=\"\",\"\",VLOOKUP(B188,Facilities!A$2:J$99,10,))","v":""}]
[null,null,null,null,null,null,null,null,"","",null,null,null,"",{"$f":"IF(A189=\"\",\"\",VLOOKUP(B189,Facilities!A$2:J$99,10,))","v":""}]
[null,null,null,null,null,null,null,null,"","",null,null,null,"",{"$f":"IF(A190=\"\",\"\",VLOOKUP(B190,Facilities!A$2:J$99,10,))","v":""}]
[null,null,null,null,null,null,null,null,"","",null,null,null,"",{"$f":"IF(A191=\"\",\"\",VLOOKUP(B191,Facilities!A$2:J$99,10,))","v":""}]
[null,null,null,null,null,null,null,null,"","",null,null,null,{"$f":"IF(A192=\"\",\"\",IF(K192=TRUE,1,0))","v":""},{"$f":"IF(A192=\"\",\"\",VLOOKUP(B192,Facilities!A$2:J$99,10,))","v":""}]
[null,null,null,null,null,null,null,null,"","",null,null,null,"",{"$f":"IF(A193=\"\",\"\",VLOOKUP(B193,Facilities!A$2:J$99,10,))","v":""}]
[null,null,null,null,null,null,null,null,"","",null,null,null,"",{"$f":"IF(A194=\"\",\"\",VLOOKUP(B194,Facilities!A$2:J$99,10,))","v":""}]
[null,null,null,null,null,null,null,null,{"$f":"IF(A195=\"\",\"\",IF(F195=1,G195*N195,0))","v":""},{"$f":"IF(A195=\"\",\"\",IF(O195<4,I195,0))","v":""},null,null,null,"",{"$f":"IF(A195=\"\",\"\",VLOOKUP(B195,Facilities!A$2:J$99,10,))","v":""}]
[null,null,null,null,null,null,null,null,"","",null,null,null,"",{"$f":"IF(A196=\"\",\"\",VLOOKUP(B196,Facilities!A$2:J$99,10,))","v":""}]
[null,null,null,null,null,null,null,null,"","",null,null,null,"",{"$f":"IF(A197=\"\",\"\",VLOOKUP(B197,Facilities!A$2:J$99,10,))","v":""}]
[null,null,null,null,null,null,null,null,"","",null,null,null,"",{"$f":"IF(A198=\"\",\"\",VLOOKUP(B198,Facilities!A$2:J$99,10,))","v":""}]
[null,null,null,null,null,null,null,null,"","",null,null,null,"",{"$f":"IF(A199=\"\",\"\",VLOOKUP(B199,Facilities!A$2:J$99,10,))","v":""}]
[null,null,null,null,null,null,null,null,"","",null,null,null,"",{"$f":"IF(A200=\"\",\"\",VLOOKUP(B200,Facilities!A$2:J$99,10,))","v":""}]
[null,null,null,null,null,null,null,null,"","",null,null,null,"",{"$f":"IF(A201=\"\",\"\",VLOOKUP(B201,Facilities!A$2:J$99,10,))","v":""}]
[null,null,null,null,null,null,null,null,"","",null,null,null,"",{"$f":"IF(A202=\"\",\"\",VLOOKUP(B202,Facilities!A$2:J$99,10,))","v":""}]
[null,null,null,null,null,null,null,null,"","",null,null,null,"",{"$f":"IF(A203=\"\",\"\",VLOOKUP(B203,Facilities!A$2:J$99,10,))","v":""}]
[null,null,null,null,null,null,null,null,"","",null,null,null,"",{"$f":"IF(A204=\"\",\"\",VLOOKUP(B204,Facilities!A$2:J$99,10,))","v":""}]
[null,null,null,null,null,null,null,null,"","",null,null,null,"",{"$f":"IF(A205=\"\",\"\",VLOOKUP(B205,Facilities!A$2:J$99,10,))","v":""}]
[null,null,null,null,null,null,null,null,"","",null,null,null,"",{"$f":"IF(A206=\"\",\"\",VLOOKUP(B206,Facilities!A$2:J$99,10,))","v":""}]
[null,null,null,null,null,null,null,null,"","",null,null,null,"",{"$f":"IF(A207=\"\",\"\",VLOOKUP(B207,Facilities!A$2:J$99,10,))","v":""}]
[null,null,null,null,null,null,null,null,"","",null,null,null,"",{"$f":"IF(A208=\"\",\"\",VLOOKUP(B208,Facilities!A$2:J$99,10,))","v":""}]
[null,null,null,null,null,null,null,null,"","",null,null,null,"",{"$f":"IF(A209=\"\",\"\",VLOOKUP(B209,Facilities!A$2:J$99,10,))","v":""}]
[null,null,null,null,null,null,null,null,"","",null,null,null,"",{"$f":"IF(A210=\"\",\"\",VLOOKUP(B210,Facilities!A$2:J$99,10,))","v":""}]
[null,null,null,null,null,null,null,null,"","",null,null,null,"",{"$f":"IF(A211=\"\",\"\",VLOOKUP(B211,Facilities!A$2:J$99,10,))","v":""}]
[null,null,null,null,null,null,null,null,"","",null,null,null,"",{"$f":"IF(A212=\"\",\"\",VLOOKUP(B212,Facilities!A$2:J$99,10,))","v":""}]
[null,null,null,null,null,null,null,null,"","",null,null,null,"",{"$f":"IF(A213=\"\",\"\",VLOOKUP(B213,Facilities!A$2:J$99,10,))","v":""}]
[null,null,null,null,null,null,null,null,"","",null,null,null,"",{"$f":"IF(A214=\"\",\"\",VLOOKUP(B214,Facilities!A$2:J$99,10,))","v":""}]
[null,null,null,null,null,null,null,null,"","",null,null,null,"",{"$f":"IF(A215=\"\",\"\",VLOOKUP(B215,Facilities!A$2:J$99,10,))","v":""}]
[null,null,null,null,null,null,null,null,"","",null,null,null,"",{"$f":"IF(A216=\"\",\"\",VLOOKUP(B216,Facilities!A$2:J$99,10,))","v":""}]
[null,null,null,null,null,null,null,null,"","",null,null,null,"",{"$f":"IF(A217=\"\",\"\",VLOOKUP(B217,Facilities!A$2:J$99,10,))","v":""}]
[null,null,null,null,null,null,null,null,"","",null,null,null,"",{"$f":"IF(A218=\"\",\"\",VLOOKUP(B218,Facilities!A$2:J$99,10,))","v":""}]
[null,null,null,null,null,null,null,null,"","",null,null,null,"",{"$f":"IF(A219=\"\",\"\",VLOOKUP(B219,Facilities!A$2:J$99,10,))","v":""}]
[null,null,null,null,null,null,null,null,"","",null,null,null,"",{"$f":"IF(A220=\"\",\"\",VLOOKUP(B220,Facilities!A$2:J$99,10,))","v":""}]
[null,null,null,null,null,null,null,null,"","",null,null,null,"",{"$f":"IF(A221=\"\",\"\",VLOOKUP(B221,Facilities!A$2:J$99,10,))","v":""}]
[null,null,null,null,null,null,null,null,"","",null,null,null,"",{"$f":"IF(A222=\"\",\"\",VLOOKUP(B222,Facilities!A$2:J$99,10,))","v":""}]
[null,null,null,null,null,null,null,null,"","",null,null,null,"",{"$f":"IF(A223=\"\",\"\",VLOOKUP(B223,Facilities!A$2:J$99,10,))","v":""}]
[null,null,null,null,null,null,null,null,"","",null,null,null,"",{"$f":"IF(A224=\"\",\"\",VLOOKUP(B224,Facilities!A$2:J$99,10,))","v":""}]
[null,null,null,null,null,null,null,null,"","",null,null,null,"",{"$f":"IF(A225=\"\",\"\",VLOOKUP(B225,Facilities!A$2:J$99,10,))","v":""}]
[null,null,null,null,null,null,null,null,"","",null,null,null,"",{"$f":"IF(A226=\"\",\"\",VLOOKUP(B226,Facilities!A$2:J$99,10,))","v":""}]
[null,null,null,null,null,null,null,null,"","",null,null,null,"",{"$f":"IF(A227=\"\",\"\",VLOOKUP(B227,Facilities!A$2:J$99,10,))","v":""}]
[null,null,null,null,null,null,null,null,"","",null,null,null,"",{"$f":"IF(A228=\"\",\"\",VLOOKUP(B228,Facilities!A$2:J$99,10,))","v":""}]
[null,null,null,null,null,null,null,null,"","",null,null,null,"",{"$f":"IF(A229=\"\",\"\",VLOOKUP(B229,Facilities!A$2:J$99,10,))","v":""}]
[null,null,null,null,null,null,null,null,"","",null,null,null,"",{"$f":"IF(A230=\"\",\"\",VLOOKUP(B230,Facilities!A$2:J$99,10,))","v":""}]
[null,null,null,null,null,null,null,null,"","",null,null,null,"",{"$f":"IF(A231=\"\",\"\",VLOOKUP(B231,Facilities!A$2:J$99,10,))","v":""}]
[null,null,null,null,null,null,null,null,"","",null,null,null,"",{"$f":"IF(A232=\"\",\"\",VLOOKUP(B232,Facilities!A$2:J$99,10,))","v":""}]
[null,null,null,null,null,null,null,null,"","",null,null,null,"",{"$f":"IF(A233=\"\",\"\",VLOOKUP(B233,Facilities!A$2:J$99,10,))","v":""}]
[null,null,null,null,null,null,null,null,"","",null,null,null,"",{"$f":"IF(A234=\"\",\"\",VLOOKUP(B234,Facilities!A$2:J$99,10,))","v":""}]
[null,null,null,null,null,null,null,null,"","",null,null,null,"",{"$f":"IF(A235=\"\",\"\",VLOOKUP(B235,Facilities!A$2:J$99,10,))","v":""}]
[null,null,null,null,null,null,null,null,"","",null,null,null,"",{"$f":"IF(A236=\"\",\"\",VLOOKUP(B236,Facilities!A$2:J$99,10,))","v":""}]
[null,null,null,null,null,null,null,null,"","",null,null,null,"",{"$f":"IF(A237=\"\",\"\",VLOOKUP(B237,Facilities!A$2:J$99,10,))","v":""}]
[null,null,null,null,null,null,null,null,"","",null,null,null,"",{"$f":"IF(A238=\"\",\"\",VLOOKUP(B238,Facilities!A$2:J$99,10,))","v":""}]
[null,null,null,null,null,null,null,null,"","",null,null,null,"",{"$f":"IF(A239=\"\",\"\",VLOOKUP(B239,Facilities!A$2:J$99,10,))","v":""}]
[null,null,null,null,null,null,null,null,"","",null,null,null,"",{"$f":"IF(A240=\"\",\"\",VLOOKUP(B240,Facilities!A$2:J$99,10,))","v":""}]
[null,null,null,null,null,null,null,null,"","",null,null,null,"",{"$f":"IF(A241=\"\",\"\",VLOOKUP(B241,Facilities!A$2:J$99,10,))","v":""}]
[null,null,null,null,null,null,null,null,"","",null,null,null,"",{"$f":"IF(A242=\"\",\"\",VLOOKUP(B242,Facilities!A$2:J$99,10,))","v":""}]
[null,null,null,null,null,null,null,null,"","",null,null,null,"",{"$f":"IF(A243=\"\",\"\",VLOOKUP(B243,Facilities!A$2:J$99,10,))","v":""}]
[null,null,null,null,null,null,null,null,"","",null,null,null,"",{"$f":"IF(A244=\"\",\"\",VLOOKUP(B244,Facilities!A$2:J$99,10,))","v":""}]
[null,null,null,null,null,null,null,null,"","",null,null,null,"",{"$f":"IF(A245=\"\",\"\",VLOOKUP(B245,Facilities!A$2:J$99,10,))","v":""}]
[null,null,null,null,null,null,null,null,"","",null,null,null,"",{"$f":"IF(A246=\"\",\"\",VLOOKUP(B246,Facilities!A$2:J$99,10,))","v":""}]
[null,null,null,null,null,null,null,null,"","",null,null,null,"",{"$f":"IF(A247=\"\",\"\",VLOOKUP(B247,Facilities!A$2:J$99,10,))","v":""}]
[null,null,null,null,null,null,null,null,"","",null,null,null,"",{"$f":"IF(A248=\"\",\"\",VLOOKUP(B248,Facilities!A$2:J$99,10,))","v":""}]
[null,null,null,null,null,null,null,null,"","",null,null,null,"",{"$f":"IF(A249=\"\",\"\",VLOOKUP(B249,Facilities!A$2:J$99,10,))","v":""}]
[null,null,null,null,null,null,null,null,"","",null,null,null,"",{"$f":"IF(A250=\"\",\"\",VLOOKUP(B250,Facilities!A$2:J$99,10,))","v":""}]
[null,null,null,null,null,null,null,null,"","",null,null,null,"",{"$f":"IF(A251=\"\",\"\",VLOOKUP(B251,Facilities!A$2:J$99,10,))","v":""}]
[null,null,null,null,null,null,null,null,"","",null,null,null,"",{"$f":"IF(A252=\"\",\"\",VLOOKUP(B252,Facilities!A$2:J$99,10,))","v":""}]
[null,null,null,null,null,null,null,null,"","",null,null,null,"",{"$f":"IF(A253=\"\",\"\",VLOOKUP(B253,Facilities!A$2:J$99,10,))","v":""}]
[null,null,null,null,null,null,null,null,"","",null,null,null,"",{"$f":"IF(A254=\"\",\"\",VLOOKUP(B254,Facilities!A$2:J$99,10,))","v":""}]
[null,null,null,null,null,null,null,null,"","",null,null,null,"",{"$f":"IF(A255=\"\",\"\",VLOOKUP(B255,Facilities!A$2:J$99,10,))","v":""}]
[null,null,null,null,null,null,null,null,"","",null,null,null,{"$f":"IF(A256=\"\",\"\",IF(K256=TRUE,1,0))","v":""},{"$f":"IF(A256=\"\",\"\",VLOOKUP(B256,Facilities!A$2:J$99,10,))","v":""}]
[null,null,null,null,null,null,null,null,"","",null,null,null,"",{"$f":"IF(A257=\"\",\"\",VLOOKUP(B257,Facilities!A$2:J$99,10,))","v":""}]
[null,null,null,null,null,null,null,null,"","",null,null,null,"",{"$f":"IF(A258=\"\",\"\",VLOOKUP(B258,Facilities!A$2:J$99,10,))","v":""}]
[null,null,null,null,null,null,null,null,{"$f":"IF(A259=\"\",\"\",IF(F259=1,G259*N259,0))","v":""},{"$f":"IF(A259=\"\",\"\",IF(O259<4,I259,0))","v":""},null,null,null,"",{"$f":"IF(A259=\"\",\"\",VLOOKUP(B259,Facilities!A$2:J$99,10,))","v":""}]
[null,null,null,null,null,null,null,null,"","",null,null,null,"",{"$f":"IF(A260=\"\",\"\",VLOOKUP(B260,Facilities!A$2:J$99,10,))","v":""}]
[null,null,null,null,null,null,null,null,"","",null,null,null,"",{"$f":"IF(A261=\"\",\"\",VLOOKUP(B261,Facilities!A$2:J$99,10,))","v":""}]
[null,null,null,null,null,null,null,null,"","",null,null,null,"",{"$f":"IF(A262=\"\",\"\",VLOOKUP(B262,Facilities!A$2:J$99,10,))","v":""}]
[null,null,null,null,null,null,null,null,"","",null,null,null,"",{"$f":"IF(A263=\"\",\"\",VLOOKUP(B263,Facilities!A$2:J$99,10,))","v":""}]
[null,null,null,null,null,null,null,null,"","",null,null,null,"",{"$f":"IF(A264=\"\",\"\",VLOOKUP(B264,Facilities!A$2:J$99,10,))","v":""}]
[null,null,null,null,null,null,null,null,"","",null,null,null,"",{"$f":"IF(A265=\"\",\"\",VLOOKUP(B265,Facilities!A$2:J$99,10,))","v":""}]
[null,null,null,null,null,null,null,null,"","",null,null,null,"",{"$f":"IF(A266=\"\",\"\",VLOOKUP(B266,Facilities!A$2:J$99,10,))","v":""}]
[null,null,null,null,null,null,null,null,"","",null,null,null,"",{"$f":"IF(A267=\"\",\"\",VLOOKUP(B267,Facilities!A$2:J$99,10,))","v":""}]
[null,null,null,null,null,null,null,null,"","",null,null,null,"",{"$f":"IF(A268=\"\",\"\",VLOOKUP(B268,Facilities!A$2:J$99,10,))","v":""}]
[null,null,null,null,null,null,null,null,"","",null,null,null,"",{"$f":"IF(A269=\"\",\"\",VLOOKUP(B269,Facilities!A$2:J$99,10,))","v":""}]
[null,null,null,null,null,null,null,null,"","",null,null,null,"",{"$f":"IF(A270=\"\",\"\",VLOOKUP(B270,Facilities!A$2:J$99,10,))","v":""}]
[null,null,null,null,null,null,null,null,"","",null,null,null,"",{"$f":"IF(A271=\"\",\"\",VLOOKUP(B271,Facilities!A$2:J$99,10,))","v":""}]
[null,null,null,null,null,null,null,null,"","",null,null,null,"",{"$f":"IF(A272=\"\",\"\",VLOOKUP(B272,Facilities!A$2:J$99,10,))","v":""}]
[null,null,null,null,null,null,null,null,"","",null,null,null,"",{"$f":"IF(A273=\"\",\"\",VLOOKUP(B273,Facilities!A$2:J$99,10,))","v":""}]
[null,null,null,null,null,null,null,null,"","",null,null,null,"",{"$f":"IF(A274=\"\",\"\",VLOOKUP(B274,Facilities!A$2:J$99,10,))","v":""}]
[null,null,null,null,null,null,null,null,"","",null,null,null,"",{"$f":"IF(A275=\"\",\"\",VLOOKUP(B275,Facilities!A$2:J$99,10,))","v":""}]
[null,null,null,null,null,null,null,null,"","",null,null,null,"",{"$f":"IF(A276=\"\",\"\",VLOOKUP(B276,Facilities!A$2:J$99,10,))","v":""}]
[null,null,null,null,null,null,null,null,"","",null,null,null,"",{"$f":"IF(A277=\"\",\"\",VLOOKUP(B277,Facilities!A$2:J$99,10,))","v":""}]
[null,null,null,null,null,null,null,null,"","",null,null,null,"",{"$f":"IF(A278=\"\",\"\",VLOOKUP(B278,Facilities!A$2:J$99,10,))","v":""}]
[null,null,null,null,null,null,null,null,"","",null,null,null,"",{"$f":"IF(A279=\"\",\"\",VLOOKUP(B279,Facilities!A$2:J$99,10,))","v":""}]
[null,null,null,null,null,null,null,null,"","",null,null,null,"",{"$f":"IF(A280=\"\",\"\",VLOOKUP(B280,Facilities!A$2:J$99,10,))","v":""}]
[null,null,null,null,null,null,null,null,"","",null,null,null,"",{"$f":"IF(A281=\"\",\"\",VLOOKUP(B281,Facilities!A$2:J$99,10,))","v":""}]
[null,null,null,null,null,null,null,null,"","",null,null,null,"",{"$f":"IF(A282=\"\",\"\",VLOOKUP(B282,Facilities!A$2:J$99,10,))","v":""}]
[null,null,null,null,null,null,null,null,"","",null,null,null,"",{"$f":"IF(A283=\"\",\"\",VLOOKUP(B283,Facilities!A$2:J$99,10,))","v":""}]
[null,null,null,null,null,null,null,null,"","",null,null,null,"",{"$f":"IF(A284=\"\",\"\",VLOOKUP(B284,Facilities!A$2:J$99,10,))","v":""}]
[null,null,null,null,null,null,null,null,"","",null,null,null,"",{"$f":"IF(A285=\"\",\"\",VLOOKUP(B285,Facilities!A$2:J$99,10,))","v":""}]
[null,null,null,null,null,null,null,null,"","",null,null,null,"",{"$f":"IF(A286=\"\",\"\",VLOOKUP(B286,Facilities!A$2:J$99,10,))","v":""}]
[null,null,null,null,null,null,null,null,"","",null,null,null,"",{"$f":"IF(A287=\"\",\"\",VLOOKUP(B287,Facilities!A$2:J$99,10,))","v":""}]
[null,null,null,null,null,null,null,null,"","",null,null,null,"",{"$f":"IF(A288=\"\",\"\",VLOOKUP(B288,Facilities!A$2:J$99,10,))","v":""}]
[null,null,null,null,null,null,null,null,"","",null,null,null,"",{"$f":"IF(A289=\"\",\"\",VLOOKUP(B289,Facilities!A$2:J$99,10,))","v":""}]
[null,null,null,null,null,null,null,null,"","",null,null,null,"",{"$f":"IF(A290=\"\",\"\",VLOOKUP(B290,Facilities!A$2:J$99,10,))","v":""}]
[null,null,null,null,null,null,null,null,"","",null,null,null,"",{"$f":"IF(A291=\"\",\"\",VLOOKUP(B291,Facilities!A$2:J$99,10,))","v":""}]
[null,null,null,null,null,null,null,null,"","",null,null,null,"",{"$f":"IF(A292=\"\",\"\",VLOOKUP(B292,Facilities!A$2:J$99,10,))","v":""}]
[null,null,null,null,null,null,null,null,"","",null,null,null,"",{"$f":"IF(A293=\"\",\"\",VLOOKUP(B293,Facilities!A$2:J$99,10,))","v":""}]
[null,null,null,null,null,null,null,null,"","",null,null,null,"",{"$f":"IF(A294=\"\",\"\",VLOOKUP(B294,Facilities!A$2:J$99,10,))","v":""}]
[null,null,null,null,null,null,null,null,"","",null,null,null,"",{"$f":"IF(A295=\"\",\"\",VLOOKUP(B295,Facilities!A$2:J$99,10,))","v":""}]
[null,null,null,null,null,null,null,null,"","",null,null,null,"",{"$f":"IF(A296=\"\",\"\",VLOOKUP(B296,Facilities!A$2:J$99,10,))","v":""}]
[null,null,null,null,null,null,null,null,"","",null,null,null,"",{"$f":"IF(A297=\"\",\"\",VLOOKUP(B297,Facilities!A$2:J$99,10,))","v":""}]
[null,null,null,null,null,null,null,null,"","",null,null,null,"",{"$f":"IF(A298=\"\",\"\",VLOOKUP(B298,Facilities!A$2:J$99,10,))","v":""}]
[null,null,null,null,null,null,null,null,"","",null,null,null,"",{"$f":"IF(A299=\"\",\"\",VLOOKUP(B299,Facilities!A$2:J$99,10,))","v":""}]
[null,null,null,null,null,null,null,null,"","",null,null,null,"",{"$f":"IF(A300=\"\",\"\",VLOOKUP(B300,Facilities!A$2:J$99,10,))","v":""}]
[null,null,null,null,null,null,null,null,"","",null,null,null,"",{"$f":"IF(A301=\"\",\"\",VLOOKUP(B301,Facilities!A$2:J$99,10,))","v":""}]
[null,null,null,null,null,null,null,null,"","",null,null,null,"",{"$f":"IF(A302=\"\",\"\",VLOOKUP(B302,Facilities!A$2:J$99,10,))","v":""}]
[null,null,null,null,null,null,null,null,"","",null,null,null,"",{"$f":"IF(A303=\"\",\"\",VLOOKUP(B303,Facilities!A$2:J$99,10,))","v":""}]
[null,null,null,null,null,null,null,null,"","",null,null,null,"",{"$f":"IF(A304=\"\",\"\",VLOOKUP(B304,Facilities!A$2:J$99,10,))","v":""}]
[null,null,null,null,null,null,null,null,"","",null,null,null,"",{"$f":"IF(A305=\"\",\"\",VLOOKUP(B305,Facilities!A$2:J$99,10,))","v":""}]
[null,null,null,null,null,null,null,null,"","",null,null,null,"",{"$f":"IF(A306=\"\",\"\",VLOOKUP(B306,Facilities!A$2:J$99,10,))","v":""}]
[null,null,null,null,null,null,null,null,"","",null,null,null,"",{"$f":"IF(A307=\"\",\"\",VLOOKUP(B307,Facilities!A$2:J$99,10,))","v":""}]
[null,null,null,null,null,null,null,null,"","",null,null,null,"",{"$f":"IF(A308=\"\",\"\",VLOOKUP(B308,Facilities!A$2:J$99,10,))","v":""}]
[null,null,null,null,null,null,null,null,"","",null,null,null,"",{"$f":"IF(A309=\"\",\"\",VLOOKUP(B309,Facilities!A$2:J$99,10,))","v":""}]
[null,null,null,null,null,null,null,null,"","",null,null,null,"",{"$f":"IF(A310=\"\",\"\",VLOOKUP(B310,Facilities!A$2:J$99,10,))","v":""}]
[null,null,null,null,null,null,null,null,"","",null,null,null,"",{"$f":"IF(A311=\"\",\"\",VLOOKUP(B311,Facilities!A$2:J$99,10,))","v":""}]
[null,null,null,null,null,null,null,null,"","",null,null,null,"",{"$f":"IF(A312=\"\",\"\",VLOOKUP(B312,Facilities!A$2:J$99,10,))","v":""}]
[null,null,null,null,null,null,null,null,"","",null,null,null,"",{"$f":"IF(A313=\"\",\"\",VLOOKUP(B313,Facilities!A$2:J$99,10,))","v":""}]
[null,null,null,null,null,null,null,null,"","",null,null,null,"",{"$f":"IF(A314=\"\",\"\",VLOOKUP(B314,Facilities!A$2:J$99,10,))","v":""}]
[null,null,null,null,null,null,null,null,"","",null,null,null,"",{"$f":"IF(A315=\"\",\"\",VLOOKUP(B315,Facilities!A$2:J$99,10,))","v":""}]
[null,null,null,null,null,null,null,null,"","",null,null,null,"",{"$f":"IF(A316=\"\",\"\",VLOOKUP(B316,Facilities!A$2:J$99,10,))","v":""}]
[null,null,null,null,null,null,null,null,"","",null,null,null,"",{"$f":"IF(A317=\"\",\"\",VLOOKUP(B317,Facilities!A$2:J$99,10,))","v":""}]
[null,null,null,null,null,null,null,null,"","",null,null,null,"",{"$f":"IF(A318=\"\",\"\",VLOOKUP(B318,Facilities!A$2:J$99,10,))","v":""}]
[null,null,null,null,null,null,null,null,"","",null,null,null,"",{"$f":"IF(A319=\"\",\"\",VLOOKUP(B319,Facilities!A$2:J$99,10,))","v":""}]
[null,null,null,null,null,null,null,null,"","",null,null,null,{"$f":"IF(A320=\"\",\"\",IF(K320=TRUE,1,0))","v":""},{"$f":"IF(A320=\"\",\"\",VLOOKUP(B320,Facilities!A$2:J$99,10,))","v":""}]
[null,null,null,null,null,null,null,null,"","",null,null,null,"",{"$f":"IF(A321=\"\",\"\",VLOOKUP(B321,Facilities!A$2:J$99,10,))","v":""}]
[null,null,null,null,null,null,null,null,"","",null,null,null,"",{"$f":"IF(A322=\"\",\"\",VLOOKUP(B322,Facilities!A$2:J$99,10,))","v":""}]
[null,null,null,null,null,null,null,null,{"$f":"IF(A323=\"\",\"\",IF(F323=1,G323*N323,0))","v":""},{"$f":"IF(A323=\"\",\"\",IF(O323<4,I323,0))","v":""},null,null,null,"",{"$f":"IF(A323=\"\",\"\",VLOOKUP(B323,Facilities!A$2:J$99,10,))","v":""}]
[null,null,null,null,null,null,null,null,"","",null,null,null,"",{"$f":"IF(A324=\"\",\"\",VLOOKUP(B324,Facilities!A$2:J$99,10,))","v":""}]
[null,null,null,null,null,null,null,null,"","",null,null,null,"",{"$f":"IF(A325=\"\",\"\",VLOOKUP(B325,Facilities!A$2:J$99,10,))","v":""}]
[null,null,null,null,null,null,null,null,"","",null,null,null,"",{"$f":"IF(A326=\"\",\"\",VLOOKUP(B326,Facilities!A$2:J$99,10,))","v":""}]
[null,null,null,null,null,null,null,null,"","",null,null,null,"",{"$f":"IF(A327=\"\",\"\",VLOOKUP(B327,Facilities!A$2:J$99,10,))","v":""}]
[null,null,null,null,null,null,null,null,"","",null,null,null,"",{"$f":"IF(A328=\"\",\"\",VLOOKUP(B328,Facilities!A$2:J$99,10,))","v":""}]
[null,null,null,null,null,null,null,null,"","",null,null,null,"",{"$f":"IF(A329=\"\",\"\",VLOOKUP(B329,Facilities!A$2:J$99,10,))","v":""}]
[null,null,null,null,null,null,null,null,"","",null,null,null,"",{"$f":"IF(A330=\"\",\"\",VLOOKUP(B330,Facilities!A$2:J$99,10,))","v":""}]
[null,null,null,null,null,null,null,null,"","",null,null,null,"",{"$f":"IF(A331=\"\",\"\",VLOOKUP(B331,Facilities!A$2:J$99,10,))","v":""}]
[null,null,null,null,null,null,null,null,"","",null,null,null,"",{"$f":"IF(A332=\"\",\"\",VLOOKUP(B332,Facilities!A$2:J$99,10,))","v":""}]
[null,null,null,null,null,null,null,null,"","",null,null,null,"",{"$f":"IF(A333=\"\",\"\",VLOOKUP(B333,Facilities!A$2:J$99,10,))","v":""}]
[null,null,null,null,null,null,null,null,"","",null,null,null,"",{"$f":"IF(A334=\"\",\"\",VLOOKUP(B334,Facilities!A$2:J$99,10,))","v":""}]
[null,null,null,null,null,null,null,null,"","",null,null,null,"",{"$f":"IF(A335=\"\",\"\",VLOOKUP(B335,Facilities!A$2:J$99,10,))","v":""}]
[null,null,null,null,null,null,null,null,"","",null,null,null,"",{"$f":"IF(A336=\"\",\"\",VLOOKUP(B336,Facilities!A$2:J$99,10,))","v":""}]
[null,null,null,null,null,null,null,null,"","",null,null,null,"",{"$f":"IF(A337=\"\",\"\",VLOOKUP(B337,Facilities!A$2:J$99,10,))","v":""}]
[null,null,null,null,null,null,null,null,"","",null,null,null,"",{"$f":"IF(A338=\"\",\"\",VLOOKUP(B338,Facilities!A$2:J$99,10,))","v":""}]
[null,null,null,null,null,null,null,null,"","",null,null,null,"",{"$f":"IF(A339=\"\",\"\",VLOOKUP(B339,Facilities!A$2:J$99,10,))","v":""}]
[null,null,null,null,null,null,null,null,"","",null,null,null,"",{"$f":"IF(A340=\"\",\"\",VLOOKUP(B340,Facilities!A$2:J$99,10,))","v":""}]
[null,null,null,null,null,null,null,null,"","",null,null,null,"",{"$f":"IF(A341=\"\",\"\",VLOOKUP(B341,Facilities!A$2:J$99,10,))","v":""}]
[null,null,null,null,null,null,null,null,"","",null,null,null,"",{"$f":"IF(A342=\"\",\"\",VLOOKUP(B342,Facilities!A$2:J$99,10,))","v":""}]
[null,null,null,null,null,null,null,null,"","",null,null,null,"",{"$f":"IF(A343=\"\",\"\",VLOOKUP(B343,Facilities!A$2:J$99,10,))","v":""}]
[null,null,null,null,null,null,null,null,"","",null,null,null,"",{"$f":"IF(A344=\"\",\"\",VLOOKUP(B344,Facilities!A$2:J$99,10,))","v":""}]
[null,null,null,null,null,null,null,null,"","",null,null,null,"",{"$f":"IF(A345=\"\",\"\",VLOOKUP(B345,Facilities!A$2:J$99,10,))","v":""}]
[null,null,null,null,null,null,null,null,"","",null,null,null,"",{"$f":"IF(A346=\"\",\"\",VLOOKUP(B346,Facilities!A$2:J$99,10,))","v":""}]
[null,null,null,null,null,null,null,null,"","",null,null,null,"",{"$f":"IF(A347=\"\",\"\",VLOOKUP(B347,Facilities!A$2:J$99,10,))","v":""}]
[null,null,null,null,null,null,null,null,"","",null,null,null,"",{"$f":"IF(A348=\"\",\"\",VLOOKUP(B348,Facilities!A$2:J$99,10,))","v":""}]
[null,null,null,null,null,null,null,null,"","",null,null,null,"",{"$f":"IF(A349=\"\",\"\",VLOOKUP(B349,Facilities!A$2:J$99,10,))","v":""}]
[null,null,null,null,null,null,null,null,"","",null,null,null,"",{"$f":"IF(A350=\"\",\"\",VLOOKUP(B350,Facilities!A$2:J$99,10,))","v":""}]
[null,null,null,null,null,null,null,null,"","",null,null,null,"",{"$f":"IF(A351=\"\",\"\",VLOOKUP(B351,Facilities!A$2:J$99,10,))","v":""}]
[null,null,null,null,null,null,null,null,"","",null,null,null,"",{"$f":"IF(A352=\"\",\"\",VLOOKUP(B352,Facilities!A$2:J$99,10,))","v":""}]
[null,null,null,null,null,null,null,null,"","",null,null,null,"",{"$f":"IF(A353=\"\",\"\",VLOOKUP(B353,Facilities!A$2:J$99,10,))","v":""}]
[null,null,null,null,null,null,null,null,"","",null,null,null,"",{"$f":"IF(A354=\"\",\"\",VLOOKUP(B354,Facilities!A$2:J$99,10,))","v":""}]
[null,null,null,null,null,null,null,null,"","",null,null,null,"",{"$f":"IF(A355=\"\",\"\",VLOOKUP(B355,Facilities!A$2:J$99,10,))","v":""}]
[null,null,null,null,null,null,null,null,"","",null,null,null,"",{"$f":"IF(A356=\"\",\"\",VLOOKUP(B356,Facilities!A$2:J$99,10,))","v":""}]
[null,null,null,null,null,null,null,null,"","",null,null,null,"",{"$f":"IF(A357=\"\",\"\",VLOOKUP(B357,Facilities!A$2:J$99,10,))","v":""}]
[null,null,null,null,null,null,null,null,"","",null,null,null,"",{"$f":"IF(A358=\"\",\"\",VLOOKUP(B358,Facilities!A$2:J$99,10,))","v":""}]
[null,null,null,null,null,null,null,null,"","",null,null,null,"",{"$f":"IF(A359=\"\",\"\",VLOOKUP(B359,Facilities!A$2:J$99,10,))","v":""}]
[null,null,null,null,null,null,null,null,"","",null,null,null,"",{"$f":"IF(A360=\"\",\"\",VLOOKUP(B360,Facilities!A$2:J$99,10,))","v":""}]
[null,null,null,null,null,null,null,null,"","",null,null,null,"",{"$f":"IF(A361=\"\",\"\",VLOOKUP(B361,Facilities!A$2:J$99,10,))","v":""}]
[null,null,null,null,null,null,null,null,"","",null,null,null,"",{"$f":"IF(A362=\"\",\"\",VLOOKUP(B362,Facilities!A$2:J$99,10,))","v":""}]
[null,null,null,null,null,null,null,null,"","",null,null,null,"",{"$f":"IF(A363=\"\",\"\",VLOOKUP(B363,Facilities!A$2:J$99,10,))","v":""}]
[null,null,null,null,null,null,null,null,"","",null,null,null,"",{"$f":"IF(A364=\"\",\"\",VLOOKUP(B364,Facilities!A$2:J$99,10,))","v":""}]
[null,null,null,null,null,null,null,null,"","",null,null,null,"",{"$f":"IF(A365=\"\",\"\",VLOOKUP(B365,Facilities!A$2:J$99,10,))","v":""}]
[null,null,null,null,null,null,null,null,"","",null,null,null,"",{"$f":"IF(A366=\"\",\"\",VLOOKUP(B366,Facilities!A$2:J$99,10,))","v":""}]
[null,null,null,null,null,null,null,null,"","",null,null,null,"",{"$f":"IF(A367=\"\",\"\",VLOOKUP(B367,Facilities!A$2:J$99,10,))","v":""}]
[null,null,null,null,null,null,null,null,"","",null,null,null,"",{"$f":"IF(A368=\"\",\"\",VLOOKUP(B368,Facilities!A$2:J$99,10,))","v":""}]
[null,null,null,null,null,null,null,null,"","",null,null,null,"",{"$f":"IF(A369=\"\",\"\",VLOOKUP(B369,Facilities!A$2:J$99,10,))","v":""}]
[null,null,null,null,null,null,null,null,"","",null,null,null,"",{"$f":"IF(A370=\"\",\"\",VLOOKUP(B370,Facilities!A$2:J$99,10,))","v":""}]
[null,null,null,null,null,null,null,null,"","",null,null,null,"",{"$f":"IF(A371=\"\",\"\",VLOOKUP(B371,Facilities!A$2:J$99,10,))","v":""}]
[null,null,null,null,null,null,null,null,"","",null,null,null,"",{"$f":"IF(A372=\"\",\"\",VLOOKUP(B372,Facilities!A$2:J$99,10,))","v":""}]
[null,null,null,null,null,null,null,null,"","",null,null,null,"",{"$f":"IF(A373=\"\",\"\",VLOOKUP(B373,Facilities!A$2:J$99,10,))","v":""}]
[null,null,null,null,null,null,null,null,"","",null,null,null,"",{"$f":"IF(A374=\"\",\"\",VLOOKUP(B374,Facilities!A$2:J$99,10,))","v":""}]
[null,null,null,null,null,null,null,null,"","",null,null,null,"",{"$f":"IF(A375=\"\",\"\",VLOOKUP(B375,Facilities!A$2:J$99,10,))","v":""}]
[null,null,null,null,null,null,null,null,"","",null,null,null,"",{"$f":"IF(A376=\"\",\"\",VLOOKUP(B376,Facilities!A$2:J$99,10,))","v":""}]
[null,null,null,null,null,null,null,null,"","",null,null,null,"",{"$f":"IF(A377=\"\",\"\",VLOOKUP(B377,Facilities!A$2:J$99,10,))","v":""}]
[null,null,null,null,null,null,null,null,"","",null,null,null,"",{"$f":"IF(A378=\"\",\"\",VLOOKUP(B378,Facilities!A$2:J$99,10,))","v":""}]
[null,null,null,null,null,null,null,null,"","",null,null,null,"",{"$f":"IF(A379=\"\",\"\",VLOOKUP(B379,Facilities!A$2:J$99,10,))","v":""}]
[null,null,null,null,null,null,null,null,"","",null,null,null,"",{"$f":"IF(A380=\"\",\"\",VLOOKUP(B380,Facilities!A$2:J$99,10,))","v":""}]
[null,null,null,null,null,null,null,null,"","",null,null,null,"",{"$f":"IF(A381=\"\",\"\",VLOOKUP(B381,Facilities!A$2:J$99,10,))","v":""}]
[null,null,null,null,null,null,null,null,"","",null,null,null,"",{"$f":"IF(A382=\"\",\"\",VLOOKUP(B382,Facilities!A$2:J$99,10,))","v":""}]
[null,null,null,null,null,null,null,null,"","",null,null,null,"",{"$f":"IF(A383=\"\",\"\",VLOOKUP(B383,Facilities!A$2:J$99,10,))","v":""}]
[null,null,null,null,null,null,null,null,"","",null,null,null,{"$f":"IF(A384=\"\",\"\",IF(K384=TRUE,1,0))","v":""},{"$f":"IF(A384=\"\",\"\",VLOOKUP(B384,Facilities!A$2:J$99,10,))","v":""}]
[null,null,null,null,null,null,null,null,"","",null,null,null,"",{"$f":"IF(A385=\"\",\"\",VLOOKUP(B385,Facilities!A$2:J$99,10,))","v":""}]
[null,null,null,null,null,null,null,null,"","",null,null,null,"",{"$f":"IF(A386=\"\",\"\",VLOOKUP(B386,Facilities!A$2:J$99,10,))","v":""}]
[null,null,null,null,null,null,null,null,{"$f":"IF(A387=\"\",\"\",IF(F387=1,G387*N387,0))","v":""},{"$f":"IF(A387=\"\",\"\",IF(O387<4,I387,0))","v":""},null,null,null,"",{"$f":"IF(A387=\"\",\"\",VLOOKUP(B387,Facilities!A$2:J$99,10,))","v":""}]
[null,null,null,null,null,null,null,null,"","",null,null,null,"",{"$f":"IF(A388=\"\",\"\",VLOOKUP(B388,Facilities!A$2:J$99,10,))","v":""}]
[null,null,null,null,null,null,null,null,"","",null,null,null,"",{"$f":"IF(A389=\"\",\"\",VLOOKUP(B389,Facilities!A$2:J$99,10,))","v":""}]
[null,null,null,null,null,null,null,null,"","",null,null,null,"",{"$f":"IF(A390=\"\",\"\",VLOOKUP(B390,Facilities!A$2:J$99,10,))","v":""}]
[null,null,null,null,null,null,null,null,"","",null,null,null,"",{"$f":"IF(A391=\"\",\"\",VLOOKUP(B391,Facilities!A$2:J$99,10,))","v":""}]
[null,null,null,null,null,null,null,null,"","",null,null,null,"",{"$f":"IF(A392=\"\",\"\",VLOOKUP(B392,Facilities!A$2:J$99,10,))","v":""}]
[null,null,null,null,null,null,null,null,"","",null,null,null,"",{"$f":"IF(A393=\"\",\"\",VLOOKUP(B393,Facilities!A$2:J$99,10,))","v":""}]
[null,null,null,null,null,null,null,null,"","",null,null,null,"",{"$f":"IF(A394=\"\",\"\",VLOOKUP(B394,Facilities!A$2:J$99,10,))","v":""}]
[null,null,null,null,null,null,null,null,"","",null,null,null,"",{"$f":"IF(A395=\"\",\"\",VLOOKUP(B395,Facilities!A$2:J$99,10,))","v":""}]
[null,null,null,null,null,null,null,null,"","",null,null,null,"",{"$f":"IF(A396=\"\",\"\",VLOOKUP(B396,Facilities!A$2:J$99,10,))","v":""}]
[null,null,null,null,null,null,null,null,"","",null,null,null,"",{"$f":"IF(A397=\"\",\"\",VLOOKUP(B397,Facilities!A$2:J$99,10,))","v":""}]
[null,null,null,null,null,null,null,null,"","",null,null,null,"",{"$f":"IF(A398=\"\",\"\",VLOOKUP(B398,Facilities!A$2:J$99,10,))","v":""}]
[null,null,null,null,null,null,null,null,"","",null,null,null,"",{"$f":"IF(A399=\"\",\"\",VLOOKUP(B399,Facilities!A$2:J$99,10,))","v":""}]
[null,null,null,null,null,null,null,null,"","",null,null,null,"",{"$f":"IF(A400=\"\",\"\",VLOOKUP(B400,Facilities!A$2:J$99,10,))","v":""}]
[null,null,null,null,null,null,null,null,"","",null,null,null,"",{"$f":"IF(A401=\"\",\"\",VLOOKUP(B401,Facilities!A$2:J$99,10,))","v":""}]
[null,null,null,null,null,null,null,null,"","",null,null,null,"",{"$f":"IF(A402=\"\",\"\",VLOOKUP(B402,Facilities!A$2:J$99,10,))","v":""}]
[null,null,null,null,null,null,null,null,"","",null,null,null,"",{"$f":"IF(A403=\"\",\"\",VLOOKUP(B403,Facilities!A$2:J$99,10,))","v":""}]
[null,null,null,null,null,null,null,null,"","",null,null,null,"",{"$f":"IF(A404=\"\",\"\",VLOOKUP(B404,Facilities!A$2:J$99,10,))","v":""}]
[null,null,null,null,null,null,null,null,"","",null,null,null,"",{"$f":"IF(A405=\"\",\"\",VLOOKUP(B405,Facilities!A$2:J$99,10,))","v":""}]
[null,null,null,null,null,null,null,null,"","",null,null,null,"",{"$f":"IF(A406=\"\",\"\",VLOOKUP(B406,Facilities!A$2:J$99,10,))","v":""}]
[null,null,null,null,null,null,null,null,"","",null,null,null,"",{"$f":"IF(A407=\"\",\"\",VLOOKUP(B407,Facilities!A$2:J$99,10,))","v":""}]
[null,null,null,null,null,null,null,null,"","",null,null,null,"",{"$f":"IF(A408=\"\",\"\",VLOOKUP(B408,Facilities!A$2:J$99,10,))","v":""}]
[null,null,null,null,null,null,null,null,"","",null,null,null,"",{"$f":"IF(A409=\"\",\"\",VLOOKUP(B409,Facilities!A$2:J$99,10,))","v":""}]
[null,null,null,null,null,null,null,null,"","",null,null,null,"",{"$f":"IF(A410=\"\",\"\",VLOOKUP(B410,Facilities!A$2:J$99,10,))","v":""}]
[null,null,null,null,null,null,null,null,"","",null,null,null,"",{"$f":"IF(A411=\"\",\"\",VLOOKUP(B411,Facilities!A$2:J$99,10,))","v":""}]
[null,null,null,null,null,null,null,null,"","",null,null,null,"",{"$f":"IF(A412=\"\",\"\",VLOOKUP(B412,Facilities!A$2:J$99,10,))","v":""}]
[null,null,null,null,null,null,null,null,"","",null,null,null,"",{"$f":"IF(A413=\"\",\"\",VLOOKUP(B413,Facilities!A$2:J$99,10,))","v":""}]
[null,null,null,null,null,null,null,null,"","",null,null,null,"",{"$f":"IF(A414=\"\",\"\",VLOOKUP(B414,Facilities!A$2:J$99,10,))","v":""}]
[null,null,null,null,null,null,null,null,"","",null,null,null,"",{"$f":"IF(A415=\"\",\"\",VLOOKUP(B415,Facilities!A$2:J$99,10,))","v":""}]
[null,null,null,null,null,null,null,null,"","",null,null,null,"",{"$f":"IF(A416=\"\",\"\",VLOOKUP(B416,Facilities!A$2:J$99,10,))","v":""}]
[null,null,null,null,null,null,null,null,"","",null,null,null,"",{"$f":"IF(A417=\"\",\"\",VLOOKUP(B417,Facilities!A$2:J$99,10,))","v":""}]
[null,null,null,null,null,null,null,null,"","",null,null,null,"",{"$f":"IF(A418=\"\",\"\",VLOOKUP(B418,Facilities!A$2:J$99,10,))","v":""}]
[null,null,null,null,null,null,null,null,"","",null,null,null,"",{"$f":"IF(A419=\"\",\"\",VLOOKUP(B419,Facilities!A$2:J$99,10,))","v":""}]
[null,null,null,null,null,null,null,null,"","",null,null,null,"",{"$f":"IF(A420=\"\",\"\",VLOOKUP(B420,Facilities!A$2:J$99,10,))","v":""}]
[null,null,null,null,null,null,null,null,"","",null,null,null,"",{"$f":"IF(A421=\"\",\"\",VLOOKUP(B421,Facilities!A$2:J$99,10,))","v":""}]
[null,null,null,null,null,null,null,null,"","",null,null,null,"",{"$f":"IF(A422=\"\",\"\",VLOOKUP(B422,Facilities!A$2:J$99,10,))","v":""}]
[null,null,null,null,null,null,null,null,"","",null,null,null,"",{"$f":"IF(A423=\"\",\"\",VLOOKUP(B423,Facilities!A$2:J$99,10,))","v":""}]
[null,null,null,null,null,null,null,null,"","",null,null,null,"",{"$f":"IF(A424=\"\",\"\",VLOOKUP(B424,Facilities!A$2:J$99,10,))","v":""}]
[null,null,null,null,null,null,null,null,"","",null,null,null,"",{"$f":"IF(A425=\"\",\"\",VLOOKUP(B425,Facilities!A$2:J$99,10,))","v":""}]
[null,null,null,null,null,null,null,null,"","",null,null,null,"",{"$f":"IF(A426=\"\",\"\",VLOOKUP(B426,Facilities!A$2:J$99,10,))","v":""}]
[null,null,null,null,null,null,null,null,"","",null,null,null,"",{"$f":"IF(A427=\"\",\"\",VLOOKUP(B427,Facilities!A$2:J$99,10,))","v":""}]
[null,null,null,null,null,null,null,null,"","",null,null,null,"",{"$f":"IF(A428=\"\",\"\",VLOOKUP(B428,Facilities!A$2:J$99,10,))","v":""}]
[null,null,null,null,null,null,null,null,"","",null,null,null,"",{"$f":"IF(A429=\"\",\"\",VLOOKUP(B429,Facilities!A$2:J$99,10,))","v":""}]
[null,null,null,null,null,null,null,null,"","",null,null,null,"",{"$f":"IF(A430=\"\",\"\",VLOOKUP(B430,Facilities!A$2:J$99,10,))","v":""}]
[null,null,null,null,null,null,null,null,"","",null,null,null,"",{"$f":"IF(A431=\"\",\"\",VLOOKUP(B431,Facilities!A$2:J$99,10,))","v":""}]
[null,null,null,null,null,null,null,null,"","",null,null,null,"",{"$f":"IF(A432=\"\",\"\",VLOOKUP(B432,Facilities!A$2:J$99,10,))","v":""}]
[null,null,null,null,null,null,null,null,"","",null,null,null,"",{"$f":"IF(A433=\"\",\"\",VLOOKUP(B433,Facilities!A$2:J$99,10,))","v":""}]
[null,null,null,null,null,null,null,null,"","",null,null,null,"",{"$f":"IF(A434=\"\",\"\",VLOOKUP(B434,Facilities!A$2:J$99,10,))","v":""}]
[null,null,null,null,null,null,null,null,"","",null,null,null,"",{"$f":"IF(A435=\"\",\"\",VLOOKUP(B435,Facilities!A$2:J$99,10,))","v":""}]
[null,null,null,null,null,null,null,null,"","",null,null,null,"",{"$f":"IF(A436=\"\",\"\",VLOOKUP(B436,Facilities!A$2:J$99,10,))","v":""}]
[null,null,null,null,null,null,null,null,"","",null,null,null,"",{"$f":"IF(A437=\"\",\"\",VLOOKUP(B437,Facilities!A$2:J$99,10,))","v":""}]
[null,null,null,null,null,null,null,null,"","",null,null,null,"",{"$f":"IF(A438=\"\",\"\",VLOOKUP(B438,Facilities!A$2:J$99,10,))","v":""}]
[null,null,null,null,null,null,null,null,"","",null,null,null,"",{"$f":"IF(A439=\"\",\"\",VLOOKUP(B439,Facilities!A$2:J$99,10,))","v":""}]
[null,null,null,null,null,null,null,null,"","",null,null,null,"",{"$f":"IF(A440=\"\",\"\",VLOOKUP(B440,Facilities!A$2:J$99,10,))","v":""}]
[null,null,null,null,null,null,null,null,"","",null,null,null,"",{"$f":"IF(A441=\"\",\"\",VLOOKUP(B441,Facilities!A$2:J$99,10,))","v":""}]
[null,null,null,null,null,null,null,null,"","",null,null,null,"",{"$f":"IF(A442=\"\",\"\",VLOOKUP(B442,Facilities!A$2:J$99,10,))","v":""}]
[null,null,null,null,null,null,null,null,"","",null,null,null,"",{"$f":"IF(A443=\"\",\"\",VLOOKUP(B443,Facilities!A$2:J$99,10,))","v":""}]
[null,null,null,null,null,null,null,null,"","",null,null,null,"",{"$f":"IF(A444=\"\",\"\",VLOOKUP(B444,Facilities!A$2:J$99,10,))","v":""}]
[null,null,null,null,null,null,null,null,"","",null,null,null,"",{"$f":"IF(A445=\"\",\"\",VLOOKUP(B445,Facilities!A$2:J$99,10,))","v":""}]
[null,null,null,null,null,null,null,null,"","",null,null,null,"",{"$f":"IF(A446=\"\",\"\",VLOOKUP(B446,Facilities!A$2:J$99,10,))","v":""}]
[null,null,null,null,null,null,null,null,"","",null,null,null,"",{"$f":"IF(A447=\"\",\"\",VLOOKUP(B447,Facilities!A$2:J$99,10,))","v":""}]
[null,null,null,null,null,null,null,null,"","",null,null,null,{"$f":"IF(A448=\"\",\"\",IF(K448=TRUE,1,0))","v":""},{"$f":"IF(A448=\"\",\"\",VLOOKUP(B448,Facilities!A$2:J$99,10,))","v":""}]
[null,null,null,null,null,null,null,null,"","",null,null,null,"",{"$f":"IF(A449=\"\",\"\",VLOOKUP(B449,Facilities!A$2:J$99,10,))","v":""}]
[null,null,null,null,null,null,null,null,"","",null,null,null,"",{"$f":"IF(A450=\"\",\"\",VLOOKUP(B450,Facilities!A$2:J$99,10,))","v":""}]
[null,null,null,null,null,null,null,null,{"$f":"IF(A451=\"\",\"\",IF(F451=1,G451*N451,0))","v":""},{"$f":"IF(A451=\"\",\"\",IF(O451<4,I451,0))","v":""},null,null,null,"",{"$f":"IF(A451=\"\",\"\",VLOOKUP(B451,Facilities!A$2:J$99,10,))","v":""}]
[null,null,null,null,null,null,null,null,"","",null,null,null,"",{"$f":"IF(A452=\"\",\"\",VLOOKUP(B452,Facilities!A$2:J$99,10,))","v":""}]
[null,null,null,null,null,null,null,null,"","",null,null,null,"",{"$f":"IF(A453=\"\",\"\",VLOOKUP(B453,Facilities!A$2:J$99,10,))","v":""}]
[null,null,null,null,null,null,null,null,"","",null,null,null,"",{"$f":"IF(A454=\"\",\"\",VLOOKUP(B454,Facilities!A$2:J$99,10,))","v":""}]
[null,null,null,null,null,null,null,null,"","",null,null,null,"",{"$f":"IF(A455=\"\",\"\",VLOOKUP(B455,Facilities!A$2:J$99,10,))","v":""}]
[null,null,null,null,null,null,null,null,"","",null,null,null,"",{"$f":"IF(A456=\"\",\"\",VLOOKUP(B456,Facilities!A$2:J$99,10,))","v":""}]
[null,null,null,null,null,null,null,null,"","",null,null,null,"",{"$f":"IF(A457=\"\",\"\",VLOOKUP(B457,Facilities!A$2:J$99,10,))","v":""}]
[null,null,null,null,null,null,null,null,"","",null,null,null,"",{"$f":"IF(A458=\"\",\"\",VLOOKUP(B458,Facilities!A$2:J$99,10,))","v":""}]
[null,null,null,null,null,null,null,null,"","",null,null,null,"",{"$f":"IF(A459=\"\",\"\",VLOOKUP(B459,Facilities!A$2:J$99,10,))","v":""}]
[null,null,null,null,null,null,null,null,"","",null,null,null,"",{"$f":"IF(A460=\"\",\"\",VLOOKUP(B460,Facilities!A$2:J$99,10,))","v":""}]
[null,null,null,null,null,null,null,null,"","",null,null,null,"",{"$f":"IF(A461=\"\",\"\",VLOOKUP(B461,Facilities!A$2:J$99,10,))","v":""}]
[null,null,null,null,null,null,null,null,"","",null,null,null,"",{"$f":"IF(A462=\"\",\"\",VLOOKUP(B462,Facilities!A$2:J$99,10,))","v":""}]
[null,null,null,null,null,null,null,null,"","",null,null,null,"",{"$f":"IF(A463=\"\",\"\",VLOOKUP(B463,Facilities!A$2:J$99,10,))","v":""}]
[null,null,null,null,null,null,null,null,"","",null,null,null,"",{"$f":"IF(A464=\"\",\"\",VLOOKUP(B464,Facilities!A$2:J$99,10,))","v":""}]
[null,null,null,null,null,null,null,null,"","",null,null,null,"",{"$f":"IF(A465=\"\",\"\",VLOOKUP(B465,Facilities!A$2:J$99,10,))","v":""}]
[null,null,null,null,null,null,null,null,"","",null,null,null,"",{"$f":"IF(A466=\"\",\"\",VLOOKUP(B466,Facilities!A$2:J$99,10,))","v":""}]
[null,null,null,null,null,null,null,null,"","",null,null,null,"",{"$f":"IF(A467=\"\",\"\",VLOOKUP(B467,Facilities!A$2:J$99,10,))","v":""}]
[null,null,null,null,null,null,null,null,"","",null,null,null,"",{"$f":"IF(A468=\"\",\"\",VLOOKUP(B468,Facilities!A$2:J$99,10,))","v":""}]
[null,null,null,null,null,null,null,null,"","",null,null,null,"",{"$f":"IF(A469=\"\",\"\",VLOOKUP(B469,Facilities!A$2:J$99,10,))","v":""}]
[null,null,null,null,null,null,null,null,"","",null,null,null,"",{"$f":"IF(A470=\"\",\"\",VLOOKUP(B470,Facilities!A$2:J$99,10,))","v":""}]
[null,null,null,null,null,null,null,null,"","",null,null,null,"",{"$f":"IF(A471=\"\",\"\",VLOOKUP(B471,Facilities!A$2:J$99,10,))","v":""}]
[null,null,null,null,null,null,null,null,"","",null,null,null,"",{"$f":"IF(A472=\"\",\"\",VLOOKUP(B472,Facilities!A$2:J$99,10,))","v":""}]
[null,null,null,null,null,null,null,null,"","",null,null,null,"",{"$f":"IF(A473=\"\",\"\",VLOOKUP(B473,Facilities!A$2:J$99,10,))","v":""}]
[null,null,null,null,null,null,null,null,"","",null,null,null,"",{"$f":"IF(A474=\"\",\"\",VLOOKUP(B474,Facilities!A$2:J$99,10,))","v":""}]
[null,null,null,null,null,null,null,null,"","",null,null,null,"",{"$f":"IF(A475=\"\",\"\",VLOOKUP(B475,Facilities!A$2:J$99,10,))","v":""}]
[null,null,null,null,null,null,null,null,"","",null,null,null,"",{"$f":"IF(A476=\"\",\"\",VLOOKUP(B476,Facilities!A$2:J$99,10,))","v":""}]
[null,null,null,null,null,null,null,null,"","",null,null,null,"",{"$f":"IF(A477=\"\",\"\",VLOOKUP(B477,Facilities!A$2:J$99,10,))","v":""}]
[null,null,null,null,null,null,null,null,"","",null,null,null,"",{"$f":"IF(A478=\"\",\"\",VLOOKUP(B478,Facilities!A$2:J$99,10,))","v":""}]
[null,null,null,null,null,null,null,null,"","",null,null,null,"",{"$f":"IF(A479=\"\",\"\",VLOOKUP(B479,Facilities!A$2:J$99,10,))","v":""}]
[null,null,null,null,null,null,null,null,"","",null,null,null,"",{"$f":"IF(A480=\"\",\"\",VLOOKUP(B480,Facilities!A$2:J$99,10,))","v":""}]
[null,null,null,null,null,null,null,null,"","",null,null,null,"",{"$f":"IF(A481=\"\",\"\",VLOOKUP(B481,Facilities!A$2:J$99,10,))","v":""}]
[null,null,null,null,null,null,null,null,"","",null,null,null,"",{"$f":"IF(A482=\"\",\"\",VLOOKUP(B482,Facilities!A$2:J$99,10,))","v":""}]
[null,null,null,null,null,null,null,null,"","",null,null,null,"",{"$f":"IF(A483=\"\",\"\",VLOOKUP(B483,Facilities!A$2:J$99,10,))","v":""}]
[null,null,null,null,null,null,null,null,"","",null,null,null,"",{"$f":"IF(A484=\"\",\"\",VLOOKUP(B484,Facilities!A$2:J$99,10,))","v":""}]
[null,null,null,null,null,null,null,null,"","",null,null,null,"",{"$f":"IF(A485=\"\",\"\",VLOOKUP(B485,Facilities!A$2:J$99,10,))","v":""}]
[null,null,null,null,null,null,null,null,"","",null,null,null,"",{"$f":"IF(A486=\"\",\"\",VLOOKUP(B486,Facilities!A$2:J$99,10,))","v":""}]
[null,null,null,null,null,null,null,null,"","",null,null,null,"",{"$f":"IF(A487=\"\",\"\",VLOOKUP(B487,Facilities!A$2:J$99,10,))","v":""}]
[null,null,null,null,null,null,null,null,"","",null,null,null,"",{"$f":"IF(A488=\"\",\"\",VLOOKUP(B488,Facilities!A$2:J$99,10,))","v":""}]
[null,null,null,null,null,null,null,null,"","",null,null,null,"",{"$f":"IF(A489=\"\",\"\",VLOOKUP(B489,Facilities!A$2:J$99,10,))","v":""}]
[null,null,null,null,null,null,null,null,"","",null,null,null,"",{"$f":"IF(A490=\"\",\"\",VLOOKUP(B490,Facilities!A$2:J$99,10,))","v":""}]
[null,null,null,null,null,null,null,null,"","",null,null,null,"",{"$f":"IF(A491=\"\",\"\",VLOOKUP(B491,Facilities!A$2:J$99,10,))","v":""}]
[null,null,null,null,null,null,null,null,"","",null,null,null,"",{"$f":"IF(A492=\"\",\"\",VLOOKUP(B492,Facilities!A$2:J$99,10,))","v":""}]
[null,null,null,null,null,null,null,null,"","",null,null,null,"",{"$f":"IF(A493=\"\",\"\",VLOOKUP(B493,Facilities!A$2:J$99,10,))","v":""}]
[null,null,null,null,null,null,null,null,"","",null,null,null,"",{"$f":"IF(A494=\"\",\"\",VLOOKUP(B494,Facilities!A$2:J$99,10,))","v":""}]
[null,null,null,null,null,null,null,null,"","",null,null,null,"",{"$f":"IF(A495=\"\",\"\",VLOOKUP(B495,Facilities!A$2:J$99,10,))","v":""}]
[null,null,null,null,null,null,null,null,"","",null,null,null,"",{"$f":"IF(A496=\"\",\"\",VLOOKUP(B496,Facilities!A$2:J$99,10,))","v":""}]
[null,null,null,null,null,null,null,null,"","",null,null,null,"",{"$f":"IF(A497=\"\",\"\",VLOOKUP(B497,Facilities!A$2:J$99,10,))","v":""}]
[null,null,null,null,null,null,null,null,"","",null,null,null,"",{"$f":"IF(A498=\"\",\"\",VLOOKUP(B498,Facilities!A$2:J$99,10,))","v":""}]
[null,null,null,null,null,null,null,null,"","",null,null,null,"",{"$f":"IF(A499=\"\",\"\",VLOOKUP(B499,Facilities!A$2:J$99,10,))","v":""}]
[null,null,null,null,null,null,null,null,"","",null,null,null,"",{"$f":"IF(A500=\"\",\"\",VLOOKUP(B500,Facilities!A$2:J$99,10,))","v":""}]
[null,null,null,null,null,null,null,null,"","",null,null,null,"",{"$f":"IF(A501=\"\",\"\",VLOOKUP(B501,Facilities!A$2:J$99,10,))","v":""}]
[null,null,null,null,null,null,null,null,"","",null,null,null,"",{"$f":"IF(A502=\"\",\"\",VLOOKUP(B502,Facilities!A$2:J$99,10,))","v":""}]
[null,null,null,null,null,null,null,null,"","",null,null,null,"",{"$f":"IF(A503=\"\",\"\",VLOOKUP(B503,Facilities!A$2:J$99,10,))","v":""}]
[null,null,null,null,null,null,null,null,"","",null,null,null,"",{"$f":"IF(A504=\"\",\"\",VLOOKUP(B504,Facilities!A$2:J$99,10,))","v":""}]
[null,null,null,null,null,null,null,null,"","",null,null,null,"",{"$f":"IF(A505=\"\",\"\",VLOOKUP(B505,Facilities!A$2:J$99,10,))","v":""}]
[null,null,null,null,null,null,null,null,"","",null,null,null,"",{"$f":"IF(A506=\"\",\"\",VLOOKUP(B506,Facilities!A$2:J$99,10,))","v":""}]
[null,null,null,null,null,null,null,null,"","",null,null,null,"",{"$f":"IF(A507=\"\",\"\",VLOOKUP(B507,Facilities!A$2:J$99,10,))","v":""}]
[null,null,null,null,null,null,null,null,"","",null,null,null,"",{"$f":"IF(A508=\"\",\"\",VLOOKUP(B508,Facilities!A$2:J$99,10,))","v":""}]
[null,null,null,null,null,null,null,null,"","",null,null,null,"",{"$f":"IF(A509=\"\",\"\",VLOOKUP(B509,Facilities!A$2:J$99,10,))","v":""}]
[null,null,null,null,null,null,null,null,"","",null,null,null,"",{"$f":"IF(A510=\"\",\"\",VLOOKUP(B510,Facilities!A$2:J$99,10,))","v":""}]
[null,null,null,null,null,null,null,null,"","",null,null,null,"",{"$f":"IF(A511=\"\",\"\",VLOOKUP(B511,Facilities!A$2:J$99,10,))","v":""}]
[null,null,null,null,null,null,null,null,"","",null,null,null,{"$f":"IF(A512=\"\",\"\",IF(K512=TRUE,1,0))","v":""},{"$f":"IF(A512=\"\",\"\",VLOOKUP(B512,Facilities!A$2:J$99,10,))","v":""}]
[null,null,null,null,null,null,null,null,"","",null,null,null,"",{"$f":"IF(A513=\"\",\"\",VLOOKUP(B513,Facilities!A$2:J$99,10,))","v":""}]
[null,null,null,null,null,null,null,null,"","",null,null,null,"",{"$f":"IF(A514=\"\",\"\",VLOOKUP(B514,Facilities!A$2:J$99,10,))","v":""}]
[null,null,null,null,null,null,null,null,{"$f":"IF(A515=\"\",\"\",IF(F515=1,G515*N515,0))","v":""},{"$f":"IF(A515=\"\",\"\",IF(O515<4,I515,0))","v":""},null,null,null,"",{"$f":"IF(A515=\"\",\"\",VLOOKUP(B515,Facilities!A$2:J$99,10,))","v":""}]
[null,null,null,null,null,null,null,null,"","",null,null,null,"",{"$f":"IF(A516=\"\",\"\",VLOOKUP(B516,Facilities!A$2:J$99,10,))","v":""}]
[null,null,null,null,null,null,null,null,"","",null,null,null,"",{"$f":"IF(A517=\"\",\"\",VLOOKUP(B517,Facilities!A$2:J$99,10,))","v":""}]
[null,null,null,null,null,null,null,null,"","",null,null,null,"",{"$f":"IF(A518=\"\",\"\",VLOOKUP(B518,Facilities!A$2:J$99,10,))","v":""}]
[null,null,null,null,null,null,null,null,"","",null,null,null,"",{"$f":"IF(A519=\"\",\"\",VLOOKUP(B519,Facilities!A$2:J$99,10,))","v":""}]
[null,null,null,null,null,null,null,null,"","",null,null,null,"",{"$f":"IF(A520=\"\",\"\",VLOOKUP(B520,Facilities!A$2:J$99,10,))","v":""}]
[null,null,null,null,null,null,null,null,"","",null,null,null,"",{"$f":"IF(A521=\"\",\"\",VLOOKUP(B521,Facilities!A$2:J$99,10,))","v":""}]
[null,null,null,null,null,null,null,null,"","",null,null,null,"",{"$f":"IF(A522=\"\",\"\",VLOOKUP(B522,Facilities!A$2:J$99,10,))","v":""}]
[null,null,null,null,null,null,null,null,"","",null,null,null,"",{"$f":"IF(A523=\"\",\"\",VLOOKUP(B523,Facilities!A$2:J$99,10,))","v":""}]
[null,null,null,null,null,null,null,null,"","",null,null,null,"",{"$f":"IF(A524=\"\",\"\",VLOOKUP(B524,Facilities!A$2:J$99,10,))","v":""}]
[null,null,null,null,null,null,null,null,"","",null,null,null,"",{"$f":"IF(A525=\"\",\"\",VLOOKUP(B525,Facilities!A$2:J$99,10,))","v":""}]
[null,null,null,null,null,null,null,null,"","",null,null,null,"",{"$f":"IF(A526=\"\",\"\",VLOOKUP(B526,Facilities!A$2:J$99,10,))","v":""}]
[null,null,null,null,null,null,null,null,"","",null,null,null,"",{"$f":"IF(A527=\"\",\"\",VLOOKUP(B527,Facilities!A$2:J$99,10,))","v":""}]
[null,null,null,null,null,null,null,null,"","",null,null,null,"",{"$f":"IF(A528=\"\",\"\",VLOOKUP(B528,Facilities!A$2:J$99,10,))","v":""}]
[null,null,null,null,null,null,null,null,"","",null,null,null,"",{"$f":"IF(A529=\"\",\"\",VLOOKUP(B529,Facilities!A$2:J$99,10,))","v":""}]
[null,null,null,null,null,null,null,null,"","",null,null,null,"",{"$f":"IF(A530=\"\",\"\",VLOOKUP(B530,Facilities!A$2:J$99,10,))","v":""}]
[null,null,null,null,null,null,null,null,"","",null,null,null,"",{"$f":"IF(A531=\"\",\"\",VLOOKUP(B531,Facilities!A$2:J$99,10,))","v":""}]
[null,null,null,null,null,null,null,null,"","",null,null,null,"",{"$f":"IF(A532=\"\",\"\",VLOOKUP(B532,Facilities!A$2:J$99,10,))","v":""}]
[null,null,null,null,null,null,null,null,"","",null,null,null,"",{"$f":"IF(A533=\"\",\"\",VLOOKUP(B533,Facilities!A$2:J$99,10,))","v":""}]
[null,null,null,null,null,null,null,null,"","",null,null,null,"",{"$f":"IF(A534=\"\",\"\",VLOOKUP(B534,Facilities!A$2:J$99,10,))","v":""}]
[null,null,null,null,null,null,null,null,"","",null,null,null,"",{"$f":"IF(A535=\"\",\"\",VLOOKUP(B535,Facilities!A$2:J$99,10,))","v":""}]
[null,null,null,null,null,null,null,null,"","",null,null,null,"",{"$f":"IF(A536=\"\",\"\",VLOOKUP(B536,Facilities!A$2:J$99,10,))","v":""}]
[null,null,null,null,null,null,null,null,"","",null,null,null,"",{"$f":"IF(A537=\"\",\"\",VLOOKUP(B537,Facilities!A$2:J$99,10,))","v":""}]
[null,null,null,null,null,null,null,null,"","",null,null,null,"",{"$f":"IF(A538=\"\",\"\",VLOOKUP(B538,Facilities!A$2:J$99,10,))","v":""}]
[null,null,null,null,null,null,null,null,"","",null,null,null,"",{"$f":"IF(A539=\"\",\"\",VLOOKUP(B539,Facilities!A$2:J$99,10,))","v":""}]
[null,null,null,null,null,null,null,null,"","",null,null,null,"",{"$f":"IF(A540=\"\",\"\",VLOOKUP(B540,Facilities!A$2:J$99,10,))","v":""}]
[null,null,null,null,null,null,null,null,"","",null,null,null,"",{"$f":"IF(A541=\"\",\"\",VLOOKUP(B541,Facilities!A$2:J$99,10,))","v":""}]
[null,null,null,null,null,null,null,null,"","",null,null,null,"",{"$f":"IF(A542=\"\",\"\",VLOOKUP(B542,Facilities!A$2:J$99,10,))","v":""}]
[null,null,null,null,null,null,null,null,"","",null,null,null,"",{"$f":"IF(A543=\"\",\"\",VLOOKUP(B543,Facilities!A$2:J$99,10,))","v":""}]
[null,null,null,null,null,null,null,null,"","",null,null,null,"",{"$f":"IF(A544=\"\",\"\",VLOOKUP(B544,Facilities!A$2:J$99,10,))","v":""}]
[null,null,null,null,null,null,null,null,"","",null,null,null,"",{"$f":"IF(A545=\"\",\"\",VLOOKUP(B545,Facilities!A$2:J$99,10,))","v":""}]
[null,null,null,null,null,null,null,null,"","",null,null,null,"",{"$f":"IF(A546=\"\",\"\",VLOOKUP(B546,Facilities!A$2:J$99,10,))","v":""}]
[null,null,null,null,null,null,null,null,"","",null,null,null,"",{"$f":"IF(A547=\"\",\"\",VLOOKUP(B547,Facilities!A$2:J$99,10,))","v":""}]
[null,null,null,null,null,null,null,null,"","",null,null,null,"",{"$f":"IF(A548=\"\",\"\",VLOOKUP(B548,Facilities!A$2:J$99,10,))","v":""}]
[null,null,null,null,null,null,null,null,"","",null,null,null,"",{"$f":"IF(A549=\"\",\"\",VLOOKUP(B549,Facilities!A$2:J$99,10,))","v":""}]
[null,null,null,null,null,null,null,null,"","",null,null,null,"",{"$f":"IF(A550=\"\",\"\",VLOOKUP(B550,Facilities!A$2:J$99,10,))","v":""}]
[null,null,null,null,null,null,null,null,"","",null,null,null,"",{"$f":"IF(A551=\"\",\"\",VLOOKUP(B551,Facilities!A$2:J$99,10,))","v":""}]
[null,null,null,null,null,null,null,null,"","",null,null,null,"",{"$f":"IF(A552=\"\",\"\",VLOOKUP(B552,Facilities!A$2:J$99,10,))","v":""}]
[null,null,null,null,null,null,null,null,"","",null,null,null,"",{"$f":"IF(A553=\"\",\"\",VLOOKUP(B553,Facilities!A$2:J$99,10,))","v":""}]
[null,null,null,null,null,null,null,null,"","",null,null,null,"",{"$f":"IF(A554=\"\",\"\",VLOOKUP(B554,Facilities!A$2:J$99,10,))","v":""}]
[null,null,null,null,null,null,null,null,"","",null,null,null,"",{"$f":"IF(A555=\"\",\"\",VLOOKUP(B555,Facilities!A$2:J$99,10,))","v":""}]
[null,null,null,null,null,null,null,null,"","",null,null,null,"",{"$f":"IF(A556=\"\",\"\",VLOOKUP(B556,Facilities!A$2:J$99,10,))","v":""}]
[null,null,null,null,null,null,null,null,"","",null,null,null,"",{"$f":"IF(A557=\"\",\"\",VLOOKUP(B557,Facilities!A$2:J$99,10,))","v":""}]
[null,null,null,null,null,null,null,null,"","",null,null,null,"",{"$f":"IF(A558=\"\",\"\",VLOOKUP(B558,Facilities!A$2:J$99,10,))","v":""}]
[null,null,null,null,null,null,null,null,"","",null,null,null,"",{"$f":"IF(A559=\"\",\"\",VLOOKUP(B559,Facilities!A$2:J$99,10,))","v":""}]
[null,null,null,null,null,null,null,null,"","",null,null,null,"",{"$f":"IF(A560=\"\",\"\",VLOOKUP(B560,Facilities!A$2:J$99,10,))","v":""}]
[null,null,null,null,null,null,null,null,"","",null,null,null,"",{"$f":"IF(A561=\"\",\"\",VLOOKUP(B561,Facilities!A$2:J$99,10,))","v":""}]
[null,null,null,null,null,null,null,null,"","",null,null,null,"",{"$f":"IF(A562=\"\",\"\",VLOOKUP(B562,Facilities!A$2:J$99,10,))","v":""}]
[null,null,null,null,null,null,null,null,"","",null,null,null,"",{"$f":"IF(A563=\"\",\"\",VLOOKUP(B563,Facilities!A$2:J$99,10,))","v":""}]
[null,null,null,null,null,null,null,null,"","",null,null,null,"",{"$f":"IF(A564=\"\",\"\",VLOOKUP(B564,Facilities!A$2:J$99,10,))","v":""}]
[null,null,null,null,null,null,null,null,"","",null,null,null,"",{"$f":"IF(A565=\"\",\"\",VLOOKUP(B565,Facilities!A$2:J$99,10,))","v":""}]
[null,null,null,null,null,null,null,null,"","",null,null,null,"",{"$f":"IF(A566=\"\",\"\",VLOOKUP(B566,Facilities!A$2:J$99,10,))","v":""}]
[null,null,null,null,null,null,null,null,"","",null,null,null,"",{"$f":"IF(A567=\"\",\"\",VLOOKUP(B567,Facilities!A$2:J$99,10,))","v":""}]
[null,null,null,null,null,null,null,null,"","",null,null,null,"",{"$f":"IF(A568=\"\",\"\",VLOOKUP(B568,Facilities!A$2:J$99,10,))","v":""}]
[null,null,null,null,null,null,null,null,"","",null,null,null,"",{"$f":"IF(A569=\"\",\"\",VLOOKUP(B569,Facilities!A$2:J$99,10,))","v":""}]
[null,null,null,null,null,null,null,null,"","",null,null,null,"",{"$f":"IF(A570=\"\",\"\",VLOOKUP(B570,Facilities!A$2:J$99,10,))","v":""}]
[null,null,null,null,null,null,null,null,"","",null,null,null,"",{"$f":"IF(A571=\"\",\"\",VLOOKUP(B571,Facilities!A$2:J$99,10,))","v":""}]
[null,null,null,null,null,null,null,null,"","",null,null,null,"",{"$f":"IF(A572=\"\",\"\",VLOOKUP(B572,Facilities!A$2:J$99,10,))","v":""}]
[null,null,null,null,null,null,null,null,"","",null,null,null,"",{"$f":"IF(A573=\"\",\"\",VLOOKUP(B573,Facilities!A$2:J$99,10,))","v":""}]
[null,null,null,null,null,null,null,null,"","",null,null,null,"",{"$f":"IF(A574=\"\",\"\",VLOOKUP(B574,Facilities!A$2:J$99,10,))","v":""}]
[null,null,null,null,null,null,null,null,"","",null,null,null,"",{"$f":"IF(A575=\"\",\"\",VLOOKUP(B575,Facilities!A$2:J$99,10,))","v":""}]
[null,null,null,null,null,null,null,null,"","",null,null,null,{"$f":"IF(A576=\"\",\"\",IF(K576=TRUE,1,0))","v":""},{"$f":"IF(A576=\"\",\"\",VLOOKUP(B576,Facilities!A$2:J$99,10,))","v":""}]
[null,null,null,null,null,null,null,null,"","",null,null,null,"",{"$f":"IF(A577=\"\",\"\",VLOOKUP(B577,Facilities!A$2:J$99,10,))","v":""}]
[null,null,null,null,null,null,null,null,"","",null,null,null,"",{"$f":"IF(A578=\"\",\"\",VLOOKUP(B578,Facilities!A$2:J$99,10,))","v":""}]
[null,null,null,null,null,null,null,null,{"$f":"IF(A579=\"\",\"\",IF(F579=1,G579*N579,0))","v":""},{"$f":"IF(A579=\"\",\"\",IF(O579<4,I579,0))","v":""},null,null,null,"",{"$f":"IF(A579=\"\",\"\",VLOOKUP(B579,Facilities!A$2:J$99,10,))","v":""}]
[null,null,null,null,null,null,null,null,"","",null,null,null,"",{"$f":"IF(A580=\"\",\"\",VLOOKUP(B580,Facilities!A$2:J$99,10,))","v":""}]
[null,null,null,null,null,null,null,null,"","",null,null,null,"",{"$f":"IF(A581=\"\",\"\",VLOOKUP(B581,Facilities!A$2:J$99,10,))","v":""}]
[null,null,null,null,null,null,null,null,"","",null,null,null,"",{"$f":"IF(A582=\"\",\"\",VLOOKUP(B582,Facilities!A$2:J$99,10,))","v":""}]
[null,null,null,null,null,null,null,null,"","",null,null,null,"",{"$f":"IF(A583=\"\",\"\",VLOOKUP(B583,Facilities!A$2:J$99,10,))","v":""}]
[null,null,null,null,null,null,null,null,"","",null,null,null,"",{"$f":"IF(A584=\"\",\"\",VLOOKUP(B584,Facilities!A$2:J$99,10,))","v":""}]
[null,null,null,null,null,null,null,null,"","",null,null,null,"",{"$f":"IF(A585=\"\",\"\",VLOOKUP(B585,Facilities!A$2:J$99,10,))","v":""}]
[null,null,null,null,null,null,null,null,"","",null,null,null,"",{"$f":"IF(A586=\"\",\"\",VLOOKUP(B586,Facilities!A$2:J$99,10,))","v":""}]
[null,null,null,null,null,null,null,null,"","",null,null,null,"",{"$f":"IF(A587=\"\",\"\",VLOOKUP(B587,Facilities!A$2:J$99,10,))","v":""}]
[null,null,null,null,null,null,null,null,"","",null,null,null,"",{"$f":"IF(A588=\"\",\"\",VLOOKUP(B588,Facilities!A$2:J$99,10,))","v":""}]
[null,null,null,null,null,null,null,null,"","",null,null,null,"",{"$f":"IF(A589=\"\",\"\",VLOOKUP(B589,Facilities!A$2:J$99,10,))","v":""}]
[null,null,null,null,null,null,null,null,"","",null,null,null,"",{"$f":"IF(A590=\"\",\"\",VLOOKUP(B590,Facilities!A$2:J$99,10,))","v":""}]
[null,null,null,null,null,null,null,null,"","",null,null,null,"",{"$f":"IF(A591=\"\",\"\",VLOOKUP(B591,Facilities!A$2:J$99,10,))","v":""}]
[null,null,null,null,null,null,null,null,"","",null,null,null,"",{"$f":"IF(A592=\"\",\"\",VLOOKUP(B592,Facilities!A$2:J$99,10,))","v":""}]
[null,null,null,null,null,null,null,null,"","",null,null,null,"",{"$f":"IF(A593=\"\",\"\",VLOOKUP(B593,Facilities!A$2:J$99,10,))","v":""}]
[null,null,null,null,null,null,null,null,"","",null,null,null,"",{"$f":"IF(A594=\"\",\"\",VLOOKUP(B594,Facilities!A$2:J$99,10,))","v":""}]
[null,null,null,null,null,null,null,null,"","",null,null,null,"",{"$f":"IF(A595=\"\",\"\",VLOOKUP(B595,Facilities!A$2:J$99,10,))","v":""}]
[null,null,null,null,null,null,null,null,"","",null,null,null,"",{"$f":"IF(A596=\"\",\"\",VLOOKUP(B596,Facilities!A$2:J$99,10,))","v":""}]
[null,null,null,null,null,null,null,null,"","",null,null,null,"",{"$f":"IF(A597=\"\",\"\",VLOOKUP(B597,Facilities!A$2:J$99,10,))","v":""}]
[null,null,null,null,null,null,null,null,"","",null,null,null,"",{"$f":"IF(A598=\"\",\"\",VLOOKUP(B598,Facilities!A$2:J$99,10,))","v":""}]
[null,null,null,null,null,null,null,null,"","",null,null,null,"",{"$f":"IF(A599=\"\",\"\",VLOOKUP(B599,Facilities!A$2:J$99,10,))","v":""}]
[null,null,null,null,null,null,null,null,"","",null,null,null,"",{"$f":"IF(A600=\"\",\"\",VLOOKUP(B600,Facilities!A$2:J$99,10,))","v":""}]
[null,null,null,null,null,null,null,null,"","",null,null,null,"",{"$f":"IF(A601=\"\",\"\",VLOOKUP(B601,Facilities!A$2:J$99,10,))","v":""}]
[null,null,null,null,null,null,null,null,"","",null,null,null,"",{"$f":"IF(A602=\"\",\"\",VLOOKUP(B602,Facilities!A$2:J$99,10,))","v":""}]
[null,null,null,null,null,null,null,null,"","",null,null,null,"",{"$f":"IF(A603=\"\",\"\",VLOOKUP(B603,Facilities!A$2:J$99,10,))","v":""}]
[null,null,null,null,null,null,null,null,"","",null,null,null,"",{"$f":"IF(A604=\"\",\"\",VLOOKUP(B604,Facilities!A$2:J$99,10,))","v":""}]
[null,null,null,null,null,null,null,null,"","",null,null,null,"",{"$f":"IF(A605=\"\",\"\",VLOOKUP(B605,Facilities!A$2:J$99,10,))","v":""}]
[null,null,null,null,null,null,null,null,"","",null,null,null,"",{"$f":"IF(A606=\"\",\"\",VLOOKUP(B606,Facilities!A$2:J$99,10,))","v":""}]
[null,null,null,null,null,null,null,null,"","",null,null,null,"",{"$f":"IF(A607=\"\",\"\",VLOOKUP(B607,Facilities!A$2:J$99,10,))","v":""}]
[null,null,null,null,null,null,null,null,"","",null,null,null,"",{"$f":"IF(A608=\"\",\"\",VLOOKUP(B608,Facilities!A$2:J$99,10,))","v":""}]
[null,null,null,null,null,null,null,null,"","",null,null,null,"",{"$f":"IF(A609=\"\",\"\",VLOOKUP(B609,Facilities!A$2:J$99,10,))","v":""}]
[null,null,null,null,null,null,null,null,"","",null,null,null,"",{"$f":"IF(A610=\"\",\"\",VLOOKUP(B610,Facilities!A$2:J$99,10,))","v":""}]
[null,null,null,null,null,null,null,null,"","",null,null,null,"",{"$f":"IF(A611=\"\",\"\",VLOOKUP(B611,Facilities!A$2:J$99,10,))","v":""}]
[null,null,null,null,null,null,null,null,"","",null,null,null,"",{"$f":"IF(A612=\"\",\"\",VLOOKUP(B612,Facilities!A$2:J$99,10,))","v":""}]
[null,null,null,null,null,null,null,null,"","",null,null,null,"",{"$f":"IF(A613=\"\",\"\",VLOOKUP(B613,Facilities!A$2:J$99,10,))","v":""}]
[null,null,null,null,null,null,null,null,"","",null,null,null,"",{"$f":"IF(A614=\"\",\"\",VLOOKUP(B614,Facilities!A$2:J$99,10,))","v":""}]
[null,null,null,null,null,null,null,null,"","",null,null,null,"",{"$f":"IF(A615=\"\",\"\",VLOOKUP(B615,Facilities!A$2:J$99,10,))","v":""}]
[null,null,null,null,null,null,null,null,"","",null,null,null,"",{"$f":"IF(A616=\"\",\"\",VLOOKUP(B616,Facilities!A$2:J$99,10,))","v":""}]
[null,null,null,null,null,null,null,null,"","",null,null,null,"",{"$f":"IF(A617=\"\",\"\",VLOOKUP(B617,Facilities!A$2:J$99,10,))","v":""}]
[null,null,null,null,null,null,null,null,"","",null,null,null,"",{"$f":"IF(A618=\"\",\"\",VLOOKUP(B618,Facilities!A$2:J$99,10,))","v":""}]
[null,null,null,null,null,null,null,null,"","",null,null,null,"",{"$f":"IF(A619=\"\",\"\",VLOOKUP(B619,Facilities!A$2:J$99,10,))","v":""}]
[null,null,null,null,null,null,null,null,"","",null,null,null,"",{"$f":"IF(A620=\"\",\"\",VLOOKUP(B620,Facilities!A$2:J$99,10,))","v":""}]
[null,null,null,null,null,null,null,null,"","",null,null,null,"",{"$f":"IF(A621=\"\",\"\",VLOOKUP(B621,Facilities!A$2:J$99,10,))","v":""}]
[null,null,null,null,null,null,null,null,"","",null,null,null,"",{"$f":"IF(A622=\"\",\"\",VLOOKUP(B622,Facilities!A$2:J$99,10,))","v":""}]
[null,null,null,null,null,null,null,null,"","",null,null,null,"",{"$f":"IF(A623=\"\",\"\",VLOOKUP(B623,Facilities!A$2:J$99,10,))","v":""}]
[null,null,null,null,null,null,null,null,"","",null,null,null,"",{"$f":"IF(A624=\"\",\"\",VLOOKUP(B624,Facilities!A$2:J$99,10,))","v":""}]
[null,null,null,null,null,null,null,null,"","",null,null,null,"",{"$f":"IF(A625=\"\",\"\",VLOOKUP(B625,Facilities!A$2:J$99,10,))","v":""}]
[null,null,null,null,null,null,null,null,"","",null,null,null,"",{"$f":"IF(A626=\"\",\"\",VLOOKUP(B626,Facilities!A$2:J$99,10,))","v":""}]
[null,null,null,null,null,null,null,null,"","",null,null,null,"",{"$f":"IF(A627=\"\",\"\",VLOOKUP(B627,Facilities!A$2:J$99,10,))","v":""}]
[null,null,null,null,null,null,null,null,"","",null,null,null,"",{"$f":"IF(A628=\"\",\"\",VLOOKUP(B628,Facilities!A$2:J$99,10,))","v":""}]
[null,null,null,null,null,null,null,null,"","",null,null,null,"",{"$f":"IF(A629=\"\",\"\",VLOOKUP(B629,Facilities!A$2:J$99,10,))","v":""}]
[null,null,null,null,null,null,null,null,"","",null,null,null,"",{"$f":"IF(A630=\"\",\"\",VLOOKUP(B630,Facilities!A$2:J$99,10,))","v":""}]
[null,null,null,null,null,null,null,null,"","",null,null,null,"",{"$f":"IF(A631=\"\",\"\",VLOOKUP(B631,Facilities!A$2:J$99,10,))","v":""}]
[null,null,null,null,null,null,null,null,"","",null,null,null,"",{"$f":"IF(A632=\"\",\"\",VLOOKUP(B632,Facilities!A$2:J$99,10,))","v":""}]
[null,null,null,null,null,null,null,null,"","",null,null,null,"",{"$f":"IF(A633=\"\",\"\",VLOOKUP(B633,Facilities!A$2:J$99,10,))","v":""}]
[null,null,null,null,null,null,null,null,"","",null,null,null,"",{"$f":"IF(A634=\"\",\"\",VLOOKUP(B634,Facilities!A$2:J$99,10,))","v":""}]
[null,null,null,null,null,null,null,null,"","",null,null,null,"",{"$f":"IF(A635=\"\",\"\",VLOOKUP(B635,Facilities!A$2:J$99,10,))","v":""}]
[null,null,null,null,null,null,null,null,"","",null,null,null,"",{"$f":"IF(A636=\"\",\"\",VLOOKUP(B636,Facilities!A$2:J$99,10,))","v":""}]
[null,null,null,null,null,null,null,null,"","",null,null,null,"",{"$f":"IF(A637=\"\",\"\",VLOOKUP(B637,Facilities!A$2:J$99,10,))","v":""}]
[null,null,null,null,null,null,null,null,"","",null,null,null,"",{"$f":"IF(A638=\"\",\"\",VLOOKUP(B638,Facilities!A$2:J$99,10,))","v":""}]
[null,null,null,null,null,null,null,null,"","",null,null,null,"",{"$f":"IF(A639=\"\",\"\",VLOOKUP(B639,Facilities!A$2:J$99,10,))","v":""}]
[null,null,null,null,null,null,null,null,"","",null,null,null,{"$f":"IF(A640=\"\",\"\",IF(K640=TRUE,1,0))","v":""},{"$f":"IF(A640=\"\",\"\",VLOOKUP(B640,Facilities!A$2:J$99,10,))","v":""}]
[null,null,null,null,null,null,null,null,"","",null,null,null,"",{"$f":"IF(A641=\"\",\"\",VLOOKUP(B641,Facilities!A$2:J$99,10,))","v":""}]
[null,null,null,null,null,null,null,null,"","",null,null,null,"",{"$f":"IF(A642=\"\",\"\",VLOOKUP(B642,Facilities!A$2:J$99,10,))","v":""}]
[null,null,null,null,null,null,null,null,{"$f":"IF(A643=\"\",\"\",IF(F643=1,G643*N643,0))","v":""},{"$f":"IF(A643=\"\",\"\",IF(O643<4,I643,0))","v":""},null,null,null,"",{"$f":"IF(A643=\"\",\"\",VLOOKUP(B643,Facilities!A$2:J$99,10,))","v":""}]
[null,null,null,null,null,null,null,null,"","",null,null,null,"",{"$f":"IF(A644=\"\",\"\",VLOOKUP(B644,Facilities!A$2:J$99,10,))","v":""}]
[null,null,null,null,null,null,null,null,"","",null,null,null,"",{"$f":"IF(A645=\"\",\"\",VLOOKUP(B645,Facilities!A$2:J$99,10,))","v":""}]
[null,null,null,null,null,null,null,null,"","",null,null,null,"",{"$f":"IF(A646=\"\",\"\",VLOOKUP(B646,Facilities!A$2:J$99,10,))","v":""}]
[null,null,null,null,null,null,null,null,"","",null,null,null,"",{"$f":"IF(A647=\"\",\"\",VLOOKUP(B647,Facilities!A$2:J$99,10,))","v":""}]
[null,null,null,null,null,null,null,null,"","",null,null,null,"",{"$f":"IF(A648=\"\",\"\",VLOOKUP(B648,Facilities!A$2:J$99,10,))","v":""}]
[null,null,null,null,null,null,null,null,"","",null,null,null,"",{"$f":"IF(A649=\"\",\"\",VLOOKUP(B649,Facilities!A$2:J$99,10,))","v":""}]
[null,null,null,null,null,null,null,null,"","",null,null,null,"",{"$f":"IF(A650=\"\",\"\",VLOOKUP(B650,Facilities!A$2:J$99,10,))","v":""}]
[null,null,null,null,null,null,null,null,"","",null,null,null,"",{"$f":"IF(A651=\"\",\"\",VLOOKUP(B651,Facilities!A$2:J$99,10,))","v":""}]
[null,null,null,null,null,null,null,null,"","",null,null,null,"",{"$f":"IF(A652=\"\",\"\",VLOOKUP(B652,Facilities!A$2:J$99,10,))","v":""}]
[null,null,null,null,null,null,null,null,"","",null,null,null,"",{"$f":"IF(A653=\"\",\"\",VLOOKUP(B653,Facilities!A$2:J$99,10,))","v":""}]
[null,null,null,null,null,null,null,null,"","",null,null,null,"",{"$f":"IF(A654=\"\",\"\",VLOOKUP(B654,Facilities!A$2:J$99,10,))","v":""}]
[null,null,null,null,null,null,null,null,"","",null,null,null,"",{"$f":"IF(A655=\"\",\"\",VLOOKUP(B655,Facilities!A$2:J$99,10,))","v":""}]
[null,null,null,null,null,null,null,null,"","",null,null,null,"",{"$f":"IF(A656=\"\",\"\",VLOOKUP(B656,Facilities!A$2:J$99,10,))","v":""}]
[null,null,null,null,null,null,null,null,"","",null,null,null,"",{"$f":"IF(A657=\"\",\"\",VLOOKUP(B657,Facilities!A$2:J$99,10,))","v":""}]
[null,null,null,null,null,null,null,null,"","",null,null,null,"",{"$f":"IF(A658=\"\",\"\",VLOOKUP(B658,Facilities!A$2:J$99,10,))","v":""}]
[null,null,null,null,null,null,null,null,"","",null,null,null,"",{"$f":"IF(A659=\"\",\"\",VLOOKUP(B659,Facilities!A$2:J$99,10,))","v":""}]
[null,null,null,null,null,null,null,null,"","",null,null,null,"",{"$f":"IF(A660=\"\",\"\",VLOOKUP(B660,Facilities!A$2:J$99,10,))","v":""}]
[null,null,null,null,null,null,null,null,"","",null,null,null,"",{"$f":"IF(A661=\"\",\"\",VLOOKUP(B661,Facilities!A$2:J$99,10,))","v":""}]
[null,null,null,null,null,null,null,null,"","",null,null,null,"",{"$f":"IF(A662=\"\",\"\",VLOOKUP(B662,Facilities!A$2:J$99,10,))","v":""}]
[null,null,null,null,null,null,null,null,"","",null,null,null,"",{"$f":"IF(A663=\"\",\"\",VLOOKUP(B663,Facilities!A$2:J$99,10,))","v":""}]
[null,null,null,null,null,null,null,null,"","",null,null,null,"",{"$f":"IF(A664=\"\",\"\",VLOOKUP(B664,Facilities!A$2:J$99,10,))","v":""}]
[null,null,null,null,null,null,null,null,"","",null,null,null,"",{"$f":"IF(A665=\"\",\"\",VLOOKUP(B665,Facilities!A$2:J$99,10,))","v":""}]
[null,null,null,null,null,null,null,null,"","",null,null,null,"",{"$f":"IF(A666=\"\",\"\",VLOOKUP(B666,Facilities!A$2:J$99,10,))","v":""}]
[null,null,null,null,null,null,null,null,"","",null,null,null,"",{"$f":"IF(A667=\"\",\"\",VLOOKUP(B667,Facilities!A$2:J$99,10,))","v":""}]
[null,null,null,null,null,null,null,null,"","",null,null,null,"",{"$f":"IF(A668=\"\",\"\",VLOOKUP(B668,Facilities!A$2:J$99,10,))","v":""}]
[null,null,null,null,null,null,null,null,"","",null,null,null,"",{"$f":"IF(A669=\"\",\"\",VLOOKUP(B669,Facilities!A$2:J$99,10,))","v":""}]
[null,null,null,null,null,null,null,null,"","",null,null,null,"",{"$f":"IF(A670=\"\",\"\",VLOOKUP(B670,Facilities!A$2:J$99,10,))","v":""}]
[null,null,null,null,null,null,null,null,"","",null,null,null,"",{"$f":"IF(A671=\"\",\"\",VLOOKUP(B671,Facilities!A$2:J$99,10,))","v":""}]
[null,null,null,null,null,null,null,null,"","",null,null,null,"",{"$f":"IF(A672=\"\",\"\",VLOOKUP(B672,Facilities!A$2:J$99,10,))","v":""}]
[null,null,null,null,null,null,null,null,"","",null,null,null,"",{"$f":"IF(A673=\"\",\"\",VLOOKUP(B673,Facilities!A$2:J$99,10,))","v":""}]
[null,null,null,null,null,null,null,null,"","",null,null,null,"",{"$f":"IF(A674=\"\",\"\",VLOOKUP(B674,Facilities!A$2:J$99,10,))","v":""}]
[null,null,null,null,null,null,null,null,"","",null,null,null,"",{"$f":"IF(A675=\"\",\"\",VLOOKUP(B675,Facilities!A$2:J$99,10,))","v":""}]
[null,null,null,null,null,null,null,null,"","",null,null,null,"",{"$f":"IF(A676=\"\",\"\",VLOOKUP(B676,Facilities!A$2:J$99,10,))","v":""}]
[null,null,null,null,null,null,null,null,"","",null,null,null,"",{"$f":"IF(A677=\"\",\"\",VLOOKUP(B677,Facilities!A$2:J$99,10,))","v":""}]
[null,null,null,null,null,null,null,null,"","",null,null,null,"",{"$f":"IF(A678=\"\",\"\",VLOOKUP(B678,Facilities!A$2:J$99,10,))","v":""}]
[null,null,null,null,null,null,null,null,"","",null,null,null,"",{"$f":"IF(A679=\"\",\"\",VLOOKUP(B679,Facilities!A$2:J$99,10,))","v":""}]
[null,null,null,null,null,null,null,null,"","",null,null,null,"",{"$f":"IF(A680=\"\",\"\",VLOOKUP(B680,Facilities!A$2:J$99,10,))","v":""}]
[null,null,null,null,null,null,null,null,"","",null,null,null,"",{"$f":"IF(A681=\"\",\"\",VLOOKUP(B681,Facilities!A$2:J$99,10,))","v":""}]
[null,null,null,null,null,null,null,null,"","",null,null,null,"",{"$f":"IF(A682=\"\",\"\",VLOOKUP(B682,Facilities!A$2:J$99,10,))","v":""}]
[null,null,null,null,null,null,null,null,"","",null,null,null,"",{"$f":"IF(A683=\"\",\"\",VLOOKUP(B683,Facilities!A$2:J$99,10,))","v":""}]
[null,null,null,null,null,null,null,null,"","",null,null,null,"",{"$f":"IF(A684=\"\",\"\",VLOOKUP(B684,Facilities!A$2:J$99,10,))","v":""}]
[null,null,null,null,null,null,null,null,"","",null,null,null,"",{"$f":"IF(A685=\"\",\"\",VLOOKUP(B685,Facilities!A$2:J$99,10,))","v":""}]
[null,null,null,null,null,null,null,null,"","",null,null,null,"",{"$f":"IF(A686=\"\",\"\",VLOOKUP(B686,Facilities!A$2:J$99,10,))","v":""}]
[null,null,null,null,null,null,null,null,"","",null,null,null,"",{"$f":"IF(A687=\"\",\"\",VLOOKUP(B687,Facilities!A$2:J$99,10,))","v":""}]
[null,null,null,null,null,null,null,null,"","",null,null,null,"",{"$f":"IF(A688=\"\",\"\",VLOOKUP(B688,Facilities!A$2:J$99,10,))","v":""}]
[null,null,null,null,null,null,null,null,"","",null,null,null,"",{"$f":"IF(A689=\"\",\"\",VLOOKUP(B689,Facilities!A$2:J$99,10,))","v":""}]
[null,null,null,null,null,null,null,null,"","",null,null,null,"",{"$f":"IF(A690=\"\",\"\",VLOOKUP(B690,Facilities!A$2:J$99,10,))","v":""}]
[null,null,null,null,null,null,null,null,"","",null,null,null,"",{"$f":"IF(A691=\"\",\"\",VLOOKUP(B691,Facilities!A$2:J$99,10,))","v":""}]
[null,null,null,null,null,null,null,null,"","",null,null,null,"",{"$f":"IF(A692=\"\",\"\",VLOOKUP(B692,Facilities!A$2:J$99,10,))","v":""}]
[null,null,null,null,null,null,null,null,"","",null,null,null,"",{"$f":"IF(A693=\"\",\"\",VLOOKUP(B693,Facilities!A$2:J$99,10,))","v":""}]
[null,null,null,null,null,null,null,null,"","",null,null,null,"",{"$f":"IF(A694=\"\",\"\",VLOOKUP(B694,Facilities!A$2:J$99,10,))","v":""}]
[null,null,null,null,null,null,null,null,"","",null,null,null,"",{"$f":"IF(A695=\"\",\"\",VLOOKUP(B695,Facilities!A$2:J$99,10,))","v":""}]
[null,null,null,null,null,null,null,null,"","",null,null,null,"",{"$f":"IF(A696=\"\",\"\",VLOOKUP(B696,Facilities!A$2:J$99,10,))","v":""}]
[null,null,null,null,null,null,null,null,"","",null,null,null,"",{"$f":"IF(A697=\"\",\"\",VLOOKUP(B697,Facilities!A$2:J$99,10,))","v":""}]
[null,null,null,null,null,null,null,null,"","",null,null,null,"",{"$f":"IF(A698=\"\",\"\",VLOOKUP(B698,Facilities!A$2:J$99,10,))","v":""}]
[null,null,null,null,null,null,null,null,"","",null,null,null,"",{"$f":"IF(A699=\"\",\"\",VLOOKUP(B699,Facilities!A$2:J$99,10,))","v":""}]
[null,null,null,null,null,null,null,null,"","",null,null,null,"",{"$f":"IF(A700=\"\",\"\",VLOOKUP(B700,Facilities!A$2:J$99,10,))","v":""}]
[null,null,null,null,null,null,null,null,"","",null,null,null,"",{"$f":"IF(A701=\"\",\"\",VLOOKUP(B701,Facilities!A$2:J$99,10,))","v":""}]
[null,null,null,null,null,null,null,null,"","",null,null,null,"",{"$f":"IF(A702=\"\",\"\",VLOOKUP(B702,Facilities!A$2:J$99,10,))","v":""}]
[null,null,null,null,null,null,null,null,"","",null,null,null,"",{"$f":"IF(A703=\"\",\"\",VLOOKUP(B703,Facilities!A$2:J$99,10,))","v":""}]
[null,null,null,null,null,null,null,null,"","",null,null,null,{"$f":"IF(A704=\"\",\"\",IF(K704=TRUE,1,0))","v":""},{"$f":"IF(A704=\"\",\"\",VLOOKUP(B704,Facilities!A$2:J$99,10,))","v":""}]
[null,null,null,null,null,null,null,null,"","",null,null,null,"",{"$f":"IF(A705=\"\",\"\",VLOOKUP(B705,Facilities!A$2:J$99,10,))","v":""}]
[null,null,null,null,null,null,null,null,"","",null,null,null,"",{"$f":"IF(A706=\"\",\"\",VLOOKUP(B706,Facilities!A$2:J$99,10,))","v":""}]
[null,null,null,null,null,null,null,null,{"$f":"IF(A707=\"\",\"\",IF(F707=1,G707*N707,0))","v":""},{"$f":"IF(A707=\"\",\"\",IF(O707<4,I707,0))","v":""},null,null,null,"",{"$f":"IF(A707=\"\",\"\",VLOOKUP(B707,Facilities!A$2:J$99,10,))","v":""}]
[null,null,null,null,null,null,null,null,"","",null,null,null,"",{"$f":"IF(A708=\"\",\"\",VLOOKUP(B708,Facilities!A$2:J$99,10,))","v":""}]
[null,null,null,null,null,null,null,null,"","",null,null,null,"",{"$f":"IF(A709=\"\",\"\",VLOOKUP(B709,Facilities!A$2:J$99,10,))","v":""}]
[null,null,null,null,null,null,null,null,"","",null,null,null,"",{"$f":"IF(A710=\"\",\"\",VLOOKUP(B710,Facilities!A$2:J$99,10,))","v":""}]
[null,null,null,null,null,null,null,null,"","",null,null,null,"",{"$f":"IF(A711=\"\",\"\",VLOOKUP(B711,Facilities!A$2:J$99,10,))","v":""}]
[null,null,null,null,null,null,null,null,"","",null,null,null,"",{"$f":"IF(A712=\"\",\"\",VLOOKUP(B712,Facilities!A$2:J$99,10,))","v":""}]
[null,null,null,null,null,null,null,null,"","",null,null,null,"",{"$f":"IF(A713=\"\",\"\",VLOOKUP(B713,Facilities!A$2:J$99,10,))","v":""}]
[null,null,null,null,null,null,null,null,"","",null,null,null,"",{"$f":"IF(A714=\"\",\"\",VLOOKUP(B714,Facilities!A$2:J$99,10,))","v":""}]
[null,null,null,null,null,null,null,null,"","",null,null,null,"",{"$f":"IF(A715=\"\",\"\",VLOOKUP(B715,Facilities!A$2:J$99,10,))","v":""}]
[null,null,null,null,null,null,null,null,"","",null,null,null,"",{"$f":"IF(A716=\"\",\"\",VLOOKUP(B716,Facilities!A$2:J$99,10,))","v":""}]
[null,null,null,null,null,null,null,null,"","",null,null,null,"",{"$f":"IF(A717=\"\",\"\",VLOOKUP(B717,Facilities!A$2:J$99,10,))","v":""}]
[null,null,null,null,null,null,null,null,"","",null,null,null,"",{"$f":"IF(A718=\"\",\"\",VLOOKUP(B718,Facilities!A$2:J$99,10,))","v":""}]
[null,null,null,null,null,null,null,null,"","",null,null,null,"",{"$f":"IF(A719=\"\",\"\",VLOOKUP(B719,Facilities!A$2:J$99,10,))","v":""}]
[null,null,null,null,null,null,null,null,"","",null,null,null,"",{"$f":"IF(A720=\"\",\"\",VLOOKUP(B720,Facilities!A$2:J$99,10,))","v":""}]
[null,null,null,null,null,null,null,null,"","",null,null,null,"",{"$f":"IF(A721=\"\",\"\",VLOOKUP(B721,Facilities!A$2:J$99,10,))","v":""}]
[null,null,null,null,null,null,null,null,"","",null,null,null,"",{"$f":"IF(A722=\"\",\"\",VLOOKUP(B722,Facilities!A$2:J$99,10,))","v":""}]
[null,null,null,null,null,null,null,null,"","",null,null,null,"",{"$f":"IF(A723=\"\",\"\",VLOOKUP(B723,Facilities!A$2:J$99,10,))","v":""}]
[null,null,null,null,null,null,null,null,"","",null,null,null,"",{"$f":"IF(A724=\"\",\"\",VLOOKUP(B724,Facilities!A$2:J$99,10,))","v":""}]
[null,null,null,null,null,null,null,null,"","",null,null,null,"",{"$f":"IF(A725=\"\",\"\",VLOOKUP(B725,Facilities!A$2:J$99,10,))","v":""}]
[null,null,null,null,null,null,null,null,"","",null,null,null,"",{"$f":"IF(A726=\"\",\"\",VLOOKUP(B726,Facilities!A$2:J$99,10,))","v":""}]
[null,null,null,null,null,null,null,null,"","",null,null,null,"",{"$f":"IF(A727=\"\",\"\",VLOOKUP(B727,Facilities!A$2:J$99,10,))","v":""}]
[null,null,null,null,null,null,null,null,"","",null,null,null,"",{"$f":"IF(A728=\"\",\"\",VLOOKUP(B728,Facilities!A$2:J$99,10,))","v":""}]
[null,null,null,null,null,null,null,null,"","",null,null,null,"",{"$f":"IF(A729=\"\",\"\",VLOOKUP(B729,Facilities!A$2:J$99,10,))","v":""}]
[null,null,null,null,null,null,null,null,"","",null,null,null,"",{"$f":"IF(A730=\"\",\"\",VLOOKUP(B730,Facilities!A$2:J$99,10,))","v":""}]
[null,null,null,null,null,null,null,null,"","",null,null,null,"",{"$f":"IF(A731=\"\",\"\",VLOOKUP(B731,Facilities!A$2:J$99,10,))","v":""}]
[null,null,null,null,null,null,null,null,"","",null,null,null,"",{"$f":"IF(A732=\"\",\"\",VLOOKUP(B732,Facilities!A$2:J$99,10,))","v":""}]
[null,null,null,null,null,null,null,null,"","",null,null,null,"",{"$f":"IF(A733=\"\",\"\",VLOOKUP(B733,Facilities!A$2:J$99,10,))","v":""}]
[null,null,null,null,null,null,null,null,"","",null,null,null,"",{"$f":"IF(A734=\"\",\"\",VLOOKUP(B734,Facilities!A$2:J$99,10,))","v":""}]
[null,null,null,null,null,null,null,null,"","",null,null,null,"",{"$f":"IF(A735=\"\",\"\",VLOOKUP(B735,Facilities!A$2:J$99,10,))","v":""}]
[null,null,null,null,null,null,null,null,"","",null,null,null,"",{"$f":"IF(A736=\"\",\"\",VLOOKUP(B736,Facilities!A$2:J$99,10,))","v":""}]
[null,null,null,null,null,null,null,null,"","",null,null,null,"",{"$f":"IF(A737=\"\",\"\",VLOOKUP(B737,Facilities!A$2:J$99,10,))","v":""}]
[null,null,null,null,null,null,null,null,"","",null,null,null,"",{"$f":"IF(A738=\"\",\"\",VLOOKUP(B738,Facilities!A$2:J$99,10,))","v":""}]
[null,null,null,null,null,null,null,null,"","",null,null,null,"",{"$f":"IF(A739=\"\",\"\",VLOOKUP(B739,Facilities!A$2:J$99,10,))","v":""}]
[null,null,null,null,null,null,null,null,"","",null,null,null,"",{"$f":"IF(A740=\"\",\"\",VLOOKUP(B740,Facilities!A$2:J$99,10,))","v":""}]
[null,null,null,null,null,null,null,null,"","",null,null,null,"",{"$f":"IF(A741=\"\",\"\",VLOOKUP(B741,Facilities!A$2:J$99,10,))","v":""}]
[null,null,null,null,null,null,null,null,"","",null,null,null,"",{"$f":"IF(A742=\"\",\"\",VLOOKUP(B742,Facilities!A$2:J$99,10,))","v":""}]
[null,null,null,null,null,null,null,null,"","",null,null,null,"",{"$f":"IF(A743=\"\",\"\",VLOOKUP(B743,Facilities!A$2:J$99,10,))","v":""}]
[null,null,null,null,null,null,null,null,"","",null,null,null,"",{"$f":"IF(A744=\"\",\"\",VLOOKUP(B744,Facilities!A$2:J$99,10,))","v":""}]
[null,null,null,null,null,null,null,null,"","",null,null,null,"",{"$f":"IF(A745=\"\",\"\",VLOOKUP(B745,Facilities!A$2:J$99,10,))","v":""}]
[null,null,null,null,null,null,null,null,"","",null,null,null,"",{"$f":"IF(A746=\"\",\"\",VLOOKUP(B746,Facilities!A$2:J$99,10,))","v":""}]
[null,null,null,null,null,null,null,null,"","",null,null,null,"",{"$f":"IF(A747=\"\",\"\",VLOOKUP(B747,Facilities!A$2:J$99,10,))","v":""}]
[null,null,null,null,null,null,null,null,"","",null,null,null,"",{"$f":"IF(A748=\"\",\"\",VLOOKUP(B748,Facilities!A$2:J$99,10,))","v":""}]
[null,null,null,null,null,null,null,null,"","",null,null,null,"",{"$f":"IF(A749=\"\",\"\",VLOOKUP(B749,Facilities!A$2:J$99,10,))","v":""}]
[null,null,null,null,null,null,null,null,"","",null,null,null,"",{"$f":"IF(A750=\"\",\"\",VLOOKUP(B750,Facilities!A$2:J$99,10,))","v":""}]
[null,null,null,null,null,null,null,null,"","",null,null,null,"",{"$f":"IF(A751=\"\",\"\",VLOOKUP(B751,Facilities!A$2:J$99,10,))","v":""}]
[null,null,null,null,null,null,null,null,"","",null,null,null,"",{"$f":"IF(A752=\"\",\"\",VLOOKUP(B752,Facilities!A$2:J$99,10,))","v":""}]
[null,null,null,null,null,null,null,null,"","",null,null,null,"",{"$f":"IF(A753=\"\",\"\",VLOOKUP(B753,Facilities!A$2:J$99,10,))","v":""}]
[null,null,null,null,null,null,null,null,"","",null,null,null,"",{"$f":"IF(A754=\"\",\"\",VLOOKUP(B754,Facilities!A$2:J$99,10,))","v":""}]
[null,null,null,null,null,null,null,null,"","",null,null,null,"",{"$f":"IF(A755=\"\",\"\",VLOOKUP(B755,Facilities!A$2:J$99,10,))","v":""}]
[null,null,null,null,null,null,null,null,"","",null,null,null,"",{"$f":"IF(A756=\"\",\"\",VLOOKUP(B756,Facilities!A$2:J$99,10,))","v":""}]
[null,null,null,null,null,null,null,null,"","",null,null,null,"",{"$f":"IF(A757=\"\",\"\",VLOOKUP(B757,Facilities!A$2:J$99,10,))","v":""}]
[null,null,null,null,null,null,null,null,"","",null,null,null,"",{"$f":"IF(A758=\"\",\"\",VLOOKUP(B758,Facilities!A$2:J$99,10,))","v":""}]
[null,null,null,null,null,null,null,null,"","",null,null,null,"",{"$f":"IF(A759=\"\",\"\",VLOOKUP(B759,Facilities!A$2:J$99,10,))","v":""}]
[null,null,null,null,null,null,null,null,"","",null,null,null,"",{"$f":"IF(A760=\"\",\"\",VLOOKUP(B760,Facilities!A$2:J$99,10,))","v":""}]
[null,null,null,null,null,null,null,null,"","",null,null,null,"",{"$f":"IF(A761=\"\",\"\",VLOOKUP(B761,Facilities!A$2:J$99,10,))","v":""}]
[null,null,null,null,null,null,null,null,"","",null,null,null,"",{"$f":"IF(A762=\"\",\"\",VLOOKUP(B762,Facilities!A$2:J$99,10,))","v":""}]
[null,null,null,null,null,null,null,null,"","",null,null,null,"",{"$f":"IF(A763=\"\",\"\",VLOOKUP(B763,Facilities!A$2:J$99,10,))","v":""}]
[null,null,null,null,null,null,null,null,"","",null,null,null,"",{"$f":"IF(A764=\"\",\"\",VLOOKUP(B764,Facilities!A$2:J$99,10,))","v":""}]
[null,null,null,null,null,null,null,null,"","",null,null,null,"",{"$f":"IF(A765=\"\",\"\",VLOOKUP(B765,Facilities!A$2:J$99,10,))","v":""}]
[null,null,null,null,null,null,null,null,"","",null,null,null,"",{"$f":"IF(A766=\"\",\"\",VLOOKUP(B766,Facilities!A$2:J$99,10,))","v":""}]
[null,null,null,null,null,null,null,null,"","",null,null,null,"",{"$f":"IF(A767=\"\",\"\",VLOOKUP(B767,Facilities!A$2:J$99,10,))","v":""}]
[null,null,null,null,null,null,null,null,"","",null,null,null,{"$f":"IF(A768=\"\",\"\",IF(K768=TRUE,1,0))","v":""},{"$f":"IF(A768=\"\",\"\",VLOOKUP(B768,Facilities!A$2:J$99,10,))","v":""}]
[null,null,null,null,null,null,null,null,"","",null,null,null,"",{"$f":"IF(A769=\"\",\"\",VLOOKUP(B769,Facilities!A$2:J$99,10,))","v":""}]
[null,null,null,null,null,null,null,null,"","",null,null,null,"",{"$f":"IF(A770=\"\",\"\",VLOOKUP(B770,Facilities!A$2:J$99,10,))","v":""}]
[null,null,null,null,null,null,null,null,{"$f":"IF(A771=\"\",\"\",IF(F771=1,G771*N771,0))","v":""},{"$f":"IF(A771=\"\",\"\",IF(O771<4,I771,0))","v":""},null,null,null,"",{"$f":"IF(A771=\"\",\"\",VLOOKUP(B771,Facilities!A$2:J$99,10,))","v":""}]
[null,null,null,null,null,null,null,null,"","",null,null,null,"",{"$f":"IF(A772=\"\",\"\",VLOOKUP(B772,Facilities!A$2:J$99,10,))","v":""}]
[null,null,null,null,null,null,null,null,"","",null,null,null,"",{"$f":"IF(A773=\"\",\"\",VLOOKUP(B773,Facilities!A$2:J$99,10,))","v":""}]
[null,null,null,null,null,null,null,null,"","",null,null,null,"",{"$f":"IF(A774=\"\",\"\",VLOOKUP(B774,Facilities!A$2:J$99,10,))","v":""}]
[null,null,null,null,null,null,null,null,"","",null,null,null,"",{"$f":"IF(A775=\"\",\"\",VLOOKUP(B775,Facilities!A$2:J$99,10,))","v":""}]
[null,null,null,null,null,null,null,null,"","",null,null,null,"",{"$f":"IF(A776=\"\",\"\",VLOOKUP(B776,Facilities!A$2:J$99,10,))","v":""}]
[null,null,null,null,null,null,null,null,"","",null,null,null,"",{"$f":"IF(A777=\"\",\"\",VLOOKUP(B777,Facilities!A$2:J$99,10,))","v":""}]
[null,null,null,null,null,null,null,null,"","",null,null,null,"",{"$f":"IF(A778=\"\",\"\",VLOOKUP(B778,Facilities!A$2:J$99,10,))","v":""}]
[null,null,null,null,null,null,null,null,"","",null,null,null,"",{"$f":"IF(A779=\"\",\"\",VLOOKUP(B779,Facilities!A$2:J$99,10,))","v":""}]
[null,null,null,null,null,null,null,null,"","",null,null,null,"",{"$f":"IF(A780=\"\",\"\",VLOOKUP(B780,Facilities!A$2:J$99,10,))","v":""}]
[null,null,null,null,null,null,null,null,"","",null,null,null,"",{"$f":"IF(A781=\"\",\"\",VLOOKUP(B781,Facilities!A$2:J$99,10,))","v":""}]
[null,null,null,null,null,null,null,null,"","",null,null,null,"",{"$f":"IF(A782=\"\",\"\",VLOOKUP(B782,Facilities!A$2:J$99,10,))","v":""}]
[null,null,null,null,null,null,null,null,"","",null,null,null,"",{"$f":"IF(A783=\"\",\"\",VLOOKUP(B783,Facilities!A$2:J$99,10,))","v":""}]
[null,null,null,null,null,null,null,null,"","",null,null,null,"",{"$f":"IF(A784=\"\",\"\",VLOOKUP(B784,Facilities!A$2:J$99,10,))","v":""}]
[null,null,null,null,null,null,null,null,"","",null,null,null,"",{"$f":"IF(A785=\"\",\"\",VLOOKUP(B785,Facilities!A$2:J$99,10,))","v":""}]
[null,null,null,null,null,null,null,null,"","",null,null,null,"",{"$f":"IF(A786=\"\",\"\",VLOOKUP(B786,Facilities!A$2:J$99,10,))","v":""}]
[null,null,null,null,null,null,null,null,"","",null,null,null,"",{"$f":"IF(A787=\"\",\"\",VLOOKUP(B787,Facilities!A$2:J$99,10,))","v":""}]
[null,null,null,null,null,null,null,null,"","",null,null,null,"",{"$f":"IF(A788=\"\",\"\",VLOOKUP(B788,Facilities!A$2:J$99,10,))","v":""}]
[null,null,null,null,null,null,null,null,"","",null,null,null,"",{"$f":"IF(A789=\"\",\"\",VLOOKUP(B789,Facilities!A$2:J$99,10,))","v":""}]
[null,null,null,null,null,null,null,null,"","",null,null,null,"",{"$f":"IF(A790=\"\",\"\",VLOOKUP(B790,Facilities!A$2:J$99,10,))","v":""}]
[null,null,null,null,null,null,null,null,"","",null,null,null,"",{"$f":"IF(A791=\"\",\"\",VLOOKUP(B791,Facilities!A$2:J$99,10,))","v":""}]
[null,null,null,null,null,null,null,null,"","",null,null,null,"",{"$f":"IF(A792=\"\",\"\",VLOOKUP(B792,Facilities!A$2:J$99,10,))","v":""}]
[null,null,null,null,null,null,null,null,"","",null,null,null,"",{"$f":"IF(A793=\"\",\"\",VLOOKUP(B793,Facilities!A$2:J$99,10,))","v":""}]
[null,null,null,null,null,null,null,null,"","",null,null,null,"",{"$f":"IF(A794=\"\",\"\",VLOOKUP(B794,Facilities!A$2:J$99,10,))","v":""}]
[null,null,null,null,null,null,null,null,"","",null,null,null,"",{"$f":"IF(A795=\"\",\"\",VLOOKUP(B795,Facilities!A$2:J$99,10,))","v":""}]
[null,null,null,null,null,null,null,null,"","",null,null,null,"",{"$f":"IF(A796=\"\",\"\",VLOOKUP(B796,Facilities!A$2:J$99,10,))","v":""}]
[null,null,null,null,null,null,null,null,"","",null,null,null,"",{"$f":"IF(A797=\"\",\"\",VLOOKUP(B797,Facilities!A$2:J$99,10,))","v":""}]
[null,null,null,null,null,null,null,null,"","",null,null,null,"",{"$f":"IF(A798=\"\",\"\",VLOOKUP(B798,Facilities!A$2:J$99,10,))","v":""}]
[null,null,null,null,null,null,null,null,"","",null,null,null,"",{"$f":"IF(A799=\"\",\"\",VLOOKUP(B799,Facilities!A$2:J$99,10,))","v":""}]
[null,null,null,null,null,null,null,null,"","",null,null,null,"",{"$f":"IF(A800=\"\",\"\",VLOOKUP(B800,Facilities!A$2:J$99,10,))","v":""}]
[null,null,null,null,null,null,null,null,"","",null,null,null,"",{"$f":"IF(A801=\"\",\"\",VLOOKUP(B801,Facilities!A$2:J$99,10,))","v":""}]
[null,null,null,null,null,null,null,null,"","",null,null,null,"",{"$f":"IF(A802=\"\",\"\",VLOOKUP(B802,Facilities!A$2:J$99,10,))","v":""}]
[null,null,null,null,null,null,null,null,"","",null,null,null,"",{"$f":"IF(A803=\"\",\"\",VLOOKUP(B803,Facilities!A$2:J$99,10,))","v":""}]
[null,null,null,null,null,null,null,null,"","",null,null,null,"",{"$f":"IF(A804=\"\",\"\",VLOOKUP(B804,Facilities!A$2:J$99,10,))","v":""}]
[null,null,null,null,null,null,null,null,"","",null,null,null,"",{"$f":"IF(A805=\"\",\"\",VLOOKUP(B805,Facilities!A$2:J$99,10,))","v":""}]
[null,null,null,null,null,null,null,null,"","",null,null,null,"",{"$f":"IF(A806=\"\",\"\",VLOOKUP(B806,Facilities!A$2:J$99,10,))","v":""}]
[null,null,null,null,null,null,null,null,"","",null,null,null,"",{"$f":"IF(A807=\"\",\"\",VLOOKUP(B807,Facilities!A$2:J$99,10,))","v":""}]
[null,null,null,null,null,null,null,null,"","",null,null,null,"",{"$f":"IF(A808=\"\",\"\",VLOOKUP(B808,Facilities!A$2:J$99,10,))","v":""}]
[null,null,null,null,null,null,null,null,"","",null,null,null,"",{"$f":"IF(A809=\"\",\"\",VLOOKUP(B809,Facilities!A$2:J$99,10,))","v":""}]
[null,null,null,null,null,null,null,null,"","",null,null,null,"",{"$f":"IF(A810=\"\",\"\",VLOOKUP(B810,Facilities!A$2:J$99,10,))","v":""}]
[null,null,null,null,null,null,null,null,"","",null,null,null,"",{"$f":"IF(A811=\"\",\"\",VLOOKUP(B811,Facilities!A$2:J$99,10,))","v":""}]
[null,null,null,null,null,null,null,null,"","",null,null,null,"",{"$f":"IF(A812=\"\",\"\",VLOOKUP(B812,Facilities!A$2:J$99,10,))","v":""}]
[null,null,null,null,null,null,null,null,"","",null,null,null,"",{"$f":"IF(A813=\"\",\"\",VLOOKUP(B813,Facilities!A$2:J$99,10,))","v":""}]
[null,null,null,null,null,null,null,null,"","",null,null,null,"",{"$f":"IF(A814=\"\",\"\",VLOOKUP(B814,Facilities!A$2:J$99,10,))","v":""}]
[null,null,null,null,null,null,null,null,"","",null,null,null,"",{"$f":"IF(A815=\"\",\"\",VLOOKUP(B815,Facilities!A$2:J$99,10,))","v":""}]
[null,null,null,null,null,null,null,null,"","",null,null,null,"",{"$f":"IF(A816=\"\",\"\",VLOOKUP(B816,Facilities!A$2:J$99,10,))","v":""}]
[null,null,null,null,null,null,null,null,"","",null,null,null,"",{"$f":"IF(A817=\"\",\"\",VLOOKUP(B817,Facilities!A$2:J$99,10,))","v":""}]
[null,null,null,null,null,null,null,null,"","",null,null,null,"",{"$f":"IF(A818=\"\",\"\",VLOOKUP(B818,Facilities!A$2:J$99,10,))","v":""}]
[null,null,null,null,null,null,null,null,"","",null,null,null,"",{"$f":"IF(A819=\"\",\"\",VLOOKUP(B819,Facilities!A$2:J$99,10,))","v":""}]
[null,null,null,null,null,null,null,null,"","",null,null,null,"",{"$f":"IF(A820=\"\",\"\",VLOOKUP(B820,Facilities!A$2:J$99,10,))","v":""}]
[null,null,null,null,null,null,null,null,"","",null,null,null,"",{"$f":"IF(A821=\"\",\"\",VLOOKUP(B821,Facilities!A$2:J$99,10,))","v":""}]
[null,null,null,null,null,null,null,null,"","",null,null,null,"",{"$f":"IF(A822=\"\",\"\",VLOOKUP(B822,Facilities!A$2:J$99,10,))","v":""}]
[null,null,null,null,null,null,null,null,"","",null,null,null,"",{"$f":"IF(A823=\"\",\"\",VLOOKUP(B823,Facilities!A$2:J$99,10,))","v":""}]
[null,null,null,null,null,null,null,null,"","",null,null,null,"",{"$f":"IF(A824=\"\",\"\",VLOOKUP(B824,Facilities!A$2:J$99,10,))","v":""}]
[null,null,null,null,null,null,null,null,"","",null,null,null,"",{"$f":"IF(A825=\"\",\"\",VLOOKUP(B825,Facilities!A$2:J$99,10,))","v":""}]
[null,null,null,null,null,null,null,null,"","",null,null,null,"",{"$f":"IF(A826=\"\",\"\",VLOOKUP(B826,Facilities!A$2:J$99,10,))","v":""}]
[null,null,null,null,null,null,null,null,"","",null,null,null,"",{"$f":"IF(A827=\"\",\"\",VLOOKUP(B827,Facilities!A$2:J$99,10,))","v":""}]
[null,null,null,null,null,null,null,null,"","",null,null,null,"",{"$f":"IF(A828=\"\",\"\",VLOOKUP(B828,Facilities!A$2:J$99,10,))","v":""}]
[null,null,null,null,null,null,null,null,"","",null,null,null,"",{"$f":"IF(A829=\"\",\"\",VLOOKUP(B829,Facilities!A$2:J$99,10,))","v":""}]
[null,null,null,null,null,null,null,null,"","",null,null,null,"",{"$f":"IF(A830=\"\",\"\",VLOOKUP(B830,Facilities!A$2:J$99,10,))","v":""}]
[null,null,null,null,null,null,null,null,"","",null,null,null,"",{"$f":"IF(A831=\"\",\"\",VLOOKUP(B831,Facilities!A$2:J$99,10,))","v":""}]
[null,null,null,null,null,null,null,null,"","",null,null,null,{"$f":"IF(A832=\"\",\"\",IF(K832=TRUE,1,0))","v":""},{"$f":"IF(A832=\"\",\"\",VLOOKUP(B832,Facilities!A$2:J$99,10,))","v":""}]
[null,null,null,null,null,null,null,null,"","",null,null,null,"",{"$f":"IF(A833=\"\",\"\",VLOOKUP(B833,Facilities!A$2:J$99,10,))","v":""}]
[null,null,null,null,null,null,null,null,"","",null,null,null,"",{"$f":"IF(A834=\"\",\"\",VLOOKUP(B834,Facilities!A$2:J$99,10,))","v":""}]
[null,null,null,null,null,null,null,null,{"$f":"IF(A835=\"\",\"\",IF(F835=1,G835*N835,0))","v":""},{"$f":"IF(A835=\"\",\"\",IF(O835<4,I835,0))","v":""},null,null,null,"",{"$f":"IF(A835=\"\",\"\",VLOOKUP(B835,Facilities!A$2:J$99,10,))","v":""}]
[null,null,null,null,null,null,null,null,"","",null,null,null,"",{"$f":"IF(A836=\"\",\"\",VLOOKUP(B836,Facilities!A$2:J$99,10,))","v":""}]
[null,null,null,null,null,null,null,null,"","",null,null,null,"",{"$f":"IF(A837=\"\",\"\",VLOOKUP(B837,Facilities!A$2:J$99,10,))","v":""}]
[null,null,null,null,null,null,null,null,"","",null,null,null,"",{"$f":"IF(A838=\"\",\"\",VLOOKUP(B838,Facilities!A$2:J$99,10,))","v":""}]
[null,null,null,null,null,null,null,null,"","",null,null,null,"",{"$f":"IF(A839=\"\",\"\",VLOOKUP(B839,Facilities!A$2:J$99,10,))","v":""}]
[null,null,null,null,null,null,null,null,"","",null,null,null,"",{"$f":"IF(A840=\"\",\"\",VLOOKUP(B840,Facilities!A$2:J$99,10,))","v":""}]
[null,null,null,null,null,null,null,null,"","",null,null,null,"",{"$f":"IF(A841=\"\",\"\",VLOOKUP(B841,Facilities!A$2:J$99,10,))","v":""}]
[null,null,null,null,null,null,null,null,"","",null,null,null,"",{"$f":"IF(A842=\"\",\"\",VLOOKUP(B842,Facilities!A$2:J$99,10,))","v":""}]
[null,null,null,null,null,null,null,null,"","",null,null,null,"",{"$f":"IF(A843=\"\",\"\",VLOOKUP(B843,Facilities!A$2:J$99,10,))","v":""}]
[null,null,null,null,null,null,null,null,"","",null,null,null,"",{"$f":"IF(A844=\"\",\"\",VLOOKUP(B844,Facilities!A$2:J$99,10,))","v":""}]
[null,null,null,null,null,null,null,null,"","",null,null,null,"",{"$f":"IF(A845=\"\",\"\",VLOOKUP(B845,Facilities!A$2:J$99,10,))","v":""}]
[null,null,null,null,null,null,null,null,"","",null,null,null,"",{"$f":"IF(A846=\"\",\"\",VLOOKUP(B846,Facilities!A$2:J$99,10,))","v":""}]
[null,null,null,null,null,null,null,null,"","",null,null,null,"",{"$f":"IF(A847=\"\",\"\",VLOOKUP(B847,Facilities!A$2:J$99,10,))","v":""}]
[null,null,null,null,null,null,null,null,"","",null,null,null,"",{"$f":"IF(A848=\"\",\"\",VLOOKUP(B848,Facilities!A$2:J$99,10,))","v":""}]
[null,null,null,null,null,null,null,null,"","",null,null,null,"",{"$f":"IF(A849=\"\",\"\",VLOOKUP(B849,Facilities!A$2:J$99,10,))","v":""}]
[null,null,null,null,null,null,null,null,"","",null,null,null,"",{"$f":"IF(A850=\"\",\"\",VLOOKUP(B850,Facilities!A$2:J$99,10,))","v":""}]
[null,null,null,null,null,null,null,null,"","",null,null,null,"",{"$f":"IF(A851=\"\",\"\",VLOOKUP(B851,Facilities!A$2:J$99,10,))","v":""}]
[null,null,null,null,null,null,null,null,"","",null,null,null,"",{"$f":"IF(A852=\"\",\"\",VLOOKUP(B852,Facilities!A$2:J$99,10,))","v":""}]
[null,null,null,null,null,null,null,null,"","",null,null,null,"",{"$f":"IF(A853=\"\",\"\",VLOOKUP(B853,Facilities!A$2:J$99,10,))","v":""}]
[null,null,null,null,null,null,null,null,"","",null,null,null,"",{"$f":"IF(A854=\"\",\"\",VLOOKUP(B854,Facilities!A$2:J$99,10,))","v":""}]
[null,null,null,null,null,null,null,null,"","",null,null,null,"",{"$f":"IF(A855=\"\",\"\",VLOOKUP(B855,Facilities!A$2:J$99,10,))","v":""}]
[null,null,null,null,null,null,null,null,"","",null,null,null,"",{"$f":"IF(A856=\"\",\"\",VLOOKUP(B856,Facilities!A$2:J$99,10,))","v":""}]
[null,null,null,null,null,null,null,null,"","",null,null,null,"",{"$f":"IF(A857=\"\",\"\",VLOOKUP(B857,Facilities!A$2:J$99,10,))","v":""}]
[null,null,null,null,null,null,null,null,"","",null,null,null,"",{"$f":"IF(A858=\"\",\"\",VLOOKUP(B858,Facilities!A$2:J$99,10,))","v":""}]
[null,null,null,null,null,null,null,null,"","",null,null,null,"",{"$f":"IF(A859=\"\",\"\",VLOOKUP(B859,Facilities!A$2:J$99,10,))","v":""}]
[null,null,null,null,null,null,null,null,"","",null,null,null,"",{"$f":"IF(A860=\"\",\"\",VLOOKUP(B860,Facilities!A$2:J$99,10,))","v":""}]
[null,null,null,null,null,null,null,null,"","",null,null,null,"",{"$f":"IF(A861=\"\",\"\",VLOOKUP(B861,Facilities!A$2:J$99,10,))","v":""}]
[null,null,null,null,null,null,null,null,"","",null,null,null,"",{"$f":"IF(A862=\"\",\"\",VLOOKUP(B862,Facilities!A$2:J$99,10,))","v":""}]
[null,null,null,null,null,null,null,null,"","",null,null,null,"",{"$f":"IF(A863=\"\",\"\",VLOOKUP(B863,Facilities!A$2:J$99,10,))","v":""}]
[null,null,null,null,null,null,null,null,"","",null,null,null,"",{"$f":"IF(A864=\"\",\"\",VLOOKUP(B864,Facilities!A$2:J$99,10,))","v":""}]
[null,null,null,null,null,null,null,null,"","",null,null,null,"",{"$f":"IF(A865=\"\",\"\",VLOOKUP(B865,Facilities!A$2:J$99,10,))","v":""}]
[null,null,null,null,null,null,null,null,"","",null,null,null,"",{"$f":"IF(A866=\"\",\"\",VLOOKUP(B866,Facilities!A$2:J$99,10,))","v":""}]
[null,null,null,null,null,null,null,null,"","",null,null,null,"",{"$f":"IF(A867=\"\",\"\",VLOOKUP(B867,Facilities!A$2:J$99,10,))","v":""}]
[null,null,null,null,null,null,null,null,"","",null,null,null,"",{"$f":"IF(A868=\"\",\"\",VLOOKUP(B868,Facilities!A$2:J$99,10,))","v":""}]
[null,null,null,null,null,null,null,null,"","",null,null,null,"",{"$f":"IF(A869=\"\",\"\",VLOOKUP(B869,Facilities!A$2:J$99,10,))","v":""}]
[null,null,null,null,null,null,null,null,"","",null,null,null,"",{"$f":"IF(A870=\"\",\"\",VLOOKUP(B870,Facilities!A$2:J$99,10,))","v":""}]
[null,null,null,null,null,null,null,null,"","",null,null,null,"",{"$f":"IF(A871=\"\",\"\",VLOOKUP(B871,Facilities!A$2:J$99,10,))","v":""}]
[null,null,null,null,null,null,null,null,"","",null,null,null,"",{"$f":"IF(A872=\"\",\"\",VLOOKUP(B872,Facilities!A$2:J$99,10,))","v":""}]
[null,null,null,null,null,null,null,null,"","",null,null,null,"",{"$f":"IF(A873=\"\",\"\",VLOOKUP(B873,Facilities!A$2:J$99,10,))","v":""}]
[null,null,null,null,null,null,null,null,"","",null,null,null,"",{"$f":"IF(A874=\"\",\"\",VLOOKUP(B874,Facilities!A$2:J$99,10,))","v":""}]
[null,null,null,null,null,null,null,null,"","",null,null,null,"",{"$f":"IF(A875=\"\",\"\",VLOOKUP(B875,Facilities!A$2:J$99,10,))","v":""}]
[null,null,null,null,null,null,null,null,"","",null,null,null,"",{"$f":"IF(A876=\"\",\"\",VLOOKUP(B876,Facilities!A$2:J$99,10,))","v":""}]
[null,null,null,null,null,null,null,null,"","",null,null,null,"",{"$f":"IF(A877=\"\",\"\",VLOOKUP(B877,Facilities!A$2:J$99,10,))","v":""}]
[null,null,null,null,null,null,null,null,"","",null,null,null,"",{"$f":"IF(A878=\"\",\"\",VLOOKUP(B878,Facilities!A$2:J$99,10,))","v":""}]
[null,null,null,null,null,null,null,null,"","",null,null,null,"",{"$f":"IF(A879=\"\",\"\",VLOOKUP(B879,Facilities!A$2:J$99,10,))","v":""}]
[null,null,null,null,null,null,null,null,"","",null,null,null,"",{"$f":"IF(A880=\"\",\"\",VLOOKUP(B880,Facilities!A$2:J$99,10,))","v":""}]
[null,null,null,null,null,null,null,null,"","",null,null,null,"",{"$f":"IF(A881=\"\",\"\",VLOOKUP(B881,Facilities!A$2:J$99,10,))","v":""}]
[null,null,null,null,null,null,null,null,"","",null,null,null,"",{"$f":"IF(A882=\"\",\"\",VLOOKUP(B882,Facilities!A$2:J$99,10,))","v":""}]
[null,null,null,null,null,null,null,null,"","",null,null,null,"",{"$f":"IF(A883=\"\",\"\",VLOOKUP(B883,Facilities!A$2:J$99,10,))","v":""}]
[null,null,null,null,null,null,null,null,"","",null,null,null,"",{"$f":"IF(A884=\"\",\"\",VLOOKUP(B884,Facilities!A$2:J$99,10,))","v":""}]
[null,null,null,null,null,null,null,null,"","",null,null,null,"",{"$f":"IF(A885=\"\",\"\",VLOOKUP(B885,Facilities!A$2:J$99,10,))","v":""}]
[null,null,null,null,null,null,null,null,"","",null,null,null,"",{"$f":"IF(A886=\"\",\"\",VLOOKUP(B886,Facilities!A$2:J$99,10,))","v":""}]
[null,null,null,null,null,null,null,null,"","",null,null,null,"",{"$f":"IF(A887=\"\",\"\",VLOOKUP(B887,Facilities!A$2:J$99,10,))","v":""}]
[null,null,null,null,null,null,null,null,"","",null,null,null,"",{"$f":"IF(A888=\"\",\"\",VLOOKUP(B888,Facilities!A$2:J$99,10,))","v":""}]
[null,null,null,null,null,null,null,null,"","",null,null,null,"",{"$f":"IF(A889=\"\",\"\",VLOOKUP(B889,Facilities!A$2:J$99,10,))","v":""}]
[null,null,null,null,null,null,null,null,"","",null,null,null,"",{"$f":"IF(A890=\"\",\"\",VLOOKUP(B890,Facilities!A$2:J$99,10,))","v":""}]
[null,null,null,null,null,null,null,null,"","",null,null,null,"",{"$f":"IF(A891=\"\",\"\",VLOOKUP(B891,Facilities!A$2:J$99,10,))","v":""}]
[null,null,null,null,null,null,null,null,"","",null,null,null,"",{"$f":"IF(A892=\"\",\"\",VLOOKUP(B892,Facilities!A$2:J$99,10,))","v":""}]
[null,null,null,null,null,null,null,null,"","",null,null,null,"",{"$f":"IF(A893=\"\",\"\",VLOOKUP(B893,Facilities!A$2:J$99,10,))","v":""}]
[null,null,null,null,null,null,null,null,"","",null,null,null,"",{"$f":"IF(A894=\"\",\"\",VLOOKUP(B894,Facilities!A$2:J$99,10,))","v":""}]
[null,null,null,null,null,null,null,null,"","",null,null,null,"",{"$f":"IF(A895=\"\",\"\",VLOOKUP(B895,Facilities!A$2:J$99,10,))","v":""}]
[null,null,null,null,null,null,null,null,"","",null,null,null,{"$f":"IF(A896=\"\",\"\",IF(K896=TRUE,1,0))","v":""},{"$f":"IF(A896=\"\",\"\",VLOOKUP(B896,Facilities!A$2:J$99,10,))","v":""}]
[null,null,null,null,null,null,null,null,"","",null,null,null,"",{"$f":"IF(A897=\"\",\"\",VLOOKUP(B897,Facilities!A$2:J$99,10,))","v":""}]
[null,null,null,null,null,null,null,null,"","",null,null,null,"",{"$f":"IF(A898=\"\",\"\",VLOOKUP(B898,Facilities!A$2:J$99,10,))","v":""}]
[null,null,null,null,null,null,null,null,{"$f":"IF(A899=\"\",\"\",IF(F899=1,G899*N899,0))","v":""},{"$f":"IF(A899=\"\",\"\",IF(O899<4,I899,0))","v":""},null,null,null,"",{"$f":"IF(A899=\"\",\"\",VLOOKUP(B899,Facilities!A$2:J$99,10,))","v":""}]
[null,null,null,null,null,null,null,null,"","",null,null,null,"",{"$f":"IF(A900=\"\",\"\",VLOOKUP(B900,Facilities!A$2:J$99,10,))","v":""}]
[null,null,null,null,null,null,null,null,"","",null,null,null,"",{"$f":"IF(A901=\"\",\"\",VLOOKUP(B901,Facilities!A$2:J$99,10,))","v":""}]
[null,null,null,null,null,null,null,null,"","",null,null,null,"",{"$f":"IF(A902=\"\",\"\",VLOOKUP(B902,Facilities!A$2:J$99,10,))","v":""}]
[null,null,null,null,null,null,null,null,"","",null,null,null,"",{"$f":"IF(A903=\"\",\"\",VLOOKUP(B903,Facilities!A$2:J$99,10,))","v":""}]
[null,null,null,null,null,null,null,null,"","",null,null,null,"",{"$f":"IF(A904=\"\",\"\",VLOOKUP(B904,Facilities!A$2:J$99,10,))","v":""}]
[null,null,null,null,null,null,null,null,"","",null,null,null,"",{"$f":"IF(A905=\"\",\"\",VLOOKUP(B905,Facilities!A$2:J$99,10,))","v":""}]
[null,null,null,null,null,null,null,null,"","",null,null,null,"",{"$f":"IF(A906=\"\",\"\",VLOOKUP(B906,Facilities!A$2:J$99,10,))","v":""}]
[null,null,null,null,null,null,null,null,"","",null,null,null,"",{"$f":"IF(A907=\"\",\"\",VLOOKUP(B907,Facilities!A$2:J$99,10,))","v":""}]
[null,null,null,null,null,null,null,null,"","",null,null,null,"",{"$f":"IF(A908=\"\",\"\",VLOOKUP(B908,Facilities!A$2:J$99,10,))","v":""}]
[null,null,null,null,null,null,null,null,"","",null,null,null,"",{"$f":"IF(A909=\"\",\"\",VLOOKUP(B909,Facilities!A$2:J$99,10,))","v":""}]
[null,null,null,null,null,null,null,null,"","",null,null,null,"",{"$f":"IF(A910=\"\",\"\",VLOOKUP(B910,Facilities!A$2:J$99,10,))","v":""}]
[null,null,null,null,null,null,null,null,"","",null,null,null,"",{"$f":"IF(A911=\"\",\"\",VLOOKUP(B911,Facilities!A$2:J$99,10,))","v":""}]
[null,null,null,null,null,null,null,null,"","",null,null,null,"",{"$f":"IF(A912=\"\",\"\",VLOOKUP(B912,Facilities!A$2:J$99,10,))","v":""}]
[null,null,null,null,null,null,null,null,"","",null,null,null,"",{"$f":"IF(A913=\"\",\"\",VLOOKUP(B913,Facilities!A$2:J$99,10,))","v":""}]
[null,null,null,null,null,null,null,null,"","",null,null,null,"",{"$f":"IF(A914=\"\",\"\",VLOOKUP(B914,Facilities!A$2:J$99,10,))","v":""}]
[null,null,null,null,null,null,null,null,"","",null,null,null,"",{"$f":"IF(A915=\"\",\"\",VLOOKUP(B915,Facilities!A$2:J$99,10,))","v":""}]
[null,null,null,null,null,null,null,null,"","",null,null,null,"",{"$f":"IF(A916=\"\",\"\",VLOOKUP(B916,Facilities!A$2:J$99,10,))","v":""}]
[null,null,null,null,null,null,null,null,"","",null,null,null,"",{"$f":"IF(A917=\"\",\"\",VLOOKUP(B917,Facilities!A$2:J$99,10,))","v":""}]
[null,null,null,null,null,null,null,null,"","",null,null,null,"",{"$f":"IF(A918=\"\",\"\",VLOOKUP(B918,Facilities!A$2:J$99,10,))","v":""}]
[null,null,null,null,null,null,null,null,"","",null,null,null,"",{"$f":"IF(A919=\"\",\"\",VLOOKUP(B919,Facilities!A$2:J$99,10,))","v":""}]
[null,null,null,null,null,null,null,null,"","",null,null,null,"",{"$f":"IF(A920=\"\",\"\",VLOOKUP(B920,Facilities!A$2:J$99,10,))","v":""}]
[null,null,null,null,null,null,null,null,"","",null,null,null,"",{"$f":"IF(A921=\"\",\"\",VLOOKUP(B921,Facilities!A$2:J$99,10,))","v":""}]
[null,null,null,null,null,null,null,null,"","",null,null,null,"",{"$f":"IF(A922=\"\",\"\",VLOOKUP(B922,Facilities!A$2:J$99,10,))","v":""}]
[null,null,null,null,null,null,null,null,"","",null,null,null,"",{"$f":"IF(A923=\"\",\"\",VLOOKUP(B923,Facilities!A$2:J$99,10,))","v":""}]
[null,null,null,null,null,null,null,null,"","",null,null,null,"",{"$f":"IF(A924=\"\",\"\",VLOOKUP(B924,Facilities!A$2:J$99,10,))","v":""}]
[null,null,null,null,null,null,null,null,"","",null,null,null,"",{"$f":"IF(A925=\"\",\"\",VLOOKUP(B925,Facilities!A$2:J$99,10,))","v":""}]
[null,null,null,null,null,null,null,null,"","",null,null,null,"",{"$f":"IF(A926=\"\",\"\",VLOOKUP(B926,Facilities!A$2:J$99,10,))","v":""}]
[null,null,null,null,null,null,null,null,"","",null,null,null,"",{"$f":"IF(A927=\"\",\"\",VLOOKUP(B927,Facilities!A$2:J$99,10,))","v":""}]
[null,null,null,null,null,null,null,null,"","",null,null,null,"",{"$f":"IF(A928=\"\",\"\",VLOOKUP(B928,Facilities!A$2:J$99,10,))","v":""}]
[null,null,null,null,null,null,null,null,"","",null,null,null,"",{"$f":"IF(A929=\"\",\"\",VLOOKUP(B929,Facilities!A$2:J$99,10,))","v":""}]
[null,null,null,null,null,null,null,null,"","",null,null,null,"",{"$f":"IF(A930=\"\",\"\",VLOOKUP(B930,Facilities!A$2:J$99,10,))","v":""}]
[null,null,null,null,null,null,null,null,"","",null,null,null,"",{"$f":"IF(A931=\"\",\"\",VLOOKUP(B931,Facilities!A$2:J$99,10,))","v":""}]
[null,null,null,null,null,null,null,null,"","",null,null,null,"",{"$f":"IF(A932=\"\",\"\",VLOOKUP(B932,Facilities!A$2:J$99,10,))","v":""}]
[null,null,null,null,null,null,null,null,"","",null,null,null,"",{"$f":"IF(A933=\"\",\"\",VLOOKUP(B933,Facilities!A$2:J$99,10,))","v":""}]
[null,null,null,null,null,null,null,null,"","",null,null,null,"",{"$f":"IF(A934=\"\",\"\",VLOOKUP(B934,Facilities!A$2:J$99,10,))","v":""}]
[null,null,null,null,null,null,null,null,"","",null,null,null,"",{"$f":"IF(A935=\"\",\"\",VLOOKUP(B935,Facilities!A$2:J$99,10,))","v":""}]
[null,null,null,null,null,null,null,null,"","",null,null,null,"",{"$f":"IF(A936=\"\",\"\",VLOOKUP(B936,Facilities!A$2:J$99,10,))","v":""}]
[null,null,null,null,null,null,null,null,"","",null,null,null,"",{"$f":"IF(A937=\"\",\"\",VLOOKUP(B937,Facilities!A$2:J$99,10,))","v":""}]
[null,null,null,null,null,null,null,null,"","",null,null,null,"",{"$f":"IF(A938=\"\",\"\",VLOOKUP(B938,Facilities!A$2:J$99,10,))","v":""}]
[null,null,null,null,null,null,null,null,"","",null,null,null,"",{"$f":"IF(A939=\"\",\"\",VLOOKUP(B939,Facilities!A$2:J$99,10,))","v":""}]
[null,null,null,null,null,null,null,null,"","",null,null,null,"",{"$f":"IF(A940=\"\",\"\",VLOOKUP(B940,Facilities!A$2:J$99,10,))","v":""}]
[null,null,null,null,null,null,null,null,"","",null,null,null,"",{"$f":"IF(A941=\"\",\"\",VLOOKUP(B941,Facilities!A$2:J$99,10,))","v":""}]
[null,null,null,null,null,null,null,null,"","",null,null,null,"",{"$f":"IF(A942=\"\",\"\",VLOOKUP(B942,Facilities!A$2:J$99,10,))","v":""}]
[null,null,null,null,null,null,null,null,"","",null,null,null,"",{"$f":"IF(A943=\"\",\"\",VLOOKUP(B943,Facilities!A$2:J$99,10,))","v":""}]
[null,null,null,null,null,null,null,null,"","",null,null,null,"",{"$f":"IF(A944=\"\",\"\",VLOOKUP(B944,Facilities!A$2:J$99,10,))","v":""}]
[null,null,null,null,null,null,null,null,"","",null,null,null,"",{"$f":"IF(A945=\"\",\"\",VLOOKUP(B945,Facilities!A$2:J$99,10,))","v":""}]
[null,null,null,null,null,null,null,null,"","",null,null,null,"",{"$f":"IF(A946=\"\",\"\",VLOOKUP(B946,Facilities!A$2:J$99,10,))","v":""}]
[null,null,null,null,null,null,null,null,"","",null,null,null,"",{"$f":"IF(A947=\"\",\"\",VLOOKUP(B947,Facilities!A$2:J$99,10,))","v":""}]
[null,null,null,null,null,null,null,null,"","",null,null,null,"",{"$f":"IF(A948=\"\",\"\",VLOOKUP(B948,Facilities!A$2:J$99,10,))","v":""}]
[null,null,null,null,null,null,null,null,"","",null,null,null,"",{"$f":"IF(A949=\"\",\"\",VLOOKUP(B949,Facilities!A$2:J$99,10,))","v":""}]
[null,null,null,null,null,null,null,null,"","",null,null,null,"",{"$f":"IF(A950=\"\",\"\",VLOOKUP(B950,Facilities!A$2:J$99,10,))","v":""}]
[null,null,null,null,null,null,null,null,"","",null,null,null,"",{"$f":"IF(A951=\"\",\"\",VLOOKUP(B951,Facilities!A$2:J$99,10,))","v":""}]
[null,null,null,null,null,null,null,null,"","",null,null,null,"",{"$f":"IF(A952=\"\",\"\",VLOOKUP(B952,Facilities!A$2:J$99,10,))","v":""}]
[null,null,null,null,null,null,null,null,"","",null,null,null,"",{"$f":"IF(A953=\"\",\"\",VLOOKUP(B953,Facilities!A$2:J$99,10,))","v":""}]
[null,null,null,null,null,null,null,null,"","",null,null,null,"",{"$f":"IF(A954=\"\",\"\",VLOOKUP(B954,Facilities!A$2:J$99,10,))","v":""}]
[null,null,null,null,null,null,null,null,"","",null,null,null,"",{"$f":"IF(A955=\"\",\"\",VLOOKUP(B955,Facilities!A$2:J$99,10,))","v":""}]
[null,null,null,null,null,null,null,null,"","",null,null,null,"",{"$f":"IF(A956=\"\",\"\",VLOOKUP(B956,Facilities!A$2:J$99,10,))","v":""}]
[null,null,null,null,null,null,null,null,"","",null,null,null,"",{"$f":"IF(A957=\"\",\"\",VLOOKUP(B957,Facilities!A$2:J$99,10,))","v":""}]
[null,null,null,null,null,null,null,null,"","",null,null,null,"",{"$f":"IF(A958=\"\",\"\",VLOOKUP(B958,Facilities!A$2:J$99,10,))","v":""}]
[null,null,null,null,null,null,null,null,"","",null,null,null,"",{"$f":"IF(A959=\"\",\"\",VLOOKUP(B959,Facilities!A$2:J$99,10,))","v":""}]
[null,null,null,null,null,null,null,null,"","",null,null,null,{"$f":"IF(A960=\"\",\"\",IF(K960=TRUE,1,0))","v":""},{"$f":"IF(A960=\"\",\"\",VLOOKUP(B960,Facilities!A$2:J$99,10,))","v":""}]
[null,null,null,null,null,null,null,null,"","",null,null,null,"",{"$f":"IF(A961=\"\",\"\",VLOOKUP(B961,Facilities!A$2:J$99,10,))","v":""}]
[null,null,null,null,null,null,null,null,"","",null,null,null,"",{"$f":"IF(A962=\"\",\"\",VLOOKUP(B962,Facilities!A$2:J$99,10,))","v":""}]
[null,null,null,null,null,null,null,null,{"$f":"IF(A963=\"\",\"\",IF(F963=1,G963*N963,0))","v":""},{"$f":"IF(A963=\"\",\"\",IF(O963<4,I963,0))","v":""},null,null,null,"",{"$f":"IF(A963=\"\",\"\",VLOOKUP(B963,Facilities!A$2:J$99,10,))","v":""}]
[null,null,null,null,null,null,null,null,"","",null,null,null,"",{"$f":"IF(A964=\"\",\"\",VLOOKUP(B964,Facilities!A$2:J$99,10,))","v":""}]
[null,null,null,null,null,null,null,null,"","",null,null,null,"",{"$f":"IF(A965=\"\",\"\",VLOOKUP(B965,Facilities!A$2:J$99,10,))","v":""}]
[null,null,null,null,null,null,null,null,"","",null,null,null,"",{"$f":"IF(A966=\"\",\"\",VLOOKUP(B966,Facilities!A$2:J$99,10,))","v":""}]
[null,null,null,null,null,null,null,null,"","",null,null,null,"",{"$f":"IF(A967=\"\",\"\",VLOOKUP(B967,Facilities!A$2:J$99,10,))","v":""}]
[null,null,null,null,null,null,null,null,"","",null,null,null,"",{"$f":"IF(A968=\"\",\"\",VLOOKUP(B968,Facilities!A$2:J$99,10,))","v":""}]
[null,null,null,null,null,null,null,null,"","",null,null,null,"",{"$f":"IF(A969=\"\",\"\",VLOOKUP(B969,Facilities!A$2:J$99,10,))","v":""}]
[null,null,null,null,null,null,null,null,"","",null,null,null,"",{"$f":"IF(A970=\"\",\"\",VLOOKUP(B970,Facilities!A$2:J$99,10,))","v":""}]
[null,null,null,null,null,null,null,null,"","",null,null,null,"",{"$f":"IF(A971=\"\",\"\",VLOOKUP(B971,Facilities!A$2:J$99,10,))","v":""}]
[null,null,null,null,null,null,null,null,"","",null,null,null,"",{"$f":"IF(A972=\"\",\"\",VLOOKUP(B972,Facilities!A$2:J$99,10,))","v":""}]
[null,null,null,null,null,null,null,null,"","",null,null,null,"",{"$f":"IF(A973=\"\",\"\",VLOOKUP(B973,Facilities!A$2:J$99,10,))","v":""}]
[null,null,null,null,null,null,null,null,"","",null,null,null,"",{"$f":"IF(A974=\"\",\"\",VLOOKUP(B974,Facilities!A$2:J$99,10,))","v":""}]
[null,null,null,null,null,null,null,null,"","",null,null,null,"",{"$f":"IF(A975=\"\",\"\",VLOOKUP(B975,Facilities!A$2:J$99,10,))","v":""}]
[null,null,null,null,null,null,null,null,"","",null,null,null,"",{"$f":"IF(A976=\"\",\"\",VLOOKUP(B976,Facilities!A$2:J$99,10,))","v":""}]
[null,null,null,null,null,null,null,null,"","",null,null,null,"",{"$f":"IF(A977=\"\",\"\",VLOOKUP(B977,Facilities!A$2:J$99,10,))","v":""}]
[null,null,null,null,null,null,null,null,"","",null,null,null,"",{"$f":"IF(A978=\"\",\"\",VLOOKUP(B978,Facilities!A$2:J$99,10,))","v":""}]
[null,null,null,null,null,null,null,null,"","",null,null,null,"",{"$f":"IF(A979=\"\",\"\",VLOOKUP(B979,Facilities!A$2:J$99,10,))","v":""}]
[null,null,null,null,null,null,null,null,"","",null,null,null,"",{"$f":"IF(A980=\"\",\"\",VLOOKUP(B980,Facilities!A$2:J$99,10,))","v":""}]
[null,null,null,null,null,null,null,null,"","",null,null,null,"",{"$f":"IF(A981=\"\",\"\",VLOOKUP(B981,Facilities!A$2:J$99,10,))","v":""}]
[null,null,null,null,null,null,null,null,"","",null,null,null,"",{"$f":"IF(A982=\"\",\"\",VLOOKUP(B982,Facilities!A$2:J$99,10,))","v":""}]
[null,null,null,null,null,null,null,null,"","",null,null,null,"",{"$f":"IF(A983=\"\",\"\",VLOOKUP(B983,Facilities!A$2:J$99,10,))","v":""}]
[null,null,null,null,null,null,null,null,"","",null,null,null,"",{"$f":"IF(A984=\"\",\"\",VLOOKUP(B984,Facilities!A$2:J$99,10,))","v":""}]
[null,null,null,null,null,null,null,null,"","",null,null,null,"",{"$f":"IF(A985=\"\",\"\",VLOOKUP(B985,Facilities!A$2:J$99,10,))","v":""}]
[null,null,null,null,null,null,null,null,"","",null,null,null,"",{"$f":"IF(A986=\"\",\"\",VLOOKUP(B986,Facilities!A$2:J$99,10,))","v":""}]
[null,null,null,null,null,null,null,null,"","",null,null,null,"",{"$f":"IF(A987=\"\",\"\",VLOOKUP(B987,Facilities!A$2:J$99,10,))","v":""}]
[null,null,null,null,null,null,null,null,"","",null,null,null,"",{"$f":"IF(A988=\"\",\"\",VLOOKUP(B988,Facilities!A$2:J$99,10,))","v":""}]
[null,null,null,null,null,null,null,null,"","",null,null,null,"",{"$f":"IF(A989=\"\",\"\",VLOOKUP(B989,Facilities!A$2:J$99,10,))","v":""}]
[null,null,null,null,null,null,null,null,"","",null,null,null,"",{"$f":"IF(A990=\"\",\"\",VLOOKUP(B990,Facilities!A$2:J$99,10,))","v":""}]
[null,null,null,null,null,null,null,null,"","",null,null,null,"",{"$f":"IF(A991=\"\",\"\",VLOOKUP(B991,Facilities!A$2:J$99,10,))","v":""}]
[null,null,null,null,null,null,null,null,"","",null,null,null,"",{"$f":"IF(A992=\"\",\"\",VLOOKUP(B992,Facilities!A$2:J$99,10,))","v":""}]
[null,null,null,null,null,null,null,null,"","",null,null,null,"",{"$f":"IF(A993=\"\",\"\",VLOOKUP(B993,Facilities!A$2:J$99,10,))","v":""}]
[null,null,null,null,null,null,null,null,"","",null,null,null,"",{"$f":"IF(A994=\"\",\"\",VLOOKUP(B994,Facilities!A$2:J$99,10,))","v":""}]
[null,null,null,null,null,null,null,null,"","",null,null,null,"",{"$f":"IF(A995=\"\",\"\",VLOOKUP(B995,Facilities!A$2:J$99,10,))","v":""}]
[null,null,null,null,null,null,null,null,"","",null,null,null,"",{"$f":"IF(A996=\"\",\"\",VLOOKUP(B996,Facilities!A$2:J$99,10,))","v":""}]
[null,null,null,null,null,null,null,null,"","",null,null,null,null,{"$f":"IF(A997=\"\",\"\",VLOOKUP(A997,Facilities!A$2:J$99,10,))","v":""}]
[null,null,null,null,null,null,null,null,"",""]
[null,null,null,null,null,null,null,null,"",""]

{"sheet":"RF_outputs","index":24,"n_rows":1,"n_cols":6,"rows_kept":1,"cut":false,"hidden":true,"merged":[]}
["ID","RF_ID","RM_ID (lookup)","Outlet_ID (lookup)","Quantity","Product"]

{"sheet":"RF_wastes","index":25,"n_rows":1,"n_cols":4,"rows_kept":1,"cut":false,"hidden":true,"merged":[]}
["ID","RF_ID","DF_ID","Quantity"]

{"sheet":"LookUps","index":26,"n_rows":28,"n_cols":24,"rows_kept":28,"cut":false,"hidden":true,"merged":[[0,18,0,20],[20,12,20,13]]}
["RMs",null,null,"Positions in the recovery value chain",null,null,"Informality in the supply chain",null,"Control Level",null,null,null,"Source types",null,null,"Disposal Facility Types",null,null,"Non-household Generators",null,null,null,"Rating","Value"]
[1,"Plastic PET",5,1,"Incineration with energy recovery",null,"0-19%",null,1,"Full",null,null,1,"Apex trader(s)",null,1,"MSW Landfill",null,1,"Hotel","Rooms",null,"Poor",33.299999999999997]
[2,"Plastic HDPE",5,2,"End-of-Chain Recyclers",null,"20-39%",null,2,"Improved",null,null,2,"Many small traders",null,2,"MSW Incinerator (no energy recovery)",null,2,"Restaurant","Chairs",null,"Average",33.4]
[3,"Plastic PP",5,3,"Apex Trader",null,"40-59%",null,3,"Basic",null,null,3,"MSW collection service",null,null,null,null,3,"Shool","Students",null,"Good",33.299999999999997]
[4,"Plastic PVC",5,4,"MRF",null,"60-79%",null,4,"Limited ",null,null,4,"Non MSW stream",null,null,null,null,4,"Office","sq.m.",null,null,{"$f":"SUM(X2:X4)","v":99.999999999999986}]
[5,"Plastic LDPE & Films",4,null,null,null,"80-100%",null,5,"No control",null,null,null,null,null,null,null,null,5,"Supermarket / Mall","sq.m."]
[6,"Plastic EPS/Styrofoam",5,null,{"$f":"VLOOKUP(3, D2:E5, 2, FALSE)","v":"Apex Trader"},null,null,null,null,null,null,null,null,null,null,null,null,null,6,"Markets","Stalls",null,"Rating","Value"]
[7,"Other / mixed plastics",5,null,null,null,null,null,null,null,null,null,"Source types (new)",null,null,null,null,null,7,"Hospital","Beds",null,"Good",33.299999999999997]
[8,"Paper or Cardboard",3,"New recovery chain definitions",null,null,null,null,null,null,null,null,1,"Apex trader(s)",null,null,null,null,8,"Public spaces","sq.m.",null,"Average",33.4]
[9,"Glass",7,1,"Apex Trader",null,null,null,null,null,null,null,2,"End-of-Chain Recyclers",null,null,null,null,null,null,null,null,"Poor",33.299999999999997]
[10,"Metal",6,2,"End-of-Chain Recyclers/Recoverers",null,null,null,null,null,null,null,3,"Many small traders",null,null,null,null,null,null,null,null,null,{"$f":"SUM(X8:X10)","v":99.999999999999986}]
[11,"Organic waste",1,3,"MRF",null,null,null,null,null,null,null,4,"MSW collection service"]
[12,"Mixed waste",null,4,"Incineration with energy recovery",null,null,null,null,null,null,null,5,"Intermediate traders"]
[99,"Other waste",99]
[]
[null,null,null,null,null,null,null,null,null,null,null,null,"Income levels"]
[1,"Kitchen/canteen",11,null,null,null,null,null,null,null,null,null,1,"Upper Income Level"]
[2,"Garden/park",11,null,null,null,null,null,null,null,null,null,2,"Middle Income Level"]
[3,"Paper/cardboard",8,null,null,null,null,null,null,null,null,null,3,"Lower Income Level"]
[4,"Plastic film",5]
[5,"Plastics (dense)",7,null,null,null,null,null,null,null,null,null,"World Bank Income Levels",null,"IL"]
[6,"Metals",10,null,null,null,null,null,null,null,null,null,"HIC","Upper Income Country",1]
[7,"Glass",9,null,null,null,null,null,null,null,null,null,"UMC","Upper Middle Income Country",2]
[8,"Textiles/shoes",null,null,null,null,null,null,null,null,null,null,"LMC","Lower Middle Income Country",2]
[9,"Wood (processed)",null,null,null,null,null,null,null,null,null,null,"LIC","Lower Income Country",3]
[10,"Special wastes"]
[11,"Composite products"]
[12,"Other"]

{"sheet":"ProxyData","index":27,"n_rows":31,"n_cols":7,"rows_kept":31,"cut":false,"hidden":true,"merged":[]}
["Item",null,"Proxy Val","Low","High"]
[]
["MSW generation per resident","Source:",null,null,"World Bank What a Waste 2"]
["high income level",1,{"$f":"'World Bank WaW'!BS4","v":0.61717541060759518},{"$f":"C4*0.5","v":0.30858770530379759},{"$f":"C4*2","v":1.2343508212151904}]
["middle income level",2,{"$f":"'World Bank WaW'!BS5","v":0.26319793157281557},{"$f":"C5*0.5","v":0.13159896578640778},{"$f":"C5*2","v":0.52639586314563114}]
["low income level",3,{"$f":"'World Bank WaW'!BS6","v":0.1629351713333333},8.1467585666666648E-2,0.32587034266666659]
[]
["Non-household generation per unit"]
["Hotel",null,{"$f":"B9*0.5","v":0},{"$f":"B9*2","v":0}]
["Restaurant",null,0,{"$f":"B10*2","v":0}]
["Shool",null,0,0]
["Office",null,0,0]
["Supermarket / Mall",null,0,0]
["Markets",null,0,0]
["Hospital",null,0,0]
["Public spaces",null,0,0]
["MSW household factor",0.3]
[]
["MSW composition % ",null,null,null,null,"World Bank What A Waste"]
["Kitchen/canteen",41.25,{"$f":"B20*0.5","v":20.625},{"$f":"B20*2","v":82.5},null,"composition_food_organic_waste_percent"]
["Garden/park",3.0640000000000001,1.532,{"$f":"B21*2","v":6.1280000000000001},null,"composition_yard_garden_green_waste_percent"]
["Paper/cardboard",17.428000000000001,8.7140000000000004,34.856000000000002,null,"composition_paper_cardboard_percent"]
["Plastic film",{"$f":"ROUND(G23*0.8,3)","v":9.3170000000000002},4.6585000000000001,18.634,null,"composition_plastic_percent",11.646000000000001]
["Plastics (dense)",{"$f":"ROUND(G23*0.2,3)","v":2.3290000000000002},1.1645000000000001,4.6580000000000004]
["Metals",4.0620000000000003,2.0310000000000001,8.1240000000000006,null,"composition_metal_percent"]
["Glass",4.5659999999999998,2.2829999999999999,9.1319999999999997,null,"composition_glass_percent"]
["Textiles/shoes",2.2109999999999999,1.1054999999999999,4.4219999999999997,null,"composition_rubber_leather_percent"]
["Wood",2.11,1.0549999999999999,4.22,null,"composition_wood_percent"]
["WEEE",null,0,0]
["Household hazardous waste",null,0,0]
["Other (unknown+fines)",13.788,6.8940000000000001,27.576000000000001,null,"composition_other_percent"]

{"sheet":"World Bank WaW","index":28,"n_rows":220,"n_cols":71,"rows_kept":220,"cut":false,"hidden":true,"merged":[]}
["iso3c","region_id","country_name","income_id","UNIC","gdp","composition_food_organic_waste_percent","composition_glass_percent","composition_metal_percent","composition_other_percent","composition_paper_cardboard_percent","composition_plastic_percent","composition_rubber_leather_percent","composition_wood_percent","composition_yard_garden_green_waste_percent","pct_check","other_information_information_system_for_solid_waste_management","other_information_national_agency_to_enforce_solid_waste_laws_and_regulations","other_information_national_law_governing_solid_waste_management_in_the_country","other_information_ppp_rules_and_regulations","other_information_summary_of_key_solid_waste_information_made_available_to_the_public","population_population_number_of_people","special_waste_agricultural_waste_tons_year","special_waste_construction_and_demolition_waste_tons_year","special_waste_e_waste_tons_year","special_waste_hazardous_waste_tons_year","special_waste_industrial_waste_tons_year","special_waste_medical_waste_tons_year","total_msw_total_msw_generated_tons_year","waste_collection_coverage_rural_percent_of_geographic_area","waste_collection_coverage_rural_percent_of_households","waste_collection_coverage_rural_percent_of_population","waste_collection_coverage_rural_percent_of_waste","waste_collection_coverage_total_percent_of_geographic_area","waste_collection_coverage_total_percent_of_households","waste_collection_coverage_total_percent_of_population","waste_collection_coverage_total_percent_of_waste","waste_collection_coverage_urban_percent_of_geographic_area","waste_collection_coverage_urban_percent_of_households","waste_collection_coverage_urban_percent_of_population","waste_collection_coverage_urban_percent_of_waste","waste_treatment_anaerobic_digestion_percent","waste_treatment_compost_percent","waste_treatment_controlled_landfill_percent","waste_treatment_incineration_percent","waste_treatment_landfill_unspecified_percent","waste_treatment_open_dump_percent","waste_treatment_other_percent","waste_treatment_recycling_percent","waste_treatment_sanitary_landfill_landfill_gas_system_percent","waste_treatment_unaccounted_for_percent","waste_treatment_waterways_marine_percent","where_where_is_this_data_measured",null,null,null,null,null,"High","Middle","Low","Kg/Person",null,"Kg pp high","Kg pp mid","Kg pp low"]
["ABW","LCN","Aruba","HIC",{"$f":"VLOOKUP(D2,LookUps!$M$22:$O$25,3,FALSE)","v":1},null,null,null,null,null,null,null,null,null,null,{"$f":"ROUND(SUM(G2:O2),0)","v":0},null,"Yes","Yes","Yes","Yes",103187,null,null,null,null,null,null,88132.016699999993,null,null,null,null,null,null,null,null,null,null,null,null,null,null,null,null,null,null,null,11,null,89,null,null,null,null,null,null,null,1,0,0,0.85409999999999997,null,0.85409999999999997,0,0,null,"Generation rate summary"]
["AFG","SAS","Afghanistan","LIC",{"$f":"VLOOKUP(D3,LookUps!$M$22:$O$25,3,FALSE)","v":3},21413614653,null,null,null,null,null,null,null,null,null,{"$f":"ROUND(SUM(G3:O3),0)","v":0},null,"Yes","Yes","Yes",null,34656032,6802511,null,20000,null,null,9855,5628525.3700000001,null,null,null,null,null,null,null,null,null,null,null,null,null,null,null,null,null,null,null,null,null,null,null,"Other",null,null,null,null,null,0,0,1,0.16241113099999999,null,0,0,0.16241113099999999,null,"Income ","Lowest","Highest","Average"]
["AGO","SSF","Angola","LMC",{"$f":"VLOOKUP(D4,LookUps!$M$22:$O$25,3,FALSE)","v":2},103042000000,51.8,6.7,4.4000000000000004,11.5,11.9,13.5,null,null,null,100,null,null,"Yes","Yes",null,25096150,null,null,92000,null,null,5495.95,4213643.585,null,null,null,null,null,null,23.1,null,null,null,null,null,null,null,null,null,null,null,null,null,null,null,null,null,null,null,null,null,null,0,1,0,0.16789999999999999,null,0,0.16789999999999999,0,null,1,{"$f":"SMALL(BL2:BL218,COUNTIF(BL2:BL218,0)+1)","v":0.16059999999999999},{"$f":"LARGE(BL2:BL218,1)","v":1.5869897070000001},{"$f":"AVERAGEIF(BL2:BL218,\"<>0\")","v":0.61717541060759518}]
["ALB","ECS","Albania","UMC",{"$f":"VLOOKUP(D5,LookUps!$M$22:$O$25,3,FALSE)","v":2},13471082475,51.4,4.5,4.8,15.21,9.9,9.6,null,4.5999999999999996,null,100,"No","Yes","Yes","Yes","No",2880703,null,203009,20000,5714.82,270269,114.3,1142964,null,null,null,null,null,null,60,null,null,null,null,null,null,null,null,null,null,null,null,null,null,null,null,"Some disposal sites",null,null,null,null,null,0,1,0,0.396765651,null,0,0.396765651,0,null,2,{"$f":"SMALL(BM2:BM218,COUNTIF(BM2:BM218,0)+1)","v":3.7370107E-2},{"$f":"LARGE(BM2:BM218,1)","v":1.120168549},{"$f":"AVERAGEIF(BM2:BM218,\"<>0\")","v":0.26319793157281557}]
["AND","ECS","Andorra","HIC",{"$f":"VLOOKUP(D6,LookUps!$M$22:$O$25,3,FALSE)","v":1},3319880351,31.2,8.1999999999999993,2.6,11.6,35.1,11.3,null,null,null,100,null,"Yes","Yes","Yes",null,82431,null,null,null,1788,null,null,43000,null,null,null,null,null,null,100,null,null,null,null,null,null,null,null,52.1,null,null,null,null,null,47.9,null,null,null,null,null,null,null,1,0,0,0.52164840899999998,null,0.52164840899999998,0,0,null,3,{"$f":"SMALL(BN2:BN218,COUNTIF(BN2:BN218,0)+1)","v":6.1035485E-2},{"$f":"LARGE(BN2:BN218,1)","v":0.36794344899999998},{"$f":"AVERAGEIF(BN2:BN218,\"<>0\")","v":0.1629351713333333}]
["ARE","MEA","United Arab Emirates","HIC",{"$f":"VLOOKUP(D7,LookUps!$M$22:$O$25,3,FALSE)","v":1},384222000000,39,4,3,10,25,19,null,null,null,100,"Yes","Yes",null,"Yes",null,9269612,493106,2876313,134000,57525,3306644,4573,5413453.4079999998,null,null,null,null,null,null,null,null,null,null,null,null,null,9,null,null,9,62,null,20,null,null,null,null,null,null,null,null,null,1,0,0,0.58399999999999996,null,0.58399999999999996,0,0,null,"Average",{"$f":"AVERAGE(BQ4:BQ6)","v":8.6335197333333336E-2},{"$f":"AVERAGE(BR4:BR6)","v":1.0250339016666665}]
["ARG","LCN","Argentina","HIC",{"$f":"VLOOKUP(D8,LookUps!$M$22:$O$25,3,FALSE)","v":1},447518000000,38.74,3.16,1.84,15.36,13.96,14.61,1.26,1.0900000000000001,9.9499999999999993,100,"Yes",null,"Yes","Yes",null,42981515,null,null,291700,310044,null,null,17910550,null,null,null,null,null,null,89.91,null,null,null,94.82,null,null,null,8.9,null,null,22.6,null,6,62.5,null,null,"Other",null,null,null,null,null,1,0,0,0.416703553,null,0.416703553,0,0]
["ARM","ECS","Armenia","UMC",{"$f":"VLOOKUP(D9,LookUps!$M$22:$O$25,3,FALSE)","v":2},11501998666,57,3.2,3.4,17.399999999999999,6.7,11.4,0.3,0.6,null,100,"No","No","Yes","No",null,2906220,1570,7820,14000,62270,47310540,null,492800,null,null,10,null,null,null,null,null,null,null,90,null,null,null,null,null,null,100,null,null,null,null,null,"Other",null,null,null,null,null,0,1,0,0.16956734200000001,null,0,0.16956734200000001,0]
["ASM","EAS","American Samoa","UMC",{"$f":"VLOOKUP(D10,LookUps!$M$22:$O$25,3,FALSE)","v":2},534555066.10000002,19.7,3.4,7.9,25.6,26.4,12.8,4.2,null,null,100,null,"Yes",null,null,null,55599,null,null,null,null,null,null,18989.490000000002,null,null,null,null,null,null,100,null,null,null,100,null,null,null,null,null,null,null,null,null,null,null,null,null,null,null,null,null,null,0,1,0,0.34154373300000002,null,0,0.34154373300000002,0]
["ATG","LCN","Antigua and Barbuda","HIC",{"$f":"VLOOKUP(D11,LookUps!$M$22:$O$25,3,FALSE)","v":1},1344373698,46,7,7,12,15,13,null,null,null,100,"No","Yes","Yes","No","No",96777,null,null,1100,null,null,null,30585,null,null,null,null,null,null,98.61,null,null,null,null,null,null,0.08,98.68,null,null,null,null,null,null,1.1399999999999999,0.1,"Disposal Site",null,null,null,null,null,1,0,0,0.31603583499999999,null,0.31603583499999999,0,0]
["AUS","EAS","Australia","HIC",{"$f":"VLOOKUP(D12,LookUps!$M$22:$O$25,3,FALSE)","v":1},1349300000000,48.44,3.81,19.38,3.46,17.3,7.61,null,null,null,100,"Yes","Yes","Yes","Yes","Yes",23789338,null,20000000,574000,7000000,31000000,null,13300000,null,null,null,null,null,null,null,null,null,null,null,null,null,null,null,9.77,48.87,null,null,42.1,null,null,null,null,null,null,null,null,null,1,0,0,0.56096558900000004,null,0.56096558900000004,0,0]
["AUT","ECS","Austria","HIC",{"$f":"VLOOKUP(D13,LookUps!$M$22:$O$25,3,FALSE)","v":1},420040000000,31.4,7,4.4000000000000004,18.5,19.7,11.1,null,7.9,null,100,null,"Yes","Yes","No",null,8633169,1887723,42423893,166174,1272288,null,696748,4840000,null,null,null,null,null,null,null,97.77,null,null,null,null,null,31.24,null,37.9,2.98,null,null,25.66,null,2.2200000000000002,null,null,null,null,null,null,null,1,0,0,0.560165103,null,0.560165103,0,0]
["AZE","ECS","Azerbaijan","UMC",{"$f":"VLOOKUP(D14,LookUps!$M$22:$O$25,3,FALSE)","v":2},57195531762,45.19,5.28,3.49,13.73,10.93,7.87,3.09,null,10.42,100,null,"Yes","Yes","No",null,9649341,null,null,63000,296979.40000000002,null,null,2930349,null,null,null,null,null,null,56,null,null,null,90,null,null,null,null,null,null,100,null,null,null,null,null,"Various",null,null,null,null,null,0,1,0,0.30368384700000001,null,0,0.30368384700000001,0]
["BDI","SSF","Burundi","LIC",{"$f":"VLOOKUP(D15,LookUps!$M$22:$O$25,3,FALSE)","v":3},2297241392,81,2.9,2.1,3.2,7.3,3.5,null,null,null,100,null,null,null,null,null,6741569,null,null,5000,null,null,null,1872016,null,null,null,null,null,null,null,null,null,null,null,null,null,null,null,null,null,null,null,null,null,null,null,null,null,null,null,null,null,0,0,1,0.27768253900000001,null,0,0,0.27768253900000001]
["BEL","ECS","Belgium","HIC",{"$f":"VLOOKUP(D16,LookUps!$M$22:$O$25,3,FALSE)","v":1},515103000000,14.18,3.1,1.91,40.14,18.38,13.94,null,2.37,5.84,100,null,"Yes","Yes","No",null,11274196,5635143,35824399,603575,2946195,null,2397368,4710000,null,null,null,null,null,null,null,97.74,null,null,null,null,null,19.137,null,43.39,0.91,null,null,34.302999999999997,null,2.2599999999999998,null,null,null,null,null,null,null,1,0,0,0.41759075299999998,null,0.41759075299999998,0,0]
["BEN","SSF","Benin","LIC",{"$f":"VLOOKUP(D17,LookUps!$M$22:$O$25,3,FALSE)","v":3},9102277423,52.1,1.6,1.6,34.299999999999997,3.1,7.3,null,null,null,100,null,null,"Yes","Yes",null,5521763,null,null,8200,null,null,1698,685936.01,null,null,null,null,null,null,null,null,null,null,null,null,null,null,null,null,null,null,null,25,null,75,null,null,null,null,null,null,null,0,0,1,0.12422409500000001,null,0,0,0.12422409500000001]
["BFA","SSF","Burkina Faso","LIC",{"$f":"VLOOKUP(D18,LookUps!$M$22:$O$25,3,FALSE)","v":3},12380518526,21,1,1,61,7,9,null,null,null,100,"No","No","Yes","Yes",null,18110624,null,null,11000,7871,null,null,2575251.11,null,null,null,null,null,null,9.6,34.520000000000003,null,null,null,null,null,null,null,null,17,59,null,12,null,12,null,null,null,null,null,null,null,0,0,1,0.142195604,null,0,0,0.142195604]
["BGD","SAS","Bangladesh","LMC",{"$f":"VLOOKUP(D19,LookUps!$M$22:$O$25,3,FALSE)","v":2},167771000000,80.58,0.44,0.5,8.59,3.04,4.67,1.08,null,1.1000000000000001,100,"No","Yes","Yes","Yes",null,155727053,65000000,null,142000,114358,26884,12271,14778497.33,null,null,null,null,null,null,null,52,null,null,60.39,null,null,5.25,null,null,null,null,null,null,null,94.75,null,"Source",null,null,null,null,null,0,1,0,9.4899999999999998E-2,null,0,9.4899999999999998E-2,0]
["BGR","ECS","Bulgaria","UMC",{"$f":"VLOOKUP(D20,LookUps!$M$22:$O$25,3,FALSE)","v":2},56792405577,24.35,5.83,1.98,17.93,14.18,12.15,1.96,2.48,19.18,100,"Yes","Yes","Yes","Yes","Yes",7177991,983646,172369117,53785,12206169,null,518228,3010000,null,null,null,null,null,null,null,98.3,null,null,null,null,null,10.32,null,2.75,66.22,null,null,19.03,null,1.68,null,"Other",null,null,null,null,null,0,1,0,0.41947670300000001,null,0,0.41947670300000001,0]
["BHR","MEA","Bahrain","HIC",{"$f":"VLOOKUP(D21,LookUps!$M$22:$O$25,3,FALSE)","v":1},31769062885,59.1,3.4,2.1,15.2,12.8,7.4,null,null,null,100,"No","Yes","Yes",null,null,1425171,null,570099.67000000004,20000,31000,140000,911000,951942.96950000001,null,null,null,null,null,null,null,null,null,null,null,null,null,null,null,null,92,null,null,8,null,null,null,"Disposal Site",null,null,null,null,null,1,0,0,0.66795000000000004,null,0.66795000000000004,0,0]
["BHS","LCN","Bahamas, The","HIC",{"$f":"VLOOKUP(D22,LookUps!$M$22:$O$25,3,FALSE)","v":1},10343803832,46,7,7,12,15,13,null,null,null,100,"No","Yes","No","No","No",386838,null,null,4900,null,null,null,264000,null,null,null,null,null,null,null,null,null,null,null,null,null,null,null,null,null,null,null,null,null,null,null,null,null,null,null,null,null,1,0,0,0.682456222,null,0.682456222,0,0]
["BIH","ECS","Bosnia and Herzegovina","UMC",{"$f":"VLOOKUP(D23,LookUps!$M$22:$O$25,3,FALSE)","v":2},18929698720,null,null,null,92.7,4.9000000000000004,null,null,null,2.4,100,"No","No","No","Yes","Yes",3535961,null,252310,1409,8408,4048650,8150,1248718,null,null,null,null,null,null,null,73.989999999999995,null,null,null,null,null,null,8.5500000000000007,null,null,41.75,2.5000000000000001E-2,9.7000000000000005E-4,24.12,25.554030000000001,null,"Other",null,null,null,null,null,0,1,0,0.35314812600000001,null,0,0.35314812600000001,0]
["BLR","ECS","Belarus","UMC",{"$f":"VLOOKUP(D24,LookUps!$M$22:$O$25,3,FALSE)","v":2},59187019676,30,8,2,35,5,12,6,2,null,100,"Yes","Yes","Yes","Yes","Yes",9489616,null,null,72000,1336926,null,null,4280000,null,null,69.2,null,null,null,93.2,null,null,null,100,null,null,null,76.900000000000006,null,null,7.1,null,16,null,null,null,"At the disposal sites and at the waste generation source",null,null,null,null,null,0,1,0,0.45101930400000001,null,0,0.45101930400000001,0]
["BLZ","LCN","Belize","UMC",{"$f":"VLOOKUP(D25,LookUps!$M$22:$O$25,3,FALSE)","v":2},1602671549,47,8,5,5,16,19,null,null,null,100,"Yes","Yes","Yes",null,null,359288,null,null,2300,null,null,188,101378.8303,null,null,null,null,null,null,85.2,null,null,null,null,null,null,null,null,null,null,66,null,null,34,null,null,null,null,null,null,null,null,0,1,0,0.28216592299999999,null,0,0.28216592299999999,0]
["BMU","NAC","Bermuda","HIC",{"$f":"VLOOKUP(D26,LookUps!$M$22:$O$25,3,FALSE)","v":1},null,17,9,6,26,29,13,null,null,null,100,"Yes","Yes","Yes","No",null,64798,null,null,null,525,null,null,82000,null,null,null,null,null,null,100,null,null,null,null,null,null,18.3,12.2,67.599999999999994,null,null,null,2,null,null,null,null,null,null,null,null,null,1,0,0,1.2654711569999999,null,1.2654711569999999,0,0]
["BOL","LCN","Bolivia","LMC",{"$f":"VLOOKUP(D27,LookUps!$M$22:$O$25,3,FALSE)","v":2},26758341469,55.196911200000002,2.9034749030000002,2.501930502,22.7027027,6.5019305019999996,10.193050189999999,null,null,null,100,"Yes","Yes","Yes","No","Yes",10724705,null,null,35392,545183,null,4683,2219052,null,null,5.9,null,null,null,57.6,null,null,null,85.4,null,null,0.4,0.04,null,null,55.52,null,12.11,31.93,null,null,"Source",null,null,null,null,null,0,1,0,0.20691030699999999,null,0,0.20691030699999999,0]
["BRA","LCN","Brazil","UMC",{"$f":"VLOOKUP(D28,LookUps!$M$22:$O$25,3,FALSE)","v":2},2256910000000,51.4,2.4,2.9,16.7,13.1,13.5,null,null,null,100,"Yes","Yes","Yes","Yes",null,205962108,null,45158165,1411900,null,null,260063,79889010,null,null,null,null,null,null,91.3,90.81,null,null,null,null,null,0.2,21.885210000000001,null,null,15.61932,null,1.4,53.30547,7.59,null,null,null,null,null,null,null,0,1,0,0.38788207600000002,null,0,0.38788207600000002,0]
["BRB","LCN","Barbados","HIC",{"$f":"VLOOKUP(D29,LookUps!$M$22:$O$25,3,FALSE)","v":1},4637855785,18.3,3.7,4.9000000000000004,5.7,19.7,17.100000000000001,12.1,null,18.600000000000001,100,"No","Yes","No","No","No",280601,null,184957,3800,9410.3369999999995,null,null,174815.44440000001,null,null,null,null,null,null,90,null,null,null,null,null,null,null,90,null,null,null,null,9,null,1,null,"Disposal Site",null,null,null,null,null,1,0,0,0.62300363999999997,null,0.62300363999999997,0,0]
["BRN","EAS","Brunei Darussalam","HIC",{"$f":"VLOOKUP(D30,LookUps!$M$22:$O$25,3,FALSE)","v":1},13301457675,36,3,4,15,18,16,1,1,6,100,null,"Yes","Yes","Yes","Yes",423196,null,null,7700,null,null,195,216253.15599999999,null,null,null,null,null,null,null,null,null,null,null,null,null,2,null,null,null,null,null,null,70,28,null,null,null,null,null,null,null,1,0,0,0.51100000000000001,null,0.51100000000000001,0,0]
["BTN","SAS","Bhutan","LMC",{"$f":"VLOOKUP(D31,LookUps!$M$22:$O$25,3,FALSE)","v":2},2234759342,58,4,1,7,17,13,null,null,null,100,"No","Yes","Yes","Yes","Yes",686958,null,null,1457.5,null,1476.37,358,111314.05,null,null,null,null,null,null,null,null,null,null,null,95,null,1.39,98,null,null,null,null,0.86,null,null,null,"Source",null,null,null,null,null,0,1,0,0.162039091,null,0,0.162039091,0]
["BWA","SSF","Botswana","UMC",{"$f":"VLOOKUP(D32,LookUps!$M$22:$O$25,3,FALSE)","v":2},16843294913,8.1,null,0.1,91.9,null,null,null,null,null,100,null,null,null,null,null,2014866,null,null,16000,null,null,2500,210854.44260000001,null,7,null,null,null,null,null,null,null,60,null,null,null,null,null,null,null,null,null,1,null,99,null,null,null,null,null,null,null,0,1,0,0.104649363,null,0,0.104649363,0]
["CAF","SSF","Central African Republic","LIC",{"$f":"VLOOKUP(D33,LookUps!$M$22:$O$25,3,FALSE)","v":3},1496562092,null,null,null,null,null,null,null,null,null,0,null,null,"Yes","No",null,4515392,null,null,2700,null,null,null,1105983,null,null,null,null,null,null,null,null,null,null,null,null,null,null,null,null,null,null,null,null,null,null,null,null,null,null,null,null,null,0,0,1,0.24493620899999999,null,0,0,0.24493620899999999]
["CAN","NAC","Canada","HIC",{"$f":"VLOOKUP(D34,LookUps!$M$22:$O$25,3,FALSE)","v":1},1828000000000,24,6,13,8,47,3,null,null,null,101,"Yes","Yes","Yes","Yes","Yes",35544564,181000000,653255,724000,null,1120000000,null,25103034,null,null,null,null,null,null,99,null,null,null,null,null,null,4.08,null,3,72.33,null,null,20.59,null,null,null,null,null,null,null,null,null,1,0,0,0.70624115700000001,null,0.70624115700000001,0,0]
["CHE","ECS","Switzerland","HIC",{"$f":"VLOOKUP(D35,LookUps!$M$22:$O$25,3,FALSE)","v":1},642090000000,29,4,3,29,20,15,null,null,null,100,null,"Yes","Yes",null,"Yes",8372098,null,6390000,184000,1200000,1470000,null,6060000,null,null,null,null,null,null,99,null,null,null,null,null,null,21,null,47,null,null,null,32,null,null,null,null,null,null,null,null,null,1,0,0,0.72335512599999996,null,0.72335512599999996,0,0]
["CHI","ECS","Channel Islands","HIC",{"$f":"VLOOKUP(D36,LookUps!$M$22:$O$25,3,FALSE)","v":1},null,null,null,null,null,null,null,null,null,null,0,null,"Yes","Yes",null,null,164541,null,null,null,null,null,null,178933,null,null,null,null,null,null,null,null,null,null,null,null,null,15.90982659,39.218063579999999,16.44190751,null,null,null,28.430202309999999,null,null,null,null,null,null,null,null,null,1,0,0,1.087467561,null,1.087467561,0,0]
["CHL","LCN","Chile","HIC",{"$f":"VLOOKUP(D37,LookUps!$M$22:$O$25,3,FALSE)","v":1},267904000000,53.3,6.6,2.2999999999999998,16,12.4,9.4,null,null,null,100,"Yes","No","Yes","Yes",null,16829442,null,null,176000,249755,null,null,6520000,null,null,null,null,null,null,null,95,null,null,null,null,null,0.44,85.25,0.14000000000000001,null,8.43,0.04,0.37,null,5.33,null,"Other",null,null,null,null,null,1,0,0,0.38723803200000001,null,0.38723803200000001,0,0]
["CHN","EAS","China","UMC",{"$f":"VLOOKUP(D38,LookUps!$M$22:$O$25,3,FALSE)","v":2},9505160000000,61.2,2.1,1.1000000000000001,13.1,9.6,9.8000000000000007,1.3,1.8,null,100,null,"Yes","Yes","Yes",null,1370000000,4000000000,1500000000,7210000,34652400,3270000000,null,210000000,null,null,20,null,null,null,94,null,null,null,null,null,null,3,null,29.84,60.16,8.2100000000000009,null,null,null,null,null,"At Generator level",null,null,null,null,null,0,1,0,0.15314829099999999,null,0,0.15314829099999999,0]
["CIV","SSF","CÃ´te dâ€™Ivoire","LMC",{"$f":"VLOOKUP(D39,LookUps!$M$22:$O$25,3,FALSE)","v":2},36796468787,null,null,null,null,null,null,null,null,null,0,null,"Yes","Yes","Yes",null,20401331,null,null,22000,null,null,null,4440814.2699999996,null,null,null,null,null,null,null,null,null,null,null,null,null,null,null,null,null,null,null,3,null,97,null,null,null,null,null,null,null,0,1,0,0.21767277199999999,null,0,0.21767277199999999,0]
["CMR","SSF","Cameroon","LMC",{"$f":"VLOOKUP(D40,LookUps!$M$22:$O$25,3,FALSE)","v":2},35051979601,83.4,0.1,0.7,10.4,2.1,3.3,null,null,null,100,null,null,"Yes","Yes",null,21655715,null,null,19000,8716.6,null,null,3270616.59,null,null,null,null,null,null,61.6,null,null,null,null,null,null,null,null,null,null,80.3,null,0.4,19.3,null,null,null,null,null,null,null,null,0,1,0,0.15102787400000001,null,0,0.15102787400000001,0]
["COD","SSF","Congo, Dem. Rep.","LIC",{"$f":"VLOOKUP(D41,LookUps!$M$22:$O$25,3,FALSE)","v":3},32089998961,null,null,null,null,null,null,null,null,null,0,null,null,"Yes","No",null,78736153,null,null,null,null,null,null,14385226.02,null,null,null,null,null,null,null,null,null,null,null,null,null,null,null,null,null,null,null,4.9000000000000004,null,95.1,null,null,null,null,null,null,null,0,0,1,0.18270166199999999,null,0,0,0.18270166199999999]
["COG","SSF","Congo, Rep.","LMC",{"$f":"VLOOKUP(D42,LookUps!$M$22:$O$25,3,FALSE)","v":2},14205686708,null,null,null,null,null,null,null,null,null,0,"No","No","Yes","No",null,2648507,null,null,null,null,null,null,451200,null,null,null,null,null,null,null,null,null,null,null,null,null,null,null,null,null,null,null,26.2,null,73.8,null,null,null,null,null,null,null,0,1,0,0.170360131,null,0,0.170360131,0]
["COL","LCN","Colombia","UMC",{"$f":"VLOOKUP(D43,LookUps!$M$22:$O$25,3,FALSE)","v":2},366457000000,59.58,2.35,1.1000000000000001,15.74,8.4,12.83,null,null,null,100,"Yes",null,"No","Yes",null,46406646,null,null,252200,270146.3,null,27704,12150120,null,24.1,null,null,null,null,80.599999999999994,null,null,97.4,null,null,null,null,null,null,null,4,null,17.2,89,null,null,null,null,null,null,null,null,0,1,0,0.26181853300000002,null,0,0.26181853300000002,0]
["COM","SSF","Comoros","LIC",{"$f":"VLOOKUP(D44,LookUps!$M$22:$O$25,3,FALSE)","v":3},611370805.20000005,50,2,4,22,7,5,null,null,10,100,null,null,"Yes",null,null,777424,null,null,600,null,null,null,91013,null,null,null,null,null,null,null,null,null,null,null,null,null,null,null,null,null,null,null,null,null,null,null,null,null,null,null,null,null,0,0,1,0.117069964,null,0,0,0.117069964]
["CPV","SSF","Cabo Verde","LMC",{"$f":"VLOOKUP(D45,LookUps!$M$22:$O$25,3,FALSE)","v":2},1860165515,null,null,null,null,null,null,null,null,null,0,"Yes","Yes","Yes",null,null,513979,null,null,2400,3548.92,null,76,132555,null,null,null,null,null,null,70.599999999999994,null,null,null,null,null,null,null,null,null,null,null,null,null,null,null,null,null,null,null,null,null,null,0,1,0,0.25789964199999998,null,0,0.25789964199999998,0]
["CRI","LCN","Costa Rica","UMC",{"$f":"VLOOKUP(D46,LookUps!$M$22:$O$25,3,FALSE)","v":2},46551438317,58,1,2,7,21,11,null,null,null,100,null,null,"Yes","No",null,4757575,null,800000,35800,null,null,null,1460000,null,null,null,null,null,null,90.4,null,null,null,null,null,null,null,23.5,null,null,9.1,null,1.26,67.5,null,null,null,null,null,null,null,null,0,1,0,0.30687903,null,0,0.30687903,0]
["CUB","LCN","Cuba","UMC",{"$f":"VLOOKUP(D47,LookUps!$M$22:$O$25,3,FALSE)","v":2},null,68.900000000000006,4.5999999999999996,1.6,3,12.3,9.6,null,null,null,100,"No","No","No","Yes","Yes",11303687,null,null,null,565216,null,null,2692691.98,null,null,0.04,null,null,null,76.900000000000006,null,null,null,100,null,null,null,30.68,null,null,42.23,null,9.49,null,17.600000000000001,null,"Other",null,null,null,null,null,0,1,0,0.238213601,null,0,0.238213601,0]
["CUW","LCN","Curacao","HIC",{"$f":"VLOOKUP(D48,LookUps!$M$22:$O$25,3,FALSE)","v":1},null,null,null,null,null,null,null,null,null,null,0,null,"Yes","Yes",null,null,153822,null,null,null,null,null,null,24703.813200000001,null,null,null,null,null,null,null,null,null,null,null,null,null,null,null,null,null,null,null,2,null,98,null,null,null,null,null,null,null,1,0,0,0.16059999999999999,null,0.16059999999999999,0,0]
["CYM","LCN","Cayman Islands","HIC",{"$f":"VLOOKUP(D49,LookUps!$M$22:$O$25,3,FALSE)","v":1},null,10.9,3.5,6.2,11.4,31.1,11,null,7.3,18.600000000000001,100,null,"Yes","Yes",null,null,59172,null,null,null,null,null,null,60000,null,null,null,null,null,null,null,null,null,null,null,null,null,null,null,null,null,null,null,21,null,79,null,null,null,null,null,null,null,1,0,0,1.013993105,null,1.013993105,0,0]
["CYP","ECS","Cyprus","HIC",{"$f":"VLOOKUP(D50,LookUps!$M$22:$O$25,3,FALSE)","v":1},24311614955,41.47,2.66,3.25,10.07,25.7,14.77,null,2.08,null,100,"Yes","Yes","Yes","No","Yes",1160985,112018,1377767,18137,173377,null,21404,541000,null,null,null,null,null,null,null,92.42,null,null,null,null,null,4.62,null,null,74.489999999999995,null,null,13.31,null,7.58,null,null,null,null,null,null,null,1,0,0,0.46598362599999998,null,0.46598362599999998,0,0]
["CZE","ECS","Czech Republic","HIC",{"$f":"VLOOKUP(D51,LookUps!$M$22:$O$25,3,FALSE)","v":1},231340000000,62.3,2.4,8.4,14.9,9.1,2.2000000000000002,null,0.7,null,100,null,"Yes","Yes","Yes",null,10546059,583264,13379041,79581,1162342,null,797432,3340000,null,null,null,null,null,null,null,100,null,null,null,null,null,4.22,null,17.68,52.59,null,null,25.5,null,0.01,null,null,null,null,null,null,null,1,0,0,0.31642151800000001,null,0.31642151800000001,0,0]
["DEU","ECS","Germany","HIC",{"$f":"VLOOKUP(D52,LookUps!$M$22:$O$25,3,FALSE)","v":1},3781700000000,30,10,1.4,17.7,24,13,4,null,null,100,null,"Yes","Yes","Yes","Yes",81686611,15011037,275413069,2465085,21812660,null,8821344,51000000,null,null,null,null,null,null,null,97.55,null,null,null,null,null,18.23,null,31.71,0.21,null,null,47.83,null,2.02,null,null,null,null,null,null,null,1,0,0,0.62490045000000005,null,0.62490045000000005,0,0]
["DJI","MEA","Djibouti","LMC",{"$f":"VLOOKUP(D53,LookUps!$M$22:$O$25,3,FALSE)","v":2},null,null,null,null,null,null,null,null,null,null,0,null,null,null,null,null,746221,null,null,900,null,null,null,114997.249,null,null,null,null,null,null,null,null,null,null,null,null,null,null,null,null,null,null,null,null,null,null,null,null,null,null,null,null,null,0,1,0,0.15410615499999999,null,0,0.15410615499999999,0]
["DMA","LCN","Dominica","UMC",{"$f":"VLOOKUP(D54,LookUps!$M$22:$O$25,3,FALSE)","v":2},506021862.89999998,45,8,5,14,12,16,null,null,null,100,"Yes","Yes","Yes","No",null,72400,null,null,null,627,null,null,13176,null,null,null,null,null,null,94,null,null,null,null,null,null,null,94,null,null,null,null,null,null,6,null,"Disposal site",null,null,null,null,null,0,1,0,0.18198895000000001,null,0,0.18198895000000001,0]
["DNK","ECS","Denmark","HIC",{"$f":"VLOOKUP(D55,LookUps!$M$22:$O$25,3,FALSE)","v":1},347520000000,12.78,5.78,6.29,23.86,11.57,1.61,0,7.65,30.46,100,"Yes","Yes","Yes","Yes","Yes",5683483,1087281,11402900,168614,1718394,null,317413,4490000,null,null,null,null,null,null,null,100,null,null,null,null,null,18.989999999999998,null,52.59,1.1299999999999999,null,null,27.27,null,0.02,null,null,null,null,null,null,null,1,0,0,0.789128779,null,0.789128779,0,0]
["DOM","LCN","Dominican Republic","UMC",{"$f":"VLOOKUP(D56,LookUps!$M$22:$O$25,3,FALSE)","v":2},73664129265,51,6,3,10,16,10,null,4,null,100,"No","Yes","No","No",null,10528394,null,null,57000,null,null,null,4063910,null,null,null,null,null,74.900000000000006,null,null,null,null,null,null,null,null,null,null,null,72.575831399999998,null,8.1999999999999993,0.1,19.124168600000001,null,"Other",null,null,null,null,null,0,1,0,0.38599524299999999,null,0,0.38599524299999999,0]
["DZA","MEA","Algeria","UMC",{"$f":"VLOOKUP(D57,LookUps!$M$22:$O$25,3,FALSE)","v":2},196035000000,54.4,1.2,2.8,0.8,9.8000000000000007,16.899999999999999,12.6,1.5,null,100,"Yes","Yes","Yes",null,"Yes",40606052,null,11000000,252000,330000,2550000,30000,12378740,null,null,87.5,null,null,null,null,null,null,null,87.5,null,null,1,2,null,null,null,null,8,89,null,null,"Disposal Site",null,null,null,null,null,0,1,0,0.30484963199999998,null,0,0.30484963199999998,0]
["ECU","LCN","Ecuador","UMC",{"$f":"VLOOKUP(D58,LookUps!$M$22:$O$25,3,FALSE)","v":2},85056519293,58.67,3.01,1.53,13.78,10.25,11.44,0.45,0.86,null,100,"Yes","Yes","No","Yes","Yes",16144368,null,null,73000,193812,null,11292,5297211.1430000002,null,63.4,null,null,null,88.4,null,null,null,99.3,null,null,null,null,null,null,null,22.28,null,12.9,53.22,11.6,null,null,null,null,null,null,null,0,1,0,0.32811511399999999,null,0,0.32811511399999999,0]
["EGY","MEA","Egypt, Arab Rep.","LMC",{"$f":"VLOOKUP(D59,LookUps!$M$22:$O$25,3,FALSE)","v":2},260816000000,56,4,2,15,10,13,null,null,null,100,"Yes","Yes","No","Yes",null,87813257,30000000,4000000,497000,380000,6000000,28300,21000000,null,null,15,null,null,null,null,null,null,null,57.5,null,null,7,null,null,7,84,null,12.5,null,null,null,"Disposal Site",null,null,null,null,null,0,1,0,0.23914384599999999,null,0,0.23914384599999999,0]
["ERI","SSF","Eritrea","LIC",{"$f":"VLOOKUP(D60,LookUps!$M$22:$O$25,3,FALSE)","v":3},null,null,null,null,null,null,null,null,null,null,0,null,null,null,null,null,4474690,null,null,3800,null,null,null,726957.37,null,null,null,null,null,null,null,null,null,null,null,null,null,null,null,null,null,null,null,null,null,null,null,null,null,null,null,null,null,0,0,1,0.162459829,null,0,0,0.162459829]
["ESP","ECS","Spain","HIC",{"$f":"VLOOKUP(D61,LookUps!$M$22:$O$25,3,FALSE)","v":1},1464510000000,49,8,3,14,15,9,null,2,null,100,"No","Yes","Yes","Yes","Yes",46447697,8058640,52155411,1202597,2984518,null,2990346,20200000,null,null,null,null,null,null,null,100,null,null,null,null,null,16.45,null,11.62,55.09,null,null,16.84,null,null,null,null,null,null,null,null,null,1,0,0,0.43384282299999999,null,0.43384282299999999,0,0]
["EST","ECS","Estonia","HIC",{"$f":"VLOOKUP(D62,LookUps!$M$22:$O$25,3,FALSE)","v":1},23808677023,36.700000000000003,8.3000000000000007,2.6,15.9,17.5,18.600000000000001,null,0.4,null,100,"Yes","Yes","Yes","No","Yes",1315407,149633,18094986,34312,10410321,null,1750157,473000,null,null,null,null,null,null,null,86.89,null,null,null,null,null,3.6,7.4,51.37,null,null,null,24.74,null,12.89,null,null,null,null,null,null,null,1,0,0,0.35958452400000002,null,0.35958452400000002,0,0]
["ETH","SSF","Ethiopia","LIC",{"$f":"VLOOKUP(D63,LookUps!$M$22:$O$25,3,FALSE)","v":3},52347226230,87.6,0.8,1.2,4.4000000000000004,3.8,2.2999999999999998,null,null,null,100,null,"Yes","Yes",null,null,99873033,null,null,49000,null,null,null,6532786.9699999997,null,null,null,null,null,null,null,50,null,null,null,null,null,null,null,null,null,43,null,null,null,57,null,null,null,null,null,null,null,0,0,1,6.5410919999999997E-2,null,0,0,6.5410919999999997E-2]
["FIN","ECS","Finland","HIC",{"$f":"VLOOKUP(D64,LookUps!$M$22:$O$25,3,FALSE)","v":1},252692000000,35.880000000000003,9.24,1.7,13.13,37.83,1.45,null,0.73,null,100,"Yes","Yes","Yes","Yes","Yes",5479531,1079091,84662998,212954,1998693,null,1006713,2740000,null,null,null,null,null,null,null,100,null,null,null,null,null,12.45,null,47.92,11.5,null,null,28.12,null,0.01,null,null,null,null,null,null,null,1,0,0,0.49967780099999998,null,0.49967780099999998,0,0]
["FJI","EAS","Fiji","UMC",{"$f":"VLOOKUP(D65,LookUps!$M$22:$O$25,3,FALSE)","v":2},3771168286,33.200000000000003,4.0999999999999996,1.9,3.5,12.5,7.5,0.1,null,37.200000000000003,100,null,"Yes","Yes","Yes",null,867086,null,null,4600,null,null,316.16000000000003,189389.59400000001,null,null,null,null,null,null,null,null,null,null,null,null,null,null,null,null,52,null,null,5.45,null,42.55,null,"Household waste collected",null,null,null,null,null,0,1,0,0.21842077300000001,null,0,0.21842077300000001,0]
["FRA","ECS","France","HIC",{"$f":"VLOOKUP(D66,LookUps!$M$22:$O$25,3,FALSE)","v":1},2806040000000,32,10,3,26,20,9,null,null,null,100,null,"Yes","Yes","Yes",null,66624068,11304163,236301207,2218682,10783405,null,4867183,33400000,null,null,null,null,null,null,null,100,null,null,null,null,null,17.260000000000002,null,34.700000000000003,25.76,null,null,22.26,null,0.02,null,null,null,null,null,null,null,1,0,0,0.50130532400000005,null,0.50130532400000005,0,0]
["FRO","ECS","Faeroe Islands","HIC",{"$f":"VLOOKUP(D67,LookUps!$M$22:$O$25,3,FALSE)","v":1},null,null,null,null,null,null,null,null,null,null,{"$f":"ROUND(SUM(G67:O67),0)","v":0},null,null,"Yes","No",null,48842,null,null,null,null,null,null,61000,null,null,null,null,null,null,null,null,null,null,null,null,null,null,null,null,null,null,null,67,null,33,null,null,null,null,null,null,null,1,0,0,1.2489251050000001,null,1.2489251050000001,0,0]
["FSM","EAS","Micronesia, Fed. Sts.","LMC",{"$f":"VLOOKUP(D68,LookUps!$M$22:$O$25,3,FALSE)","v":2},296282644,23.83,7.07,16.73,9.32,13.3,26.17,3.58,null,null,100,null,"Yes","Yes","None",null,104937,null,null,200,null,null,73.47,26039.57,null,null,null,null,null,null,8,null,null,null,35,null,null,null,null,null,null,null,null,null,null,null,null,null,null,null,null,null,null,0,1,0,0.248144792,null,0,0.248144792,0]
["GAB","SSF","Gabon","UMC",{"$f":"VLOOKUP(D69,LookUps!$M$22:$O$25,3,FALSE)","v":2},18912467101,null,null,null,null,null,null,null,null,null,0,null,null,null,"Yes",null,1086137,null,null,14000,null,null,null,238102.31,null,null,3.8,null,null,null,23.6,null,null,null,28.5,null,null,null,null,null,null,null,null,null,null,null,null,null,null,null,null,null,null,0,1,0,0.219219408,null,0,0.219219408,0]
["GBR","ECS","United Kingdom","HIC",{"$f":"VLOOKUP(D70,LookUps!$M$22:$O$25,3,FALSE)","v":1},2757620000000,16.7,2.2000000000000002,3.5,28.2,18.899999999999999,20.2,null,7.6,2.7,100,"Yes","Yes","Yes","No",null,65128861,10365788,156803699,3584126,5755258,null,4218205,31600000,null,null,null,null,null,null,null,97.43,null,null,null,null,null,16.23,null,31.38,22.568000000000001,null,null,27.25,null,2.5720000000000001,null,null,null,null,null,null,null,1,0,0,0.484685276,null,0.484685276,0,0]
["GEO","ECS","Georgia","LMC",{"$f":"VLOOKUP(D71,LookUps!$M$22:$O$25,3,FALSE)","v":2},15189614351,39,3,5,16,34,3,null,null,null,100,"No","No","Yes",null,null,3717100,null,null,21000,null,null,null,800000,null,null,null,null,null,null,60,null,null,null,null,null,null,null,null,null,null,null,null,null,null,null,null,null,null,null,null,null,null,0,1,0,0.21522154399999999,null,0,0.21522154399999999,0]
["GHA","SSF","Ghana","LMC",{"$f":"VLOOKUP(D72,LookUps!$M$22:$O$25,3,FALSE)","v":2},48199090352,67,0,1,25,3,4,null,null,null,100,null,"Yes","Yes","Yes",null,21542009,null,null,39000,null,null,null,3538274.9780000001,null,null,null,null,null,null,null,null,null,null,null,null,null,null,null,null,null,null,null,null,null,null,null,null,null,null,null,null,null,0,1,0,0.16425000000000001,null,0,0.16425000000000001,0]
["GIB","ECS","Gibraltar","HIC",{"$f":"VLOOKUP(D73,LookUps!$M$22:$O$25,3,FALSE)","v":1},null,24.57,4.42,4.37,14.38,33.65,15.86,null,null,null,97,null,"Yes","Yes","Yes","Yes",33623,null,30000,201.44,58995.040000000001,null,null,16954,null,null,null,null,null,null,null,null,null,null,null,null,null,null,null,null,null,null,null,null,null,null,null,null,null,null,null,null,null,1,0,0,0.50423817000000004,null,0.50423817000000004,0,0]
["GIN","SSF","Guinea","LIC",{"$f":"VLOOKUP(D74,LookUps!$M$22:$O$25,3,FALSE)","v":3},9667718427,58,1,1,27,9,4,null,null,null,100,null,null,"Yes","Yes",null,8132552,null,null,8000,null,null,null,596911,null,null,null,null,null,null,null,null,null,null,null,null,null,null,null,null,null,null,null,5,null,95,null,null,null,null,null,null,null,0,0,1,7.3397747999999999E-2,null,0,0,7.3397747999999999E-2]
["GMB","SSF","Gambia, The","LIC",{"$f":"VLOOKUP(D75,LookUps!$M$22:$O$25,3,FALSE)","v":3},1084318241,35,1.9,2.1,51.4,9.6999999999999993,null,null,null,null,100,null,"Yes","Yes","No",null,1311349,null,null,2200,null,null,null,193440.54,null,null,null,null,null,null,null,null,null,null,null,null,null,null,null,null,null,null,null,null,null,null,null,null,null,null,null,null,null,0,0,1,0.14751263000000001,null,0,0,0.14751263000000001]
["GNB","SSF","Guinea-Bissau","LIC",{"$f":"VLOOKUP(D76,LookUps!$M$22:$O$25,3,FALSE)","v":3},1062488925,null,null,null,null,null,null,null,null,null,0,null,null,null,null,null,1770526,null,null,1000,null,null,null,289514,null,null,null,null,null,null,null,null,null,null,null,null,null,null,null,null,null,null,null,null,null,null,null,null,null,null,null,null,null,0,0,1,0.16351863799999999,null,0,0,0.16351863799999999]
["GNQ","SSF","Equatorial Guinea","UMC",{"$f":"VLOOKUP(D77,LookUps!$M$22:$O$25,3,FALSE)","v":2},15045964750,null,null,null,null,null,null,null,null,null,0,null,null,null,null,null,1221490,null,null,null,null,null,null,198443.06,null,null,null,null,null,null,null,null,null,null,null,null,null,null,null,null,null,null,null,null,null,null,null,null,null,null,null,null,null,0,1,0,0.162459832,null,0,0.162459832,0]
["GRC","ECS","Greece","HIC",{"$f":"VLOOKUP(D78,LookUps!$M$22:$O$25,3,FALSE)","v":1},244481000000,40,3,3,9,29,14,2,null,null,100,"No","Yes","Yes","Yes","Yes",10892413,575225,59985396,188460,221041,null,251623,5477424,100,null,null,null,100,null,null,null,100,null,null,null,null,null,null,null,80,null,1,19,null,null,null,null,null,null,null,null,null,1,0,0,0.50286598599999999,null,0.50286598599999999,0,0]
["GRD","LCN","Grenada","UMC",{"$f":"VLOOKUP(D79,LookUps!$M$22:$O$25,3,FALSE)","v":2},931118693.5,27.1,3.1,2.4,36.5,13.6,16.399999999999999,0.9,null,null,100,"Yes","Yes","Yes","Yes",null,105481,null,null,800,null,null,null,29536.113939999999,null,null,null,null,null,98.3,null,null,null,null,null,null,null,0.2,98.3,null,null,null,1.5,null,null,null,null,"Disposal Site",null,null,null,null,null,0,1,0,0.28001359399999998,null,0,0.28001359399999998,0]
["GRL","ECS","Greenland","HIC",{"$f":"VLOOKUP(D80,LookUps!$M$22:$O$25,3,FALSE)","v":1},2823634004,42.8,7.1,2,33.4,11.4,2.4,null,1,null,100,null,null,"Yes","No",null,56905,null,null,null,730,null,null,50000,null,null,null,null,null,null,null,null,null,null,null,null,null,null,null,40,60,null,null,null,null,null,null,null,null,null,null,null,null,1,0,0,0.87865741100000005,null,0.87865741100000005,0,0]
["GTM","LCN","Guatemala","UMC",{"$f":"VLOOKUP(D81,LookUps!$M$22:$O$25,3,FALSE)","v":2},51421926688,37.714491180000003,4.3918355800000004,null,18.01847364,16.046702150000002,17.29080875,null,null,6.5376886909999996,100,null,null,"No","Yes",null,16252429,null,null,55000,10051,null,818.6,2756740.9709999999,null,null,null,null,null,null,77.7,null,null,null,null,null,null,null,9.6,null,null,69.8,null,null,15.4,5.2,null,null,null,null,null,null,null,0,1,0,0.169620244,null,0,0.169620244,0]
["GUM","EAS","Guam","HIC",{"$f":"VLOOKUP(D82,LookUps!$M$22:$O$25,3,FALSE)","v":1},5214914976,27.3,4.5999999999999996,9,8.6999999999999993,28.5,12.4,3.1,6.4,null,100,null,"Yes","Yes","Yes","Yes",159973,null,null,null,null,null,null,141500,null,null,100,null,null,null,100,null,null,null,100,null,null,null,null,null,null,null,null,17.850000000000001,64,18.149999999999999,null,null,null,null,null,null,null,1,0,0,0.88452426299999998,null,0.88452426299999998,0,0]
["GUY","LCN","Guyana","UMC",{"$f":"VLOOKUP(D83,LookUps!$M$22:$O$25,3,FALSE)","v":2},2925825406,50.1,4.7,4.2,12.1,10.7,14.2,1.5,2.5,null,100,"No","Yes","No","No","No",746556,null,null,5000,741.78,null,null,179251.5,null,null,null,null,null,null,89,null,null,null,null,null,null,null,null,null,61.37,null,null,0.54,null,38.090000000000003,null,"Other",null,null,null,null,null,0,1,0,0.24010455999999999,null,0,0.24010455999999999,0]
["HKG","EAS","Hong Kong SAR, China","HIC",{"$f":"VLOOKUP(D84,LookUps!$M$22:$O$25,3,FALSE)","v":1},270105000000,35,3,2,14,22,21,null,3,null,100,"Yes","Yes","Yes","Yes","Yes",7305700,null,1530000,70000,54812,null,2268,5679816.4649999999,null,null,null,null,null,null,100,null,null,null,null,null,null,null,null,null,66,null,null,34,null,null,null,null,null,null,null,null,null,1,0,0,0.77744999999999997,null,0.77744999999999997,0,0]
["HND","LCN","Honduras","LMC",{"$f":"VLOOKUP(D85,LookUps!$M$22:$O$25,3,FALSE)","v":2},19545909275,57.9,1.27,2.11,6.62,17.36,14.41,0.33,null,null,100,"No",null,"Yes","Yes",null,9112867,null,null,1700,253.14,null,null,2162027.696,null,null,null,null,null,null,64.599999999999994,null,null,null,null,null,null,null,59.9,null,null,15,null,null,11.3,13.8,null,null,null,null,null,null,null,0,1,0,0.23724999999999999,null,0,0.23724999999999999,0]
["HRV","ECS","Croatia","HIC",{"$f":"VLOOKUP(D86,LookUps!$M$22:$O$25,3,FALSE)","v":1},61095271083,30.9,3.7,2.1,11.5,23.2,22.9,null,null,5.7,100,"Yes","Yes","Yes","Yes",null,4203604,395664,805354,58078,130326,null,56814,1650000,null,null,null,null,null,null,null,97.76,null,null,null,null,null,1.69,null,null,79.75,null,null,16.32,null,2.2400000000000002,null,null,null,null,null,null,null,1,0,0,0.39347188700000002,null,0.39347188700000002,0,0]
["HTI","LCN","Haiti","LIC",{"$f":"VLOOKUP(D87,LookUps!$M$22:$O$25,3,FALSE)","v":3},7911616492,61.3,1.6,2.5,16.8,4.0999999999999996,12.7,null,1,null,100,"No","No","No","No","No",10847334,null,null,6000,null,null,null,2309852.4550000001,null,0.4,null,null,null,12.4,null,null,null,null,23.8,null,null,null,9.94,null,null,null,null,null,null,90.06,null,"Source",null,null,null,null,null,0,0,1,0.21294194999999999,null,0,0,0.21294194999999999]
["HUN","ECS","Hungary","HIC",{"$f":"VLOOKUP(D88,LookUps!$M$22:$O$25,3,FALSE)","v":1},147183000000,22.5,3.5,1.8,45.9,13.4,13,null,null,null,100,"Yes","Yes","Yes","Yes","Yes",9843028,699238,7605276,50066,596554,null,489182,3710000,null,null,null,null,null,null,null,99.94,null,null,null,null,null,6.22,null,14.14,53.64,null,null,25.94,null,0.06,null,null,null,null,null,null,null,1,0,0,0.37711972399999999,null,0.37711972399999999,0,0]
["IDN","EAS","Indonesia","LMC",{"$f":"VLOOKUP(D89,LookUps!$M$22:$O$25,3,FALSE)","v":2},1037860000000,53.8,2.5,1.8,12.9,14.9,14,null,null,null,100,null,"Yes","Yes","Yes",null,261115456,122000000,null,1270000,23000000,null,82125,65200000,null,null,null,null,null,null,45,null,null,null,null,null,null,null,null,null,69,10,14,7,null,null,null,null,null,null,null,null,null,0,1,0,0.24969797299999999,null,0,0.24969797299999999,0]
["IMN","ECS","Isle of Man","HIC",{"$f":"VLOOKUP(D90,LookUps!$M$22:$O$25,3,FALSE)","v":1},null,null,null,null,null,null,null,null,null,null,0,"Yes","Yes","Yes",null,"Yes",80759,null,122965,null,null,48783,null,50551,null,null,null,null,null,null,null,96,null,null,null,null,null,null,null,25,25,null,null,50,null,null,null,null,null,null,null,null,null,1,0,0,0.62594881099999999,null,0.62594881099999999,0,0]
["IND","SAS","India","LMC",{"$f":"VLOOKUP(D91,LookUps!$M$22:$O$25,3,FALSE)","v":2},2466180000000,null,null,null,null,null,null,null,null,null,0,"No","Yes","Yes","Yes","Yes",1071477855,null,27500000,1700000,7470000,null,180784.5,168403240,null,null,null,null,null,null,null,null,null,null,null,78.19,null,18,null,null,null,77,null,5,null,null,null,null,null,null,null,null,null,0,1,0,0.15716912799999999,null,0,0.15716912799999999,0]
["IRL","ECS","Ireland","HIC",{"$f":"VLOOKUP(D92,LookUps!$M$22:$O$25,3,FALSE)","v":1},332361000000,16.600000000000001,8.5,3.7,25.8,25,12.4,null,1.9,6.1,100,null,"Yes","Yes","Yes","Yes",4586897,554285,7898378,212874,482907,null,776112,2692537,null,null,null,null,null,null,null,92.04,null,null,null,null,null,6,41,17,null,null,2,33,null,1,null,null,null,null,null,null,null,1,0,0,0.587006205,null,0.587006205,0,0]
["IRN","MEA","Iran, Islamic Rep.","UMC",{"$f":"VLOOKUP(D93,LookUps!$M$22:$O$25,3,FALSE)","v":2},540581000000,72.900000000000006,1.9,2.2999999999999998,5,7.3,8.5,1.1000000000000001,1.3,null,100,"No","Yes","Yes","Yes","No",80277428,16000000,80000000,630000,8000000,30000000,1609650,17900000,null,null,100,null,null,null,100,null,null,null,100,null,0.3,12,10,0.4,null,72,null,5,null,0.3,null,"Source",null,null,null,null,null,0,1,0,0.22278989799999999,null,0,0.22278989799999999,0]
["IRQ","MEA","Iraq","UMC",{"$f":"VLOOKUP(D94,LookUps!$M$22:$O$25,3,FALSE)","v":2},213938000000,68.7,2.2999999999999998,0.98,6,9.6,5.29,5.09,0.85,0.93,100,"No","No","No",null,null,36115649,null,null,221000,20622,null,null,13100000,null,null,null,null,null,null,76,null,null,null,null,null,null,null,null,null,null,100,null,null,null,null,null,"Source",null,null,null,null,null,0,1,0,0.36383120200000002,null,0,0.36383120200000002,0]
["ISL","ECS","Iceland","HIC",{"$f":"VLOOKUP(D95,LookUps!$M$22:$O$25,3,FALSE)","v":1},16434890343,10,null,null,null,38,9,null,29,14,100,null,"Yes","Yes","No","Yes",330815,5000,1000,7600,7000,10000,null,525000,null,null,null,null,null,null,100,null,null,null,null,null,null,2.86,null,1.9,30.29,null,9.14,55.81,null,null,null,null,null,null,null,null,null,1,0,0,1.5869897070000001,null,1.5869897070000001,0,0]
["ISR","MEA","Israel","HIC",{"$f":"VLOOKUP(D96,LookUps!$M$22:$O$25,3,FALSE)","v":1},287808000000,34,3,3,16,24,18,null,null,2,100,null,"Yes","Yes",null,"Yes",8380100,null,7000000,120000,321000,null,null,5400000,null,null,null,null,null,null,null,null,null,null,null,null,null,null,null,null,75,null,null,25,null,null,null,null,null,null,null,null,null,1,0,0,0.64438371900000002,null,0.64438371900000002,0,0]
["ITA","ECS","Italy","HIC",{"$f":"VLOOKUP(D97,LookUps!$M$22:$O$25,3,FALSE)","v":1},2080640000000,34.4,7.6,4.3,15.4,22.8,11.6,null,3.8,null,100,"Yes","Yes","Yes","No",null,60730582,6921585,61938678,2800026,8923548,null,16071024,29500000,null,null,null,null,null,null,null,88.92,null,null,null,null,null,17.600000000000001,null,19,26.48,null,null,25.9,null,11.02,null,null,null,null,null,null,null,1,0,0,0.48614716099999999,null,0.48614716099999999,0,0]
["JAM","LCN","Jamaica","UMC",{"$f":"VLOOKUP(D98,LookUps!$M$22:$O$25,3,FALSE)","v":2},13801803130,62.22,2.81,2.38,5.13,14.73,12.2,null,0.53,null,100,"Yes","Yes","Yes","Yes","Yes",2881355,null,null,17000,10000,null,206.58,1051694.575,null,28,null,null,null,63.99,76,null,null,67,null,null,null,null,64,null,null,null,29,null,null,7,null,"Source",null,null,null,null,null,0,1,0,0.36499999999999999,null,0,0.36499999999999999,0]
["JOR","MEA","Jordan","UMC",{"$f":"VLOOKUP(D99,LookUps!$M$22:$O$25,3,FALSE)","v":2},30811666897,50,2,1.5,15.5,15,16,null,null,null,100,null,"No","Yes","Yes",null,8413464,4000000,null,43000,1230441,45000,4000,2529997,null,null,70,null,null,null,null,null,null,null,90,null,null,null,null,null,48,45,null,7,null,null,null,"Disposal Site",null,null,null,null,null,0,1,0,0.30070812699999999,null,0,0.30070812699999999,0]
["JPN","EAS","Japan","HIC",{"$f":"VLOOKUP(D100,LookUps!$M$22:$O$25,3,FALSE)","v":1},6052670000000,36,5,4,6,33,11,1,4,null,100,"Yes","No","Yes","Yes",null,127000000,35100000,72700000,518978,3600000,393000000,320000,44000000,null,null,null,null,null,null,99.9,null,null,null,null,null,0.1,0.4,1.1000000000000001,80.2,null,null,13.3,4.9000000000000004,null,null,null,"Source",null,null,null,null,null,1,0,0,0.34592303000000002,null,0.34592303000000002,0,0]
["KAZ","ECS","Kazakhstan","UMC",{"$f":"VLOOKUP(D101,LookUps!$M$22:$O$25,3,FALSE)","v":2},188309000000,30,5,3,7,25,25,null,2.5,null,98,"No","Yes","Yes","Yes","No",16791425,null,null,147000,null,null,null,4659740,null,null,25,null,null,null,77,null,null,null,null,null,null,null,null,null,null,60.1,null,2.92,null,36.979999999999997,null,"Disposal site",null,null,null,null,null,0,1,0,0.27750712,null,0,0.27750712,0]
["KEN","SSF","Kenya","LMC",{"$f":"VLOOKUP(D102,LookUps!$M$22:$O$25,3,FALSE)","v":2},55409230682,57,3,1,9,11.3,18.7,null,null,null,100,null,null,"Yes",null,null,41350152,null,null,17350,null,null,909182,5595099,null,null,null,null,null,null,40,40,null,null,null,null,null,null,null,null,null,null,null,8,null,92,null,null,null,null,null,null,null,0,1,0,0.13531024,null,0,0.13531024,0]
["KGZ","ECS","Kyrgyz Republic","LMC",{"$f":"VLOOKUP(D103,LookUps!$M$22:$O$25,3,FALSE)","v":2},6346700788,null,null,null,null,null,null,null,null,null,0,"No","Yes","Yes","Yes",null,5956900,17900,3600,7200,4771346,null,null,1113300,null,null,null,null,null,null,null,null,null,null,null,null,null,null,null,null,null,100,null,null,null,null,null,"Disposal Site",null,null,null,null,null,0,1,0,0.18689251100000001,null,0,0.18689251100000001,0]
["KHM","EAS","Cambodia","LMC",{"$f":"VLOOKUP(D104,LookUps!$M$22:$O$25,3,FALSE)","v":2},17009386902,66.599999999999994,2.6,2,10.4,4,8.6,null,5.8,null,100,"No","Yes","Yes","Yes",null,15270790,null,null,14000,null,null,147.09,1090000,null,null,null,null,null,null,null,null,null,null,50,null,null,null,null,null,null,null,17.5,null,null,82.5,null,null,null,null,null,null,null,0,1,0,7.1312616999999995E-2,null,0,7.1312616999999995E-2,0]
["KIR","EAS","Kiribati","LMC",{"$f":"VLOOKUP(D105,LookUps!$M$22:$O$25,3,FALSE)","v":2},192869131.30000001,43.6,5.5,10,9.3000000000000007,10.9,16.5,4.2,null,null,100,null,"Yes","Yes","No",null,114395,null,null,100,null,766.5,16.22,35723.827499999999,null,null,null,null,null,null,54,null,null,null,100,null,null,null,null,null,null,null,null,null,null,null,null,null,null,null,null,null,null,0,1,0,0.31228486799999999,null,0,0.31228486799999999,0]
["KNA","LCN","St. Kitts and Nevis","HIC",{"$f":"VLOOKUP(D106,LookUps!$M$22:$O$25,3,FALSE)","v":1},858344680,27.2,8.1,8.8000000000000007,12.2,20.5,23.2,null,null,null,100,"Yes","Yes","Yes","No","Yes",54288,null,null,700,null,null,null,32892.14,null,null,null,null,null,null,95,null,null,null,null,null,null,null,100,null,null,null,null,null,null,null,null,"Disposal site",null,null,null,null,null,1,0,0,0.605882331,null,0.605882331,0,0]
["KOR","EAS","Korea, Rep.","HIC",{"$f":"VLOOKUP(D107,LookUps!$M$22:$O$25,3,FALSE)","v":1},1305950000000,30,2.5,2.6,null,41,24.3,null,null,null,100,"Yes","Yes","Yes","Yes",null,50746659,null,68119600,570635,null,39800000,null,18218975,null,null,null,null,null,null,99.92,99.9,null,null,null,null,null,1,null,25,16,null,null,58,null,null,null,null,null,null,null,null,null,1,0,0,0.359018216,null,0.359018216,0,0]
["KWT","MEA","Kuwait","HIC",{"$f":"VLOOKUP(D108,LookUps!$M$22:$O$25,3,FALSE)","v":1},142857000000,45,4,2,8,20,20,null,1,1,101,"No","Yes","Yes",null,null,2998083,null,1150000,67000,203000,7000,33000,1750000,null,null,null,null,null,null,100,null,null,null,null,null,null,null,null,null,null,100,null,null,null,null,null,"Disposal Site",null,null,null,null,null,1,0,0,0.58370632200000006,null,0.58370632200000006,0,0]
["LAO","EAS","Lao PDR","LMC",{"$f":"VLOOKUP(D109,LookUps!$M$22:$O$25,3,FALSE)","v":2},11102149875,16.899999999999999,9.3000000000000007,3.7,20.3,2.8,6.1,1.1000000000000001,38.200000000000003,1.2,100,"None","Yes","Yes","Yes",null,6663967,null,null,7500,5200,49500,1200,351900,null,null,null,35,null,null,null,55,null,null,null,60,null,null,30,null,null,60,null,10,null,null,null,"At disposal site",null,null,null,null,null,0,1,0,5.2806383999999998E-2,null,0,5.2806383999999998E-2,0]
["LBN","MEA","Lebanon","UMC",{"$f":"VLOOKUP(D110,LookUps!$M$22:$O$25,3,FALSE)","v":2},42911390492,52.5,3.5,5.5,11,16,11.5,null,null,null,100,"No","Yes","No","No","No",5603279,null,null,51000,46000,null,5568,2040000,null,null,99,null,null,null,null,null,null,null,100,null,null,15,48,null,null,29,null,8,null,null,null,"Source",null,null,null,null,null,0,1,0,0.36407253699999997,null,0,0.36407253699999997,0]
["LBR","SSF","Liberia","LIC",{"$f":"VLOOKUP(D111,LookUps!$M$22:$O$25,3,FALSE)","v":3},1627046588,null,null,null,null,null,null,null,null,null,0,null,"Yes","Yes","Yes",null,3512932,null,null,null,null,null,null,564466.69999999995,null,null,null,null,null,null,null,null,null,null,null,null,null,null,null,null,null,null,null,null,null,null,null,null,null,null,null,null,null,0,0,1,0.16068250100000001,null,0,0,0.16068250100000001]
["LBY","MEA","Libya","UMC",{"$f":"VLOOKUP(D112,LookUps!$M$22:$O$25,3,FALSE)","v":2},36808842591,70.099999999999994,3.1,4.3,3.8,5.5,7.5,null,2.5,null,97,"No","Yes","No",null,null,6193501,null,3641150,70000,null,null,null,2147596.4720000001,null,null,null,null,null,null,null,null,null,null,null,null,null,null,null,null,null,null,null,null,null,null,null,null,null,null,null,null,null,0,1,0,0.34675,null,0,0.34675,0]
["LCA","LCN","St. Lucia","UMC",{"$f":"VLOOKUP(D113,LookUps!$M$22:$O$25,3,FALSE)","v":2},1489854701,45,7,5,11,10,22,null,null,null,100,"Yes","Yes","Yes","Yes","Yes",177206,null,null,1600,2732,null,49.63,77616.228000000003,null,null,null,null,null,96.8,100,null,null,null,null,null,null,0.1,96.8,null,null,null,2.6,null,null,0.5,null,"Disposal site",null,null,null,null,null,0,1,0,0.438,null,0,0.438,0]
["LIE","ECS","Liechtenstein","HIC",{"$f":"VLOOKUP(D114,LookUps!$M$22:$O$25,3,FALSE)","v":1},null,37.6,5,12.5,9.1,30.3,5.4,null,null,null,100,null,"Yes","Yes","No",null,36545,2612,513728,293,1204,null,127,32382,null,null,null,null,null,null,100,null,null,null,null,null,null,null,null,null,null,null,null,64.599999999999994,null,35.4,null,null,null,null,null,null,null,1,0,0,0.886085648,null,0.886085648,0,0]
["LKA","SAS","Sri Lanka","LMC",{"$f":"VLOOKUP(D115,LookUps!$M$22:$O$25,3,FALSE)","v":2},79907042295,62,2,3,13,7,7,null,6,null,100,"Yes","Yes","Yes","No","Yes",21200000,null,65700,72.5,null,53000,9855,2631650,null,null,null,null,null,null,null,null,null,null,null,null,null,5,null,null,null,85,null,12.79,null,null,null,"Databases",null,null,null,null,null,0,1,0,0.12411687,null,0,0.12411687,0]
["LSO","SSF","Lesotho","LMC",{"$f":"VLOOKUP(D116,LookUps!$M$22:$O$25,3,FALSE)","v":2},2980616573,null,null,null,null,null,null,null,null,null,0,null,null,null,null,null,1965662,null,null,1800,null,null,null,73457,null,0.97,null,null,null,4.22,20,null,null,11.76,null,null,null,null,null,null,null,null,null,null,null,null,null,null,null,null,null,null,null,0,1,0,3.7370107E-2,null,0,3.7370107E-2,0]
["LTU","ECS","Lithuania","HIC",{"$f":"VLOOKUP(D117,LookUps!$M$22:$O$25,3,FALSE)","v":1},45735444769,40.4,8.65,2.75,44.05,10.050000000000001,10.15,null,0.6,null,117,"No","Yes","Yes","Yes",null,2904910,551038,3011590,82691,165477,null,70124,1300000,null,null,90,null,null,null,null,98.69,null,null,96,null,null,10.15,null,11.54,54,null,null,22.92,null,1.39,null,null,null,null,null,null,null,1,0,0,0.44751816799999999,null,0.44751816799999999,0,0]
["LUX","ECS","Luxembourg","HIC",{"$f":"VLOOKUP(D118,LookUps!$M$22:$O$25,3,FALSE)","v":1},63207264513,30,4,2,27,19,18,null,null,null,100,"Yes","Yes","Yes","No",null,569604,95427,6272673,7398,237180,null,47825,356000,null,null,null,null,null,null,null,100,null,null,null,null,null,19.66,null,33.99,17.7,null,null,28.37,null,0.28000000000000003,null,null,null,null,null,null,null,1,0,0,0.62499561100000001,null,0.62499561100000001,0,0]
["LVA","ECS","Latvia","HIC",{"$f":"VLOOKUP(D119,LookUps!$M$22:$O$25,3,FALSE)","v":1},28871503534,46.7,21.4,2.6,9.6999999999999993,6.1,7.7,3.6,2.4,null,100,null,"Yes","Yes","Yes","Yes",1977527,105480,671423,25071,104142,null,65624,857000,null,null,null,null,null,null,null,84.36,null,null,null,null,null,5.48,null,null,57.64,null,null,21.23,null,15.65,null,null,null,null,null,null,null,1,0,0,0.43336955700000002,null,0.43336955700000002,0,0]
["MAC","EAS","Macao SAR, China","HIC",{"$f":"VLOOKUP(D120,LookUps!$M$22:$O$25,3,FALSE)","v":1},31920853732,3.1,3.3,1.7,3.1,58.7,7.9,null,22.3,null,100,"Yes","Yes","Yes","Yes","Yes",612167,null,52000,11000,3118,null,11493,377942,null,null,null,null,null,null,100,null,null,null,null,null,null,null,null,null,null,null,null,20,null,80,null,null,null,null,null,null,null,1,0,0,0.61738381799999997,null,0.61738381799999997,0,0]
["MAF","LCN","St. Martin (French part)","HIC",{"$f":"VLOOKUP(D121,LookUps!$M$22:$O$25,3,FALSE)","v":1},null,null,null,null,null,null,null,null,null,null,0,null,null,"Yes","Yes","Yes",30959,null,null,null,null,null,null,15479.5,null,null,null,null,null,null,null,null,null,null,null,null,null,null,null,null,null,null,null,null,null,null,null,null,null,null,null,null,null,1,0,0,0.5,null,0.5,0,0]
["MAR","MEA","Morocco","LMC",{"$f":"VLOOKUP(D122,LookUps!$M$22:$O$25,3,FALSE)","v":2},114784000000,60,2,2.5,6,9,8,null,null,null,88,"No","No","Yes","Yes","Yes",34318082,null,7000000,30300,289385,1599710.62,21000,6850000,null,null,null,null,null,null,null,null,null,null,85,null,null,1,null,null,null,52,2,8,37,null,null,"Disposal site",null,null,null,null,null,0,1,0,0.19966150799999999,null,0,0.19966150799999999,0]
["MCO","ECS","Monaco","HIC",{"$f":"VLOOKUP(D123,LookUps!$M$22:$O$25,3,FALSE)","v":1},null,null,3,2.2000000000000002,null,2.2000000000000002,1,null,null,null,8,"Yes","Yes","Yes","Yes","Yes",37783,null,null,null,312.07,null,null,46000,null,null,null,null,null,null,100,null,null,null,null,null,null,null,null,85,null,null,null,5.4,null,9.6,null,null,null,null,null,null,null,1,0,0,1.2174787600000001,null,1.2174787600000001,0,0]
["MDA","ECS","Moldova","LMC",{"$f":"VLOOKUP(D124,LookUps!$M$22:$O$25,3,FALSE)","v":2},7354798041,55,4,3,23,5,10,null,null,null,100,"No","Yes","Yes","Yes","Yes",3554108,null,1400000,6300,418,2841700,15700,3981200,null,null,null,null,null,null,null,null,null,null,null,null,null,null,null,null,null,35.08,null,15.32,null,49.6,null,"Other",null,null,null,null,null,0,1,0,1.120168549,null,0,1.120168549,0]
["MDG","SSF","Madagascar","LIC",{"$f":"VLOOKUP(D125,LookUps!$M$22:$O$25,3,FALSE)","v":3},10356200861,null,null,null,null,null,null,null,null,null,0,null,null,"Yes","Yes",null,24894551,null,null,14000,45957,null,null,3768759.16,null,null,null,null,null,null,17.7,null,null,null,null,null,null,3.5,null,null,null,96.7,null,null,null,null,null,null,null,null,null,null,null,0,0,1,0.15138891900000001,null,0,0,0.15138891900000001]
["MDV","SAS","Maldives","UMC",{"$f":"VLOOKUP(D126,LookUps!$M$22:$O$25,3,FALSE)","v":2},3600398618,24,null,1,1,6,3,null,null,65,100,"No","Yes","Yes","No","Yes",409163,null,6161.2,3003.95,15105.525,null,1737.4,211505.78,null,null,null,null,null,null,38.200000000000003,null,null,null,null,null,null,7,null,6,null,null,24,null,null,null,63,"Ministry forecast",null,null,null,null,null,0,1,0,0.516923036,null,0,0.516923036,0]
["MEX","LCN","Mexico","UMC",{"$f":"VLOOKUP(D127,LookUps!$M$22:$O$25,3,FALSE)","v":2},1259040000000,52.4,5.9,3.4,12.1,13.8,10.9,null,null,null,99,"Yes",null,"Yes","Yes",null,125890949,null,6000000,957900,18172.490000000002,null,978.06,53100000,null,null,null,null,null,null,null,93.4,null,null,null,null,null,null,null,null,null,21,null,5,74.5,null,null,null,null,null,null,null,null,0,1,0,0.421793627,null,0,0.421793627,0]
["MHL","EAS","Marshall Islands","UMC",{"$f":"VLOOKUP(D128,LookUps!$M$22:$O$25,3,FALSE)","v":2},179041793.90000001,8,2,6,31,11,13,null,null,29,100,null,"Yes","Yes","None",null,52793,null,null,null,null,null,43.16,8614,null,null,null,null,null,null,49,null,null,null,66,null,null,6,null,null,null,null,null,30.8,null,63.2,null,null,null,null,null,null,null,0,1,0,0.16316557100000001,null,0,0.16316557100000001,0]
["MKD","ECS","Macedonia, FYR","UMC",{"$f":"VLOOKUP(D129,LookUps!$M$22:$O$25,3,FALSE)","v":2},10924716122,29.3,4.0999999999999996,2.5,19.8,12.8,13.9,0.9,0.7,16,100,"Yes","Yes","Yes","Yes",null,2081206,91933,121551,1220,40797,null,951293,796585,null,null,null,null,null,null,73,76.61,null,null,null,null,null,0.1,null,null,99.72,null,null,0.18,null,null,null,"Disposal Site",null,null,null,null,null,0,1,0,0.38275163499999998,null,0,0.38275163499999998,0]
["MLI","SSF","Mali","LIC",{"$f":"VLOOKUP(D130,LookUps!$M$22:$O$25,3,FALSE)","v":3},13421822111,17.5,1,3.5,72.5,3.5,2,null,null,null,100,null,null,null,"Yes",null,16006670,null,null,12000,null,null,null,1937354.44,null,null,null,null,null,null,null,null,null,null,null,null,null,null,null,null,null,null,null,null,null,null,null,null,null,null,null,null,null,0,0,1,0.121034196,null,0,0,0.121034196]
["MLT","MEA","Malta","HIC",{"$f":"VLOOKUP(D131,LookUps!$M$22:$O$25,3,FALSE)","v":1},11868476821,52,6,4,9.5,18,12,null,null,null,{"$f":"ROUND(SUM(G131:O131),0)","v":102},"Yes","Yes","Yes","Yes",null,431874,16607,1258426,7643,36523,106235,23418,269000,null,null,null,null,null,null,null,96.65,null,null,null,null,null,null,null,0.37,null,null,null,6.69,89.59,3.35,null,null,null,null,null,null,null,1,0,0,0.62286685500000005,null,0.62286685500000005,0,0]
["MMR","EAS","Myanmar","LMC",{"$f":"VLOOKUP(D132,LookUps!$M$22:$O$25,3,FALSE)","v":2},74469832820,null,null,null,null,null,null,null,null,null,0,null,"Yes","Yes","Yes",null,46095462,null,null,55000,null,54750,648.20000000000005,4677306.5290000001,null,null,null,null,null,null,60,null,null,null,null,null,null,null,null,null,null,null,8,null,null,92,null,"Household",null,null,null,null,null,0,1,0,0.10147,null,0,0.10147,0]
["MNE","ECS","Montenegro","UMC",{"$f":"VLOOKUP(D133,LookUps!$M$22:$O$25,3,FALSE)","v":2},4662831376,33.82,8.9700000000000006,2.9,19.46,13.72,18.420000000000002,null,2.7,null,100,"Yes","Yes","Yes","No",null,622159,null,92228,6200,3819.21,453791.52,2331.4,332000,null,null,null,null,null,null,75.900000000000006,96.99,null,null,null,null,null,null,null,null,null,91.57,null,5.42,null,3.01,null,null,null,null,null,null,null,0,1,0,0.53362564899999998,null,0,0.53362564899999998,0]
["MNG","EAS","Mongolia","LMC",{"$f":"VLOOKUP(D134,LookUps!$M$22:$O$25,3,FALSE)","v":2},11825367387,22.7,null,null,50.1,12.7,14.5,null,null,null,100,null,null,"Yes","Yes",null,3027398,null,126300,14000,null,81400,967.25,2900000,null,null,null,40,null,null,null,null,null,null,null,70,null,null,null,null,null,93.5,null,null,null,6.5,null,null,null,null,null,null,null,0,1,0,0.95791831800000005,null,0,0.95791831800000005,0]
["MNP","EAS","Northern Mariana Islands","HIC",{"$f":"VLOOKUP(D135,LookUps!$M$22:$O$25,3,FALSE)","v":1},1051785360,43.6,5.5,10,9.3000000000000007,10.9,16.5,4.2,null,null,100,null,"Yes","Yes",null,"Yes",54036,null,null,null,null,null,null,32761.414499999999,null,null,null,null,null,null,null,null,null,null,null,null,null,null,null,null,null,null,null,36,null,64,null,null,null,null,null,null,null,1,0,0,0.606288669,null,0.606288669,0,0]
["MOZ","SSF","Mozambique","LIC",{"$f":"VLOOKUP(D136,LookUps!$M$22:$O$25,3,FALSE)","v":3},14846071335,60,null,null,15,25,null,null,null,null,100,null,"Yes","Yes",null,null,27212382,null,null,17000,null,null,null,2500000,null,null,null,null,null,null,null,52.5,null,null,null,null,null,null,null,null,null,99,null,1,null,null,null,null,null,null,null,null,null,0,0,1,9.1869943999999995E-2,null,0,0,9.1869943999999995E-2]
["MRT","SSF","Mauritania","LMC",{"$f":"VLOOKUP(D137,LookUps!$M$22:$O$25,3,FALSE)","v":2},5574151157,4.8,4,4.2,59.7,7.3,20,null,null,null,100,null,null,"Yes","No",null,3506288,null,null,5100,null,null,null,454000,null,null,5,null,null,null,null,null,null,null,30,null,null,null,37.299999999999997,null,null,54.7,null,8,null,null,null,null,null,null,null,null,null,0,1,0,0.129481663,null,0,0.129481663,0]
["MUS","SSF","Mauritius","UMC",{"$f":"VLOOKUP(D138,LookUps!$M$22:$O$25,3,FALSE)","v":2},12409842083,64,2.8,null,8,13,12.4,null,null,null,100,null,null,"Yes","Yes",null,1263473,null,null,11000,17000,null,null,438000,null,null,null,null,null,null,98,83.731506850000002,null,null,null,null,null,9,null,null,null,null,null,null,91,null,null,null,null,null,null,null,null,0,1,0,0.346663522,null,0,0.346663522,0]
["MWI","SSF","Malawi","LIC",{"$f":"VLOOKUP(D139,LookUps!$M$22:$O$25,3,FALSE)","v":3},8710223822,null,null,null,null,null,null,null,null,null,0,null,null,null,null,null,16577147,null,null,9500,null,null,null,1297844.48,null,null,null,null,null,null,null,null,null,null,null,null,null,null,null,null,null,null,null,null,null,null,null,null,null,null,null,null,null,0,0,1,7.8291184999999999E-2,null,0,0,7.8291184999999999E-2]
["MYS","EAS","Malaysia","UMC",{"$f":"VLOOKUP(D140,LookUps!$M$22:$O$25,3,FALSE)","v":2},344052000000,46,3,3,9,14,15,3,7,null,100,"No","Yes","Yes","Yes","Yes",30228017,42000000,null,280000,2918478,831835,19500,12982685,null,null,null,null,null,null,null,95,null,null,null,null,null,1,null,null,71.5,null,null,17.5,10,null,null,"Landfill",null,null,null,null,null,0,1,0,0.42949178599999999,null,0,0.42949178599999999,0]
["NAM","SSF","Namibia","UMC",{"$f":"VLOOKUP(D141,LookUps!$M$22:$O$25,3,FALSE)","v":2},14950179757,null,null,null,null,null,null,null,null,null,0,null,null,null,null,null,1559983,null,null,14000,null,null,null,256729,null,null,null,null,null,null,null,null,null,null,null,null,null,null,null,null,null,null,null,4.5,null,95.5,null,null,null,null,null,null,null,0,1,0,0.16457166500000001,null,0,0.16457166500000001,0]
["NCL","EAS","New Caledonia","HIC",{"$f":"VLOOKUP(D142,LookUps!$M$22:$O$25,3,FALSE)","v":1},null,43.6,5.5,10,9.3000000000000007,10.9,16.5,4.2,null,null,100,null,null,"Yes",null,null,278000,null,null,null,null,null,324,108157.38400000001,null,null,null,null,null,null,67,null,null,null,100,null,null,null,null,null,null,null,null,null,null,null,null,null,null,null,null,null,null,1,0,0,0.38905533799999997,null,0.38905533799999997,0,0]
["NER","SSF","Niger","LIC",{"$f":"VLOOKUP(D143,LookUps!$M$22:$O$25,3,FALSE)","v":3},8106889865,38,null,1,57,2,2,null,null,null,100,null,null,"Yes","Yes",null,8842415,null,null,7900,554000,null,null,1865645.67,null,null,null,null,null,null,null,null,null,null,null,null,null,null,null,null,null,64,12,4,null,20,null,null,null,null,null,null,null,0,0,1,0.21098824999999999,null,0,0,0.21098824999999999]
["NGA","SSF","Nigeria","LMC",{"$f":"VLOOKUP(D144,LookUps!$M$22:$O$25,3,FALSE)","v":2},456775000000,null,3.1,null,11.3,8,4.8,null,null,null,27,null,null,"Yes","Yes",null,154402181,null,null,277000,null,null,null,27614830.07,null,null,null,null,null,null,null,null,null,null,null,null,null,null,null,null,40,null,60,null,null,null,null,null,null,null,null,null,null,0,1,0,0.17885000000000001,null,0,0.17885000000000001,0]
["NIC","LCN","Nicaragua","LMC",{"$f":"VLOOKUP(D145,LookUps!$M$22:$O$25,3,FALSE)","v":2},11955466051,null,null,null,null,null,null,null,null,null,0,null,null,"Yes",null,null,5737723,null,null,10800,2837,null,null,1528816.2930000001,null,null,null,null,null,null,92.3,null,null,null,null,null,null,null,null,null,19.600000000000001,59.3,21.1,null,null,null,null,null,null,null,null,null,null,0,1,0,0.26645000000000002,null,0,0.26645000000000002,0]
["NLD","ECS","Netherlands","HIC",{"$f":"VLOOKUP(D146,LookUps!$M$22:$O$25,3,FALSE)","v":1},890136000000,35,5.4,4.3,20.239999999999998,21,14,null,null,null,100,"Yes","Yes","Yes","No",null,16939923,14718640,96206470,534410,4830495,null,2391871,8860000,null,null,null,null,null,null,null,100,null,null,null,null,null,27.1,null,47.369,1.4119999999999999,null,null,24.61,null,null,null,null,null,null,null,null,null,1,0,0,0.52272964899999996,null,0.52272964899999996,0,0]
["NOR","ECS","Norway","HIC",{"$f":"VLOOKUP(D147,LookUps!$M$22:$O$25,3,FALSE)","v":1},472766000000,15.49,4.5999999999999996,6.12,13.15,26.57,2.25,null,17.21,14.68,100,"Yes","Yes","Yes","Yes","Yes",5188607,399805,3030449,150000,1480000,415000,1054590,2190000,null,null,null,null,null,null,99,null,null,null,null,null,null,16.690000000000001,null,52.35,null,null,null,26.16,3.38,1.42,null,null,null,null,null,null,null,1,0,0,0.42150041399999999,null,0.42150041399999999,0,0]
["NPL","SAS","Nepal","LIC",{"$f":"VLOOKUP(D148,LookUps!$M$22:$O$25,3,FALSE)","v":3},19856634053,52.39,4.3600000000000003,1.9,7.12,18.21,15.14,0.9,null,null,100,null,"Yes","Yes","Yes",null,28982771,null,null,23000,5051,null,13408.27,1768977.49,null,null,null,50,null,null,null,62.3,null,null,null,80,null,2.87,null,null,37,null,null,null,null,60.13,null,"At generator level",null,null,null,null,null,0,0,1,6.1035485E-2,null,0,0,6.1035485E-2]
["NRU","EAS","Nauru","UMC",{"$f":"VLOOKUP(D149,LookUps!$M$22:$O$25,3,FALSE)","v":2},125930267.7,43.6,5.5,10,9.3000000000000007,10.9,16.5,4.2,null,null,100,null,"Yes","Yes","No",null,13049,null,null,null,null,null,null,6191.7505000000001,null,null,null,null,null,null,100,null,null,null,100,null,null,null,null,null,null,null,null,null,null,null,null,null,null,null,null,null,null,0,1,0,0.47449999999999998,null,0,0.47449999999999998,0]
["NZL","EAS","New Zealand","HIC",{"$f":"VLOOKUP(D150,LookUps!$M$22:$O$25,3,FALSE)","v":1},176129000000,28,4,4.5,37,7,8,1,11,null,101,"Yes","Yes","Yes","Yes","Yes",4692700,132.5342,3000000,95000,null,1750000,null,3410000,null,null,null,null,null,null,97,null,null,null,null,null,null,null,null,null,100,null,null,null,null,null,null,null,null,null,null,null,null,1,0,0,0.72559507300000003,null,0.72559507300000003,0,0]
["OMN","MEA","Oman","HIC",{"$f":"VLOOKUP(D151,LookUps!$M$22:$O$25,3,FALSE)","v":1},75054356307,27,6,null,24,15,21,null,2,5,100,"No","Yes","Yes","Yes",null,3960925,null,735341,59000,1469835,null,4500,1734885.15,null,null,null,null,null,null,null,null,null,null,null,null,null,null,0.01,null,null,99.99,null,null,null,null,null,null,null,null,null,null,null,1,0,0,0.438,null,0.438,0,0]
["PAK","SAS","Pakistan","LMC",{"$f":"VLOOKUP(D152,LookUps!$M$22:$O$25,3,FALSE)","v":2},227867000000,30,6,4,20,13,9,2,2,14,100,"No","Yes","No","Yes",null,193203476,82100000,null,301000,1540000,null,292000000,30800000,null,null,null,30,null,null,null,null,null,null,null,70,null,2,null,null,40,50,null,8,null,null,null,"Waste generated in 8 cities",null,null,null,null,null,0,1,0,0.15921038600000001,null,0,0.15921038600000001,0]
["PAN","LCN","Panama","HIC",{"$f":"VLOOKUP(D153,LookUps!$M$22:$O$25,3,FALSE)","v":1},44789036003,46.4,5.8,3.8,5.7,26.3,12,null,null,null,100,null,null,"Yes",null,null,3969249,null,null,3200,null,null,3094.7,1472262.2150000001,null,null,null,null,null,null,84.9,null,null,null,null,null,null,null,16,null,null,23.4,18.899999999999999,null,41.7,null,null,null,null,null,null,null,null,1,0,0,0.37091707200000001,null,0.37091707200000001,0,0]
["PER","LCN","Peru","UMC",{"$f":"VLOOKUP(D154,LookUps!$M$22:$O$25,3,FALSE)","v":2},193653000000,50.43,3.05,2.64,21.7,7.44,10.52,1.25,null,2.97,100,"Yes","Yes","Yes","Yes","Yes",30973354,null,null,182000,660180.17929999996,null,7176,8356711.1299999999,null,38.200000000000003,null,null,null,null,82.93,null,null,95.3,null,null,null,null,15.58,null,null,56.39,null,4,24.03,null,null,null,null,null,null,null,null,0,1,0,0.269803236,null,0,0.269803236,0]
["PHL","EAS","Philippines","LMC",{"$f":"VLOOKUP(D155,LookUps!$M$22:$O$25,3,FALSE)","v":2},284349000000,52.31,2.34,4.22,21.52,8.6999999999999993,10.55,0.37,null,null,100,"Yes","Yes","Yes","Yes","Yes",103320222,null,null,290000,4332222.32,null,null,14631922.9,null,null,null,40,null,null,null,null,null,null,null,70,null,null,null,null,null,null,null,28,null,72,null,null,null,null,null,null,null,0,1,0,0.14161722299999999,null,0,0.14161722299999999,0]
["PLW","EAS","Palau","HIC",{"$f":"VLOOKUP(D156,LookUps!$M$22:$O$25,3,FALSE)","v":1},225308048.59999999,26,5,10,9,15,32,1,null,2,100,"None","None","Yes","None","Yes",21503,null,null,200,null,null,10.92,9426.7455000000009,null,null,null,null,null,null,77,null,null,null,100,null,null,null,null,null,null,null,null,null,null,null,null,null,null,null,null,null,null,1,0,0,0.438392108,null,0.438392108,0,0]
["PNG","EAS","Papua New Guinea","LMC",{"$f":"VLOOKUP(D157,LookUps!$M$22:$O$25,3,FALSE)","v":2},19389192291,31,null,null,42,16.600000000000001,10,null,null,null,100,"None","Yes","Yes","Yes","None",7755785,null,null,7000,null,null,572,1000000,null,null,null,null,null,null,null,60,null,null,null,null,null,null,62,null,null,null,37,2,null,null,null,null,null,null,null,null,null,0,1,0,0.12893601399999999,null,0,0.12893601399999999,0]
["POL","ECS","Poland","HIC",{"$f":"VLOOKUP(D158,LookUps!$M$22:$O$25,3,FALSE)","v":1},572132000000,37.270000000000003,10.07,2.17,26.69,11.27,12.13,null,0.4,null,100,null,"Yes","Yes","Yes",null,37986412,4679634,135184220,224452,1679051,null,2486818,10900000,null,null,null,null,null,null,null,100,null,null,null,null,null,16.11,null,13.24,44.26,null,null,26.39,null,null,null,null,null,null,null,null,null,1,0,0,0.28597067799999998,null,0.28597067799999998,0,0]
["PRI","LCN","Puerto Rico","HIC",{"$f":"VLOOKUP(D159,LookUps!$M$22:$O$25,3,FALSE)","v":1},93028633826,13.1,2.4,10.4,23.8,19.399999999999999,10.4,null,null,20.5,100,null,"Yes","Yes","Yes","Yes",3473181,null,null,946.44,4.92,null,null,4170953,null,null,null,null,null,null,null,null,null,null,null,null,null,null,null,null,66.5,null,null,14,null,19.5,null,null,null,null,null,null,null,1,0,0,1.2009028610000001,null,1.2009028610000001,0,0]
["PRT","ECS","Portugal","HIC",{"$f":"VLOOKUP(D160,LookUps!$M$22:$O$25,3,FALSE)","v":1},231745000000,36.49,6.73,1.85,27.68,13.64,10.72,null,0.93,1.94,100,"Yes","Yes","Yes","Yes",null,10401062,183064,2743219,170078,701228,null,817492,4710000,null,null,null,null,null,null,null,100,null,null,null,null,null,14.12,null,20.68,48.97,null,null,16.23,null,null,null,null,null,null,null,null,null,1,0,0,0.45283837399999999,null,0.45283837399999999,0,0]
["PRY","LCN","Paraguay","UMC",{"$f":"VLOOKUP(D161,LookUps!$M$22:$O$25,3,FALSE)","v":2},26400622643,null,null,null,null,null,null,null,null,null,0,null,null,"Yes",null,null,6639119,null,null,34200,null,null,null,1818501.365,null,null,null,null,null,47.2,46.6,null,null,null,null,null,null,null,40.200000000000003,null,null,23.4,null,null,36.4,null,null,null,null,null,null,null,null,0,1,0,0.27390703,null,0,0.27390703,0]
["PSE","MEA","West Bank and Gaza","LMC",{"$f":"VLOOKUP(D162,LookUps!$M$22:$O$25,3,FALSE)","v":2},11767216976,59.1,2.4,2.7,11.5,10.1,14.2,null,null,null,100,"Yes","Yes","Yes",null,"Yes",4046901,440000,null,null,62621,131344,4572,1390000,null,88,null,null,null,null,91.5,92.2,null,93,null,null,null,0.5,33,null,null,67,null,0.5,null,null,null,"Disposal site",null,null,null,null,null,0,1,0,0.342731389,null,0,0.342731389,0]
["PYF","EAS","French Polynesia","HIC",{"$f":"VLOOKUP(D163,LookUps!$M$22:$O$25,3,FALSE)","v":1},null,47,3,3,29,16,2,null,null,null,100,null,"Yes","No","No","Yes",273528,null,null,null,null,null,360,147000,null,null,null,null,null,null,51,null,null,null,100,null,null,null,null,null,null,null,null,39,null,61,null,null,null,null,null,null,null,1,0,0,0.53742212899999997,null,0.53742212899999997,0,0]
["QAT","MEA","Qatar","HIC",{"$f":"VLOOKUP(D164,LookUps!$M$22:$O$25,3,FALSE)","v":1},170663000000,57,4,9,5,11,14,null,null,null,100,"Yes","Yes","Yes",null,"No",2109568,null,9706885,29000,105000,64000,450000,1000990.0159999999,null,null,100,null,null,null,100,null,null,null,100,null,null,null,null,4,93,null,null,3,null,null,null,null,null,null,null,null,null,1,0,0,0.47449999999999998,null,0.47449999999999998,0,0]
["ROU","ECS","Romania","UMC",{"$f":"VLOOKUP(D165,LookUps!$M$22:$O$25,3,FALSE)","v":2},200217000000,56.26,4.8899999999999997,2.5,10.68,11.34,12.33,null,2,null,100,"Yes","Yes","Yes","Yes","Yes",19815481,1063964,162995232,132268,590300,null,915888,4900000,null,null,null,null,null,null,null,87.45,null,null,null,null,null,7.46,null,2.37,71.959999999999994,null,null,5.67,null,12.54,null,"Disposal site",null,null,null,null,null,0,1,0,0.24702907800000001,null,0,0.24702907800000001,0]
["RUS","ECS","Russian Federation","UMC",{"$f":"VLOOKUP(D166,LookUps!$M$22:$O$25,3,FALSE)","v":2},1654430000000,28.41,16.82,1.83,19.03,19.7,14.21,null,null,null,100,"Yes","Yes","Yes","Yes",null,143201676,null,null,1390000,110000000,null,null,60000000,null,null,null,null,null,null,null,null,null,null,null,null,null,null,null,null,null,95,null,4.5,null,0.5,null,null,null,null,null,null,null,0,1,0,0.41898951000000001,null,0,0.41898951000000001,0]
["RWA","SSF","Rwanda","LIC",{"$f":"VLOOKUP(D167,LookUps!$M$22:$O$25,3,FALSE)","v":3},8805014649,null,null,null,null,null,null,null,null,null,0,null,null,null,null,null,11917508,null,null,5900,null,null,null,4384969,null,null,null,null,null,null,null,null,null,null,null,null,null,null,null,null,null,null,null,null,null,null,null,null,null,null,null,null,null,0,0,1,0.36794344899999998,null,0,0,0.36794344899999998]
["SAU","MEA","Saudi Arabia","HIC",{"$f":"VLOOKUP(D168,LookUps!$M$22:$O$25,3,FALSE)","v":1},690000000000,45.5,4,5,2.5,27,11,null,5,null,100,"Yes","Yes","yes",null,null,31557144,null,null,508000,697000,null,25207,16125700.58,null,null,100,null,null,null,100,null,null,null,100,null,null,null,85,null,null,null,null,15,null,null,null,"Disposal site",null,null,null,null,null,1,0,0,0.51100000000000001,null,0.51100000000000001,0,0]
["SDN","SSF","Sudan","LMC",{"$f":"VLOOKUP(D169,LookUps!$M$22:$O$25,3,FALSE)","v":2},76149479953,51.4,3.5,1.7,18.899999999999999,11.8,12.7,null,null,null,100,null,null,null,null,null,38647803,null,null,51000,null,null,null,2831291,null,null,null,null,null,null,null,null,null,null,null,null,null,null,null,null,82,null,18,null,null,null,null,null,null,null,null,null,null,0,1,0,7.3258782999999994E-2,null,0,7.3258782999999994E-2,0]
["SEN","SSF","Senegal","LIC",{"$f":"VLOOKUP(D170,LookUps!$M$22:$O$25,3,FALSE)","v":3},16833353304,12,2,2,68,5,9,null,2,null,100,"No","No","Yes","Yes",null,15411614,null,null,15000,null,null,null,2454059.25,null,null,null,28,null,null,21.4,null,null,null,40,null,null,null,5.0999999999999996,null,null,43.8,4.7,null,null,46.4,null,null,null,null,null,null,null,0,0,1,0.15923440899999999,null,0,0,0.15923440899999999]
["SGP","EAS","Singapore","HIC",{"$f":"VLOOKUP(D171,LookUps!$M$22:$O$25,3,FALSE)","v":1},299170000000,10.51,0.93,19.12,32.299999999999997,14.86,10.58,1.96,5.5,4.26,100,"Yes","Yes","Yes","Yes","Yes",5607283,null,1609300,100000,446870,null,null,7704300,null,null,null,null,null,null,100,null,null,null,null,null,null,null,null,37,2,null,null,61,null,null,null,null,null,null,null,null,null,1,0,0,1.3739809460000001,null,1.3739809460000001,0,0]
["SLB","EAS","Solomon Islands","LMC",{"$f":"VLOOKUP(D172,LookUps!$M$22:$O$25,3,FALSE)","v":2},900859048.89999998,42.8,6.65,13.15,3.7,6.45,22.35,4.9000000000000004,null,null,100,"No","Yes","Yes","No","Yes",563513,null,null,400,null,null,273.33999999999997,179971.9644,null,null,null,null,null,null,12,null,null,null,60,null,null,null,null,null,null,null,null,null,null,19,81,null,null,null,null,null,null,0,1,0,0.31937500000000002,null,0,0.31937500000000002,0]
["SLE","SSF","Sierra Leone","LIC",{"$f":"VLOOKUP(D173,LookUps!$M$22:$O$25,3,FALSE)","v":3},3355384560,null,null,null,null,null,null,null,null,null,0,null,null,null,null,null,5439695,null,null,3400,null,null,null,610222.09,null,null,null,null,null,null,null,null,null,null,null,null,null,null,null,null,null,null,null,null,null,null,null,null,null,null,null,null,null,0,0,1,0.112179468,null,0,0,0.112179468]
["SLV","LCN","El Salvador","LMC",{"$f":"VLOOKUP(D174,LookUps!$M$22:$O$25,3,FALSE)","v":2},21588556542,65,4,2,7,12,10,null,null,null,100,null,"Yes","Yes","Yes",null,6164626,null,null,30100,16465,null,null,1648996.18,null,null,null,null,null,null,78.8,null,null,null,null,null,null,null,null,null,null,13.8,7.9,null,78.2,0.1,null,null,null,null,null,null,null,0,1,0,0.26749330500000001,null,0,0.26749330500000001,0]
["SMR","ECS","San Marino","HIC",{"$f":"VLOOKUP(D175,LookUps!$M$22:$O$25,3,FALSE)","v":1},1746352442,5.35,5.61,0.9,65.56,13.21,5.6,null,1.28,2.4900000000000002,100,null,null,null,null,null,33203,null,null,null,null,null,null,17174.68,null,null,null,null,null,null,null,null,null,null,null,null,null,null,null,null,null,null,null,45.05,null,54.95,null,null,null,null,null,null,null,1,0,0,0.51726289800000003,null,0.51726289800000003,0,0]
["SOM","SSF","Somalia","LIC",{"$f":"VLOOKUP(D176,LookUps!$M$22:$O$25,3,FALSE)","v":3},null,null,null,null,null,null,null,null,null,null,0,null,null,null,null,null,14317996,null,null,null,null,null,null,2326099.17,null,null,null,null,null,null,null,null,null,null,null,null,null,null,null,null,null,null,null,null,null,null,null,null,null,null,null,null,null,0,0,1,0.162459828,null,0,0,0.162459828]
["SRB","ECS","Serbia","UMC",{"$f":"VLOOKUP(D177,LookUps!$M$22:$O$25,3,FALSE)","v":2},41308012850,37.619999999999997,5.44,1.38,16.72,13.57,12.73,0.4,null,12.14,100,"Yes","Yes","Yes","Yes",null,7095383,199453,46707848,14388,13475026,null,32888,1840000,null,null,null,null,null,null,70,74.67,null,null,null,null,null,null,null,null,73.91,null,null,0.76,null,25.33,null,"Other",null,null,null,null,null,0,1,0,0.25932356299999998,null,0,0.25932356299999998,0]
["SSD","SSF","South Sudan","LIC",{"$f":"VLOOKUP(D178,LookUps!$M$22:$O$25,3,FALSE)","v":3},null,null,null,null,null,null,null,null,null,null,0,null,null,null,null,null,11177490,null,null,null,null,null,null,2680681,null,null,null,null,null,null,null,null,null,null,null,null,null,null,null,null,null,null,null,null,null,null,null,null,null,null,null,null,null,0,0,1,0.23982853000000001,null,0,0,0.23982853000000001]
["STP","SSF","SÃ£o TomÃ© and PrÃ­ncipe","LMC",{"$f":"VLOOKUP(D179,LookUps!$M$22:$O$25,3,FALSE)","v":2},256822056.30000001,null,null,null,null,null,null,null,null,null,0,null,null,null,null,null,191266,null,null,200,null,null,null,25586.5,null,null,null,null,null,null,48.4,null,null,null,null,null,null,null,null,null,null,null,null,null,null,null,null,null,null,null,null,null,null,0,1,0,0.133774429,null,0,0.133774429,0]
["SUR","LCN","Suriname","UMC",{"$f":"VLOOKUP(D180,LookUps!$M$22:$O$25,3,FALSE)","v":2},4527379879,57,3,3,24,null,11,null,null,null,98,"No","No","No","No","No",526103,null,null,5000,null,null,1270.2,78619.799150000006,null,null,15,null,null,null,79.5,48.7,null,null,70,null,null,null,null,null,null,63,null,null,null,37,null,null,null,null,null,null,null,0,1,0,0.149438036,null,0,0.149438036,0]
["SVK","ECS","Slovak Republic","HIC",{"$f":"VLOOKUP(D181,LookUps!$M$22:$O$25,3,FALSE)","v":1},104679000000,42,19,2,1,25,11,null,null,null,100,"Yes","Yes","Yes","Yes",null,5423801,920337,4023409,30911,375688,null,558605,1780000,null,null,null,null,null,null,null,94.34,null,null,null,null,null,7.29,null,10.71,68.72,null,null,7.62,null,5.66,null,null,null,null,null,null,null,1,0,0,0.328920622,null,0.328920622,0,0]
["SVN","ECS","Slovenia","HIC",{"$f":"VLOOKUP(D182,LookUps!$M$22:$O$25,3,FALSE)","v":1},50511749002,null,null,null,null,null,null,null,null,null,0,null,"Yes","Yes",null,null,2063531,289773,2071792,26359,155229,null,227873,926000,null,null,null,null,null,null,null,93.84,null,null,null,null,null,7.67,null,17.059999999999999,22.68,null,null,46.44,null,6.15,null,null,null,null,null,null,null,1,0,0,0.448745379,null,0.448745379,0,0]
["SWE","ECS","Sweden","HIC",{"$f":"VLOOKUP(D183,LookUps!$M$22:$O$25,3,FALSE)","v":1},560387000000,23.34,9.15,9.1999999999999993,null,36.4,6.58,null,null,15.33,100,"Yes","Yes","Yes",null,null,9799186,2205186,152012352,721671,2568154,null,1315108,4380000,null,null,null,null,null,null,null,100,null,null,null,null,null,15.63,null,51.2,0.8,null,null,32.369999999999997,null,null,null,null,null,null,null,null,null,1,0,0,0.44666975399999997,null,0.44666975399999997,0,0]
["SWZ","SSF","Eswatini","LMC",{"$f":"VLOOKUP(D184,LookUps!$M$22:$O$25,3,FALSE)","v":2},5246492516,null,null,null,null,null,null,null,null,null,0,null,null,null,null,null,1343098,null,null,5700,null,null,null,218199.47,null,null,null,null,null,null,null,null,null,null,null,null,null,null,null,null,null,null,null,null,null,null,null,null,null,null,null,null,null,0,1,0,0.162459828,null,0,0.162459828,0]
["SXM","LCN","Sint Maarten (Dutch part)","HIC",{"$f":"VLOOKUP(D185,LookUps!$M$22:$O$25,3,FALSE)","v":1},null,46,7,7,12,15,13,null,null,null,100,null,"Yes","Yes",null,"Yes",37685,null,null,null,null,null,null,null,null,null,null,null,null,null,null,null,null,null,null,null,null,null,null,null,null,null,null,null,null,null,null,null,null,null,null,null,null,1,0,0,0,null,0,0,0]
["SYC","SSF","Seychelles","HIC",{"$f":"VLOOKUP(D186,LookUps!$M$22:$O$25,3,FALSE)","v":1},1287449683,48.5,5.2,4.5999999999999996,25.8,5.9,9.9,0.2,0.5,null,101,null,"Yes","Yes","Yes","yes",88303,null,null,1100,null,null,null,48000,null,null,null,null,null,null,null,null,null,null,null,null,null,null,null,null,null,null,null,null,null,null,null,null,null,null,null,null,null,1,0,0,0.54358289100000001,null,0.54358289100000001,0,0]
["SYR","MEA","Syrian Arab Republic","LIC",{"$f":"VLOOKUP(D187,LookUps!$M$22:$O$25,3,FALSE)","v":3},null,57,3,4,22,7,7,null,null,null,100,null,"Yes","Yes",null,null,20824893,null,null,null,68000,null,4600,4500000,null,null,75,null,null,null,74,null,null,null,95,null,null,1.5,null,null,20,80,null,2.5,null,null,null,"Disposal site",null,null,null,null,null,0,0,1,0.21608754499999999,null,0,0,0.21608754499999999]
["TCA","LCN","Turks and Caicos Islands","HIC",{"$f":"VLOOKUP(D188,LookUps!$M$22:$O$25,3,FALSE)","v":1},null,21.8,20.5,7.6,2.4,31.5,16.3,null,null,null,100,null,null,"Yes","Yes",null,34900,null,null,null,null,null,null,null,null,null,null,null,null,null,null,null,null,null,null,null,null,null,null,null,null,null,null,null,null,null,null,null,null,null,null,null,null,1,0,0,0,null,0,0,0]
["TCD","SSF","Chad","LIC",{"$f":"VLOOKUP(D189,LookUps!$M$22:$O$25,3,FALSE)","v":3},12642608725,70,1,2,18,3,6,null,null,null,100,null,null,null,null,null,11887202,null,null,8800,null,null,null,1358850.53,null,null,null,null,null,null,null,null,null,null,null,null,null,null,null,null,null,null,null,null,null,null,null,null,null,null,null,null,null,0,0,1,0.11431205799999999,null,0,0,0.11431205799999999]
["TGO","SSF","Togo","LIC",{"$f":"VLOOKUP(D190,LookUps!$M$22:$O$25,3,FALSE)","v":3},4264876064,38,2,4,42,4,10,null,null,null,100,null,"Yes","Yes","No",null,7228915,null,null,6400,1900,null,null,1109030.45,null,null,null,null,null,null,null,null,null,null,null,null,null,1.8,null,null,null,96.2,null,2,null,null,null,null,null,null,null,null,null,0,0,1,0.153415893,null,0,0,0.153415893]
["THA","EAS","Thailand","UMC",{"$f":"VLOOKUP(D191,LookUps!$M$22:$O$25,3,FALSE)","v":2},407015000000,65.52,3.04,1.85,4.74,7.6,17.59,0.46,0.8,null,102,null,"Yes","Yes","Yes",null,68657600,82200000,1100000,384233,3450000,37400000,53868,26853366,null,null,null,6,null,null,null,null,null,null,null,37,null,null,null,0.4,27,53.5,null,19.100000000000001,null,null,null,null,null,null,null,null,null,0,1,0,0.39112007999999998,null,0,0.39112007999999998,0]
["TJK","ECS","Tajikistan","LIC",{"$f":"VLOOKUP(D192,LookUps!$M$22:$O$25,3,FALSE)","v":3},8458800788,null,null,null,null,null,null,null,null,null,0,"No","Yes","Yes","Yes",null,8177809,null,null,null,null,null,null,1787400,null,null,null,null,null,null,38.25,null,null,null,null,null,null,null,null,null,null,100,null,null,null,null,null,null,null,null,null,null,null,0,0,1,0.21856709999999999,null,0,0,0.21856709999999999]
["TKM","ECS","Turkmenistan","UMC",{"$f":"VLOOKUP(D193,LookUps!$M$22:$O$25,3,FALSE)","v":2},39563379206,16.18,4.6399999999999997,11.44,62.54,null,2.19,null,3.01,null,100,"No","Yes","Yes","Yes",null,5366277,null,null,22000,1000,32300,null,500000,null,null,null,null,null,null,null,null,null,null,null,null,null,null,null,null,100,null,null,null,null,null,null,"Disposal Site",null,null,null,null,null,0,1,0,9.3174466999999997E-2,null,0,9.3174466999999997E-2,0]
["TLS","EAS","Timor-Leste","LMC",{"$f":"VLOOKUP(D194,LookUps!$M$22:$O$25,3,FALSE)","v":2},3765074847,43.6,5.5,10,9.3000000000000007,10.9,16.5,4.2,null,null,100,null,"Yes","Yes","Yes",null,1268671,null,null,3600,null,null,53.66,63875,null,null,null,null,null,null,null,null,null,null,null,null,null,null,null,null,null,null,null,null,null,null,null,null,null,null,null,null,null,0,1,0,5.0347963000000003E-2,null,0,5.0347963000000003E-2,0]
["TON","EAS","Tonga","UMC",{"$f":"VLOOKUP(D195,LookUps!$M$22:$O$25,3,FALSE)","v":2},406237705.30000001,51.3,5.9,9,8.9,7.4,13.4,4.0999999999999996,null,null,{"$f":"ROUND(SUM(G195:O195),0)","v":100},null,"Yes","Yes","Yes",null,104951,null,null,300,null,null,102.23,17238.20175,null,null,null,25,null,null,71,null,null,null,null,65,null,null,null,null,40,null,null,null,null,60,null,null,null,null,null,null,null,0,1,0,0.16425000000000001,null,0,0.16425000000000001,0]
["TTO","LCN","Trinidad and Tobago","HIC",{"$f":"VLOOKUP(D196,LookUps!$M$22:$O$25,3,FALSE)","v":1},21519942195,27.15,10.15,3.74,17.190000000000001,22.6,19.170000000000002,null,null,null,100,"Yes","Yes","Yes","Yes","Yes",1328100,null,null,71.069999999999993,123914.1,null,250.75299999999999,727874,null,null,null,null,null,null,94.31,null,null,null,null,null,null,0.8,12,null,null,84,null,null,null,3.2,null,"Disposal Site",null,null,null,null,null,1,0,0,0.54805662200000005,null,0.54805662200000005,0,0]
["TUN","MEA","Tunisia","LMC",{"$f":"VLOOKUP(D197,LookUps!$M$22:$O$25,3,FALSE)","v":2},48682059522,68,2,4,5,10,11,null,null,null,100,"Yes","Yes","Yes","Yes","Yes",11143908,4030000,null,90000,150000,116000,16000,2700000,null,null,5,null,null,null,65,null,null,null,80,null,null,5,null,null,70,21,null,4,null,null,null,"Disposal site",null,null,null,null,null,0,1,0,0.242284843,null,0,0.242284843,0]
["TUR","ECS","Turkey","UMC",{"$f":"VLOOKUP(D198,LookUps!$M$22:$O$25,3,FALSE)","v":2},1122510000000,64,2,1,24,6,3,null,null,null,100,null,"Yes","Yes","Yes",null,78271472,null,null,623000,3432426,null,null,31300000,null,null,null,null,null,null,null,88.12,null,null,null,null,null,1,null,null,null,44,null,null,54,1,null,null,null,null,null,null,null,0,1,0,0.39967307600000002,null,0,0.39967307600000002,0]
["TUV","EAS","Tuvalu","UMC",{"$f":"VLOOKUP(D199,LookUps!$M$22:$O$25,3,FALSE)","v":2},39216157.280000001,43.6,5.5,10,9.3000000000000007,10.9,16.5,4.2,null,null,100,"None","Yes","Yes","None",null,11097,null,null,10,null,null,5.72,3989.4865,null,null,null,null,null,null,47,null,null,null,100,null,null,null,null,null,null,14.5,null,15,null,70.5,null,null,null,null,null,null,null,0,1,0,0.359510363,null,0,0.359510363,0]
["TWN","EAS",null,"HIC",{"$f":"VLOOKUP(D200,LookUps!$M$22:$O$25,3,FALSE)","v":1},null,23.34,4.1100000000000003,3.07,14.11,30.01,20.23,0.6,null,4.43,100,null,null,"Yes","Yes",null,23400000,null,null,14036,null,null,null,7340000,null,null,null,null,null,null,null,null,null,null,null,null,null,null,null,64.2,34.799999999999997,null,1,null,null,null,null,null,null,null,null,null,null,1,0,0,0.313049415,null,0.313049415,0,0]
["TZA","SSF","Tanzania","LIC",{"$f":"VLOOKUP(D201,LookUps!$M$22:$O$25,3,FALSE)","v":3},46775259596,null,null,null,null,null,null,null,null,null,0,null,null,"Yes",null,null,49082997,null,null,38000,null,null,null,9276995,null,null,null,null,null,null,null,null,null,null,null,null,null,null,null,null,null,69,22.6,null,null,8.5,null,null,null,null,null,null,null,0,0,1,0.189006287,null,0,0,0.189006287]
["UGA","SSF","Uganda","LIC",{"$f":"VLOOKUP(D202,LookUps!$M$22:$O$25,3,FALSE)","v":3},27483055272,74.5,0.8,0.6,10.6,6,7.6,null,null,null,100,null,null,null,null,null,35093648,null,null,25000,null,null,null,7045049.8360000001,null,null,null,null,null,null,null,37.5,null,null,null,null,null,null,null,null,null,87,null,6,7,null,null,null,null,null,null,null,null,0,0,1,0.20075000000000001,null,0,0,0.20075000000000001]
["UKR","ECS","Ukraine","LMC",{"$f":"VLOOKUP(D203,LookUps!$M$22:$O$25,3,FALSE)","v":2},124000000000,37,5,4,22,25,7,null,null,null,100,"Yes","Yes","Yes","Yes",null,45004645,8600000,1400000,277000,448000000,587000,null,15242025,null,null,null,null,null,null,75.86,null,null,null,null,null,null,null,null,2.73,94.07,null,null,3.2,null,null,null,"Other",null,null,null,null,null,0,1,0,0.33867670799999999,null,0,0.33867670799999999,0]
["URY","LCN","Uruguay","HIC",{"$f":"VLOOKUP(D204,LookUps!$M$22:$O$25,3,FALSE)","v":1},48362932954,53.5,3,5,7.5,20,11,null,null,null,100,"No","Yes","Yes","Yes",null,3431552,null,null,37000,null,null,null,1260139.5090000001,null,null,null,null,null,null,98,null,null,null,100,null,null,null,61.7,null,null,17.5,null,8,10.5,2.2999999999999998,null,null,null,null,null,null,null,1,0,0,0.367221452,null,0.367221452,0,0]
["USA","NAC","United States","HIC",{"$f":"VLOOKUP(D205,LookUps!$M$22:$O$25,3,FALSE)","v":1},16920300000000,14.9,4.4000000000000004,9,3.2,26.6,12.9,9.5,6.2,13.3,100,"Yes","Yes","Yes","Yes","Yes",318563456,null,534000000,2440000,28800000,7600000000,2600000,258000000,null,null,null,null,null,null,100,null,null,null,null,null,null,null,null,12.8,52.6,null,null,34.6,null,null,null,null,null,null,null,null,null,1,0,0,0.80988573900000005,null,0.80988573900000005,0,0]
["UZB","ECS","Uzbekistan","LMC",{"$f":"VLOOKUP(D206,LookUps!$M$22:$O$25,3,FALSE)","v":2},62469088152,40,3,2,17.5,17.5,2.5,1.5,4,null,88,"No","Yes","Yes","Yes",null,29774500,null,null,null,null,null,null,4000000,null,null,null,null,null,null,null,null,null,null,null,null,null,null,null,null,null,60,null,null,null,40,null,"Disposal site",null,null,null,null,null,0,1,0,0.134343146,null,0,0.134343146,0]
["VCT","LCN","St. Vincent and the Grenadines","UMC",{"$f":"VLOOKUP(D207,LookUps!$M$22:$O$25,3,FALSE)","v":2},729264939.60000002,49.6,5.6,3.8,10.5,22.1,8.4,null,null,null,100,"Yes","Yes","Yes","No","Yes",109455,null,null,900,null,null,null,31561.349249999999,null,95.4,null,null,null,96.2,null,null,null,97.2,null,null,null,0.09,null,null,99.91,null,3.6,null,null,null,null,null,null,null,null,null,null,0,1,0,0.28835,null,0,0.28835,0]
["VEN","LCN","Venezuela, RB","UMC",{"$f":"VLOOKUP(D208,LookUps!$M$22:$O$25,3,FALSE)","v":2},null,null,null,null,null,null,null,null,null,null,0,null,"No","Yes",null,null,29893080,null,null,232700,123157,null,null,9779093.1400000006,null,null,null,null,null,null,100,null,null,null,null,null,null,null,null,null,null,null,null,null,null,null,null,null,null,null,null,null,null,0,1,0,0.32713568300000001,null,0,0.32713568300000001,0]
["VGB","LCN","British Virgin Islands","HIC",{"$f":"VLOOKUP(D209,LookUps!$M$22:$O$25,3,FALSE)","v":1},null,6.5,18.100000000000001,8.6,4.8,33.5,6.3,null,22.2,null,100,"Yes","Yes","Yes","Yes","Yes",20645,null,null,null,null,null,null,21099.19,null,null,null,null,null,null,97.2,null,null,null,null,null,null,null,null,80.3,null,null,null,null,null,19.7,null,null,null,null,null,null,null,1,0,0,1.022,null,1.022,0,0]
["VIR","LCN","Virgin Islands (U.S.)","HIC",{"$f":"VLOOKUP(D210,LookUps!$M$22:$O$25,3,FALSE)","v":1},null,46,7,7,12,15,13,null,null,null,100,null,"Yes","Yes","Yes",null,105784,null,null,null,null,null,null,146500,null,null,null,null,null,null,null,null,null,null,null,null,null,null,null,null,null,null,null,null,null,null,null,null,null,null,null,null,null,1,0,0,1.3848975269999999,null,1.3848975269999999,0,0]
["VNM","EAS","Vietnam","LMC",{"$f":"VLOOKUP(D211,LookUps!$M$22:$O$25,3,FALSE)","v":2},164105000000,61.9,2.1800000000000002,0.57999999999999996,15.18,5.2,12.15,0.6,3.74,null,102,"No","Yes","Yes","Yes",null,86932500,null,null,141000,2995153.5,9600000,200000,9570300,null,null,42.5,null,null,null,72,null,null,null,84,null,null,15,null,null,null,null,null,23,null,62,null,null,null,null,null,null,null,0,1,0,0.110088862,null,0,0.110088862,0]
["VUT","EAS","Vanuatu","LMC",{"$f":"VLOOKUP(D212,LookUps!$M$22:$O$25,3,FALSE)","v":2},777052317.5,73.400000000000006,5.4,3.8,5.7,4.05,6.45,1.2,null,null,100,null,"Yes","Yes","Yes",null,270402,null,null,300,null,null,139.1,70225.489000000001,null,null,null,null,null,null,12,null,null,null,50,null,null,null,null,null,null,11.3,null,37,null,51.7,null,null,null,null,null,null,null,0,1,0,0.25970772800000003,null,0,0.25970772800000003,0]
["WSM","EAS","Samoa","UMC",{"$f":"VLOOKUP(D213,LookUps!$M$22:$O$25,3,FALSE)","v":2},738041747,42.6,2.2000000000000002,8.8000000000000007,19.399999999999999,7.2,13,6.8,null,null,100,null,"Yes","Yes","Yes","MNRE publishes monthly environmental newsletters informing the public about solid waste activities and projects.",187665,null,null,500,null,null,36.14,27399.09,null,null,100,null,null,null,100,null,null,null,100,null,null,null,31,null,null,null,null,36,null,33,null,null,null,null,null,null,null,0,1,0,0.14599999999999999,null,0,0.14599999999999999,0]
["XKX","ECS","Kosovo","LMC",{"$f":"VLOOKUP(D214,LookUps!$M$22:$O$25,3,FALSE)","v":2},7129271792,42,6,6,20,8,11,null,7,null,100,"Yes","Yes","Yes","Yes",null,1801800,3880,217241,23,495,null,834,319000,null,null,35,null,null,null,39,null,null,null,100,null,null,null,66.430000000000007,null,null,33.57,null,null,null,null,null,null,null,null,null,null,null,0,1,0,0.177045177,null,0,0.177045177,0]
["YEM","MEA","Yemen, Rep.","LIC",{"$f":"VLOOKUP(D215,LookUps!$M$22:$O$25,3,FALSE)","v":3},11927030389,65,1,6,6,7,10,1,3,1,100,"No","Yes","Yes","No",null,27584213,null,null,42000,21000,null,null,4836820,null,null,null,null,null,null,20,null,null,null,null,null,null,null,12,null,null,25,null,8,null,47,8,"Other",null,null,null,null,null,0,0,1,0.17534739899999999,null,0,0,0.17534739899999999]
["ZAF","SSF","South Africa","UMC",{"$f":"VLOOKUP(D216,LookUps!$M$22:$O$25,3,FALSE)","v":2},421209000000,16.38165463,5.2002163699999997,16.9104609,45.020645569999999,9.3969182379999996,7.0901043020000003,null,null,null,100,"Yes","Yes","Yes",null,null,51729345.359999999,null,null,321000,1319096,null,null,18457232,null,null,null,null,null,64,null,null,null,90.5,null,null,null,null,72,null,null,null,null,28,null,null,null,null,null,null,null,null,null,0,1,0,0.35680389699999998,null,0,0.35680389699999998,0]
["ZMB","SSF","Zambia","LMC",{"$f":"VLOOKUP(D217,LookUps!$M$22:$O$25,3,FALSE)","v":2},27037168289,null,null,null,null,null,null,null,null,null,0,null,null,"Yes",null,null,14264756,null,null,15000,80000,null,null,2608268,null,null,null,null,null,10,20,null,null,null,null,null,null,null,null,null,null,null,null,null,null,null,null,null,null,null,null,null,null,0,1,0,0.182847011,null,0,0.182847011,0]
["ZWE","SSF","Zimbabwe","LIC",{"$f":"VLOOKUP(D218,LookUps!$M$22:$O$25,3,FALSE)","v":3},14818986231,36,5,6,3,27,23,null,null,null,100,null,null,"Yes",null,null,12500525,null,null,13000,37346,null,null,1449752,null,null,null,null,null,63.9,null,null,null,null,null,null,null,null,null,null,null,null,null,16,null,84,null,null,null,null,null,null,null,0,0,1,0.115975289,null,0,0,0.115975289]
[]
[null,null,null,null,null,null,null,null,null,null,null,null,null,null,null,null,null,null,null,null,null,null,null,null,null,null,null,null,null,null,null,null,null,null,null,null,null,null,null,null,null,null,null,null,null,null,null,null,null,null,null,null,null,null,null,null,null,null,81,103,33,null,null,0.60199999999999998,0.26300000000000001,0.16300000000000001]